{"text_format":"1","workbook":"xlsx","n_sheets":16,"sheets":["CRONOGRAMA FISICO-FINANCEIRO","PLANILHA RESUMO","1_IMPLANTAÇÃO","2_BLOCO A-FACHADA","3_BLOCO B","4_BLOCO C","5_BLOCO D","6_BLOCO E","7_MINI QUADRA","8_SALA DE DANÇA","9_ÁREA CONVIVÊNCIA","10_ABRIGO GLP E RESIDUOS","11_CABINA DE FORÇA","12_ASD","COMPOSIÇÃO DO BDI","COMPOSIÇÃO DO BDI EQUIPAMENTO"],"not_rendered":{"charts":0,"images":7,"macros":1,"external_links":1,"defined_names":39,"comments":0,"pivot_tables":0},"unopened":[],"bounds":{"document_bytes":16777216,"sheet_cells":100000,"rows_first":2000,"rows_last":500,"rows_between":2000,"halvings":0,"cell_chars":16384,"cell_head_chars":4096},"cells_cut":0,"cells_raw":0,"read":"whole","date_system":"1900"}

{"sheet":"CRONOGRAMA FISICO-FINANCEIRO","index":0,"n_rows":609,"n_cols":30,"rows_kept":609,"cut":false,"hidden":false,"merged":[[523,0,523,2],[524,0,524,29],[525,0,525,29],[527,0,528,0],[527,1,528,1],[527,2,527,3],[527,4,527,5],[527,6,527,7],[527,8,527,9],[527,10,527,11],[527,12,527,13],[527,14,527,15],[527,16,527,17],[527,18,527,19],[527,20,527,21],[527,22,527,23],[527,24,527,25],[527,26,527,27],[527,28,527,29],[517,0,519,1],[517,2,519,27],[517,28,518,29],[520,0,520,29],[521,0,521,2],[521,3,521,13],[522,0,522,2],[522,3,522,6],[522,7,522,13],[475,0,475,2],[475,3,475,6],[475,7,475,13],[476,0,476,2],[477,0,477,29],[478,0,478,29],[480,0,481,0],[480,1,481,1],[480,2,480,3],[480,4,480,5],[480,6,480,7],[480,8,480,9],[480,10,480,11],[480,12,480,13],[480,14,480,15],[480,16,480,17],[480,18,480,19],[480,20,480,21],[480,22,480,23],[480,24,480,25],[480,26,480,27],[480,28,480,29],[570,0,570,2],[571,0,571,29],[572,0,572,29],[574,0,575,0],[574,1,575,1],[574,2,574,3],[574,4,574,5],[574,6,574,7],[574,8,574,9],[574,10,574,11],[574,24,574,25],[574,26,574,27],[574,28,574,29],[574,12,574,13],[574,14,574,15],[574,16,574,17],[574,18,574,19],[574,20,574,21],[574,22,574,23],[567,0,567,29],[568,0,568,2],[568,3,568,13],[569,0,569,2],[569,3,569,6],[569,7,569,13],[433,24,433,25],[433,26,433,27],[433,28,433,29],[564,0,566,1],[564,2,566,27],[564,28,565,29],[433,12,433,13],[433,14,433,15],[433,16,433,17],[433,18,433,19],[433,20,433,21],[433,22,433,23],[470,0,472,1],[470,2,472,27],[470,28,471,29],[473,0,473,29],[474,0,474,2],[474,3,474,13],[429,0,429,2],[430,0,430,29],[431,0,431,29],[433,0,434,0],[433,1,434,1],[433,2,433,3],[433,4,433,5],[433,6,433,7],[433,8,433,9],[433,10,433,11],[426,0,426,29],[427,0,427,2],[427,3,427,13],[428,0,428,2],[428,3,428,6],[428,7,428,13],[386,24,386,25],[386,26,386,27],[386,28,386,29],[423,0,425,1],[423,2,425,27],[423,28,424,29],[386,12,386,13],[386,14,386,15],[386,16,386,17],[386,18,386,19],[386,20,386,21],[386,22,386,23],[382,0,382,2],[383,0,383,29],[384,0,384,29],[386,0,387,0],[386,1,387,1],[386,2,386,3],[386,4,386,5],[386,6,386,7],[386,8,386,9],[386,10,386,11],[379,0,379,29],[380,0,380,2],[380,3,380,13],[381,0,381,2],[381,3,381,6],[381,7,381,13],[339,24,339,25],[339,26,339,27],[339,28,339,29],[376,0,378,1],[376,2,378,27],[376,28,377,29],[339,12,339,13],[339,14,339,15],[339,16,339,17],[339,18,339,19],[339,20,339,21],[339,22,339,23],[335,0,335,2],[336,0,336,29],[337,0,337,29],[339,0,340,0],[339,1,340,1],[339,2,339,3],[339,4,339,5],[339,6,339,7],[339,8,339,9],[339,10,339,11],[332,0,332,29],[333,0,333,2],[333,3,333,13],[334,0,334,2],[334,3,334,6],[334,7,334,13],[292,24,292,25],[292,26,292,27],[292,28,292,29],[329,0,331,1],[329,2,331,27],[329,28,330,29],[292,12,292,13],[292,14,292,15],[292,16,292,17],[292,18,292,19],[292,20,292,21],[292,22,292,23],[288,0,288,2],[289,0,289,29],[290,0,290,29],[292,0,293,0],[292,1,293,1],[292,2,292,3],[292,4,292,5],[292,6,292,7],[292,8,292,9],[292,10,292,11],[285,0,285,29],[286,0,286,2],[286,3,286,13],[287,0,287,2],[287,3,287,6],[287,7,287,13],[245,24,245,25],[245,26,245,27],[245,28,245,29],[282,0,284,1],[282,2,284,27],[282,28,283,29],[245,12,245,13],[245,14,245,15],[245,16,245,17],[245,18,245,19],[245,20,245,21],[245,22,245,23],[241,0,241,2],[242,0,242,29],[243,0,243,29],[245,0,246,0],[245,1,246,1],[245,2,245,3],[245,4,245,5],[245,6,245,7],[245,8,245,9],[245,10,245,11],[238,0,238,29],[239,0,239,2],[239,3,239,13],[240,0,240,2],[240,3,240,6],[240,7,240,13],[198,24,198,25],[198,26,198,27],[198,28,198,29],[235,0,237,1],[235,2,237,27],[235,28,236,29],[198,12,198,13],[198,14,198,15],[198,16,198,17],[198,18,198,19],[198,20,198,21],[198,22,198,23],[194,0,194,2],[195,0,195,29],[196,0,196,29],[198,0,199,0],[198,1,199,1],[198,2,198,3],[198,4,198,5],[198,6,198,7],[198,8,198,9],[198,10,198,11],[191,0,191,29],[192,0,192,2],[192,3,192,13],[193,0,193,2],[193,3,193,6],[193,7,193,13],[151,24,151,25],[151,26,151,27],[151,28,151,29],[188,0,190,1],[188,2,190,27],[188,28,189,29],[151,12,151,13],[151,14,151,15],[151,16,151,17],[151,18,151,19],[151,20,151,21],[151,22,151,23],[147,0,147,2],[148,0,148,29],[149,0,149,29],[151,0,152,0],[151,1,152,1],[151,2,151,3],[151,4,151,5],[151,6,151,7],[151,8,151,9],[151,10,151,11],[144,0,144,29],[145,0,145,2],[145,3,145,13],[146,0,146,2],[146,3,146,6],[146,7,146,13],[104,24,104,25],[104,26,104,27],[104,28,104,29],[141,0,143,1],[141,2,143,27],[141,28,142,29],[104,12,104,13],[104,14,104,15],[104,16,104,17],[104,18,104,19],[104,20,104,21],[104,22,104,23],[100,0,100,2],[101,0,101,29],[102,0,102,29],[104,0,105,0],[104,1,105,1],[104,2,104,3],[104,4,104,5],[104,6,104,7],[104,8,104,9],[104,10,104,11],[97,0,97,29],[98,0,98,2],[98,3,98,13],[99,0,99,2],[99,3,99,6],[99,7,99,13],[57,24,57,25],[57,26,57,27],[57,28,57,29],[94,0,96,1],[94,2,96,27],[94,28,95,29],[57,12,57,13],[57,14,57,15],[57,16,57,17],[57,18,57,19],[57,20,57,21],[57,22,57,23],[53,0,53,2],[54,0,54,29],[55,0,55,29],[57,0,58,0],[57,1,58,1],[57,2,57,3],[57,4,57,5],[57,6,57,7],[57,8,57,9],[57,10,57,11],[50,0,50,29],[51,0,51,2],[51,3,51,13],[52,0,52,2],[52,3,52,6],[52,7,52,13],[10,22,10,23],[10,24,10,25],[10,26,10,27],[10,28,10,29],[47,0,49,1],[47,2,49,27],[47,28,48,29],[10,10,10,11],[10,12,10,13],[10,14,10,15],[10,16,10,17],[10,18,10,19],[10,20,10,21],[10,0,11,0],[10,1,11,1],[10,2,10,3],[10,4,10,5],[10,6,10,7],[10,8,10,9],[5,0,5,2],[5,3,5,6],[5,7,5,13],[6,0,6,2],[7,0,7,29],[8,0,8,29],[0,0,2,1],[0,2,2,27],[0,28,1,29],[3,0,3,29],[4,0,4,2],[4,3,4,13]]}
[null,null,"CRONOGRAMA FÍSICO FINANCEIRO",null,null,null,null,null,null,null,null,null,null,null,null,null,null,null,null,null,null,null,null,null,null,null,null,null,"UNAEN-FF-003"]
[]
[null,null,null,null,null,null,null,null,null,null,null,null,null,null,null,null,null,null,null,null,null,null,null,null,null,null,null,null,"Revisão:\n00","Data:\n11/05/2017"]
["SESI - SERVIÇO SOCIAL DA INDUSTRIA - DR/MT"]
[{"$f":"'[1]PLANILHA RESUMO LIC'!$A$7","v":"UNIDADE OPERACIONAL: SESI ESCOLA VARZEA GRANDE"},null,null,{"$f":"'[1]PLANILHA RESUMO LIC'!$A$8","v":"ENDEREÇO: Av. Dom Orlando Chaves, 1086, Ponte Nova  CIDADE: Varzea Grande - MT.                     "}]
["CONSTRUTORA:                                                                           ",null,null,{"$f":"CONCATENATE(\" VALOR: \",\"R$ \",TEXT(SUM(C44),\"#.##0,00\"))","v":" VALOR: R$ 4.904.720,75"},null,null,null,"PRAZO: 10 MESES"]
["RESPONSÁVEL TÉCNICO:"]
[]
[{"$f":"'1_IMPLANTAÇÃO'!B14","v":"IMPLANTAÇÃO"}]
[]
["ITEM","DESCRIÇÃO","ETAPA TOTAL",null,"1 MÊS",null,"2 MESES",null,"3 MESES",null,"4 MESES",null,"5 MESES",null,"6 MESES",null,"7 MESES",null,"8 MESES",null,"9 MESES",null,"10 MESES",null,null,null,null,null,"TOTAL "]
[null,null,"(R$)","(%)","(R$)","(%)","(R$)","(%)","(R$)","(%)","(R$)","(%)","(R$)","(%)","(R$)","(%)","(R$)","(%)","(R$)","(%)","(R$)","(%)","(R$)","(%)","(R$)","(%)","(R$)","(%)","(R$)","(%)"]
["1.0",{"$f":"'1_IMPLANTAÇÃO'!B16","v":"DEMOLIÇÕES E RETIRADAS"},{"$f":"'1_IMPLANTAÇÃO'!F16","v":115000.08000000002},{"$f":"C13/$C$44*100","v":2.3446814989416067},{"$f":"F13*$C13/100","v":0},0,{"$f":"H13*$C13/100","v":0},0,{"$f":"J13*$C13/100","v":0},0,{"$f":"L13*$C13/100","v":0},null,{"$f":"N13*$C13/100","v":28750.020000000004},25,{"$f":"P13*$C13/100","v":17250.012000000002},15,{"$f":"R13*$C13/100","v":17250.012000000002},15,{"$f":"T13*$C13/100","v":23000.016000000007},20,{"$f":"V13*$C13/100","v":17250.012000000002},15,{"$f":"X13*$C13/100","v":11500.008000000003},10,{"$f":"Z13*$C13/100","v":0},null,{"$f":"AB13*$C13/100","v":0},null,{"$f":"AD13*$C13/100","v":115000.08000000002},{"$f":"N13+L13+J13+H13+F13+P13+R13+T13+V13+X13+Z13+AB13","v":100}]
["1.1",{"$f":"'1_IMPLANTAÇÃO'!B41","v":"INSTALAÇÕES DE CANTEIRO"},{"$f":"'1_IMPLANTAÇÃO'!F41","v":84941.439999999988},{"$f":"C14/$C$44*100","v":1.7318302983916054},{"$f":"F14*$C14/100","v":8494.1439999999984},10,{"$f":"H14*$C14/100","v":8494.1439999999984},10,{"$f":"J14*$C14/100","v":8494.1439999999984},10,{"$f":"L14*$C14/100","v":8494.1439999999984},10,8494.1439999999984,10,8494.1439999999984,10,{"$f":"R14*$C14/100","v":8494.1439999999984},10,8494.1439999999984,10,8494.1439999999984,10,8494.1439999999984,10,0,null,0,null,{"$f":"AD14*$C14/100","v":84941.439999999988},{"$f":"N14+L14+J14+H14+F14+P14+R14+T14+V14+X14+Z14+AB14","v":100}]
["1.2",{"$f":"'1_IMPLANTAÇÃO'!B67","v":"ADMINISTRAÇÃO"},{"$f":"'1_IMPLANTAÇÃO'!F67","v":827019.19999999984},16.861697987596948,82701.919999999984,10,{"$f":"H15*$C15/100","v":82701.919999999984},10,{"$f":"J15*$C15/100","v":82701.919999999984},10,{"$f":"L15*$C15/100","v":82701.919999999984},10,82701.919999999984,10,82701.919999999984,10,{"$f":"R15*$C15/100","v":82701.919999999984},10,82701.919999999984,10,82701.919999999984,10,82701.919999999984,10,0,null,0,null,{"$f":"AD15*$C15/100","v":827019.19999999984},100]
["1.3",{"$f":"'1_IMPLANTAÇÃO'!B78","v":"TERRAPLENAGEM E PAVIMENTAÇÃO"},{"$f":"'1_IMPLANTAÇÃO'!F78","v":183162.96},3.7344217813012088,0,null,0,null,0,null,0,null,0,null,0,null,0,null,45790.74,25,45790.74,25,91581.48,50,0,null,0,null,183162.96,100]
["1.4",{"$f":"'1_IMPLANTAÇÃO'!B89","v":"FUNDAÇÕES"},{"$f":"'1_IMPLANTAÇÃO'!F89","v":224565.52},4.5785587283435039,0,null,22456.551999999996,10,22456.551999999996,10,0,null,44913.103999999992,20,44913.103999999992,20,44913.103999999992,20,44913.103999999992,20,0,null,0,null,0,null,0,null,224565.52,100]
["1.5",{"$f":"'1_IMPLANTAÇÃO'!B124","v":"IMPERMEABILIZAÇÃO"},{"$f":"'1_IMPLANTAÇÃO'!F124","v":13902.87},0.28345895125629733,0,null,0,null,2780.5740000000001,20,0,null,0,null,5561.1480000000001,40,5561.1480000000001,40,0,null,0,null,0,null,0,null,0,null,13902.87,100]
["1.6",{"$f":"'1_IMPLANTAÇÃO'!B127","v":"ESTRUTURAS DE CONCRETO ARMADO"},{"$f":"'1_IMPLANTAÇÃO'!F127","v":121791.44},2.4831472821362972,0,null,12179.143999999998,10,0,null,0,null,0,null,0,null,54806.148000000001,45,54806.148000000001,45,0,null,0,null,0,null,0,null,{"$f":"AD19*$C19/100","v":121791.44},{"$f":"N19+L19+J19+H19+F19+P19+R19+T19+V19+X19+Z19+AB19","v":100}]
["1.7",{"$f":"'1_IMPLANTAÇÃO'!B145","v":"ALVENARIAS E PAINÉIS"},{"$f":"'1_IMPLANTAÇÃO'!F145","v":0},0,0,null,0,null,0,null,0,null,0,null,0,null,0,null,0,null,0,null,0,null,0,null,0,null,0,0]
["1.8",{"$f":"'1_IMPLANTAÇÃO'!B147","v":"ESTRUTURA METALICA"},{"$f":"'1_IMPLANTAÇÃO'!F147","v":0},0,0,null,0,null,0,null,0,null,0,null,0,null,0,null,0,null,0,null,0,null,0,null,0,null,0,0]
["1.9",{"$f":"'1_IMPLANTAÇÃO'!B149","v":"COBERTURA"},{"$f":"'1_IMPLANTAÇÃO'!F149","v":0},0,0,null,0,null,0,null,0,null,0,null,0,null,0,null,0,null,0,null,0,null,0,null,0,null,0,0]
["1.10",{"$f":"'1_IMPLANTAÇÃO'!B151","v":"ESQUADRIAS"},{"$f":"'1_IMPLANTAÇÃO'!F151","v":151136.51999999999},3.0814500499340354,0,null,0,null,0,null,0,null,0,null,0,null,90681.911999999997,60,30227.304,20,30227.304,20,0,null,0,null,0,null,151136.51999999999,100]
["1.11",{"$f":"'1_IMPLANTAÇÃO'!B158","v":"PISOS"},{"$f":"'1_IMPLANTAÇÃO'!F158","v":0},0,0,null,0,null,0,null,0,null,0,null,0,null,0,null,0,null,0,null,0,null,0,null,0,null,0,0]
["1.12",{"$f":"'1_IMPLANTAÇÃO'!B160","v":"REVESTIMENTOS"},{"$f":"'1_IMPLANTAÇÃO'!F160","v":21579.22},0.43996837128800864,0,null,0,null,0,null,0,null,0,null,0,null,10789.61,50,10789.61,50,0,null,0,null,0,null,0,null,21579.22,100]
["1.13",{"$f":"'1_IMPLANTAÇÃO'!B164","v":"GRANITO"},{"$f":"'1_IMPLANTAÇÃO'!F164","v":0},0,0,null,0,null,0,null,0,null,0,null,0,null,0,null,0,null,0,null,0,null,0,null,0,null,0,0]
["1.14",{"$f":"'1_IMPLANTAÇÃO'!B166","v":"FORRO"},{"$f":"'1_IMPLANTAÇÃO'!F166","v":0},0,0,null,0,null,0,null,0,null,0,null,0,null,0,null,0,null,0,null,0,null,0,null,0,null,0,0]
["1.15",{"$f":"'1_IMPLANTAÇÃO'!B168","v":"PINTURA"},{"$f":"'1_IMPLANTAÇÃO'!F168","v":23066.63},0.47029446069890934,0,null,0,null,0,null,0,null,0,null,0,null,0,null,11533.315000000001,50,11533.315000000001,50,0,null,0,null,0,null,23066.63,100]
["1.16",{"$f":"'1_IMPLANTAÇÃO'!B175","v":"CALÇAMENTO, PÁTIOS E PASSARELAS"},{"$f":"'1_IMPLANTAÇÃO'!F175","v":695245.88000000012},14.17503493955288,0,null,0,null,0,null,0,null,0,null,173811.47000000003,25,173811.47000000003,25,139049.17600000001,20,104286.88200000001,15,104286.88200000001,15,0,null,0,null,695245.88000000012,100]
["1.17",{"$f":"'1_IMPLANTAÇÃO'!B188","v":"SERVIÇOS COMPLEMENTARES"},{"$f":"'1_IMPLANTAÇÃO'!F188","v":521761.44000000018},10.637943862553238,0,null,0,null,0,null,0,null,0,null,0,null,0,null,0,null,260880.72000000009,50,260880.72000000009,50,0,null,0,null,521761.44000000018,100]
["1.18",{"$f":"'1_IMPLANTAÇÃO'!B329","v":"INSTALAÇÕES DE SPDA GERAL"},{"$f":"'1_IMPLANTAÇÃO'!F329","v":186186.89},3.7960752403691891,0,null,27928.033500000001,15,27928.033500000001,15,27928.033500000001,15,27928.033500000001,15,27928.033500000001,15,27928.033500000001,15,18618.689000000002,10,0,null,0,null,0,null,0,null,186186.89,100]
["1.19",{"$f":"'1_IMPLANTAÇÃO'!B352","v":"INSTALAÇÃO DE COMBATE A INCÊNDIO"},{"$f":"'1_IMPLANTAÇÃO'!F352","v":107145.46},2.1845374173443002,5357.2730000000001,5,5357.2730000000001,5,10714.546,10,10714.546,10,16071.819000000001,15,16071.819000000001,15,16071.819000000001,15,16071.819000000001,15,5357.2730000000001,5,5357.2730000000001,5,0,null,0,null,107145.46,100]
["1.20",{"$f":"'1_IMPLANTAÇÃO'!B397","v":"INSTALAÇÕES ELÉTRICA"},{"$f":"'1_IMPLANTAÇÃO'!F397","v":1022000.48},20.837077829558389,0,null,0,null,0,null,0,null,0,null,306600.14399999997,30,204400.09600000002,20,255500.12,25,255500.12,25,0,null,0,null,0,null,1022000.48,100]
["1.21",{"$f":"'1_IMPLANTAÇÃO'!B589","v":"LOGICA E TELEFONICA"},{"$f":"'1_IMPLANTAÇÃO'!F589","v":149360.63},3.0452422801033068,0,null,0,null,0,null,14936.063,10,14936.063,10,37340.157500000001,25,37340.157500000001,25,22404.094500000003,15,22404.094500000003,15,0,null,0,null,0,null,149360.63,100]
["1.22",{"$f":"'1_IMPLANTAÇÃO'!B642","v":"CLIMATIZAÇÃO - AR CONDICIONADO"},{"$f":"'1_IMPLANTAÇÃO'!F642","v":9929.4500000000007},0.20244679577323543,1290.8285000000001,13,1290.8285000000001,13,794.35600000000011,8,1092.2395000000001,11,0,null,0,null,0,null,2482.3625000000002,25,2978.835,30,0,null,0,null,0,null,9929.4500000000007,100]
["1.23",{"$f":"'1_IMPLANTAÇÃO'!B647","v":"INFRAESTRUTURA PARA INSTALAÇÃO DE AUDIO E VÍDEO"},{"$f":"'1_IMPLANTAÇÃO'!F647","v":56045.010000000009},1.1426748403566098,0,null,0,null,0,null,0,null,11209.002000000002,20,11209.002000000002,20,5604.5010000000011,10,14011.252500000002,25,14011.252500000002,25,0,null,0,null,0,null,56045.010000000009,100]
["1.24",{"$f":"'1_IMPLANTAÇÃO'!B683","v":"INSTALAÇÕES HIDRAULICAS "},{"$f":"'1_IMPLANTAÇÃO'!F683","v":26828.809999999987},0.54699974509252103,1341.4404999999992,5,12072.964499999995,45,5365.761999999997,20,8048.6429999999955,30,0,null,0,null,0,null,0,null,0,null,0,null,0,null,0,null,26828.809999999987,100]
["1.25",{"$f":"'1_IMPLANTAÇÃO'!B724","v":"DRENAGEM"},{"$f":"'1_IMPLANTAÇÃO'!F724","v":243002.39999999997},4.9544594358404597,0,null,0,null,0,null,0,null,60750.599999999991,25,60750.599999999991,25,121501.19999999998,50,0,null,0,null,0,null,0,null,0,null,243002.39999999997,100]
["1.26",{"$f":"'1_IMPLANTAÇÃO'!B763","v":"INSTALAÇÕES SANITÁRIAS"},{"$f":"'1_IMPLANTAÇÃO'!F763","v":72245.78},1.4729845730768667,3612.2890000000002,5,32510.601000000002,45,14449.156000000001,20,21673.734,30,0,null,0,null,0,null,0,null,0,null,0,null,0,null,0,null,72245.78,100]
["1.27",{"$f":"'1_IMPLANTAÇÃO'!B808","v":"LOUÇAS E METÁIS"},{"$f":"'1_IMPLANTAÇÃO'!F808","v":0},0,0,null,0,null,0,null,0,null,0,null,0,null,0,null,0,null,0,null,0,null,0,null,0,null,0,0]
["1.28",{"$f":"'1_IMPLANTAÇÃO'!B810","v":"SISTEMA DE TRATAMENTO DE ESGOTO"},{"$f":"'1_IMPLANTAÇÃO'!F810","v":0},0,0,null,0,null,0,null,0,null,0,null,0,null,0,null,0,null,0,null,0,null,0,null,0,null,0,0]
["1.29",{"$f":"'1_IMPLANTAÇÃO'!B812","v":"LIMPEZA CONTÍNUA DA OBRA"},{"$f":"'1_IMPLANTAÇÃO'!F812","v":48802.64},0.995013630490584,4880.2640000000001,10,4880.2640000000001,10,4880.2640000000001,10,4880.2640000000001,10,4880.2640000000001,10,4880.2640000000001,10,4880.2640000000001,10,4880.2640000000001,10,4880.2640000000001,10,4880.2640000000001,10,0,null,0,null,48802.64,100]
["1.30",{"$f":"'1_IMPLANTAÇÃO'!B815","v":"LIMPEZA FINAL PARA ENTREGA"},{"$f":"'1_IMPLANTAÇÃO'!F815","v":0},0,0,null,0,null,0,null,{"$f":"L43*C43/100","v":0},null,0,null,0,null,0,null,0,null,0,null,0,null,0,null,0,null,{"$f":"AD43*$C43/100","v":0},0]
[null,"TOTAL",{"$f":"SUM(C13:C43)","v":4904720.75},{"$f":"SUM(D13:D43)","v":100.00000000000001},{"$f":"SUM(E13:E43)","v":107678.15899999999},{"$f":"E44/$C44*100","v":2.1953983618741186},{"$f":"SUM(G13:G43)","v":209871.72449999995},{"$f":"G44/$C44*100","v":4.2789739762452319},{"$f":"SUM(I13:I43)","v":180565.30749999994},{"$f":"I44/$C44*100","v":3.6814594898190673},{"$f":"SUM(K13:K43)","v":180469.58699999997},{"$f":"K44/$C44*100","v":3.6795078904339245},{"$f":"SUM(M13:M43)","v":300634.96949999995},{"$f":"M44/$C44*100","v":6.1295022657508067},{"$f":"SUM(O13:O43)","v":797511.81799999997},{"$f":"O44/$C44*100","v":16.260086122130399},{"$f":"SUM(Q13:Q43)","v":906735.53899999999},{"$f":"Q44/$C44*100","v":18.48699620666477},{"$f":"SUM(S13:S43)","v":785274.07850000006},{"$f":"S44/$C44*100","v":16.010576718358532},{"$f":"SUM(U13:U43)","v":866296.87600000016},{"$f":"U44/$C44*100","v":17.662511693453702},{"$f":"SUM(W13:W43)","v":569682.69100000011},{"$f":"W44/$C44*100","v":11.614987275269446},{"$f":"SUM(Y13:Y43)","v":0},{"$f":"Y44/$C44*100","v":0},{"$f":"SUM(AA13:AA43)","v":0},{"$f":"AA44/$C44*100","v":0},{"$f":"SUM(AC13:AC43)","v":4904720.75},{"$f":"AC44/$C44*100","v":100}]
[null,"TOTAL ACUMULADO",null,null,{"$f":"E44","v":107678.15899999999},{"$f":"E45/$C44*100","v":2.1953983618741186},{"$f":"G44+E45","v":317549.88349999994},{"$f":"G45/$C44*100","v":6.474372338119351},{"$f":"I44+G45","v":498115.19099999988},{"$f":"I45/$C44*100","v":10.155831827938417},{"$f":"K44+I45","v":678584.77799999982},{"$f":"K45/$C44*100","v":13.835339718372342},{"$f":"M44+K45","v":979219.74749999982},{"$f":"M45/$C44*100","v":19.964841984123151},{"$f":"O44+M45","v":1776731.5654999998},{"$f":"O45/$C44*100","v":36.224928106253543},{"$f":"Q44+O45","v":2683467.1044999999},{"$f":"Q45/$C44*100","v":54.711924312918327},{"$f":"S44+Q45","v":3468741.1830000002},{"$f":"S45/$C44*100","v":70.722501031276863},{"$f":"U44+S45","v":4335038.0590000004},{"$f":"U45/$C44*100","v":88.385012724730558},{"$f":"W44+U45","v":4904720.75},{"$f":"W45/$C44*100","v":100},{"$f":"Y44+W45","v":4904720.75},{"$f":"Y45/$C44*100","v":100},{"$f":"AA44+Y45","v":4904720.75},{"$f":"AA45/$C44*100","v":100}]
[]
[]
[null,null,"CRONOGRAMA FÍSICO FINANCEIRO",null,null,null,null,null,null,null,null,null,null,null,null,null,null,null,null,null,null,null,null,null,null,null,null,null,"UNAEN-FF-003"]
[]
[null,null,null,null,null,null,null,null,null,null,null,null,null,null,null,null,null,null,null,null,null,null,null,null,null,null,null,null,"Revisão:\n00","Data:\n11/05/2017"]
["SESI - SERVIÇO SOCIAL DA INDUSTRIA - DR/MT"]
[{"$f":"'[1]PLANILHA RESUMO LIC'!$A$7","v":"UNIDADE OPERACIONAL: SESI ESCOLA VARZEA GRANDE"},null,null,{"$f":"'[1]PLANILHA RESUMO LIC'!$A$8","v":"ENDEREÇO: Av. Dom Orlando Chaves, 1086, Ponte Nova  CIDADE: Varzea Grande - MT.                     "}]
["CONSTRUTORA:                                                                           ",null,null,{"$f":"CONCATENATE(\" VALOR: \",\"R$ \",TEXT(SUM(C91),\"#.##0,00\"))","v":" VALOR: R$ 2.225.411,01"},null,null,null,{"$f":"H6","v":"PRAZO: 10 MESES"}]
["RESPONSÁVEL TÉCNICO:"]
[]
[{"$f":"'2_BLOCO A-FACHADA'!B14","v":"BLOCO A e FACHADA"}]
[]
["ITEM","DESCRIÇÃO","ETAPA TOTAL",null,"1 MÊS",null,"2 MESES",null,"3 MESES",null,"4 MESES",null,"5 MESES",null,"6 MESES",null,"7 MESES",null,"8 MESES",null,"9 MESES",null,"10 MESES",null,null,null,null,null,"TOTAL "]
[null,null,"(R$)","(%)","(R$)","(%)","(R$)","(%)","(R$)","(%)","(R$)","(%)","(R$)","(%)","(R$)","(%)","(R$)","(%)","(R$)","(%)","(R$)","(%)","(R$)","(%)","(R$)","(%)","(R$)","(%)","(R$)","(%)"]
["2.0",{"$f":"'2_BLOCO A-FACHADA'!B16","v":"DEMOLIÇÕES E RETIRADAS"},{"$f":"'2_BLOCO A-FACHADA'!F16","v":5461.6500000000005},{"$f":"C60/$C$44*100","v":0.1113549634808465},{"$f":"F60*$C60/100","v":5461.65},100,{"$f":"H60*$C60/100","v":0},null,{"$f":"J60*$C60/100","v":0},null,{"$f":"L60*$C60/100","v":0},null,{"$f":"N60*$C60/100","v":0},null,{"$f":"P60*$C60/100","v":0},null,{"$f":"R60*$C60/100","v":0},null,{"$f":"T60*$C60/100","v":0},null,{"$f":"V60*$C60/100","v":0},null,{"$f":"X60*$C60/100","v":0},null,{"$f":"Z60*$C60/100","v":0},null,{"$f":"AB60*$C60/100","v":0},null,{"$f":"AD60*$C60/100","v":5461.65},{"$f":"N60+L60+J60+H60+F60+P60+R60+T60+V60+X60+Z60+AB60","v":100}]
["2.1",{"$f":"'2_BLOCO A-FACHADA'!B23","v":"INSTALAÇÕES DE CANTEIRO"},{"$f":"'2_BLOCO A-FACHADA'!F23","v":0},{"$f":"C61/$C$44*100","v":0},{"$f":"F61*$C61/100","v":0},null,{"$f":"H61*$C61/100","v":0},null,{"$f":"J61*$C61/100","v":0},null,{"$f":"L61*$C61/100","v":0},null,{"$f":"N61*$C61/100","v":0},null,{"$f":"P61*$C61/100","v":0},null,{"$f":"R61*$C61/100","v":0},null,{"$f":"T61*$C61/100","v":0},null,0,null,0,null,0,null,0,null,{"$f":"AD61*$C61/100","v":0},{"$f":"N61+L61+J61+H61+F61+P61+R61+T61+V61+X61+Z61+AB61","v":0}]
["2.2",{"$f":"'2_BLOCO A-FACHADA'!B25","v":"ADMINISTRAÇÃO"},{"$f":"'2_BLOCO A-FACHADA'!F25","v":0},0,0,null,{"$f":"H62*$C62/100","v":0},null,{"$f":"J62*$C62/100","v":0},null,{"$f":"L62*$C62/100","v":0},null,{"$f":"N62*$C62/100","v":0},null,{"$f":"P62*$C62/100","v":0},null,{"$f":"R62*$C62/100","v":0},null,{"$f":"T62*$C62/100","v":0},null,0,null,0,null,0,null,0,null,{"$f":"AD62*$C62/100","v":0},0]
["2.3",{"$f":"'2_BLOCO A-FACHADA'!B27","v":"TERRAPLENAGEM"},{"$f":"'2_BLOCO A-FACHADA'!F27","v":0},0,0,null,0,null,0,null,0,null,0,null,0,null,0,null,0,null,0,null,0,null,0,null,0,null,0,0]
["2.4",{"$f":"'2_BLOCO A-FACHADA'!B29","v":"FUNDAÇÃO"},{"$f":"'2_BLOCO A-FACHADA'!F29","v":163777.16},3.3391739988459084,0,null,81888.58,50,81888.58,50,0,null,0,null,0,null,0,null,0,null,0,null,0,null,0,null,0,null,163777.16,100]
["2.5",{"$f":"'2_BLOCO A-FACHADA'!B63","v":"IMPERMEABILIZAÇÃO"},{"$f":"'2_BLOCO A-FACHADA'!F63","v":8031.16},0.1637434710222799,0,null,0,null,8031.16,100,0,null,0,null,0,null,0,null,0,null,0,null,0,null,0,null,0,null,8031.16,100]
["2.6",{"$f":"'2_BLOCO A-FACHADA'!B66","v":"ESTRUTURAS DE CONCRETO ARMADO"},{"$f":"'2_BLOCO A-FACHADA'!F66","v":9502.91},0.19375027620073987,0,null,9502.91,100,0,null,0,null,0,null,0,null,0,null,0,null,0,null,0,null,0,null,0,null,9502.91,100]
["2.7",{"$f":"'2_BLOCO A-FACHADA'!B72","v":"ALVENARIAS E PAINÉIS"},{"$f":"'2_BLOCO A-FACHADA'!F72","v":43999.520000000004},0.89708511947392733,0,null,13199.856000000002,30,30799.664000000004,70,0,null,0,null,0,null,0,null,0,null,0,null,0,null,0,null,0,null,43999.519999999997,100]
["2.8",{"$f":"'2_BLOCO A-FACHADA'!B76","v":"ESTRUTURA METALICA"},{"$f":"'2_BLOCO A-FACHADA'!F76","v":465871.34000000008},9.4984274079212376,0,null,0,null,232935.67000000004,50,232935.67000000004,50,0,null,0,null,0,null,0,null,0,null,0,null,0,null,0,null,465871.34000000008,100]
["2.9",{"$f":"'2_BLOCO A-FACHADA'!B87","v":"COBERTURA"},{"$f":"'2_BLOCO A-FACHADA'!F87","v":75474.789999999994},1.5388193099474623,0,null,0,null,0,null,75474.789999999994,100,0,null,0,null,0,null,0,null,0,null,0,null,0,null,0,null,75474.789999999994,100]
["2.10",{"$f":"'2_BLOCO A-FACHADA'!B93","v":"ESQUADRIAS"},{"$f":"'2_BLOCO A-FACHADA'!F93","v":180608.43000000002},3.682338693798215,0,null,36121.686000000009,20,144486.74400000004,80,0,null,0,null,0,null,0,null,0,null,0,null,0,null,0,null,0,null,180608.43000000005,100]
["2.11",{"$f":"'2_BLOCO A-FACHADA'!B115","v":"PISOS"},{"$f":"'2_BLOCO A-FACHADA'!F115","v":73760.700000000012},1.5038715506892011,22128.210000000006,30,0,null,0,null,14752.140000000003,20,36880.350000000006,50,0,null,0,null,0,null,0,null,0,null,0,null,0,null,73760.700000000012,100]
["2.12",{"$f":"'2_BLOCO A-FACHADA'!B124","v":"REVESTIMENTOS"},{"$f":"'2_BLOCO A-FACHADA'!F124","v":535255.89},10.91307573423013,16057.6767,3,0,null,107051.17800000001,20,160576.76700000002,30,251570.26830000003,47,0,null,0,null,0,null,0,null,0,null,0,null,0,null,535255.89,100]
["2.13",{"$f":"'2_BLOCO A-FACHADA'!B135","v":"GRANITO"},{"$f":"'2_BLOCO A-FACHADA'!F135","v":21425.27},0.4368295585431648,10712.635,50,10712.635,50,0,null,0,null,0,null,0,null,0,null,0,null,0,null,0,null,0,null,0,null,21425.27,100]
["2.14",{"$f":"'2_BLOCO A-FACHADA'!B141","v":"FORRO"},{"$f":"'2_BLOCO A-FACHADA'!F141","v":45683.86},0.93142632024463368,0,null,0,null,22841.93,50,22841.93,50,0,null,0,null,0,null,0,null,0,null,0,null,0,null,0,null,45683.86,100]
["2.15",{"$f":"'2_BLOCO A-FACHADA'!B146","v":"PINTURA"},{"$f":"'2_BLOCO A-FACHADA'!F146","v":51429.31},1.0485675458689467,0,null,36000.517,70,15428.792999999998,30,0,null,0,null,0,null,0,null,0,null,0,null,0,null,0,null,0,null,51429.31,100]
["2.16",{"$f":"'2_BLOCO A-FACHADA'!B154","v":"CALÇAMENTO, PÁTIOS E PASSARELAS"},{"$f":"'2_BLOCO A-FACHADA'!F154","v":0},0,0,null,0,null,0,null,0,null,0,null,0,null,0,null,0,null,0,null,0,null,0,null,0,null,0,0]
["2.17",{"$f":"'2_BLOCO A-FACHADA'!B156","v":"SERVIÇOS COMPLEMENTARES"},{"$f":"'2_BLOCO A-FACHADA'!F156","v":40757.060000000005},0.83097615700139515,0,null,0,null,0,null,0,null,40757.060000000005,100,0,null,0,null,0,null,0,null,0,null,0,null,0,null,40757.060000000005,100]
["2.18",{"$f":"'2_BLOCO A-FACHADA'!B163","v":"INSTALAÇÕES DE SPDA"},{"$f":"'2_BLOCO A-FACHADA'!F163","v":0},0,0,null,0,100,0,null,0,null,0,null,0,null,0,null,0,null,0,null,0,null,0,null,0,null,0,100]
["2.19",{"$f":"'2_BLOCO A-FACHADA'!B165","v":"INSTALAÇÃO DE COMBATE A INCÊNDIO"},{"$f":"'2_BLOCO A-FACHADA'!F165","v":0},0,0,null,0,50,0,30,0,20,0,null,0,null,0,null,0,null,0,null,0,null,0,null,0,null,0,100]
["2.20",{"$f":"'2_BLOCO A-FACHADA'!B167","v":"INSTALAÇÕES ELÉTRICA"},{"$f":"'2_BLOCO A-FACHADA'!F167","v":228866.36999999991},4.6662466971233769,0,null,45773.273999999983,20,45773.273999999983,20,68659.910999999964,30,68659.910999999964,30,0,null,0,null,0,null,0,null,0,null,0,null,0,null,228866.36999999994,100]
["2.21",{"$f":"'2_BLOCO A-FACHADA'!B465","v":"LOGICA E TELEFONICA"},{"$f":"'2_BLOCO A-FACHADA'!F465","v":48608.65},0.99105846138131304,0,null,9721.73,20,9721.73,20,14582.594999999999,30,14582.594999999999,30,0,null,0,null,0,null,0,null,0,null,0,null,0,null,48608.65,100]
["2.22",{"$f":"'2_BLOCO A-FACHADA'!B574","v":"CLIMATIZAÇÃO - AR CONDICIONADO"},{"$f":"'2_BLOCO A-FACHADA'!F574","v":114190.11000000002},2.3281674089192546,11419.011,10,28547.527500000004,25,28547.527500000004,25,28547.527500000004,25,17128.516500000002,15,0,null,0,null,0,null,0,null,0,null,0,null,0,null,114190.11000000002,100]
["2.23",{"$f":"'2_BLOCO A-FACHADA'!B625","v":"INFRAESTRUTURA PARA INSTALAÇÃO DE AUDIO E VÍDEO"},{"$f":"'2_BLOCO A-FACHADA'!F625","v":30244.21},0.61663469831590312,0,null,6048.8419999999996,20,6048.8419999999996,20,9073.262999999999,30,9073.262999999999,30,0,null,0,null,0,null,0,null,0,null,0,null,0,null,30244.21,100]
["2.24",{"$f":"'2_BLOCO A-FACHADA'!B667","v":"INSTALAÇÕES HIDRAULICAS "},{"$f":"'2_BLOCO A-FACHADA'!F667","v":0},0,0,null,0,null,0,null,0,null,0,null,0,null,0,null,0,null,0,null,0,null,0,null,0,null,0,0]
["2.25",{"$f":"'2_BLOCO A-FACHADA'!B669","v":"ÁGUAS PLUVIAIS DE COBERTURA"},{"$f":"'2_BLOCO A-FACHADA'!F669","v":45132.23},0.92017940063152426,22566.115000000002,50,22566.115000000002,50,0,null,0,null,0,null,0,null,0,null,0,null,0,null,0,null,0,null,0,null,45132.23,100]
["2.26",{"$f":"'2_BLOCO A-FACHADA'!B691","v":"INSTALAÇÕES SANITÁRIAS"},{"$f":"'2_BLOCO A-FACHADA'!F691","v":0},0,0,null,0,null,0,null,0,null,0,null,0,null,0,null,0,null,0,null,0,null,0,null,0,null,0,0]
["2.27",{"$f":"'2_BLOCO A-FACHADA'!B693","v":"LOUÇAS E METÁIS"},{"$f":"'2_BLOCO A-FACHADA'!F693","v":34578.100000000006},0.70499630381607359,0,null,17289.050000000003,50,17289.050000000003,50,0,null,0,null,0,null,0,null,0,null,0,null,0,null,0,null,0,null,34578.100000000006,100]
["2.28",{"$f":"'2_BLOCO A-FACHADA'!B719","v":"SISTEMA DE TRATAMENTO DE ESGOTO"},{"$f":"'2_BLOCO A-FACHADA'!F719","v":0},0,0,null,0,null,0,null,0,null,0,null,0,null,0,null,0,null,0,null,0,null,0,null,0,null,0,0]
["2.29",{"$f":"'2_BLOCO A-FACHADA'!B721","v":"LIMPEZA CONTÍNUA DA OBRA"},{"$f":"'2_BLOCO A-FACHADA'!F721","v":0},0,0,null,0,null,0,null,0,null,0,null,0,null,0,null,0,null,0,null,0,null,0,null,0,null,0,{"$f":"N89+L89+J89+H89+F89+P89+R89+T89+V89+X89+Z89+AB89","v":0}]
["2.30",{"$f":"'2_BLOCO A-FACHADA'!B723","v":"LIMPEZA FINAL PARA ENTREGA"},{"$f":"'2_BLOCO A-FACHADA'!F723","v":2752.29},5.6115121334889453E-2,0,null,0,null,0,null,{"$f":"L90*C90/100","v":0},null,2752.29,100,0,null,0,null,0,null,0,null,0,null,0,null,0,null,{"$f":"AD90*$C90/100","v":2752.29},100]
[null,"TOTAL",{"$f":"SUM(C60:C90)","v":2225411.0100000002},{"$f":"SUM(D60:D90)","v":45.372838198790433},{"$f":"SUM(E60:E90)","v":88345.297700000025},{"$f":"E91/$C91*100","v":3.9698418540672185},{"$f":"SUM(G60:G90)","v":317372.72249999997},{"$f":"G91/$C91*100","v":14.261308184145271},{"$f":"SUM(I60:I90)","v":750844.14249999996},{"$f":"I91/$C91*100","v":33.739571662315079},{"$f":"SUM(K60:K90)","v":627444.59350000008},{"$f":"K91/$C91*100","v":28.194548812805596},{"$f":"SUM(M60:M90)","v":441404.25379999995},{"$f":"M91/$C91*100","v":19.83472948666682},{"$f":"SUM(O60:O90)","v":0},{"$f":"O91/$C91*100","v":0},{"$f":"SUM(Q60:Q90)","v":0},{"$f":"Q91/$C91*100","v":0},{"$f":"SUM(S60:S90)","v":0},{"$f":"S91/$C91*100","v":0},{"$f":"SUM(U60:U90)","v":0},{"$f":"U91/$C91*100","v":0},{"$f":"SUM(W60:W90)","v":0},{"$f":"W91/$C91*100","v":0},{"$f":"SUM(Y60:Y90)","v":0},{"$f":"Y91/$C91*100","v":0},{"$f":"SUM(AA60:AA90)","v":0},{"$f":"AA91/$C91*100","v":0},{"$f":"SUM(AC60:AC90)","v":2225411.0100000002},{"$f":"AC91/$C91*100","v":100}]
[null,"TOTAL ACUMULADO",null,null,{"$f":"E91","v":88345.297700000025},{"$f":"E92/$C91*100","v":3.9698418540672185},{"$f":"G91+E92","v":405718.02020000003},{"$f":"G92/$C91*100","v":18.23115003821249},{"$f":"I91+G92","v":1156562.1627},{"$f":"I92/$C91*100","v":51.970721700527577},{"$f":"K91+I92","v":1784006.7562000002},{"$f":"K92/$C91*100","v":80.165270513333169},{"$f":"M91+K92","v":2225411.0100000002},{"$f":"M92/$C91*100","v":100},{"$f":"O91+M92","v":2225411.0100000002},{"$f":"O92/$C91*100","v":100},{"$f":"Q91+O92","v":2225411.0100000002},{"$f":"Q92/$C91*100","v":100},{"$f":"S91+Q92","v":2225411.0100000002},{"$f":"S92/$C91*100","v":100},{"$f":"U91+S92","v":2225411.0100000002},{"$f":"U92/$C91*100","v":100},{"$f":"W91+U92","v":2225411.0100000002},{"$f":"W92/$C91*100","v":100},{"$f":"Y91+W92","v":2225411.0100000002},{"$f":"Y92/$C91*100","v":100},{"$f":"AA91+Y92","v":2225411.0100000002},{"$f":"AA92/$C91*100","v":100}]
[]
[]
[null,null,"CRONOGRAMA FÍSICO FINANCEIRO",null,null,null,null,null,null,null,null,null,null,null,null,null,null,null,null,null,null,null,null,null,null,null,null,null,"UNAEN-FF-003"]
[]
[null,null,null,null,null,null,null,null,null,null,null,null,null,null,null,null,null,null,null,null,null,null,null,null,null,null,null,null,"Revisão:\n00","Data:\n11/05/2017"]
["SESI - SERVIÇO SOCIAL DA INDUSTRIA - DR/MT"]
[{"$f":"'[1]PLANILHA RESUMO LIC'!$A$7","v":"UNIDADE OPERACIONAL: SESI ESCOLA VARZEA GRANDE"},null,null,{"$f":"'[1]PLANILHA RESUMO LIC'!$A$8","v":"ENDEREÇO: Av. Dom Orlando Chaves, 1086, Ponte Nova  CIDADE: Varzea Grande - MT.                     "}]
["CONSTRUTORA:                                                                           ",null,null,{"$f":"CONCATENATE(\" VALOR: \",\"R$ \",TEXT(SUM(C138),\"#.##0,00\"))","v":" VALOR: R$ 1.844.776,08"},null,null,null,{"$f":"H6","v":"PRAZO: 10 MESES"}]
["RESPONSÁVEL TÉCNICO:"]
[]
[{"$f":"'3_BLOCO B'!B14","v":"BLOCO B"}]
[]
["ITEM","DESCRIÇÃO","ETAPA TOTAL",null,"1 MÊS",null,"2 MESES",null,"3 MESES",null,"4 MESES",null,"5 MESES",null,"6 MESES",null,"7 MESES",null,"8 MESES",null,"9 MESES",null,"10 MESES",null,null,null,null,null,"TOTAL "]
[null,null,"(R$)","(%)","(R$)","(%)","(R$)","(%)","(R$)","(%)","(R$)","(%)","(R$)","(%)","(R$)","(%)","(R$)","(%)","(R$)","(%)","(R$)","(%)","(R$)","(%)","(R$)","(%)","(R$)","(%)","(R$)","(%)"]
["3.0",{"$f":"'3_BLOCO B'!B16","v":"DEMOLIÇÕES E RETIRADAS"},{"$f":"'3_BLOCO B'!F16","v":103301.45999999999},{"$f":"C107/$C$44*100","v":2.1061639441960072},{"$f":"F107*$C107/100","v":0},null,{"$f":"H107*$C107/100","v":0},null,{"$f":"J107*$C107/100","v":0},null,{"$f":"L107*$C107/100","v":0},null,{"$f":"N107*$C107/100","v":51650.73},50,{"$f":"P107*$C107/100","v":51650.73},50,{"$f":"R107*$C107/100","v":0},null,{"$f":"T107*$C107/100","v":0},null,{"$f":"V107*$C107/100","v":0},null,{"$f":"X107*$C107/100","v":0},null,{"$f":"Z107*$C107/100","v":0},null,{"$f":"AB107*$C107/100","v":0},null,{"$f":"AD107*$C107/100","v":103301.46},{"$f":"N107+L107+J107+H107+F107+P107+R107+T107+V107+X107+Z107+AB107","v":100}]
["3.1",{"$f":"'3_BLOCO B'!B39","v":"INSTALAÇÕES DE CANTEIRO (ACESSO PROVISÓRIO AO BLOCO B PARA DEMOLIÇÃO DO LOCAL ONDE SERÁ SALA DOS PROFESSORES)"},{"$f":"'3_BLOCO B'!F39","v":6832.21},{"$f":"C108/$C$44*100","v":0.1392986542607956},{"$f":"F108*$C108/100","v":0},null,{"$f":"H108*$C108/100","v":6832.21},100,{"$f":"J108*$C108/100","v":0},null,{"$f":"L108*$C108/100","v":0},null,{"$f":"N108*$C108/100","v":0},null,{"$f":"P108*$C108/100","v":0},null,{"$f":"R108*$C108/100","v":0},null,{"$f":"T108*$C108/100","v":0},null,0,null,0,null,0,null,0,null,{"$f":"AD108*$C108/100","v":6832.21},{"$f":"N108+L108+J108+H108+F108+P108+R108+T108+V108+X108+Z108+AB108","v":100}]
["3.2",{"$f":"'3_BLOCO B'!B48","v":"ADMINISTRAÇÃO"},{"$f":"'3_BLOCO B'!F48","v":0},0,0,null,{"$f":"H109*$C109/100","v":0},null,{"$f":"J109*$C109/100","v":0},null,{"$f":"L109*$C109/100","v":0},null,{"$f":"N109*$C109/100","v":0},null,{"$f":"P109*$C109/100","v":0},null,{"$f":"R109*$C109/100","v":0},null,{"$f":"T109*$C109/100","v":0},null,0,null,0,null,0,null,0,null,{"$f":"AD109*$C109/100","v":0},0]
["3.3",{"$f":"'3_BLOCO B'!B50","v":"TERRAPLENAGEM"},{"$f":"'3_BLOCO B'!F50","v":0},0,0,null,0,null,0,null,0,null,0,null,0,null,0,null,0,null,0,null,0,null,0,null,0,null,0,0]
["3.4",{"$f":"'3_BLOCO B'!B52","v":"FUNDAÇÃO"},{"$f":"'3_BLOCO B'!F52","v":154706.92999999993},3.154245427734085,0,null,77353.464999999967,50,77353.464999999967,50,0,null,0,null,0,null,0,null,0,null,0,null,0,null,0,null,0,null,154706.92999999993,100]
["3.5",{"$f":"'3_BLOCO B'!B100","v":"IMPERMEABILIZAÇÃO"},{"$f":"'3_BLOCO B'!F100","v":5663.59},0.11547222132880858,0,null,0,null,5663.59,100,0,null,0,null,0,null,0,null,0,null,0,null,0,null,0,null,0,null,5663.59,100]
["3.6",{"$f":"'3_BLOCO B'!B103","v":"ESTRUTURAS DE CONCRETO ARMADO"},{"$f":"'3_BLOCO B'!F103","v":7246.2500000000009},0.14774031732591505,0,null,0,null,0,null,7246.2500000000009,100,0,null,0,null,0,null,0,null,0,null,0,null,0,null,0,null,7246.2500000000009,100]
["3.7",{"$f":"'3_BLOCO B'!B111","v":"ALVENARIAS E PAINÉIS"},{"$f":"'3_BLOCO B'!F111","v":20699.980000000003},0.42204196844438091,0,null,0,null,0,null,0,null,0,null,20699.980000000003,100,0,null,0,null,0,null,0,null,0,null,0,null,20699.980000000003,100]
["3.8",{"$f":"'3_BLOCO B'!B118","v":"ESTRUTURA METALICA"},{"$f":"'3_BLOCO B'!F118","v":225242.53},4.5923619606681987,0,null,0,null,0,null,90097.011999999988,40,135145.51800000001,60,0,null,0,null,0,null,0,null,0,null,0,null,0,null,225242.53,100]
["3.9",{"$f":"'3_BLOCO B'!B134","v":"COBERTURA"},{"$f":"'3_BLOCO B'!F134","v":190072.6},3.8752991187112951,0,null,0,null,0,null,0,null,0,null,47518.15,25,95036.3,50,47518.15,25,0,null,0,null,0,null,0,null,190072.6,100]
["3.10",{"$f":"'3_BLOCO B'!B141","v":"ESQUADRIAS"},{"$f":"'3_BLOCO B'!F141","v":74246.14999999998},1.5137691580096579,0,null,0,null,0,null,0,null,0,null,0,null,0,null,18561.537499999995,25,37123.07499999999,50,18561.537499999995,25,0,null,0,null,74246.14999999998,100]
["3.11",{"$f":"'3_BLOCO B'!B157","v":"PISOS"},{"$f":"'3_BLOCO B'!F157","v":169567.90999999995},3.4572388244529502,0,null,0,null,0,null,0,null,0,null,0,null,84783.954999999987,50,84783.954999999987,50,0,null,0,null,0,null,0,null,169567.90999999997,100]
["3.12",{"$f":"'3_BLOCO B'!B168","v":"REVESTIMENTOS"},{"$f":"'3_BLOCO B'!F168","v":113871.54000000001},2.3216722379148704,0,null,0,null,0,null,0,null,0,null,0,null,0,null,56935.77,50,56935.77,50,0,null,0,null,0,null,113871.54,100]
["3.13",{"$f":"'3_BLOCO B'!B176","v":"GRANITO"},{"$f":"'3_BLOCO B'!F176","v":7772.4699999999993},0.15846916463083041,0,null,0,null,0,null,0,null,0,null,0,null,0,null,3886.2349999999992,50,3886.2349999999992,50,0,null,0,null,0,null,7772.4699999999984,100]
["3.14",{"$f":"'3_BLOCO B'!B181","v":"FORRO"},{"$f":"'3_BLOCO B'!F181","v":37321.230000000003},0.76092466630235789,0,null,0,null,0,null,0,null,0,null,0,null,0,null,0,null,18660.615000000002,50,18660.615000000002,50,0,null,0,null,37321.230000000003,100]
["3.15",{"$f":"'3_BLOCO B'!B185","v":"PINTURA"},{"$f":"'3_BLOCO B'!F185","v":50967.69},1.0391557969941509,0,null,0,null,0,null,0,null,0,null,0,null,25483.845000000001,50,7645.1535000000013,15,7645.1535000000013,15,10193.538,20,0,null,0,null,50967.69,100]
["3.16",{"$f":"'3_BLOCO B'!B192","v":"CALÇAMENTO, PÁTIOS E PASSARELAS"},{"$f":"'3_BLOCO B'!F192","v":0},0,0,null,0,null,0,null,0,null,0,null,0,null,0,null,0,null,0,null,0,null,0,null,0,null,0,0]
["3.17",{"$f":"'3_BLOCO B'!B194","v":"SERVIÇOS COMPLEMENTARES"},{"$f":"'3_BLOCO B'!F194","v":77327.66},1.576596588093216,0,null,0,null,0,null,0,null,0,null,0,null,0,null,0,null,38663.83,50,38663.83,50,0,null,0,null,77327.66,100]
["3.18",{"$f":"'3_BLOCO B'!B202","v":"INSTALAÇÕES DE SPDA"},{"$f":"'3_BLOCO B'!F202","v":0},0,0,null,0,null,0,null,0,null,0,null,0,null,0,null,0,null,0,null,0,null,0,null,0,null,0,0]
["3.19",{"$f":"'3_BLOCO B'!B204","v":"INSTALAÇÃO DE COMBATE A INCÊNDIO"},{"$f":"'3_BLOCO B'!F204","v":0},0,0,null,0,null,0,null,0,null,0,null,0,null,0,null,0,null,0,null,0,null,0,null,0,null,0,0]
["3.20",{"$f":"'3_BLOCO B'!B206","v":"INSTALAÇÕES ELÉTRICA"},{"$f":"'3_BLOCO B'!F206","v":204896.97999999992},4.177546295576561,0,null,0,null,0,null,0,null,0,null,0,null,51224.244999999981,25,51224.244999999981,25,61469.093999999975,30,40979.395999999986,20,0,null,0,null,204896.97999999992,100]
["3.21",{"$f":"'3_BLOCO B'!B448","v":"LOGICA E TELEFONICA"},{"$f":"'3_BLOCO B'!F448","v":70842.259999999995},1.4443688766582685,0,null,0,null,0,null,0,null,0,null,0,null,17710.564999999999,25,17710.564999999999,25,21252.678,30,14168.451999999999,20,0,null,0,null,70842.259999999995,100]
["3.22",{"$f":"'3_BLOCO B'!B538","v":"CLIMATIZAÇÃO - AR CONDICIONADO"},{"$f":"'3_BLOCO B'!F538","v":197064.70000000007},4.0178576935292405,0,null,0,null,0,null,0,null,0,null,19706.470000000008,10,49266.175000000017,25,49266.175000000017,25,49266.175000000017,25,29559.705000000009,15,0,null,0,null,197064.70000000007,100]
["3.23",{"$f":"'3_BLOCO B'!B607","v":"INFRAESTRUTURA PARA INSTALAÇÃO DE AUDIO E VÍDEO"},{"$f":"'3_BLOCO B'!F607","v":41778.240000000005},0.85179650645757987,0,null,0,null,0,null,0,null,0,null,0,null,10444.560000000001,25,10444.560000000001,25,12533.472000000002,30,8355.648000000001,20,0,null,0,null,41778.240000000005,100]
["3.24",{"$f":"'3_BLOCO B'!B650","v":"INSTALAÇÕES HIDRAULICAS "},{"$f":"'3_BLOCO B'!F650","v":0},0,0,null,0,null,0,null,0,null,0,null,0,null,0,null,0,null,0,null,0,null,0,null,0,null,0,0]
["3.25",{"$f":"'3_BLOCO B'!B652","v":"ÁGUAS PLUVIAIS DE COBERTURA"},{"$f":"'3_BLOCO B'!F652","v":67570.51999999999},1.3776629383028582,0,null,0,null,0,null,0,null,0,null,13514.103999999999,20,33785.259999999995,50,20271.155999999995,30,0,null,0,null,0,null,0,null,67570.51999999999,100]
["3.26",{"$f":"'3_BLOCO B'!B672","v":"INSTALAÇÕES SANITÁRIAS"},{"$f":"'3_BLOCO B'!F672","v":0},0,0,null,0,null,0,null,0,null,0,null,0,null,0,null,0,null,0,null,0,null,0,null,0,null,0,0]
["3.27",{"$f":"'3_BLOCO B'!B674","v":"LOUÇAS E METÁIS"},{"$f":"'3_BLOCO B'!F674","v":14769.019999999999},0.30111846836540079,0,null,0,null,0,null,0,null,0,null,0,null,0,null,2953.8039999999996,20,7384.5099999999984,50,4430.7060000000001,30,0,null,0,null,14769.019999999997,100]
["3.28",{"$f":"'3_BLOCO B'!B688","v":"SISTEMA DE TRATAMENTO DE ESGOTO"},{"$f":"'3_BLOCO B'!F688","v":0},0,0,null,0,null,0,null,0,null,0,null,0,null,0,null,0,null,0,null,0,null,0,null,0,null,0,0]
["3.29",{"$f":"'3_BLOCO B'!B690","v":"LIMPEZA CONTÍNUA DA OBRA"},{"$f":"'3_BLOCO B'!F690","v":0},0,0,null,0,null,0,null,0,null,0,null,0,null,0,null,0,null,0,null,0,null,0,null,0,null,0,0]
["3.30",{"$f":"'3_BLOCO B'!B692","v":"LIMPEZA FINAL PARA ENTREGA"},{"$f":"'3_BLOCO B'!F692","v":3014.16},6.1454263221815429E-2,0,null,0,null,0,null,{"$f":"L137*C137/100","v":0},null,0,null,0,null,0,null,0,null,0,null,3014.16,100,0,null,0,null,{"$f":"AD137*$C137/100","v":3014.16},100]
[null,"TOTAL",{"$f":"SUM(C107:C137)","v":1844776.0799999996},{"$f":"SUM(D107:D137)","v":37.61225509117925},{"$f":"SUM(E107:E137)","v":0},{"$f":"E138/$C138*100","v":0},{"$f":"SUM(G107:G137)","v":84185.674999999974},{"$f":"G138/$C138*100","v":4.5634630626823824},{"$f":"SUM(I107:I137)","v":83017.054999999964},{"$f":"I138/$C138*100","v":4.500115537057483},{"$f":"SUM(K107:K137)","v":97343.261999999988},{"$f":"K138/$C138*100","v":5.2766979719294715},{"$f":"SUM(M107:M137)","v":186796.24800000002},{"$f":"M138/$C138*100","v":10.12568679880108},{"$f":"SUM(O107:O137)","v":153089.43400000001},{"$f":"O138/$C138*100","v":8.2985374571855921},{"$f":"SUM(Q107:Q137)","v":367734.90499999997},{"$f":"Q138/$C138*100","v":19.933850454088716},{"$f":"SUM(S107:S137)","v":371201.30599999998},{"$f":"S138/$C138*100","v":20.121754072179865},{"$f":"SUM(U107:U137)","v":314820.60749999998},{"$f":"U138/$C138*100","v":17.065518732224675},{"$f":"SUM(W107:W137)","v":186587.58749999999},{"$f":"W138/$C138*100","v":10.114375913850751},{"$f":"SUM(Y107:Y137)","v":0},{"$f":"Y138/$C138*100","v":0},{"$f":"SUM(AA107:AA137)","v":0},{"$f":"AA138/$C138*100","v":0},{"$f":"SUM(AC107:AC137)","v":1844776.0799999996},{"$f":"AC138/$C138*100","v":100}]
[null,"TOTAL ACUMULADO",null,null,{"$f":"E138","v":0},{"$f":"E139/$C138*100","v":0},{"$f":"G138+E139","v":84185.674999999974},{"$f":"G139/$C138*100","v":4.5634630626823824},{"$f":"I138+G139","v":167202.72999999992},{"$f":"I139/$C138*100","v":9.0635785997398646},{"$f":"K138+I139","v":264545.99199999991},{"$f":"K139/$C138*100","v":14.340276571669335},{"$f":"M138+K139","v":451342.23999999993},{"$f":"M139/$C138*100","v":24.465963370470416},{"$f":"O138+M139","v":604431.67399999988},{"$f":"O139/$C138*100","v":32.764500827656008},{"$f":"Q138+O139","v":972166.57899999991},{"$f":"Q139/$C138*100","v":52.698351281744728},{"$f":"S138+Q139","v":1343367.8849999998},{"$f":"S139/$C138*100","v":72.820105353924575},{"$f":"U138+S139","v":1658188.4924999997},{"$f":"U139/$C138*100","v":89.885624086149249},{"$f":"W138+U139","v":1844776.0799999996},{"$f":"W139/$C138*100","v":100},{"$f":"Y138+W139","v":1844776.0799999996},{"$f":"Y139/$C138*100","v":100},{"$f":"AA138+Y139","v":1844776.0799999996},{"$f":"AA139/$C138*100","v":100}]
[]
[]
[null,null,"CRONOGRAMA FÍSICO FINANCEIRO",null,null,null,null,null,null,null,null,null,null,null,null,null,null,null,null,null,null,null,null,null,null,null,null,null,"UNAEN-FF-003"]
[]
[null,null,null,null,null,null,null,null,null,null,null,null,null,null,null,null,null,null,null,null,null,null,null,null,null,null,null,null,"Revisão:\n00","Data:\n11/05/2017"]
["SESI - SERVIÇO SOCIAL DA INDUSTRIA - DR/MT"]
[{"$f":"'[1]PLANILHA RESUMO LIC'!$A$7","v":"UNIDADE OPERACIONAL: SESI ESCOLA VARZEA GRANDE"},null,null,{"$f":"'[1]PLANILHA RESUMO LIC'!$A$8","v":"ENDEREÇO: Av. Dom Orlando Chaves, 1086, Ponte Nova  CIDADE: Varzea Grande - MT.                     "}]
["CONSTRUTORA:                                                                           ",null,null,{"$f":"CONCATENATE(\" VALOR: \",\"R$ \",TEXT(SUM(C185),\"#.##0,00\"))","v":" VALOR: R$ 1.255.678,36"},null,null,null,{"$f":"H6","v":"PRAZO: 10 MESES"}]
["RESPONSÁVEL TÉCNICO:"]
[]
["BLOCO C"]
[]
["ITEM","DESCRIÇÃO","ETAPA TOTAL",null,"1 MÊS",null,"2 MESES",null,"3 MESES",null,"4 MESES",null,"5 MESES",null,"6 MESES",null,"7 MESES",null,"8 MESES",null,"9 MESES",null,"10 MESES",null,null,null,null,null,"TOTAL "]
[null,null,"(R$)","(%)","(R$)","(%)","(R$)","(%)","(R$)","(%)","(R$)","(%)","(R$)","(%)","(R$)","(%)","(R$)","(%)","(R$)","(%)","(R$)","(%)","(R$)","(%)","(R$)","(%)","(R$)","(%)","(R$)","(%)"]
["4.0",{"$f":"'4_BLOCO C'!B16","v":"DEMOLIÇÕES E RETIRADAS"},{"$f":"'4_BLOCO C'!F16","v":47451.540000000008},{"$f":"C154/$C$44*100","v":0.9674667003213181},{"$f":"F154*$C154/100","v":23725.770000000004},50,{"$f":"H154*$C154/100","v":23725.770000000004},50,{"$f":"J154*$C154/100","v":0},null,{"$f":"L154*$C154/100","v":0},null,{"$f":"N154*$C154/100","v":0},null,{"$f":"P154*$C154/100","v":0},null,{"$f":"R154*$C154/100","v":0},null,{"$f":"T154*$C154/100","v":0},null,{"$f":"V154*$C154/100","v":0},null,{"$f":"X154*$C154/100","v":0},null,{"$f":"Z154*$C154/100","v":0},null,{"$f":"AB154*$C154/100","v":0},null,{"$f":"AD154*$C154/100","v":47451.540000000008},{"$f":"N154+L154+J154+H154+F154+P154+R154+T154+V154+X154+Z154+AB154","v":100}]
["4.1",{"$f":"'4_BLOCO C'!B37","v":"INSTALAÇÕES DE CANTEIRO"},{"$f":"'4_BLOCO C'!F37","v":0},{"$f":"C155/$C$44*100","v":0},{"$f":"F155*$C155/100","v":0},null,{"$f":"H155*$C155/100","v":0},null,{"$f":"J155*$C155/100","v":0},null,{"$f":"L155*$C155/100","v":0},null,{"$f":"N155*$C155/100","v":0},null,{"$f":"P155*$C155/100","v":0},null,{"$f":"R155*$C155/100","v":0},null,{"$f":"T155*$C155/100","v":0},null,0,null,0,null,0,null,0,null,{"$f":"AD155*$C155/100","v":0},{"$f":"N155+L155+J155+H155+F155+P155+R155+T155+V155+X155+Z155+AB155","v":0}]
["4.2",{"$f":"'4_BLOCO C'!B39","v":"ADMINISTRAÇÃO"},{"$f":"'4_BLOCO C'!F39","v":0},0,0,null,{"$f":"H156*$C156/100","v":0},null,{"$f":"J156*$C156/100","v":0},null,{"$f":"L156*$C156/100","v":0},null,{"$f":"N156*$C156/100","v":0},null,{"$f":"P156*$C156/100","v":0},null,{"$f":"R156*$C156/100","v":0},null,{"$f":"T156*$C156/100","v":0},null,0,null,0,null,0,null,0,null,{"$f":"AD156*$C156/100","v":0},0]
["4.3",{"$f":"'4_BLOCO C'!B41","v":"TERRAPLENAGEM"},{"$f":"'4_BLOCO C'!F41","v":0},0,0,null,0,null,0,null,0,null,0,null,0,null,0,null,0,null,0,null,0,null,0,null,0,null,0,0]
["4.4",{"$f":"'4_BLOCO C'!B43","v":"FUNDAÇÃO"},{"$f":"'4_BLOCO C'!F43","v":63486.260000000017},1.2943909191975917,0,null,31743.130000000008,50,31743.130000000008,50,0,null,0,null,0,null,0,null,0,null,0,null,0,null,0,null,0,null,63486.260000000017,100]
["4.5",{"$f":"'4_BLOCO C'!B67","v":"IMPERMEABILIZAÇÃO"},{"$f":"'4_BLOCO C'!F67","v":1617.5},3.297843205446508E-2,0,null,0,null,1617.5,100,0,null,0,null,0,null,0,null,0,null,0,null,0,null,0,null,0,null,1617.5,100]
["4.6",{"$f":"'4_BLOCO C'!B70","v":"ESTRUTURAS DE CONCRETO ARMADO"},{"$f":"'4_BLOCO C'!F70","v":9909.2000000000007},0.20203392823128619,0,null,0,null,9909.2000000000007,100,0,null,0,null,0,null,0,null,0,null,0,null,0,null,0,null,0,null,9909.2000000000007,100]
["4.7",{"$f":"'4_BLOCO C'!B78","v":"ALVENARIAS E PAINÉIS"},{"$f":"'4_BLOCO C'!F78","v":17471.310000000001},0.35621416367078595,0,null,0,null,0,null,17471.310000000001,100,0,null,0,null,0,null,0,null,0,null,0,null,0,null,0,null,17471.310000000001,100]
["4.8",{"$f":"'4_BLOCO C'!B85","v":"ESTRUTURA METALICA"},{"$f":"'4_BLOCO C'!F85","v":33100.51},0.67487042967736754,0,null,0,null,16550.255000000001,50,16550.255000000001,50,0,null,0,null,0,null,0,null,0,null,0,null,0,null,0,null,33100.51,100]
["4.9",{"$f":"'4_BLOCO C'!B91","v":"COBERTURA"},{"$f":"'4_BLOCO C'!F91","v":30605.32},0.62399719698618927,0,null,15302.66,50,3060.5320000000002,10,12242.128000000001,40,0,null,0,null,0,null,0,null,0,null,0,null,0,null,0,null,30605.32,100]
["4.10",{"$f":"'4_BLOCO C'!B96","v":"ESQUADRIAS"},{"$f":"'4_BLOCO C'!F96","v":67363.8},1.373448223326476,0,null,0,null,20209.14,30,20209.14,30,26945.52,40,0,null,0,null,0,null,0,null,0,null,0,null,0,null,67363.8,100]
["4.11",{"$f":"'4_BLOCO C'!B110","v":"PISOS"},{"$f":"'4_BLOCO C'!F110","v":94837},1.9335861272020429,18967.400000000001,20,28451.1,30,47418.5,50,0,null,0,null,0,null,0,null,0,null,0,null,0,null,0,null,0,null,94837,100]
["4.12",{"$f":"'4_BLOCO C'!B117","v":"REVESTIMENTOS"},{"$f":"'4_BLOCO C'!F117","v":175149.28000000003},3.5710347016188444,0,null,0,null,87574.640000000014,50,87574.640000000014,50,0,null,0,null,0,null,0,null,0,null,0,null,0,null,0,null,175149.28000000003,100]
["4.13",{"$f":"'4_BLOCO C'!B125","v":"GRANITO"},{"$f":"'4_BLOCO C'!F125","v":7848.41},0.16001746888444157,0,null,0,null,0,null,3924.2049999999999,50,3924.2049999999999,50,0,null,0,null,0,null,0,null,0,null,0,null,0,null,7848.41,100]
["4.14",{"$f":"'4_BLOCO C'!B131","v":"FORRO"},{"$f":"'4_BLOCO C'!F131","v":48908.640000000007},0.99717481367313332,0,null,0,null,19563.456000000002,40,19563.456000000002,40,9781.728000000001,20,0,null,0,null,0,null,0,null,0,null,0,null,0,null,48908.640000000007,{"$f":"N168+L168+J168+H168+F168+P168+R168+T168+V168+X168+Z168+AB168","v":100}]
["4.15",{"$f":"'4_BLOCO C'!B135","v":"PINTURA"},{"$f":"'4_BLOCO C'!F135","v":70375.400000000009},1.4348502919355808,21112.620000000006,30,14075.080000000002,20,14075.080000000002,20,14075.080000000002,20,7037.5400000000009,10,0,null,0,null,0,null,0,null,0,null,0,null,0,null,70375.400000000009,100]
["4.16",{"$f":"'4_BLOCO C'!B143","v":"CALÇAMENTO, PÁTIOS E PASSARELAS"},{"$f":"'4_BLOCO C'!F143","v":0},0,0,null,0,null,0,null,0,null,0,null,0,null,0,null,0,null,0,null,0,null,0,null,0,null,0,0]
["4.17",{"$f":"'4_BLOCO C'!B145","v":"SERVIÇOS COMPLEMENTARES"},{"$f":"'4_BLOCO C'!F145","v":66388.81},1.3535696196363471,0,null,0,null,0,null,32530.516899999999,49,33858.293100000003,51,0,null,0,null,0,null,0,null,0,null,0,null,0,null,66388.81,100]
["4.18",{"$f":"'4_BLOCO C'!B151","v":"INSTALAÇÕES DE SPDA"},{"$f":"'4_BLOCO C'!F151","v":0},0,0,null,0,null,0,null,0,null,0,null,0,null,0,null,0,null,0,null,0,null,0,null,0,null,0,0]
["4.19",{"$f":"'4_BLOCO C'!B153","v":"INSTALAÇÃO DE COMBATE A INCÊNDIO"},{"$f":"'4_BLOCO C'!F153","v":0},0,0,null,0,null,0,null,0,null,0,null,0,null,0,null,0,null,0,null,0,null,0,null,0,null,0,0]
["4.20",{"$f":"'4_BLOCO C'!B155","v":"INSTALAÇÕES ELÉTRICA"},{"$f":"'4_BLOCO C'!F155","v":186041.82999999993},3.7931176815723897,0,null,0,null,55812.548999999977,30,74416.731999999975,40,55812.548999999977,30,0,null,0,null,0,null,0,null,0,null,0,null,0,null,186041.82999999993,100]
["4.21",{"$f":"'4_BLOCO C'!B379","v":"LOGICA E TELEFONICA"},{"$f":"'4_BLOCO C'!F379","v":45754.950000000012},0.93287574017338315,0,null,0,null,13726.485000000004,30,18301.980000000003,40,13726.485000000004,30,0,null,0,null,0,null,0,null,0,null,0,null,0,null,45754.950000000012,100]
["4.22",{"$f":"'4_BLOCO C'!B449","v":"CLIMATIZAÇÃO - AR CONDICIONADO"},{"$f":"'4_BLOCO C'!F449","v":187636.71000000002},3.825634925291109,18763.671000000002,10,46909.177500000013,25,46909.177500000013,25,46909.177500000013,25,28145.506500000003,15,0,null,0,null,0,null,0,null,0,null,0,null,0,null,187636.71000000005,100]
["4.23",{"$f":"'4_BLOCO C'!B510","v":"INFRAESTRUTURA PARA INSTALAÇÃO DE AUDIO E VÍDEO"},{"$f":"'4_BLOCO C'!F510","v":45075.270000000004},0.91901807049871298,0,null,0,null,0,null,22537.634999999998,50,22537.634999999998,50,0,null,0,null,0,null,0,null,0,null,0,null,0,null,45075.27,100]
["4.24",{"$f":"'4_BLOCO C'!B531","v":"INSTALAÇÕES HIDRAULICAS "},{"$f":"'4_BLOCO C'!F531","v":0},0,0,null,0,null,0,null,0,null,0,null,0,null,0,null,0,null,0,null,0,null,0,null,0,null,0,0]
["4.25",{"$f":"'4_BLOCO C'!B533","v":"ÁGUAS PLUVIAIS DE COBERTURA"},{"$f":"'4_BLOCO C'!F533","v":27422.83},0.55911093409344459,5484.5660000000007,20,13711.415000000001,50,8226.8490000000002,30,0,null,0,null,0,null,0,null,0,null,0,null,0,null,0,null,0,null,27422.83,100]
["4.26",{"$f":"'4_BLOCO C'!B543","v":"INSTALAÇÕES SANITÁRIAS"},{"$f":"'4_BLOCO C'!F543","v":0},0,0,null,0,null,0,null,0,null,0,null,0,null,0,null,0,null,0,null,0,null,0,null,0,null,0,0]
["4.27",{"$f":"'4_BLOCO C'!B545","v":"LOUÇAS E METÁIS"},{"$f":"'4_BLOCO C'!F545","v":24823.920000000002},0.50612300404666266,0,null,0,null,0,null,12411.96,50,12411.96,50,0,null,0,null,0,null,0,null,0,null,0,null,0,null,24823.919999999998,100]
["4.28",{"$f":"'4_BLOCO C'!B564","v":"SISTEMA DE TRATAMENTO DE ESGOTO"},{"$f":"'4_BLOCO C'!F564","v":0},0,0,null,0,null,0,null,0,null,0,null,0,null,0,null,0,null,0,null,0,null,0,null,0,null,0,0]
["4.29",{"$f":"'4_BLOCO C'!B566","v":"LIMPEZA CONTÍNUA DA OBRA"},{"$f":"'4_BLOCO C'!F566","v":0},0,0,null,0,null,0,null,0,null,0,null,0,null,0,null,0,null,0,null,0,null,0,null,0,null,0,0]
["4.30",{"$f":"'4_BLOCO C'!B568","v":"LIMPEZA FINAL PARA ENTREGA"},{"$f":"'4_BLOCO C'!F568","v":4409.87},8.9910725294605198E-2,0,null,0,null,0,null,{"$f":"L184*C184/100","v":0},null,4409.87,100,0,null,0,null,0,null,0,null,0,null,0,null,0,null,{"$f":"AD184*$C184/100","v":4409.87},100]
[null,"TOTAL",{"$f":"SUM(C154:C184)","v":1255678.3600000003},{"$f":"SUM(D154:D184)","v":25.601424097386175},{"$f":"SUM(E154:E184)","v":88054.027000000016},{"$f":"E185/$C185*100","v":7.01246671161873},{"$f":"SUM(G154:G184)","v":173918.33250000002},{"$f":"G185/$C185*100","v":13.850547882341461},{"$f":"SUM(I154:I184)","v":376396.49349999998},{"$f":"I185/$C185*100","v":29.975549909134365},{"$f":"SUM(K154:K184)","v":398718.21539999993},{"$f":"K185/$C185*100","v":31.75321229554357},{"$f":"SUM(M154:M184)","v":218591.29159999997},{"$f":"M185/$C185*100","v":17.408223201361846},{"$f":"SUM(O154:O184)","v":0},{"$f":"O185/$C185*100","v":0},{"$f":"SUM(Q154:Q184)","v":0},{"$f":"Q185/$C185*100","v":0},{"$f":"SUM(S154:S184)","v":0},{"$f":"S185/$C185*100","v":0},{"$f":"SUM(U154:U184)","v":0},{"$f":"U185/$C185*100","v":0},{"$f":"SUM(W154:W184)","v":0},{"$f":"W185/$C185*100","v":0},{"$f":"SUM(Y154:Y184)","v":0},{"$f":"Y185/$C185*100","v":0},{"$f":"SUM(AA154:AA184)","v":0},{"$f":"AA185/$C185*100","v":0},{"$f":"SUM(AC154:AC184)","v":1255678.3600000003},{"$f":"AC185/$C185*100","v":100}]
[null,"TOTAL ACUMULADO",null,null,{"$f":"E185","v":88054.027000000016},{"$f":"E186/$C185*100","v":7.01246671161873},{"$f":"G185+E186","v":261972.35950000002},{"$f":"G186/$C185*100","v":20.863014593960187},{"$f":"I185+G186","v":638368.853},{"$f":"I186/$C185*100","v":50.838564503094553},{"$f":"K185+I186","v":1037087.0684},{"$f":"K186/$C185*100","v":82.591776798638122},{"$f":"M185+K186","v":1255678.3599999999},{"$f":"M186/$C185*100","v":99.999999999999972},{"$f":"O185+M186","v":1255678.3599999999},{"$f":"O186/$C185*100","v":99.999999999999972},{"$f":"Q185+O186","v":1255678.3599999999},{"$f":"Q186/$C185*100","v":99.999999999999972},{"$f":"S185+Q186","v":1255678.3599999999},{"$f":"S186/$C185*100","v":99.999999999999972},{"$f":"U185+S186","v":1255678.3599999999},{"$f":"U186/$C185*100","v":99.999999999999972},{"$f":"W185+U186","v":1255678.3599999999},{"$f":"W186/$C185*100","v":99.999999999999972},{"$f":"Y185+W186","v":1255678.3599999999},{"$f":"Y186/$C185*100","v":99.999999999999972},{"$f":"AA185+Y186","v":1255678.3599999999},{"$f":"AA186/$C185*100","v":99.999999999999972}]
[]
[]
[null,null,"CRONOGRAMA FÍSICO FINANCEIRO",null,null,null,null,null,null,null,null,null,null,null,null,null,null,null,null,null,null,null,null,null,null,null,null,null,"UNAEN-FF-003"]
[]
[null,null,null,null,null,null,null,null,null,null,null,null,null,null,null,null,null,null,null,null,null,null,null,null,null,null,null,null,"Revisão:\n00","Data:\n11/05/2017"]
["SESI - SERVIÇO SOCIAL DA INDUSTRIA - DR/MT"]
[{"$f":"'[1]PLANILHA RESUMO LIC'!$A$7","v":"UNIDADE OPERACIONAL: SESI ESCOLA VARZEA GRANDE"},null,null,{"$f":"'[1]PLANILHA RESUMO LIC'!$A$8","v":"ENDEREÇO: Av. Dom Orlando Chaves, 1086, Ponte Nova  CIDADE: Varzea Grande - MT.                     "}]
["CONSTRUTORA:                                                                           ",null,null,{"$f":"CONCATENATE(\" VALOR: \",\"R$ \",TEXT(SUM(C232),\"#.##0,00\"))","v":" VALOR: R$ 2.690.635,86"},null,null,null,{"$f":"H6","v":"PRAZO: 10 MESES"}]
["RESPONSÁVEL TÉCNICO:"]
[]
["BLOCO D"]
[]
["ITEM","DESCRIÇÃO","ETAPA TOTAL",null,"1 MÊS",null,"2 MESES",null,"3 MESES",null,"4 MESES",null,"5 MESES",null,"6 MESES",null,"7 MESES",null,"8 MESES",null,"9 MESES",null,"10 MESES",null,null,null,null,null,"TOTAL "]
[null,null,"(R$)","(%)","(R$)","(%)","(R$)","(%)","(R$)","(%)","(R$)","(%)","(R$)","(%)","(R$)","(%)","(R$)","(%)","(R$)","(%)","(R$)","(%)","(R$)","(%)","(R$)","(%)","(R$)","(%)","(R$)","(%)"]
["5.0",{"$f":"'5_BLOCO D'!B16","v":"DEMOLIÇÕES E RETIRADAS"},{"$f":"'5_BLOCO D'!F16","v":27795.949999999997},{"$f":"C201/$C$44*100","v":0.56671829889601766},{"$f":"F201*$C201/100","v":13897.974999999999},50,{"$f":"H201*$C201/100","v":13897.974999999999},50,{"$f":"J201*$C201/100","v":0},null,{"$f":"L201*$C201/100","v":0},null,{"$f":"N201*$C201/100","v":0},null,{"$f":"P201*$C201/100","v":0},null,{"$f":"R201*$C201/100","v":0},null,{"$f":"T201*$C201/100","v":0},null,{"$f":"V201*$C201/100","v":0},null,{"$f":"X201*$C201/100","v":0},null,{"$f":"Z201*$C201/100","v":0},null,{"$f":"AB201*$C201/100","v":0},null,{"$f":"AD201*$C201/100","v":27795.949999999997},{"$f":"N201+L201+J201+H201+F201+P201+R201+T201+V201+X201+Z201+AB201","v":100}]
["5.1",{"$f":"'5_BLOCO D'!B30","v":"INSTALAÇÕES DE CANTEIRO"},{"$f":"'5_BLOCO D'!F30","v":0},{"$f":"C202/$C$44*100","v":0},{"$f":"F202*$C202/100","v":0},null,{"$f":"H202*$C202/100","v":0},null,{"$f":"J202*$C202/100","v":0},null,{"$f":"L202*$C202/100","v":0},null,{"$f":"N202*$C202/100","v":0},null,{"$f":"P202*$C202/100","v":0},null,{"$f":"R202*$C202/100","v":0},null,{"$f":"T202*$C202/100","v":0},null,0,null,0,null,0,null,0,null,{"$f":"AD202*$C202/100","v":0},{"$f":"N202+L202+J202+H202+F202+P202+R202+T202+V202+X202+Z202+AB202","v":0}]
["5.2",{"$f":"'5_BLOCO D'!B32","v":"ADMINISTRAÇÃO"},{"$f":"'5_BLOCO D'!F32","v":0},0,0,null,{"$f":"H203*$C203/100","v":0},null,{"$f":"J203*$C203/100","v":0},null,{"$f":"L203*$C203/100","v":0},null,{"$f":"N203*$C203/100","v":0},null,{"$f":"P203*$C203/100","v":0},null,{"$f":"R203*$C203/100","v":0},null,{"$f":"T203*$C203/100","v":0},null,0,null,0,null,0,null,0,null,{"$f":"AD203*$C203/100","v":0},0]
["5.3",{"$f":"'5_BLOCO D'!B34","v":"TERRAPLENAGEM"},{"$f":"'5_BLOCO D'!F34","v":0},0,0,null,0,null,0,null,0,null,0,null,0,null,0,null,0,null,0,null,0,null,0,null,0,null,0,0]
["5.4",{"$f":"'5_BLOCO D'!B36","v":"FUNDAÇÃO"},{"$f":"'5_BLOCO D'!F36","v":188371.93},3.8406249733993523,0,null,94185.964999999997,50,94185.964999999997,50,0,null,0,null,0,null,0,null,0,null,0,null,0,null,0,null,0,null,188371.93,100]
["5.5",{"$f":"'5_BLOCO D'!B92","v":"IMPERMEABILIZAÇÃO"},{"$f":"'5_BLOCO D'!F92","v":7277.03},0.14836787598967791,0,null,0,null,7277.03,100,0,null,0,null,0,null,0,null,0,null,0,null,0,null,0,null,0,null,7277.03,100]
["5.6",{"$f":"'5_BLOCO D'!B95","v":"ESTRUTURAS DE CONCRETO ARMADO"},{"$f":"'5_BLOCO D'!F95","v":95889.900000000023},1.9550532005313457,0,null,0,null,95889.900000000023,100,0,null,0,null,0,null,0,null,0,null,0,null,0,null,0,null,0,null,95889.900000000023,100]
["5.7",{"$f":"'5_BLOCO D'!B146","v":"ALVENARIAS E PAINÉIS"},{"$f":"'5_BLOCO D'!F146","v":69251.63},1.4119382841520591,0,null,0,null,0,null,69251.63,100,0,null,0,null,0,null,0,null,0,null,0,null,0,null,0,null,69251.63,100]
["5.8",{"$f":"'5_BLOCO D'!B154","v":"ESTRUTURA METALICA"},{"$f":"'5_BLOCO D'!F154","v":93000.150000000009},1.8961354731561426,0,null,0,null,46500.074999999997,50,46500.074999999997,50,0,null,0,null,0,null,0,null,0,null,0,null,0,null,0,null,93000.15,100]
["5.9",{"$f":"'5_BLOCO D'!B170","v":"COBERTURA - AMPLIAÇÕES BLOCO D"},{"$f":"'5_BLOCO D'!F170","v":40759.61},0.83102814772889977,0,null,20379.805,50,4075.9609999999998,10,16303.843999999999,40,0,null,0,null,0,null,0,null,0,null,0,null,0,null,0,null,40759.61,100]
["5.10",{"$f":"'5_BLOCO D'!B175","v":"ESQUADRIAS"},{"$f":"'5_BLOCO D'!F175","v":162554.33000000002},3.3142423042127325,0,null,0,null,48766.299000000006,30,48766.299000000006,30,65021.732000000011,40,0,null,0,null,0,null,0,null,0,null,0,null,0,null,162554.33000000002,100]
["5.11",{"$f":"'5_BLOCO D'!B193","v":"PISOS"},{"$f":"'5_BLOCO D'!F193","v":290535.94},5.9235979948501649,58107.187999999995,20,87160.781999999992,30,145267.97,50,0,null,0,null,0,null,0,null,0,null,0,null,0,null,0,null,0,null,290535.94,100]
["5.12",{"$f":"'5_BLOCO D'!B198","v":"REVESTIMENTOS"},{"$f":"'5_BLOCO D'!F198","v":231142.34000000003},4.7126503583307988,0,null,0,null,115571.17000000001,50,115571.17000000001,50,0,null,0,null,0,null,0,null,0,null,0,null,0,null,0,null,231142.34000000003,100]
["5.13",{"$f":"'5_BLOCO D'!B206","v":"GRANITO"},{"$f":"'5_BLOCO D'!F206","v":49621.49},1.0117087705757764,0,null,0,null,0,null,24810.744999999999,50,24810.744999999999,50,0,null,0,null,0,null,0,null,0,null,0,null,0,null,49621.49,100]
["5.14",{"$f":"'5_BLOCO D'!B212","v":"FORRO"},{"$f":"'5_BLOCO D'!F212","v":56148.27},1.1447801589927418,0,null,0,null,22459.307999999997,40,22459.307999999997,40,11229.653999999999,20,0,null,0,null,0,null,0,null,0,null,0,null,0,null,56148.27,100]
["5.15",{"$f":"'5_BLOCO D'!B218","v":"PINTURA"},{"$f":"'5_BLOCO D'!F218","v":81230.76999999999},1.656175226693589,8123.0769999999993,10,20307.692499999997,25,20307.692499999997,25,20307.692499999997,25,12184.615499999998,15,0,null,0,null,0,null,0,null,0,null,0,null,0,null,81230.76999999999,100]
["5.16",{"$f":"'5_BLOCO D'!B228","v":"CALÇAMENTO, PÁTIOS E PASSARELAS"},{"$f":"'5_BLOCO D'!F228","v":0},0,0,null,0,null,0,null,0,null,0,null,0,null,0,null,0,null,0,null,0,null,0,null,0,null,0,0]
["5.17",{"$f":"'5_BLOCO D'!B230","v":"SERVIÇOS COMPLEMENTARES"},{"$f":"'5_BLOCO D'!F230","v":125076.37},2.5501221450782903,0,null,0,null,0,null,61287.421300000002,49,63788.948700000001,51,0,null,0,null,0,null,0,null,0,null,0,null,0,null,125076.37,100]
["5.18",{"$f":"'5_BLOCO D'!B242","v":"INSTALAÇÕES DE SPDA"},{"$f":"'5_BLOCO D'!F242","v":0},0,0,null,0,null,0,null,0,null,0,null,0,null,0,null,0,null,0,null,0,null,0,null,0,null,0,0]
["5.19",{"$f":"'5_BLOCO D'!B244","v":"INSTALAÇÃO DE COMBATE A INCÊNDIO"},{"$f":"'5_BLOCO D'!F244","v":0},0,0,null,0,null,0,null,0,null,0,null,0,null,0,null,0,null,0,null,0,null,0,null,0,null,0,0]
["5.20",{"$f":"'5_BLOCO D'!B246","v":"INSTALAÇÕES ELÉTRICA"},{"$f":"'5_BLOCO D'!F246","v":295114.60999999993},6.0169503024203754,0,null,0,null,88534.382999999973,30,118045.84399999997,40,88534.382999999973,30,0,null,0,null,0,null,0,null,0,null,0,null,0,null,295114.60999999993,100]
["5.21",{"$f":"'5_BLOCO D'!B480","v":"LOGICA E TELEFONICA"},{"$f":"'5_BLOCO D'!F480","v":92349.169999999984},1.8828629540224078,0,null,0,null,27704.750999999997,30,36939.667999999991,40,27704.750999999997,30,0,null,0,null,0,null,0,null,0,null,0,null,0,null,92349.169999999984,100]
["5.22",{"$f":"'5_BLOCO D'!B561","v":"CLIMATIZAÇÃO - AR CONDICIONADO"},{"$f":"'5_BLOCO D'!F561","v":508572.43},10.369039460605377,0,null,127143.1075,25,127143.1075,25,127143.1075,25,127143.1075,25,0,null,0,null,0,null,0,null,0,null,0,null,0,null,508572.43,100]
["5.23",{"$f":"'5_BLOCO D'!B635","v":"INFRAESTRUTURA PARA INSTALAÇÃO DE AUDIO E VÍDEO"},{"$f":"'5_BLOCO D'!F635","v":117610.76999999999},2.3979096057609395,0,null,0,null,0,null,58805.384999999987,50,58805.384999999987,50,0,null,0,null,0,null,0,null,0,null,0,null,0,null,117610.76999999997,100]
["5.24",{"$f":"'5_BLOCO D'!B698","v":"INSTALAÇÕES HIDRAULICAS "},{"$f":"'5_BLOCO D'!F698","v":0},0,0,null,0,null,0,null,0,null,0,null,0,null,0,null,0,null,0,null,0,null,0,null,0,null,0,0]
["5.25",{"$f":"'5_BLOCO D'!B700","v":"ÁGUAS PLUVIAIS DE COBERTURA"},{"$f":"'5_BLOCO D'!F700","v":100972.15},2.0586727593003129,20194.43,20,50486.074999999997,50,30291.645,30,0,null,0,null,0,null,0,null,0,null,0,null,0,null,0,null,0,null,100972.15,100]
["5.26",{"$f":"'5_BLOCO D'!B716","v":"INSTALAÇÕES SANITÁRIAS"},{"$f":"'5_BLOCO D'!F716","v":0},0,0,null,0,null,0,null,0,null,0,null,0,null,0,null,0,null,0,null,0,null,0,null,0,null,0,0]
["5.27",{"$f":"'5_BLOCO D'!B718","v":"LOUÇAS E METÁIS"},{"$f":"'5_BLOCO D'!F718","v":51444.600000000013},1.0488792863487695,0,null,0,null,0,null,25722.300000000003,50,25722.300000000003,50,0,null,0,null,0,null,0,null,0,null,0,null,0,null,51444.600000000006,100]
["5.28",{"$f":"'5_BLOCO D'!B742","v":"SISTEMA DE TRATAMENTO DE ESGOTO"},{"$f":"'5_BLOCO D'!F742","v":0},0,0,null,0,null,0,null,0,null,0,null,0,null,0,null,0,null,0,null,0,null,0,null,0,null,0,0]
["5.29",{"$f":"'5_BLOCO D'!B744","v":"LIMPEZA CONTÍNUA DA OBRA"},{"$f":"'5_BLOCO D'!F744","v":0},0,0,null,0,null,0,null,0,null,0,null,0,null,0,null,0,null,0,null,0,null,0,null,0,null,0,0]
["5.30",{"$f":"'5_BLOCO D'!B746","v":"LIMPEZA FINAL PARA ENTREGA"},{"$f":"'5_BLOCO D'!F746","v":5916.42},0.12062705098960017,0,null,0,null,0,null,{"$f":"L231*C231/100","v":0},null,5916.42,100,0,null,0,null,0,null,0,null,0,null,0,null,0,null,{"$f":"AD231*$C231/100","v":5916.42},100]
[null,"TOTAL",{"$f":"SUM(C201:C231)","v":2690635.86},{"$f":"SUM(D201:D231)","v":54.858084632035364},{"$f":"SUM(E201:E231)","v":100322.67000000001},{"$f":"E232/$C232*100","v":3.7285859261535306},{"$f":"SUM(G201:G231)","v":413561.402},{"$f":"G232/$C232*100","v":15.370396572355205},{"$f":"SUM(I201:I231)","v":873975.25700000022},{"$f":"I232/$C232*100","v":32.482108411355235},{"$f":"SUM(K201:K231)","v":791914.48930000002},{"$f":"K232/$C232*100","v":29.432243176153911},{"$f":"SUM(M201:M231)","v":510862.04169999994},{"$f":"M232/$C232*100","v":18.986665913982133},{"$f":"SUM(O201:O231)","v":0},{"$f":"O232/$C232*100","v":0},{"$f":"SUM(Q201:Q231)","v":0},{"$f":"Q232/$C232*100","v":0},{"$f":"SUM(S201:S231)","v":0},{"$f":"S232/$C232*100","v":0},{"$f":"SUM(U201:U231)","v":0},{"$f":"U232/$C232*100","v":0},{"$f":"SUM(W201:W231)","v":0},{"$f":"W232/$C232*100","v":0},{"$f":"SUM(Y201:Y231)","v":0},{"$f":"Y232/$C232*100","v":0},{"$f":"SUM(AA201:AA231)","v":0},{"$f":"AA232/$C232*100","v":0},{"$f":"SUM(AC201:AC231)","v":2690635.86},{"$f":"AC232/$C232*100","v":100}]
[null,"TOTAL ACUMULADO",null,null,{"$f":"E232","v":100322.67000000001},{"$f":"E233/$C232*100","v":3.7285859261535306},{"$f":"G232+E233","v":513884.07200000004},{"$f":"G233/$C232*100","v":19.098982498508736},{"$f":"I232+G233","v":1387859.3290000004},{"$f":"I233/$C232*100","v":51.581090909863981},{"$f":"K232+I233","v":2179773.8183000004},{"$f":"K233/$C232*100","v":81.013334086017892},{"$f":"M232+K233","v":2690635.8600000003},{"$f":"M233/$C232*100","v":100.00000000000003},{"$f":"O232+M233","v":2690635.8600000003},{"$f":"O233/$C232*100","v":100.00000000000003},{"$f":"Q232+O233","v":2690635.8600000003},{"$f":"Q233/$C232*100","v":100.00000000000003},{"$f":"S232+Q233","v":2690635.8600000003},{"$f":"S233/$C232*100","v":100.00000000000003},{"$f":"U232+S233","v":2690635.8600000003},{"$f":"U233/$C232*100","v":100.00000000000003},{"$f":"W232+U233","v":2690635.8600000003},{"$f":"W233/$C232*100","v":100.00000000000003},{"$f":"Y232+W233","v":2690635.8600000003},{"$f":"Y233/$C232*100","v":100.00000000000003},{"$f":"AA232+Y233","v":2690635.8600000003},{"$f":"AA233/$C232*100","v":100.00000000000003}]
[]
[]
[null,null,"CRONOGRAMA FÍSICO FINANCEIRO",null,null,null,null,null,null,null,null,null,null,null,null,null,null,null,null,null,null,null,null,null,null,null,null,null,"UNAEN-FF-003"]
[]
[null,null,null,null,null,null,null,null,null,null,null,null,null,null,null,null,null,null,null,null,null,null,null,null,null,null,null,null,"Revisão:\n00","Data:\n11/05/2017"]
["SESI - SERVIÇO SOCIAL DA INDUSTRIA - DR/MT"]
[{"$f":"'[1]PLANILHA RESUMO LIC'!$A$7","v":"UNIDADE OPERACIONAL: SESI ESCOLA VARZEA GRANDE"},null,null,{"$f":"'[1]PLANILHA RESUMO LIC'!$A$8","v":"ENDEREÇO: Av. Dom Orlando Chaves, 1086, Ponte Nova  CIDADE: Varzea Grande - MT.                     "}]
["CONSTRUTORA:                                                                           ",null,null,{"$f":"CONCATENATE(\" VALOR: \",\"R$ \",TEXT(SUM(C279),\"#.##0,00\"))","v":" VALOR: R$ 460.881,81"},null,null,null,{"$f":"H6","v":"PRAZO: 10 MESES"}]
["RESPONSÁVEL TÉCNICO:"]
[]
["BLOCO E"]
[]
["ITEM","DESCRIÇÃO","ETAPA TOTAL",null,"1 MÊS",null,"2 MESES",null,"3 MESES",null,"4 MESES",null,"5 MESES",null,"6 MESES",null,"7 MESES",null,"8 MESES",null,"9 MESES",null,"10 MESES",null,null,null,null,null,"TOTAL "]
[null,null,"(R$)","(%)","(R$)","(%)","(R$)","(%)","(R$)","(%)","(R$)","(%)","(R$)","(%)","(R$)","(%)","(R$)","(%)","(R$)","(%)","(R$)","(%)","(R$)","(%)","(R$)","(%)","(R$)","(%)","(R$)","(%)"]
["6.0",{"$f":"'6_BLOCO E'!B16","v":"DEMOLIÇÕES E RETIRADAS"},{"$f":"'6_BLOCO E'!F16","v":22786.989999999998},{"$f":"C248/$C$44*100","v":0.46459301480109744},{"$f":"F248*$C248/100","v":0},null,{"$f":"H248*$C248/100","v":0},null,{"$f":"J248*$C248/100","v":0},null,{"$f":"L248*$C248/100","v":0},null,{"$f":"N248*$C248/100","v":22786.99},100,{"$f":"P248*$C248/100","v":0},null,{"$f":"R248*$C248/100","v":0},null,{"$f":"T248*$C248/100","v":0},null,{"$f":"V248*$C248/100","v":0},null,{"$f":"X248*$C248/100","v":0},null,{"$f":"Z248*$C248/100","v":0},null,{"$f":"AB248*$C248/100","v":0},null,{"$f":"AD248*$C248/100","v":22786.99},{"$f":"N248+L248+J248+H248+F248+P248+R248+T248+V248+X248+Z248+AB248","v":100}]
["6.1",{"$f":"'6_BLOCO E'!B24","v":"INSTALAÇÕES DE CANTEIRO"},{"$f":"'6_BLOCO E'!F24","v":0},{"$f":"C249/$C$44*100","v":0},{"$f":"F249*$C249/100","v":0},null,{"$f":"H249*$C249/100","v":0},null,{"$f":"J249*$C249/100","v":0},null,{"$f":"L249*$C249/100","v":0},null,{"$f":"N249*$C249/100","v":0},null,{"$f":"P249*$C249/100","v":0},null,{"$f":"R249*$C249/100","v":0},null,{"$f":"T249*$C249/100","v":0},null,0,null,0,null,0,null,0,null,{"$f":"AD249*$C249/100","v":0},{"$f":"N249+L249+J249+H249+F249+P249+R249+T249+V249+X249+Z249+AB249","v":0}]
["6.2",{"$f":"'6_BLOCO E'!B26","v":"ADMINISTRAÇÃO"},{"$f":"'6_BLOCO E'!F26","v":0},0,0,null,{"$f":"H250*$C250/100","v":0},null,{"$f":"J250*$C250/100","v":0},null,{"$f":"L250*$C250/100","v":0},null,{"$f":"N250*$C250/100","v":0},null,{"$f":"P250*$C250/100","v":0},null,{"$f":"R250*$C250/100","v":0},null,{"$f":"T250*$C250/100","v":0},null,0,null,0,null,0,null,0,null,{"$f":"AD250*$C250/100","v":0},0]
["6.3",{"$f":"'6_BLOCO E'!B28","v":"TERRAPLENAGEM"},{"$f":"'6_BLOCO E'!F28","v":0},0,0,null,0,null,0,null,0,null,0,null,0,null,0,null,0,null,0,null,0,null,0,null,0,null,0,0]
["6.4",{"$f":"'6_BLOCO E'!B30","v":"FUNDAÇÃO"},{"$f":"'6_BLOCO E'!F30","v":0},0,0,null,0,null,0,null,0,null,0,null,0,null,0,null,0,null,0,null,0,null,0,null,0,null,0,0]
["6.5",{"$f":"'6_BLOCO E'!B32","v":"IMPERMEABILIZAÇÃO"},{"$f":"'6_BLOCO E'!F32","v":0},0,0,null,0,null,0,null,0,null,0,null,0,null,0,null,0,null,0,null,0,null,0,null,0,null,0,0]
["6.6",{"$f":"'6_BLOCO E'!B34","v":"ESTRUTURAS DE CONCRETO ARMADO"},{"$f":"'6_BLOCO E'!F34","v":0},0,0,null,0,null,0,null,0,null,0,null,0,null,0,null,0,null,0,null,0,null,0,null,0,null,0,0]
["6.7",{"$f":"'6_BLOCO E'!B36","v":"ALVENARIAS E PAINÉIS"},{"$f":"'6_BLOCO E'!F36","v":31087.39},0.63382589110705234,0,null,0,null,0,null,0,null,0,null,15543.695,50,15543.695,50,0,null,0,null,0,null,0,null,0,null,31087.39,100]
["6.8",{"$f":"'6_BLOCO E'!B42","v":"ESTRUTURA MTÁLICA - JÁ EXECUTADO"},{"$f":"'6_BLOCO E'!F42","v":0},0,0,null,0,null,0,null,0,null,0,null,0,null,0,null,0,null,0,null,0,null,0,null,0,null,0,0]
["6.9",{"$f":"'6_BLOCO E'!B44","v":"COBERTURA"},{"$f":"'6_BLOCO E'!F44","v":74093.97},1.5106664329462589,0,null,0,null,74093.97,100,0,null,0,null,0,null,0,null,0,null,0,null,0,null,0,null,0,null,74093.97,100]
["6.10",{"$f":"'6_BLOCO E'!B48","v":"ESQUADRIAS"},{"$f":"'6_BLOCO E'!F48","v":24009.489999999998},0.48951798122247836,0,null,0,null,0,null,0,null,0,null,0,null,12004.745000000001,50,12004.745000000001,50,0,null,0,null,0,null,0,null,24009.49,100]
["6.11",{"$f":"'6_BLOCO E'!B54","v":"PISOS"},{"$f":"'6_BLOCO E'!F54","v":55193.63},1.1253164616966216,0,null,0,null,0,null,0,null,0,null,27596.814999999999,50,27596.814999999999,50,0,null,0,null,0,null,0,null,0,null,55193.63,100]
["6.12",{"$f":"'6_BLOCO E'!B61","v":"REVESTIMENTOS"},{"$f":"'6_BLOCO E'!F61","v":33979.07},0.69278296832699393,0,null,0,null,0,null,0,null,0,null,16989.535,50,16989.535,50,0,null,0,null,0,null,0,null,0,null,33979.07,100]
["6.13",{"$f":"'6_BLOCO E'!B66","v":"GRANITO"},{"$f":"'6_BLOCO E'!F66","v":3785.94},7.7189715642832474E-2,0,null,0,null,0,null,0,null,0,null,3785.94,100,0,null,0,null,0,null,0,null,0,null,0,null,3785.94,100]
["6.14",{"$f":"'6_BLOCO E'!B69","v":"FORRO"},{"$f":"'6_BLOCO E'!F69","v":37792.699999999997},0.77053724210496588,0,null,0,null,0,null,0,null,0,null,0,null,0,null,0,null,18896.349999999999,50,18896.349999999999,50,0,null,0,null,37792.699999999997,100]
["6.15",{"$f":"'6_BLOCO E'!B72","v":"PINTURA"},{"$f":"'6_BLOCO E'!F72","v":47153.13},0.9613825618920302,0,null,0,null,0,null,0,null,0,null,0,null,0,null,23576.564999999999,50,23576.564999999999,50,0,null,0,null,0,null,47153.13,100]
["6.16",{"$f":"'6_BLOCO E'!B79","v":"CALÇAMENTO, PÁTIOS E PASSARELAS"},{"$f":"'6_BLOCO E'!F79","v":0},0,0,null,0,null,0,null,0,null,0,null,0,null,0,null,0,null,0,null,0,null,0,null,0,null,0,0]
["6.17",{"$f":"'6_BLOCO E'!B81","v":"SERVIÇOS COMPLEMENTARES"},{"$f":"'6_BLOCO E'!F81","v":0},0,0,null,0,null,0,null,0,null,0,null,0,null,0,null,0,null,0,null,0,null,0,null,0,null,0,0]
["6.18",{"$f":"'6_BLOCO E'!B83","v":"INSTALAÇÕES DE SPDA"},{"$f":"'6_BLOCO E'!F83","v":0},0,0,null,0,null,0,null,0,null,0,null,0,null,0,null,0,null,0,null,0,null,0,null,0,null,0,0]
["6.19",{"$f":"'6_BLOCO E'!B85","v":"INSTALAÇÃO DE COMBATE A INCÊNDIO"},{"$f":"'6_BLOCO E'!F85","v":0},0,0,null,0,null,0,null,0,null,0,null,0,null,0,null,0,null,0,null,0,null,0,null,0,null,0,0]
["6.20",{"$f":"'6_BLOCO E'!B87","v":"INSTALAÇÕES ELÉTRICA"},{"$f":"'6_BLOCO E'!F87","v":67021.219999999987},1.3664635239427236,0,null,0,null,0,null,0,null,0,null,0,null,33510.609999999993,50,16755.304999999997,25,16755.304999999997,25,0,null,0,null,0,null,67021.219999999987,100]
["6.21",{"$f":"'6_BLOCO E'!B213","v":"LOGICA E TELEFONICA"},{"$f":"'6_BLOCO E'!F213","v":8598},0.17530050003356459,0,null,0,null,0,null,0,null,0,null,0,null,4299,50,4299,50,0,null,0,null,0,null,0,null,8598,100]
["6.22",{"$f":"'6_BLOCO E'!B256","v":"CLIMATIZAÇÃO - AR CONDICIONADO"},{"$f":"'6_BLOCO E'!F256","v":24016.57},0.4896623319482562,0,null,0,null,0,null,0,null,0,null,0,null,0,null,12008.285,50,12008.285,50,0,null,0,null,0,null,24016.57,100]
["6.23",{"$f":"'6_BLOCO E'!B285","v":"INFRAESTRUTURA PARA INSTALAÇÃO DE AUDIO E VÍDEO"},{"$f":"'6_BLOCO E'!F285","v":0},0,0,null,0,null,0,null,0,null,0,null,0,null,0,null,0,null,0,null,0,null,0,null,0,null,0,0]
["6.24",{"$f":"'6_BLOCO E'!B287","v":"INSTALAÇÕES HIDRAULICAS "},{"$f":"'6_BLOCO E'!F287","v":954.39999999999986},1.9458804051178651E-2,0,null,0,null,0,null,0,null,0,null,0,null,954.39999999999986,100,0,null,0,null,0,null,0,null,0,null,954.39999999999986,100]
["6.25",{"$f":"'6_BLOCO E'!B298","v":"ÁGUAS PLUVIAIS DE COBERTURA"},{"$f":"'6_BLOCO E'!F298","v":23139.719999999998},0.47178465766883865,0,null,0,null,0,null,0,null,0,null,0,null,11569.859999999997,50,11569.859999999997,50,0,null,0,null,0,null,0,null,23139.719999999994,100]
["6.26",{"$f":"'6_BLOCO E'!B309","v":"INSTALAÇÕES SANITÁRIAS"},{"$f":"'6_BLOCO E'!F309","v":2868.0800000000004},5.847590813401559E-2,0,null,0,null,0,null,0,null,0,null,0,null,2868.0800000000004,100,0,null,0,null,0,null,0,null,0,null,2868.0800000000004,100]
["6.27",{"$f":"'6_BLOCO E'!B328","v":"LOUÇAS E METÁIS"},{"$f":"'6_BLOCO E'!F328","v":3064.88},6.2488368986144627E-2,0,null,0,null,0,null,0,null,0,null,0,null,3064.88,100,0,null,0,null,0,null,0,null,0,null,3064.88,100]
["6.28",{"$f":"'6_BLOCO E'!B337","v":"SISTEMA DE TRATAMENTO DE ESGOTO"},{"$f":"'6_BLOCO E'!F337","v":0},0,0,null,0,null,0,null,0,null,0,null,0,null,0,null,0,null,0,null,0,null,0,null,0,null,0,0]
["6.29",{"$f":"'6_BLOCO E'!B339","v":"LIMPEZA CONTÍNUA DA OBRA"},{"$f":"'6_BLOCO E'!F339","v":0},0,0,null,0,null,0,null,0,null,0,null,0,null,0,null,0,null,0,null,0,null,0,null,0,null,0,0]
["6.30",{"$f":"'6_BLOCO E'!B341","v":"LIMPEZA FINAL PARA ENTREGA"},{"$f":"'6_BLOCO E'!F341","v":1336.63},2.7251908276327456E-2,0,null,0,null,0,null,{"$f":"L278*C278/100","v":0},null,0,null,0,null,0,null,0,null,0,null,1336.63,100,0,null,0,null,{"$f":"AD278*$C278/100","v":1336.63},100]
[null,"TOTAL",{"$f":"SUM(C248:C278)","v":460881.81},{"$f":"SUM(D248:D278)","v":9.3966982727813786},{"$f":"SUM(E248:E278)","v":0},{"$f":"E279/$C279*100","v":0},{"$f":"SUM(G248:G278)","v":0},{"$f":"G279/$C279*100","v":0},{"$f":"SUM(I248:I278)","v":74093.97},{"$f":"I279/$C279*100","v":16.07656635439789},{"$f":"SUM(K248:K278)","v":0},{"$f":"K279/$C279*100","v":0},{"$f":"SUM(M248:M278)","v":22786.99},{"$f":"M279/$C279*100","v":4.94421552458319},{"$f":"SUM(O248:O278)","v":63915.985000000001},{"$f":"O279/$C279*100","v":13.868194320795608},{"$f":"SUM(Q248:Q278)","v":128401.62},{"$f":"Q279/$C279*100","v":27.859988659565456},{"$f":"SUM(S248:S278)","v":80213.759999999995},{"$f":"S279/$C279*100","v":17.404410037358602},{"$f":"SUM(U248:U278)","v":71236.50499999999},{"$f":"U279/$C279*100","v":15.456566836517153},{"$f":"SUM(W248:W278)","v":20232.98},{"$f":"W279/$C279*100","v":4.3900582667821064},{"$f":"SUM(Y248:Y278)","v":0},{"$f":"Y279/$C279*100","v":0},{"$f":"SUM(AA248:AA278)","v":0},{"$f":"AA279/$C279*100","v":0},{"$f":"SUM(AC248:AC278)","v":460881.81},{"$f":"AC279/$C279*100","v":100}]
[null,"TOTAL ACUMULADO",null,null,{"$f":"E279","v":0},{"$f":"E280/$C279*100","v":0},{"$f":"G279+E280","v":0},{"$f":"G280/$C279*100","v":0},{"$f":"I279+G280","v":74093.97},{"$f":"I280/$C279*100","v":16.07656635439789},{"$f":"K279+I280","v":74093.97},{"$f":"K280/$C279*100","v":16.07656635439789},{"$f":"M279+K280","v":96880.960000000006},{"$f":"M280/$C279*100","v":21.020781878981079},{"$f":"O279+M280","v":160796.94500000001},{"$f":"O280/$C279*100","v":34.888976199776693},{"$f":"Q279+O280","v":289198.565},{"$f":"Q280/$C279*100","v":62.748964859342138},{"$f":"S279+Q280","v":369412.32500000001},{"$f":"S280/$C279*100","v":80.15337489670074},{"$f":"U279+S280","v":440648.83},{"$f":"U280/$C279*100","v":95.609941733217894},{"$f":"W279+U280","v":460881.81},{"$f":"W280/$C279*100","v":100},{"$f":"Y279+W280","v":460881.81},{"$f":"Y280/$C279*100","v":100},{"$f":"AA279+Y280","v":460881.81},{"$f":"AA280/$C279*100","v":100}]
[]
[]
[null,null,"CRONOGRAMA FÍSICO FINANCEIRO",null,null,null,null,null,null,null,null,null,null,null,null,null,null,null,null,null,null,null,null,null,null,null,null,null,"UNAEN-FF-003"]
[]
[null,null,null,null,null,null,null,null,null,null,null,null,null,null,null,null,null,null,null,null,null,null,null,null,null,null,null,null,"Revisão:\n00","Data:\n11/05/2017"]
["SESI - SERVIÇO SOCIAL DA INDUSTRIA - DR/MT"]
[{"$f":"'[1]PLANILHA RESUMO LIC'!$A$7","v":"UNIDADE OPERACIONAL: SESI ESCOLA VARZEA GRANDE"},null,null,{"$f":"'[1]PLANILHA RESUMO LIC'!$A$8","v":"ENDEREÇO: Av. Dom Orlando Chaves, 1086, Ponte Nova  CIDADE: Varzea Grande - MT.                     "}]
["CONSTRUTORA:                                                                           ",null,null,{"$f":"CONCATENATE(\" VALOR: \",\"R$ \",TEXT(SUM(C326),\"#.##0,00\"))","v":" VALOR: R$ 640.438,57"},null,null,null,{"$f":"H6","v":"PRAZO: 10 MESES"}]
["RESPONSÁVEL TÉCNICO:"]
[]
[{"$f":"'7_MINI QUADRA'!B14","v":"MINI QUADRA COBERTA"}]
[]
["ITEM","DESCRIÇÃO","ETAPA TOTAL",null,"1 MÊS",null,"2 MESES",null,"3 MESES",null,"4 MESES",null,"5 MESES",null,"6 MESES",null,"7 MESES",null,"8 MESES",null,"9 MESES",null,"10 MESES",null,null,null,null,null,"TOTAL "]
[null,null,"(R$)","(%)","(R$)","(%)","(R$)","(%)","(R$)","(%)","(R$)","(%)","(R$)","(%)","(R$)","(%)","(R$)","(%)","(R$)","(%)","(R$)","(%)","(R$)","(%)","(R$)","(%)","(R$)","(%)","(R$)","(%)"]
["7.0",{"$f":"'7_MINI QUADRA'!B16","v":"DEMOLIÇÕES E RETIRADAS"},{"$f":"'7_MINI QUADRA'!F16","v":52890.380000000005},{"$f":"C295/$C$44*100","v":1.0783566016475046},{"$f":"F295*$C295/100","v":0},null,{"$f":"H295*$C295/100","v":15867.114000000001},30,{"$f":"J295*$C295/100","v":10578.076000000001},20,{"$f":"L295*$C295/100","v":26445.19},50,{"$f":"N295*$C295/100","v":0},null,{"$f":"P295*$C295/100","v":0},null,{"$f":"R295*$C295/100","v":0},null,{"$f":"T295*$C295/100","v":0},null,{"$f":"V295*$C295/100","v":0},null,{"$f":"X295*$C295/100","v":0},null,{"$f":"Z295*$C295/100","v":0},null,{"$f":"AB295*$C295/100","v":0},null,{"$f":"AD295*$C295/100","v":52890.38},{"$f":"N295+L295+J295+H295+F295+P295+R295+T295+V295+X295+Z295+AB295","v":100}]
["7.1",{"$f":"'7_MINI QUADRA'!B21","v":"INSTALAÇÕES DE CANTEIRO"},{"$f":"'7_MINI QUADRA'!F21","v":836.8},{"$f":"C296/$C$44*100","v":1.7061114029784465E-2},{"$f":"F296*$C296/100","v":0},null,{"$f":"H296*$C296/100","v":836.8},100,{"$f":"J296*$C296/100","v":0},null,{"$f":"L296*$C296/100","v":0},null,{"$f":"N296*$C296/100","v":0},null,{"$f":"P296*$C296/100","v":0},null,{"$f":"R296*$C296/100","v":0},null,{"$f":"T296*$C296/100","v":0},null,0,null,0,null,0,null,0,null,{"$f":"AD296*$C296/100","v":836.8},{"$f":"N296+L296+J296+H296+F296+P296+R296+T296+V296+X296+Z296+AB296","v":100}]
["7.2",{"$f":"'7_MINI QUADRA'!B24","v":"ADMINISTRAÇÃO"},{"$f":"'7_MINI QUADRA'!F24","v":0},0,0,null,{"$f":"H297*$C297/100","v":0},null,{"$f":"J297*$C297/100","v":0},null,{"$f":"L297*$C297/100","v":0},null,{"$f":"N297*$C297/100","v":0},null,{"$f":"P297*$C297/100","v":0},null,{"$f":"R297*$C297/100","v":0},null,{"$f":"T297*$C297/100","v":0},null,0,null,0,null,0,null,0,null,{"$f":"AD297*$C297/100","v":0},0]
["7.3",{"$f":"'7_MINI QUADRA'!B26","v":"TERRAPLENAGEM"},{"$f":"'7_MINI QUADRA'!F26","v":0},0,0,null,0,null,0,null,0,null,0,null,0,null,0,null,0,null,0,null,0,null,0,null,0,null,0,0]
["7.4",{"$f":"'7_MINI QUADRA'!B28","v":"FUNDAÇÃO"},{"$f":"'7_MINI QUADRA'!F28","v":113949.56},2.3232629502913089,0,null,56974.78,50,56974.78,50,0,null,0,null,0,null,0,null,0,null,0,null,0,null,0,null,0,null,113949.56,100]
["7.5",{"$f":"'7_MINI QUADRA'!B46","v":"IMPERMEABILIZAÇÃO"},{"$f":"'7_MINI QUADRA'!F46","v":4865.29},9.919606534174244E-2,0,null,0,null,4865.29,100,0,null,0,null,0,null,0,null,0,null,0,null,0,null,0,null,0,null,4865.29,100]
["7.6",{"$f":"'7_MINI QUADRA'!B49","v":"ESTRUTURAS DE CONCRETO ARMADO"},{"$f":"'7_MINI QUADRA'!F49","v":26051.239999999998},0.53114624313728764,0,null,0,null,0,null,26051.24,100,0,null,0,null,0,null,0,null,0,null,0,null,0,null,0,null,26051.24,100]
["7.7",{"$f":"'7_MINI QUADRA'!B55","v":"ALVENARIAS E PAINÉIS"},{"$f":"'7_MINI QUADRA'!F55","v":0},0,0,null,0,null,0,null,0,null,0,null,0,null,0,null,0,null,0,null,0,null,0,null,0,null,0,0]
["7.8",{"$f":"'7_MINI QUADRA'!B57","v":"ESTRUTURA METALICA "},{"$f":"'7_MINI QUADRA'!F57","v":103185.89000000001},2.1038076428714114,0,null,0,null,0,null,0,null,72230.123000000007,70,30955.767000000003,30,0,null,0,null,0,null,0,null,0,null,0,null,103185.89000000001,100]
["7.9",{"$f":"'7_MINI QUADRA'!B62","v":"COBERTURA"},{"$f":"'7_MINI QUADRA'!F62","v":98347.030000000013},2.0051504461288649,0,null,0,null,0,null,0,null,49173.515000000007,50,49173.515000000007,50,0,null,0,null,0,null,0,null,0,null,0,null,98347.030000000013,100]
["7.10",{"$f":"'7_MINI QUADRA'!B68","v":"ESQUADRIAS"},{"$f":"'7_MINI QUADRA'!F68","v":11106.57},0.22644653113023813,0,null,0,null,0,null,0,null,5553.2849999999999,50,5553.2849999999999,50,0,null,0,null,0,null,0,null,0,null,0,null,11106.57,100]
["7.11",{"$f":"'7_MINI QUADRA'!B71","v":"PISOS"},{"$f":"'7_MINI QUADRA'!F71","v":153884.94},3.1374862676942414,0,null,0,null,0,null,0,null,76942.47,50,76942.47,50,0,null,0,null,0,null,0,null,0,null,0,null,153884.94,100]
["7.12",{"$f":"'7_MINI QUADRA'!B79","v":"REVESTIMENTOS"},{"$f":"'7_MINI QUADRA'!F79","v":0},0,0,null,0,null,0,null,0,null,0,null,0,null,0,null,0,null,0,null,0,null,0,null,0,null,0,0]
["7.13",{"$f":"'7_MINI QUADRA'!B81","v":"GRANITO"},{"$f":"'7_MINI QUADRA'!F81","v":0},0,0,null,0,null,0,null,0,null,0,null,0,null,0,null,0,null,0,null,0,null,0,null,0,null,0,0]
["7.14",{"$f":"'7_MINI QUADRA'!B83","v":"FORRO"},{"$f":"'7_MINI QUADRA'!F83","v":0},0,0,null,0,null,0,null,0,null,0,null,0,null,0,null,0,null,0,null,0,null,0,null,0,null,0,0]
["7.15",{"$f":"'7_MINI QUADRA'!B85","v":"PINTURA"},{"$f":"'7_MINI QUADRA'!F85","v":16823.98},0.34301606263720519,0,null,0,null,0,null,0,null,0,null,16823.98,100,0,null,0,null,0,null,0,null,0,null,0,null,16823.98,100]
["7.16",{"$f":"'7_MINI QUADRA'!B91","v":"CALÇAMENTO, PÁTIOS E PASSARELAS"},{"$f":"'7_MINI QUADRA'!F91","v":0},0,0,null,0,null,0,null,0,null,0,null,0,null,0,null,0,null,0,null,0,null,0,null,0,null,0,0]
["7.17",{"$f":"'7_MINI QUADRA'!B93","v":"SERVIÇOS COMPLEMENTARES"},{"$f":"'7_MINI QUADRA'!F93","v":28140.35},0.57374010538724352,0,null,0,null,0,null,0,null,14070.174999999999,50,14070.174999999999,50,0,null,0,null,0,null,0,null,0,null,0,null,28140.35,100]
["7.18",{"$f":"'7_MINI QUADRA'!B99","v":"INSTALAÇÕES DE SPDA"},{"$f":"'7_MINI QUADRA'!F99","v":11045.37},0.22519875367012485,0,null,0,null,0,null,0,null,5522.6850000000004,50,5522.6850000000004,50,0,null,0,null,0,null,0,null,0,null,0,null,11045.37,100]
["7.19",{"$f":"'7_MINI QUADRA'!B115","v":"INSTALAÇÃO DE COMBATE A INCÊNDIO"},{"$f":"'7_MINI QUADRA'!F115","v":0},0,0,null,0,null,0,null,0,null,0,null,0,null,0,null,0,null,0,null,0,null,0,null,0,null,0,0]
["7.20",{"$f":"'7_MINI QUADRA'!B117","v":"INSTALAÇÕES ELÉTRICA"},{"$f":"'7_MINI QUADRA'!F117","v":18067.040000000005},0.36836021704191835,0,null,0,null,0,null,0,null,9033.5200000000023,50,9033.5200000000023,50,0,null,0,null,0,null,0,null,0,null,0,null,18067.040000000005,100]
["7.21",{"$f":"'7_MINI QUADRA'!B177","v":"LOGICA E TELEFONICA"},{"$f":"'7_MINI QUADRA'!F177","v":0},0,0,null,0,null,0,null,0,null,0,null,0,null,0,null,0,null,0,null,0,null,0,null,0,null,0,0]
["7.22",{"$f":"'7_MINI QUADRA'!B179","v":"CLIMATIZAÇÃO - AR CONDICIONADO"},{"$f":"'7_MINI QUADRA'!F179","v":0},0,0,null,0,null,0,null,0,null,0,null,0,null,0,null,0,null,0,null,0,null,0,null,0,null,0,0]
["7.23",{"$f":"'7_MINI QUADRA'!B181","v":"INFRAESTRUTURA PARA INSTALAÇÃO DE AUDIO E VÍDEO"},{"$f":"'7_MINI QUADRA'!F181","v":0},0,0,null,0,null,0,null,0,null,0,null,0,null,0,null,0,null,0,null,0,null,0,null,0,null,0,0]
["7.24",{"$f":"'7_MINI QUADRA'!B183","v":"INSTALAÇÕES HIDRAULICAS "},{"$f":"'7_MINI QUADRA'!F183","v":0},0,0,null,0,null,0,null,0,null,0,null,0,null,0,null,0,null,0,null,0,null,0,null,0,null,0,0]
["7.25",{"$f":"'7_MINI QUADRA'!B185","v":"ÁGUAS PLUVIAIS DE COBERTURA"},{"$f":"'7_MINI QUADRA'!F185","v":0},0,0,null,0,null,0,null,0,null,0,null,0,null,0,null,0,null,0,null,0,null,0,null,0,null,0,0]
["7.26",{"$f":"'7_MINI QUADRA'!B187","v":"INSTALAÇÕES SANITÁRIAS"},{"$f":"'7_MINI QUADRA'!F187","v":0},0,0,null,0,null,0,null,0,null,0,null,0,null,0,null,0,null,0,null,0,null,0,null,0,null,0,0]
["7.27",{"$f":"'7_MINI QUADRA'!B189","v":"LOUÇAS E METÁIS"},{"$f":"'7_MINI QUADRA'!F189","v":0},0,0,null,0,null,0,null,0,null,0,null,0,null,0,null,0,null,0,null,0,null,0,null,0,null,0,0]
["7.28",{"$f":"'7_MINI QUADRA'!B191","v":"SISTEMA DE TRATAMENTO DE ESGOTO"},{"$f":"'7_MINI QUADRA'!F191","v":0},0,0,null,0,null,0,null,0,null,0,null,0,null,0,null,0,null,0,null,0,null,0,null,0,null,0,0]
["7.29",{"$f":"'7_MINI QUADRA'!B193","v":"LIMPEZA CONTÍNUA DA OBRA"},{"$f":"'7_MINI QUADRA'!F193","v":0},0,0,null,0,null,0,null,0,null,0,null,0,null,0,null,0,null,0,null,0,null,0,null,0,null,0,0]
["7.30",{"$f":"'7_MINI QUADRA'!B195","v":"LIMPEZA FINAL PARA ENTREGA"},{"$f":"'7_MINI QUADRA'!F195","v":1244.1300000000001},2.5365970121744446E-2,0,null,0,null,0,null,{"$f":"L325*C325/100","v":0},null,0,null,1244.1300000000001,100,0,null,0,null,0,null,0,null,0,null,0,null,{"$f":"AD325*$C325/100","v":1244.1300000000001},100]
[null,"TOTAL",{"$f":"SUM(C295:C325)","v":640438.57000000007},{"$f":"SUM(D295:D325)","v":13.057594971130614},{"$f":"SUM(E295:E325)","v":0},{"$f":"E326/$C326*100","v":0},{"$f":"SUM(G295:G325)","v":73678.694000000003},{"$f":"G326/$C326*100","v":11.504412359174431},{"$f":"SUM(I295:I325)","v":72418.145999999993},{"$f":"I326/$C326*100","v":11.30758661209302},{"$f":"SUM(K295:K325)","v":52496.43},{"$f":"K326/$C326*100","v":8.1969500993670632},{"$f":"SUM(M295:M325)","v":232525.77299999999},{"$f":"M326/$C326*100","v":36.307271905875368},{"$f":"SUM(O295:O325)","v":209319.527},{"$f":"O326/$C326*100","v":32.683779023490104},{"$f":"SUM(Q295:Q325)","v":0},{"$f":"Q326/$C326*100","v":0},{"$f":"SUM(S295:S325)","v":0},{"$f":"S326/$C326*100","v":0},{"$f":"SUM(U295:U325)","v":0},{"$f":"U326/$C326*100","v":0},{"$f":"SUM(W295:W325)","v":0},{"$f":"W326/$C326*100","v":0},{"$f":"SUM(Y295:Y325)","v":0},{"$f":"Y326/$C326*100","v":0},{"$f":"SUM(AA295:AA325)","v":0},{"$f":"AA326/$C326*100","v":0},{"$f":"SUM(AC295:AC325)","v":640438.57000000007},{"$f":"AC326/$C326*100","v":100}]
[null,"TOTAL ACUMULADO",null,null,{"$f":"E326","v":0},{"$f":"E327/$C326*100","v":0},{"$f":"G326+E327","v":73678.694000000003},{"$f":"G327/$C326*100","v":11.504412359174431},{"$f":"I326+G327","v":146096.84},{"$f":"I327/$C326*100","v":22.811998971267453},{"$f":"K326+I327","v":198593.27},{"$f":"K327/$C326*100","v":31.008949070634511},{"$f":"M326+K327","v":431119.04299999995},{"$f":"M327/$C326*100","v":67.316220976509882},{"$f":"O326+M327","v":640438.56999999995},{"$f":"O327/$C326*100","v":99.999999999999972},{"$f":"Q326+O327","v":640438.56999999995},{"$f":"Q327/$C326*100","v":99.999999999999972},{"$f":"S326+Q327","v":640438.56999999995},{"$f":"S327/$C326*100","v":99.999999999999972},{"$f":"U326+S327","v":640438.56999999995},{"$f":"U327/$C326*100","v":99.999999999999972},{"$f":"W326+U327","v":640438.56999999995},{"$f":"W327/$C326*100","v":99.999999999999972},{"$f":"Y326+W327","v":640438.56999999995},{"$f":"Y327/$C326*100","v":99.999999999999972},{"$f":"AA326+Y327","v":640438.56999999995},{"$f":"AA327/$C326*100","v":99.999999999999972}]
[]
[]
[null,null,"CRONOGRAMA FÍSICO FINANCEIRO",null,null,null,null,null,null,null,null,null,null,null,null,null,null,null,null,null,null,null,null,null,null,null,null,null,"UNAEN-FF-003"]
[]
[null,null,null,null,null,null,null,null,null,null,null,null,null,null,null,null,null,null,null,null,null,null,null,null,null,null,null,null,"Revisão:\n00","Data:\n11/05/2017"]
["SESI - SERVIÇO SOCIAL DA INDUSTRIA - DR/MT"]
[{"$f":"'[1]PLANILHA RESUMO LIC'!$A$7","v":"UNIDADE OPERACIONAL: SESI ESCOLA VARZEA GRANDE"},null,null,{"$f":"'[1]PLANILHA RESUMO LIC'!$A$8","v":"ENDEREÇO: Av. Dom Orlando Chaves, 1086, Ponte Nova  CIDADE: Varzea Grande - MT.                     "}]
["CONSTRUTORA:                                                                           ",null,null,{"$f":"CONCATENATE(\" VALOR: \",\"R$ \",TEXT(SUM(C373),\"#.##0,00\"))","v":" VALOR: R$ 374.361,73"},null,null,null,{"$f":"H6","v":"PRAZO: 10 MESES"}]
["RESPONSÁVEL TÉCNICO:"]
[]
[{"$f":"'8_SALA DE DANÇA'!B14","v":"SALA DE DANÇA"}]
[]
["ITEM","DESCRIÇÃO","ETAPA TOTAL",null,"1 MÊS",null,"2 MESES",null,"3 MESES",null,"4 MESES",null,"5 MESES",null,"6 MESES",null,"7 MESES",null,"8 MESES",null,"9 MESES",null,"10 MESES",null,null,null,null,null,"TOTAL "]
[null,null,"(R$)","(%)","(R$)","(%)","(R$)","(%)","(R$)","(%)","(R$)","(%)","(R$)","(%)","(R$)","(%)","(R$)","(%)","(R$)","(%)","(R$)","(%)","(R$)","(%)","(R$)","(%)","(R$)","(%)","(R$)","(%)"]
["8.0",{"$f":"'8_SALA DE DANÇA'!B16","v":"DEMOLIÇÕES E RETIRADAS"},{"$f":"'8_SALA DE DANÇA'!F16","v":19200.309999999998},{"$f":"C342/$C$44*100","v":0.39146591577104567},{"$f":"F342*$C342/100","v":0},null,{"$f":"H342*$C342/100","v":0},null,{"$f":"J342*$C342/100","v":0},null,{"$f":"L342*$C342/100","v":0},null,{"$f":"N342*$C342/100","v":0},null,{"$f":"P342*$C342/100","v":9600.1549999999988},50,{"$f":"R342*$C342/100","v":9600.1549999999988},50,{"$f":"T342*$C342/100","v":0},null,{"$f":"V342*$C342/100","v":0},null,{"$f":"X342*$C342/100","v":0},null,{"$f":"Z342*$C342/100","v":0},null,{"$f":"AB342*$C342/100","v":0},null,{"$f":"AD342*$C342/100","v":19200.309999999998},{"$f":"N342+L342+J342+H342+F342+P342+R342+T342+V342+X342+Z342+AB342","v":100}]
["8.1",{"$f":"'8_SALA DE DANÇA'!B31","v":"INSTALAÇÕES DE CANTEIRO"},{"$f":"'8_SALA DE DANÇA'!F31","v":0},{"$f":"C343/$C$44*100","v":0},{"$f":"F343*$C343/100","v":0},null,{"$f":"H343*$C343/100","v":0},null,{"$f":"J343*$C343/100","v":0},null,{"$f":"L343*$C343/100","v":0},null,{"$f":"N343*$C343/100","v":0},null,{"$f":"P343*$C343/100","v":0},null,{"$f":"R343*$C343/100","v":0},null,{"$f":"T343*$C343/100","v":0},null,0,null,0,null,0,null,0,null,{"$f":"AD343*$C343/100","v":0},{"$f":"N343+L343+J343+H343+F343+P343+R343+T343+V343+X343+Z343+AB343","v":0}]
["8.2",{"$f":"'8_SALA DE DANÇA'!B33","v":"ADMINISTRAÇÃO"},{"$f":"'8_SALA DE DANÇA'!F33","v":0},0,0,null,{"$f":"H344*$C344/100","v":0},null,{"$f":"J344*$C344/100","v":0},null,{"$f":"L344*$C344/100","v":0},null,{"$f":"N344*$C344/100","v":0},null,{"$f":"P344*$C344/100","v":0},null,{"$f":"R344*$C344/100","v":0},null,{"$f":"T344*$C344/100","v":0},null,0,null,0,null,0,null,0,null,{"$f":"AD344*$C344/100","v":0},0]
["8.3",{"$f":"'8_SALA DE DANÇA'!B35","v":"TERRAPLENAGEM"},{"$f":"'8_SALA DE DANÇA'!F35","v":0},0,0,null,0,null,0,null,0,null,0,null,0,null,0,null,0,null,0,null,0,null,0,null,0,null,0,0]
["8.4",{"$f":"'8_SALA DE DANÇA'!B37","v":"FUNDAÇÃO"},{"$f":"'8_SALA DE DANÇA'!F37","v":0},0,0,null,0,null,0,null,0,null,0,null,0,null,0,null,0,null,0,null,0,null,0,null,0,null,0,0]
["8.5",{"$f":"'8_SALA DE DANÇA'!B39","v":"IMPERMEABILIZAÇÃO"},{"$f":"'8_SALA DE DANÇA'!F39","v":2499.46},5.0960291674097852E-2,0,null,0,null,0,null,0,null,0,null,0,null,2499.46,100,0,null,0,null,0,null,0,null,0,null,2499.46,100]
["8.6",{"$f":"'8_SALA DE DANÇA'!B42","v":"ESTRUTURAS DE CONCRETO ARMADO"},{"$f":"'8_SALA DE DANÇA'!F42","v":0},0,0,null,0,null,0,null,0,null,0,null,0,null,0,null,0,null,0,null,0,null,0,null,0,null,0,0]
["8.7",{"$f":"'8_SALA DE DANÇA'!B44","v":"ALVENARIAS E PAINÉIS"},{"$f":"'8_SALA DE DANÇA'!F44","v":4570.5200000000004},9.3186141127402616E-2,0,null,0,null,0,null,0,null,0,null,0,null,4570.5200000000004,100,0,null,0,null,0,null,0,null,0,null,4570.5200000000004,100]
["8.8",{"$f":"'8_SALA DE DANÇA'!B49","v":"ESTRUTURA METALICA - REFORÇO EM LAJE"},{"$f":"'8_SALA DE DANÇA'!F49","v":8161.68},0.16640458072969802,0,null,0,null,0,null,0,null,0,null,8161.68,100,0,null,0,null,0,null,0,null,0,null,0,null,8161.68,100]
["8.9",{"$f":"'8_SALA DE DANÇA'!B53","v":"COBERTURA"},{"$f":"'8_SALA DE DANÇA'!F53","v":27975.059999999998},0.570370086818908,0,null,0,null,0,null,0,null,0,null,13987.53,50,13987.53,50,0,null,0,null,0,null,0,null,0,null,27975.06,100]
["8.10",{"$f":"'8_SALA DE DANÇA'!B59","v":"ESQUADRIAS"},{"$f":"'8_SALA DE DANÇA'!F59","v":10083.450000000001},0.20558662794410873,0,null,0,null,0,null,0,null,0,null,0,null,0,null,10083.450000000001,100,0,null,0,null,0,null,0,null,10083.450000000001,100]
["8.11",{"$f":"'8_SALA DE DANÇA'!B62","v":"PISOS"},{"$f":"'8_SALA DE DANÇA'!F62","v":42165.58},0.85969379602294382,0,null,0,null,0,null,0,null,0,null,0,null,29515.906000000003,70,12649.674000000001,30,0,null,0,null,0,null,0,null,42165.58,100]
["8.12",{"$f":"'8_SALA DE DANÇA'!B68","v":"REVESTIMENTOS"},{"$f":"'8_SALA DE DANÇA'!F68","v":22211.73},0.45286431444644426,0,null,0,null,0,null,0,null,0,null,0,null,15548.210999999999,70,6663.5190000000002,30,0,null,0,null,0,null,0,null,22211.73,100]
["8.13",{"$f":"'8_SALA DE DANÇA'!B74","v":"GRANITO"},{"$f":"'8_SALA DE DANÇA'!F74","v":1882.82},3.8387914337426859E-2,0,null,0,null,0,null,0,null,0,null,0,null,0,null,1882.82,100,0,null,0,null,0,null,0,null,1882.82,100]
["8.14",{"$f":"'8_SALA DE DANÇA'!B78","v":"FORRO"},{"$f":"'8_SALA DE DANÇA'!F78","v":8791.1899999999987},0.1792393583263634,0,null,0,null,0,null,0,null,0,null,0,null,2637.3569999999995,30,6153.8329999999996,70,0,null,0,null,0,null,0,null,8791.1899999999987,100]
["8.15",{"$f":"'8_SALA DE DANÇA'!B83","v":"PINTURA"},{"$f":"'8_SALA DE DANÇA'!F83","v":16296.150000000001},0.33225438981413979,0,null,0,null,0,null,0,null,0,null,0,null,0,null,8148.0750000000007,50,8148.0750000000007,50,0,null,0,null,0,null,16296.150000000001,100]
["8.16",{"$f":"'8_SALA DE DANÇA'!B90","v":"CALÇAMENTO, PÁTIOS E PASSARELAS"},{"$f":"'8_SALA DE DANÇA'!F90","v":0},0,0,null,0,null,0,null,0,null,0,null,0,null,0,null,0,null,0,null,0,null,0,null,0,null,0,0]
["8.17",{"$f":"'8_SALA DE DANÇA'!B92","v":"SERVIÇOS COMPLEMENTARES"},{"$f":"'8_SALA DE DANÇA'!F92","v":53426.69},1.0892911691251739,0,null,0,null,0,null,0,null,0,null,0,null,0,null,0,null,53426.69,100,0,null,0,null,0,null,53426.69,100]
["8.18",{"$f":"'8_SALA DE DANÇA'!B99","v":"INSTALAÇÕES DE SPDA"},{"$f":"'8_SALA DE DANÇA'!F99","v":0},0,0,null,0,null,0,null,0,null,0,null,0,null,0,null,0,null,0,null,0,null,0,null,0,null,0,0]
["8.19",{"$f":"'8_SALA DE DANÇA'!B101","v":"INSTALAÇÃO DE COMBATE A INCÊNDIO"},{"$f":"'8_SALA DE DANÇA'!F101","v":0},0,0,null,0,null,0,null,0,null,0,null,0,null,0,null,0,null,0,null,0,null,0,null,0,null,0,0]
["8.20",{"$f":"'8_SALA DE DANÇA'!B103","v":"INSTALAÇÕES ELÉTRICA"},{"$f":"'8_SALA DE DANÇA'!F103","v":40030.319999999978},0.81615900354775517,0,null,0,null,0,null,0,null,0,null,0,null,12009.095999999994,30,12009.095999999994,30,16012.127999999992,40,0,null,0,null,0,null,40030.319999999978,100]
["8.21",{"$f":"'8_SALA DE DANÇA'!B237","v":"LOGICA E TELEFONICA"},{"$f":"'8_SALA DE DANÇA'!F237","v":8842.0800000000017},0.18027693013919296,0,null,0,null,0,null,0,null,0,null,0,null,0,null,8842.0800000000017,100,0,null,0,null,0,null,0,null,8842.0800000000017,100]
["8.22",{"$f":"'8_SALA DE DANÇA'!B286","v":"CLIMATIZAÇÃO - AR CONDICIONADO"},{"$f":"'8_SALA DE DANÇA'!F286","v":75366.040000000008},1.5366020583332907,0,null,0,null,0,null,0,null,0,null,0,null,18841.510000000002,25,37683.020000000004,50,18841.510000000002,25,0,null,0,null,0,null,75366.040000000008,100]
["8.23",{"$f":"'8_SALA DE DANÇA'!B316","v":"INFRAESTRUTURA PARA INSTALAÇÃO DE AUDIO E VÍDEO"},{"$f":"'8_SALA DE DANÇA'!F316","v":18856.440000000002},0.38445491519573266,0,null,0,null,0,null,0,null,0,null,0,null,5656.9320000000007,30,5656.9320000000007,30,7542.5760000000009,40,0,null,0,null,0,null,18856.440000000002,100]
["8.24",{"$f":"'8_SALA DE DANÇA'!B359","v":"INSTALAÇÕES HIDRAULICAS "},{"$f":"'8_SALA DE DANÇA'!F359","v":0},0,0,null,0,null,0,null,0,null,0,null,0,null,0,null,0,null,0,null,0,null,0,null,0,null,0,0]
["8.25",{"$f":"'8_SALA DE DANÇA'!B361","v":"ÁGUAS PLUVIAIS DE COBERTURA"},{"$f":"'8_SALA DE DANÇA'!F361","v":5625.96},0.11470500129900363,0,null,0,null,0,null,0,null,0,null,2812.98,50,2812.98,50,0,null,0,null,0,null,0,null,0,null,5625.96,100]
["8.26",{"$f":"'8_SALA DE DANÇA'!B366","v":"INSTALAÇÕES SANITÁRIAS"},{"$f":"'8_SALA DE DANÇA'!F366","v":0},0,0,null,0,null,0,null,0,null,0,null,0,null,0,null,0,null,0,null,0,null,0,null,0,null,0,0]
["8.27",{"$f":"'8_SALA DE DANÇA'!B368","v":"LOUÇAS E METÁIS"},{"$f":"'8_SALA DE DANÇA'!F368","v":7876.1100000000015},0.16058223090478702,0,null,0,null,0,null,0,null,0,null,0,null,3938.0550000000007,50,3938.0550000000007,50,0,null,0,null,0,null,0,null,7876.1100000000015,100]
["8.28",{"$f":"'8_SALA DE DANÇA'!B383","v":"SISTEMA DE TRATAMENTO DE ESGOTO"},{"$f":"'8_SALA DE DANÇA'!F383","v":0},0,0,null,0,null,0,null,0,null,0,null,0,null,0,null,0,null,0,null,0,null,0,null,0,null,0,0]
["8.29",{"$f":"'8_SALA DE DANÇA'!B385","v":"LIMPEZA CONTÍNUA DA OBRA"},{"$f":"'8_SALA DE DANÇA'!F385","v":0},0,0,null,0,null,0,null,0,null,0,null,0,null,0,null,0,null,0,null,0,null,0,null,0,null,0,0]
["8.30",{"$f":"'8_SALA DE DANÇA'!B387","v":"LIMPEZA FINAL PARA ENTREGA"},{"$f":"'8_SALA DE DANÇA'!F387","v":500.14},1.0197114687925913E-2,0,null,0,null,0,null,{"$f":"L372*C372/100","v":0},null,0,null,0,null,0,null,0,null,500.14,100,0,null,0,null,0,null,{"$f":"AD372*$C372/100","v":500.14},100]
[null,"TOTAL",{"$f":"SUM(C342:C372)","v":374361.73},{"$f":"SUM(D342:D372)","v":7.6326818402454393},{"$f":"SUM(E342:E372)","v":0},{"$f":"E373/$C373*100","v":0},{"$f":"SUM(G342:G372)","v":0},{"$f":"G373/$C373*100","v":0},{"$f":"SUM(I342:I372)","v":0},{"$f":"I373/$C373*100","v":0},{"$f":"SUM(K342:K372)","v":0},{"$f":"K373/$C373*100","v":0},{"$f":"SUM(M342:M372)","v":0},{"$f":"M373/$C373*100","v":0},{"$f":"SUM(O342:O372)","v":34562.345000000001},{"$f":"O373/$C373*100","v":9.2323392671574638},{"$f":"SUM(Q342:Q372)","v":121617.712},{"$f":"Q373/$C373*100","v":32.48668393534777},{"$f":"SUM(S342:S372)","v":113710.554},{"$f":"S373/$C373*100","v":30.374513441852084},{"$f":"SUM(U342:U372)","v":104471.11899999999},{"$f":"U373/$C373*100","v":27.906463355642678},{"$f":"SUM(W342:W372)","v":0},{"$f":"W373/$C373*100","v":0},{"$f":"SUM(Y342:Y372)","v":0},{"$f":"Y373/$C373*100","v":0},{"$f":"SUM(AA342:AA372)","v":0},{"$f":"AA373/$C373*100","v":0},{"$f":"SUM(AC342:AC372)","v":374361.73},{"$f":"AC373/$C373*100","v":100}]
[null,"TOTAL ACUMULADO",null,null,{"$f":"E373","v":0},{"$f":"E374/$C373*100","v":0},{"$f":"G373+E374","v":0},{"$f":"G374/$C373*100","v":0},{"$f":"I373+G374","v":0},{"$f":"I374/$C373*100","v":0},{"$f":"K373+I374","v":0},{"$f":"K374/$C373*100","v":0},{"$f":"M373+K374","v":0},{"$f":"M374/$C373*100","v":0},{"$f":"O373+M374","v":34562.345000000001},{"$f":"O374/$C373*100","v":9.2323392671574638},{"$f":"Q373+O374","v":156180.057},{"$f":"Q374/$C373*100","v":41.719023202505234},{"$f":"S373+Q374","v":269890.61100000003},{"$f":"S374/$C373*100","v":72.093536644357329},{"$f":"U373+S374","v":374361.73000000004},{"$f":"U374/$C373*100","v":100.00000000000003},{"$f":"W373+U374","v":374361.73000000004},{"$f":"W374/$C373*100","v":100.00000000000003},{"$f":"Y373+W374","v":374361.73000000004},{"$f":"Y374/$C373*100","v":100.00000000000003},{"$f":"AA373+Y374","v":374361.73000000004},{"$f":"AA374/$C373*100","v":100.00000000000003}]
[]
[]
[null,null,"CRONOGRAMA FÍSICO FINANCEIRO",null,null,null,null,null,null,null,null,null,null,null,null,null,null,null,null,null,null,null,null,null,null,null,null,null,"UNAEN-FF-003"]
[]
[null,null,null,null,null,null,null,null,null,null,null,null,null,null,null,null,null,null,null,null,null,null,null,null,null,null,null,null,"Revisão:\n00","Data:\n11/05/2017"]
["SESI - SERVIÇO SOCIAL DA INDUSTRIA - DR/MT"]
[{"$f":"'[1]PLANILHA RESUMO LIC'!$A$7","v":"UNIDADE OPERACIONAL: SESI ESCOLA VARZEA GRANDE"},null,null,{"$f":"'[1]PLANILHA RESUMO LIC'!$A$8","v":"ENDEREÇO: Av. Dom Orlando Chaves, 1086, Ponte Nova  CIDADE: Varzea Grande - MT.                     "}]
["CONSTRUTORA:                                                                           ",null,null,{"$f":"CONCATENATE(\" VALOR: \",\"R$ \",TEXT(SUM(C420),\"#.##0,00\"))","v":" VALOR: R$ 210.364,51"},null,null,null,{"$f":"H6","v":"PRAZO: 10 MESES"}]
["RESPONSÁVEL TÉCNICO:"]
[]
[{"$f":"'9_ÁREA CONVIVÊNCIA'!B14","v":"ÁREA DE CONVIVÊNCIA COBERTA"}]
[]
["ITEM","DESCRIÇÃO","ETAPA TOTAL",null,"1 MÊS",null,"2 MESES",null,"3 MESES",null,"4 MESES",null,"5 MESES",null,"6 MESES",null,"7 MESES",null,"8 MESES",null,"9 MESES",null,"10 MESES",null,null,null,null,null,"TOTAL "]
[null,null,"(R$)","(%)","(R$)","(%)","(R$)","(%)","(R$)","(%)","(R$)","(%)","(R$)","(%)","(R$)","(%)","(R$)","(%)","(R$)","(%)","(R$)","(%)","(R$)","(%)","(R$)","(%)","(R$)","(%)","(R$)","(%)"]
["9.0",{"$f":"'9_ÁREA CONVIVÊNCIA'!B16","v":"DEMOLIÇÕES E RETIRADAS"},{"$f":"'9_ÁREA CONVIVÊNCIA'!F16","v":8226.0400000000009},{"$f":"C389/$C$44*100","v":0.16771678591487599},{"$f":"F389*$C389/100","v":0},null,{"$f":"H389*$C389/100","v":0},null,{"$f":"J389*$C389/100","v":0},null,{"$f":"L389*$C389/100","v":0},null,{"$f":"N389*$C389/100","v":0},null,{"$f":"P389*$C389/100","v":0},null,{"$f":"R389*$C389/100","v":0},null,{"$f":"T389*$C389/100","v":8226.0400000000009},100,{"$f":"V389*$C389/100","v":0},null,{"$f":"X389*$C389/100","v":0},null,{"$f":"Z389*$C389/100","v":0},null,{"$f":"AB389*$C389/100","v":0},null,{"$f":"AD389*$C389/100","v":8226.0400000000009},{"$f":"N389+L389+J389+H389+F389+P389+R389+T389+V389+X389+Z389+AB389","v":100}]
["9.1",{"$f":"'9_ÁREA CONVIVÊNCIA'!B30","v":"INSTALAÇÕES DE CANTEIRO"},{"$f":"'9_ÁREA CONVIVÊNCIA'!F30","v":0},{"$f":"C390/$C$44*100","v":0},{"$f":"F390*$C390/100","v":0},null,{"$f":"H390*$C390/100","v":0},null,{"$f":"J390*$C390/100","v":0},null,{"$f":"L390*$C390/100","v":0},null,{"$f":"N390*$C390/100","v":0},null,{"$f":"P390*$C390/100","v":0},null,{"$f":"R390*$C390/100","v":0},null,{"$f":"T390*$C390/100","v":0},null,0,null,0,null,0,null,0,null,{"$f":"AD390*$C390/100","v":0},{"$f":"N390+L390+J390+H390+F390+P390+R390+T390+V390+X390+Z390+AB390","v":0}]
["9.2",{"$f":"'9_ÁREA CONVIVÊNCIA'!B32","v":"ADMINISTRAÇÃO"},{"$f":"'9_ÁREA CONVIVÊNCIA'!F32","v":0},0,0,null,{"$f":"H391*$C391/100","v":0},null,{"$f":"J391*$C391/100","v":0},null,{"$f":"L391*$C391/100","v":0},null,{"$f":"N391*$C391/100","v":0},null,{"$f":"P391*$C391/100","v":0},null,{"$f":"R391*$C391/100","v":0},null,{"$f":"T391*$C391/100","v":0},null,0,null,0,null,0,null,0,null,{"$f":"AD391*$C391/100","v":0},0]
["9.3",{"$f":"'9_ÁREA CONVIVÊNCIA'!B34","v":"TERRAPLENAGEM"},{"$f":"'9_ÁREA CONVIVÊNCIA'!F34","v":0},0,0,null,0,null,0,null,0,null,0,null,0,null,0,null,0,null,0,null,0,null,0,null,0,null,0,0]
["9.4",{"$f":"'9_ÁREA CONVIVÊNCIA'!B36","v":"FUNDAÇÃO - PARA RECEBER AS ALVENARIAS"},{"$f":"'9_ÁREA CONVIVÊNCIA'!F36","v":10277.759999999998},0.20954832137996846,0,null,0,null,0,null,0,null,0,null,0,null,0,null,10277.759999999998,100,0,null,0,null,0,null,0,null,10277.759999999998,100]
["9.5",{"$f":"'9_ÁREA CONVIVÊNCIA'!B43","v":"IMPERMEABILIZAÇÃO"},{"$f":"'9_ÁREA CONVIVÊNCIA'!F43","v":2421.0300000000002},4.9361220004217374E-2,0,null,0,null,0,null,0,null,0,null,0,null,0,null,2421.0300000000002,100,0,null,0,null,0,null,0,null,2421.0300000000002,100]
["9.6",{"$f":"'9_ÁREA CONVIVÊNCIA'!B46","v":"ESTRUTURAS DE CONCRETO ARMADO"},{"$f":"'9_ÁREA CONVIVÊNCIA'!F46","v":0},0,0,null,0,null,0,null,0,null,0,null,0,null,0,null,0,null,0,null,0,null,0,null,0,null,0,0]
["9.7",{"$f":"'9_ÁREA CONVIVÊNCIA'!B48","v":"ALVENARIAS E PAINÉIS"},{"$f":"'9_ÁREA CONVIVÊNCIA'!F48","v":16135.87},0.3289865177339607,0,null,0,null,0,null,0,null,0,null,0,null,0,null,0,null,16135.87,100,0,null,0,null,0,null,16135.87,100]
["9.8",{"$f":"'9_ÁREA CONVIVÊNCIA'!B54","v":"ESTRUTURA METALICA - REFORÇO EM LAJE"},{"$f":"'9_ÁREA CONVIVÊNCIA'!F54","v":8138.5599999999995},0.1659331981336552,0,null,0,null,0,null,0,null,0,null,0,null,0,null,0,null,8138.56,100,0,null,0,null,0,null,8138.56,100]
["9.9",{"$f":"'9_ÁREA CONVIVÊNCIA'!B58","v":"COBERTURA"},{"$f":"'9_ÁREA CONVIVÊNCIA'!F58","v":27805.119999999999},0.56690526162982879,0,null,0,null,0,null,0,null,0,null,0,null,0,null,13902.56,50,13902.56,50,0,null,0,null,0,null,27805.119999999999,100]
["9.10",{"$f":"'9_ÁREA CONVIVÊNCIA'!B64","v":"ESQUADRIAS"},{"$f":"'9_ÁREA CONVIVÊNCIA'!F64","v":15689.04},0.3198763150786923,0,null,0,null,0,null,0,null,0,null,0,null,0,null,0,null,7844.52,50,7844.52,50,0,null,0,null,15689.04,100]
["9.11",{"$f":"'9_ÁREA CONVIVÊNCIA'!B68","v":"PISOS"},{"$f":"'9_ÁREA CONVIVÊNCIA'!F68","v":18019.469999999998},0.36739033511744779,0,null,0,null,0,null,0,null,0,null,0,null,0,null,9009.7349999999988,50,9009.7349999999988,50,0,null,0,null,0,null,18019.469999999998,100]
["9.12",{"$f":"'9_ÁREA CONVIVÊNCIA'!B75","v":"REVESTIMENTOS"},{"$f":"'9_ÁREA CONVIVÊNCIA'!F75","v":20916.640000000003},0.42645934531542906,0,null,0,null,0,null,0,null,0,null,0,null,0,null,10458.320000000002,50,10458.320000000002,50,0,null,0,null,0,null,20916.640000000003,100]
["9.13",{"$f":"'9_ÁREA CONVIVÊNCIA'!B81","v":"GRANITO"},{"$f":"'9_ÁREA CONVIVÊNCIA'!F81","v":2456.6800000000003},5.0088070763253958E-2,0,null,0,null,0,null,0,null,0,null,0,null,0,null,0,null,0,null,2456.6800000000003,100,0,null,0,null,2456.6800000000003,100]
["9.14",{"$f":"'9_ÁREA CONVIVÊNCIA'!B85","v":"FORRO"},{"$f":"'9_ÁREA CONVIVÊNCIA'!F85","v":549.76},1.1208793079606011E-2,0,null,0,null,0,null,0,null,0,null,0,null,0,null,0,null,549.76,100,0,null,0,null,0,null,549.76,100]
["9.15",{"$f":"'9_ÁREA CONVIVÊNCIA'!B88","v":"PINTURA"},{"$f":"'9_ÁREA CONVIVÊNCIA'!F88","v":17526.78},0.35734511490791798,0,null,0,null,0,null,0,null,0,null,0,null,0,null,0,null,8763.39,50,8763.39,50,0,null,0,null,17526.78,100]
["9.16",{"$f":"'9_ÁREA CONVIVÊNCIA'!B95","v":"CALÇAMENTO, PÁTIOS E PASSARELAS"},{"$f":"'9_ÁREA CONVIVÊNCIA'!F95","v":0},0,0,null,0,null,0,null,0,null,0,null,0,null,0,null,0,null,0,null,0,null,0,null,0,null,0,0]
["9.17",{"$f":"'9_ÁREA CONVIVÊNCIA'!B97","v":"SERVIÇOS COMPLEMENTARES"},{"$f":"'9_ÁREA CONVIVÊNCIA'!F97","v":1253.54},2.5557826100497155E-2,0,null,0,null,0,null,0,null,0,null,0,null,0,null,0,null,0,null,1253.54,100,0,null,0,null,1253.54,100]
["9.18",{"$f":"'9_ÁREA CONVIVÊNCIA'!B100","v":"INSTALAÇÕES DE SPDA"},{"$f":"'9_ÁREA CONVIVÊNCIA'!F100","v":0},0,0,null,0,null,0,null,0,null,0,null,0,null,0,null,0,null,0,null,0,null,0,null,0,null,0,0]
["9.19",{"$f":"'9_ÁREA CONVIVÊNCIA'!B102","v":"INSTALAÇÃO DE COMBATE A INCÊNDIO"},{"$f":"'9_ÁREA CONVIVÊNCIA'!F102","v":0},0,0,null,0,null,0,null,0,null,0,null,0,null,0,null,0,null,0,null,0,null,0,null,0,null,0,0]
["9.20",{"$f":"'9_ÁREA CONVIVÊNCIA'!B104","v":"INSTALAÇÕES ELÉTRICA"},{"$f":"'9_ÁREA CONVIVÊNCIA'!F104","v":32741.720000000023},0.6675552323748507,0,null,0,null,0,null,0,null,0,null,0,null,0,null,9822.5160000000069,30,13096.688000000009,40,9822.5160000000069,30,0,null,0,null,32741.720000000023,100]
["9.21",{"$f":"'9_ÁREA CONVIVÊNCIA'!B238","v":"LOGICA E TELEFONICA"},{"$f":"'9_ÁREA CONVIVÊNCIA'!F238","v":2367.3200000000002},4.8266152563323818E-2,0,null,0,null,0,null,0,null,0,null,0,null,0,null,0,null,2367.3200000000002,100,0,null,0,null,0,null,2367.3200000000002,100]
["9.22",{"$f":"'9_ÁREA CONVIVÊNCIA'!B275","v":"CLIMATIZAÇÃO - AR CONDICIONADO"},{"$f":"'9_ÁREA CONVIVÊNCIA'!F275","v":0},0,0,null,0,null,0,null,0,null,0,null,0,null,0,null,0,null,0,null,0,null,0,null,0,null,0,0]
["9.23",{"$f":"'9_ÁREA CONVIVÊNCIA'!B277","v":"INFRAESTRUTURA PARA INSTALAÇÃO DE AUDIO E VÍDEO"},{"$f":"'9_ÁREA CONVIVÊNCIA'!F277","v":0},0,0,null,0,null,0,null,0,null,0,null,0,null,0,null,0,null,0,null,0,null,0,null,0,null,0,0]
["9.24",{"$f":"'9_ÁREA CONVIVÊNCIA'!B279","v":"INSTALAÇÕES HIDRAULICAS "},{"$f":"'9_ÁREA CONVIVÊNCIA'!F279","v":0},0,0,null,0,null,0,null,0,null,0,null,0,null,0,null,0,null,0,null,0,null,0,null,0,null,0,0]
["9.25",{"$f":"'9_ÁREA CONVIVÊNCIA'!B281","v":"ÁGUAS PLUVIAIS DE COBERTURA"},{"$f":"'9_ÁREA CONVIVÊNCIA'!F281","v":5625.96},0.11470500129900363,0,null,0,null,0,null,0,null,0,null,0,null,0,null,2812.98,50,2812.98,50,0,null,0,null,0,null,5625.96,100]
["9.26",{"$f":"'9_ÁREA CONVIVÊNCIA'!B286","v":"INSTALAÇÕES SANITÁRIAS"},{"$f":"'9_ÁREA CONVIVÊNCIA'!F286","v":0},0,0,null,0,null,0,null,0,null,0,null,0,null,0,null,0,null,0,null,0,null,0,null,0,null,0,0]
["9.27",{"$f":"'9_ÁREA CONVIVÊNCIA'!B288","v":"LOUÇAS E METÁIS"},{"$f":"'9_ÁREA CONVIVÊNCIA'!F288","v":19694.080000000005},0.40153315558281288,0,null,0,null,0,null,0,null,0,null,0,null,0,null,0,null,9847.0400000000027,50,9847.0400000000027,50,0,null,0,null,19694.080000000005,100]
["9.28",{"$f":"'9_ÁREA CONVIVÊNCIA'!B307","v":"SISTEMA DE TRATAMENTO DE ESGOTO"},{"$f":"'9_ÁREA CONVIVÊNCIA'!F307","v":0},0,0,null,0,null,0,null,0,null,0,null,0,null,0,null,0,null,0,null,0,null,0,null,0,null,0,0]
["9.29",{"$f":"'9_ÁREA CONVIVÊNCIA'!B309","v":"LIMPEZA CONTÍNUA DA OBRA"},{"$f":"'9_ÁREA CONVIVÊNCIA'!F309","v":0},0,0,null,0,null,0,null,0,null,0,null,0,null,0,null,0,null,0,null,0,null,0,null,0,null,0,0]
["9.30",{"$f":"'9_ÁREA CONVIVÊNCIA'!B311","v":"LIMPEZA FINAL PARA ENTREGA"},{"$f":"'9_ÁREA CONVIVÊNCIA'!F311","v":519.14},1.0584496579137558E-2,0,null,0,null,0,null,{"$f":"L419*C419/100","v":0},null,0,null,0,null,0,null,0,null,0,null,519.14,100,0,null,0,null,{"$f":"AD419*$C419/100","v":519.14},100]
[null,"TOTAL",{"$f":"SUM(C389:C419)","v":210364.51000000007},{"$f":"SUM(D389:D419)","v":4.2890211435584789},{"$f":"SUM(E389:E419)","v":0},{"$f":"E420/$C420*100","v":0},{"$f":"SUM(G389:G419)","v":0},{"$f":"G420/$C420*100","v":0},{"$f":"SUM(I389:I419)","v":0},{"$f":"I420/$C420*100","v":0},{"$f":"SUM(K389:K419)","v":0},{"$f":"K420/$C420*100","v":0},{"$f":"SUM(M389:M419)","v":0},{"$f":"M420/$C420*100","v":0},{"$f":"SUM(O389:O419)","v":0},{"$f":"O420/$C420*100","v":0},{"$f":"SUM(Q389:Q419)","v":0},{"$f":"Q420/$C420*100","v":0},{"$f":"SUM(S389:S419)","v":66930.941000000006},{"$f":"S420/$C420*100","v":31.816650536727884},{"$f":"SUM(U389:U419)","v":102926.74300000002},{"$f":"U420/$C420*100","v":48.927807737151092},{"$f":"SUM(W389:W419)","v":40506.826000000008},{"$f":"W420/$C420*100","v":19.255541726121006},{"$f":"SUM(Y389:Y419)","v":0},{"$f":"Y420/$C420*100","v":0},{"$f":"SUM(AA389:AA419)","v":0},{"$f":"AA420/$C420*100","v":0},{"$f":"SUM(AC389:AC419)","v":210364.51000000007},{"$f":"AC420/$C420*100","v":100}]
[null,"TOTAL ACUMULADO",null,null,{"$f":"E420","v":0},{"$f":"E421/$C420*100","v":0},{"$f":"G420+E421","v":0},{"$f":"G421/$C420*100","v":0},{"$f":"I420+G421","v":0},{"$f":"I421/$C420*100","v":0},{"$f":"K420+I421","v":0},{"$f":"K421/$C420*100","v":0},{"$f":"M420+K421","v":0},{"$f":"M421/$C420*100","v":0},{"$f":"O420+M421","v":0},{"$f":"O421/$C420*100","v":0},{"$f":"Q420+O421","v":0},{"$f":"Q421/$C420*100","v":0},{"$f":"S420+Q421","v":66930.941000000006},{"$f":"S421/$C420*100","v":31.816650536727884},{"$f":"U420+S421","v":169857.68400000001},{"$f":"U421/$C420*100","v":80.744458273878976},{"$f":"W420+U421","v":210364.51},{"$f":"W421/$C420*100","v":99.999999999999972},{"$f":"Y420+W421","v":210364.51},{"$f":"Y421/$C420*100","v":99.999999999999972},{"$f":"AA420+Y421","v":210364.51},{"$f":"AA421/$C420*100","v":99.999999999999972}]
[]
[]
[null,null,"CRONOGRAMA FÍSICO FINANCEIRO",null,null,null,null,null,null,null,null,null,null,null,null,null,null,null,null,null,null,null,null,null,null,null,null,null,"UNAEN-FF-003"]
[]
[null,null,null,null,null,null,null,null,null,null,null,null,null,null,null,null,null,null,null,null,null,null,null,null,null,null,null,null,"Revisão:\n00","Data:\n11/05/2017"]
["SESI - SERVIÇO SOCIAL DA INDUSTRIA - DR/MT"]
[{"$f":"'[1]PLANILHA RESUMO LIC'!$A$7","v":"UNIDADE OPERACIONAL: SESI ESCOLA VARZEA GRANDE"},null,null,{"$f":"'[1]PLANILHA RESUMO LIC'!$A$8","v":"ENDEREÇO: Av. Dom Orlando Chaves, 1086, Ponte Nova  CIDADE: Varzea Grande - MT.                     "}]
["CONSTRUTORA:                                                                           ",null,null,{"$f":"CONCATENATE(\" VALOR: \",\"R$ \",TEXT(SUM(C467),\"#.##0,00\"))","v":" VALOR: R$ 60.945,67"},null,null,null,{"$f":"H6","v":"PRAZO: 10 MESES"}]
["RESPONSÁVEL TÉCNICO:"]
[]
[{"$f":"'10_ABRIGO GLP E RESIDUOS'!B14","v":"ABRIGO GLP E ABRIGO RESIDUOS SÓLIDOS"}]
[]
["ITEM","DESCRIÇÃO","ETAPA TOTAL",null,"1 MÊS",null,"2 MESES",null,"3 MESES",null,"4 MESES",null,"5 MESES",null,"6 MESES",null,"7 MESES",null,"8 MESES",null,"9 MESES",null,"10 MESES",null,null,null,null,null,"TOTAL "]
[null,null,"(R$)","(%)","(R$)","(%)","(R$)","(%)","(R$)","(%)","(R$)","(%)","(R$)","(%)","(R$)","(%)","(R$)","(%)","(R$)","(%)","(R$)","(%)","(R$)","(%)","(R$)","(%)","(R$)","(%)","(R$)","(%)"]
["10.0",{"$f":"'10_ABRIGO GLP E RESIDUOS'!B16","v":"DEMOLIÇÕES E RETIRADAS"},{"$f":"'10_ABRIGO GLP E RESIDUOS'!F16","v":507.65999999999997},{"$f":"C436/$C$44*100","v":1.0350436362763364E-2},{"$f":"F436*$C436/100","v":0},null,{"$f":"H436*$C436/100","v":507.66},100,{"$f":"J436*$C436/100","v":0},null,{"$f":"L436*$C436/100","v":0},null,{"$f":"N436*$C436/100","v":0},null,{"$f":"P436*$C436/100","v":0},null,{"$f":"R436*$C436/100","v":0},null,{"$f":"T436*$C436/100","v":0},null,{"$f":"V436*$C436/100","v":0},null,{"$f":"X436*$C436/100","v":0},null,{"$f":"Z436*$C436/100","v":0},null,{"$f":"AB436*$C436/100","v":0},null,{"$f":"AD436*$C436/100","v":507.66},{"$f":"N436+L436+J436+H436+F436+P436+R436+T436+V436+X436+Z436+AB436","v":100}]
["10.1",{"$f":"'10_ABRIGO GLP E RESIDUOS'!B22","v":"INSTALAÇÕES DE CANTEIRO"},{"$f":"'10_ABRIGO GLP E RESIDUOS'!F22","v":0},{"$f":"C437/$C$44*100","v":0},{"$f":"F437*$C437/100","v":0},null,{"$f":"H437*$C437/100","v":0},null,{"$f":"J437*$C437/100","v":0},null,{"$f":"L437*$C437/100","v":0},null,{"$f":"N437*$C437/100","v":0},null,{"$f":"P437*$C437/100","v":0},null,{"$f":"R437*$C437/100","v":0},null,{"$f":"T437*$C437/100","v":0},null,0,null,0,null,0,null,0,null,{"$f":"AD437*$C437/100","v":0},{"$f":"N437+L437+J437+H437+F437+P437+R437+T437+V437+X437+Z437+AB437","v":0}]
["10.2",{"$f":"'10_ABRIGO GLP E RESIDUOS'!B24","v":"ADMINISTRAÇÃO"},{"$f":"'10_ABRIGO GLP E RESIDUOS'!F24","v":0},0,0,null,{"$f":"H438*$C438/100","v":0},null,{"$f":"J438*$C438/100","v":0},null,{"$f":"L438*$C438/100","v":0},null,{"$f":"N438*$C438/100","v":0},null,{"$f":"P438*$C438/100","v":0},null,{"$f":"R438*$C438/100","v":0},null,{"$f":"T438*$C438/100","v":0},null,0,null,0,null,0,null,0,null,{"$f":"AD438*$C438/100","v":0},0]
["10.3",{"$f":"'10_ABRIGO GLP E RESIDUOS'!B26","v":"TERRAPLENAGEM"},{"$f":"'10_ABRIGO GLP E RESIDUOS'!F26","v":0},0,0,null,0,null,0,null,0,null,0,null,0,null,0,null,0,null,0,null,0,null,0,null,0,null,0,0]
["10.4",{"$f":"'10_ABRIGO GLP E RESIDUOS'!B28","v":"FUNDAÇÃO"},{"$f":"'10_ABRIGO GLP E RESIDUOS'!F28","v":5809.39},0.11844486763084321,0,null,2904.6950000000002,50,0,null,0,null,0,null,0,null,2904.6950000000002,50,0,null,0,null,0,null,0,null,0,null,5809.39,100]
["10.5",{"$f":"'10_ABRIGO GLP E RESIDUOS'!B34","v":"IMPERMEABILIZAÇÃO"},{"$f":"'10_ABRIGO GLP E RESIDUOS'!F34","v":130.72999999999999},2.6653912967420212E-3,0,null,0,null,0,null,0,null,0,null,0,null,130.72999999999999,100,0,null,0,null,0,null,0,null,0,null,130.72999999999999,100]
["10.6",{"$f":"'10_ABRIGO GLP E RESIDUOS'!B37","v":"ESTRUTURAS DE CONCRETO ARMADO"},{"$f":"'10_ABRIGO GLP E RESIDUOS'!F37","v":1218.83},2.4850140550815254E-2,0,null,0,null,0,null,0,null,0,null,0,null,1218.83,100,0,null,0,null,0,null,0,null,0,null,1218.83,100]
["10.7",{"$f":"'10_ABRIGO GLP E RESIDUOS'!B42","v":"ALVENARIAS E PAINÉIS"},{"$f":"'10_ABRIGO GLP E RESIDUOS'!F42","v":5873.06},0.11974300473681403,0,null,2936.53,50,0,null,0,null,0,null,0,null,2936.53,50,0,null,0,null,0,null,0,null,0,null,5873.06,100]
["10.8",{"$f":"'10_ABRIGO GLP E RESIDUOS'!B48","v":"ESTRUTURA METALICA"},{"$f":"'10_ABRIGO GLP E RESIDUOS'!F48","v":693.5},1.413943902922506E-2,0,null,693.5,100,0,null,0,null,0,null,0,null,0,null,0,null,0,null,0,null,0,null,0,null,693.5,100]
["10.9",{"$f":"'10_ABRIGO GLP E RESIDUOS'!B52","v":"COBERTURA"},{"$f":"'10_ABRIGO GLP E RESIDUOS'!F52","v":2771.44},5.6505561504189616E-2,0,null,2771.44,100,0,null,0,null,0,null,0,null,0,null,0,null,0,null,0,null,0,null,0,null,2771.44,100]
["10.10",{"$f":"'10_ABRIGO GLP E RESIDUOS'!B56","v":"ESQUADRIAS"},{"$f":"'10_ABRIGO GLP E RESIDUOS'!F56","v":9165.51},0.18687118935364466,0,null,6415.8570000000009,70,0,null,0,null,0,null,0,null,2749.6529999999998,30,0,null,0,null,0,null,0,null,0,null,9165.51,100]
["10.11",{"$f":"'10_ABRIGO GLP E RESIDUOS'!B62","v":"PISOS"},{"$f":"'10_ABRIGO GLP E RESIDUOS'!F62","v":0},0,0,null,0,null,0,null,0,null,0,null,0,null,0,null,0,null,0,null,0,null,0,null,0,null,0,0]
["10.12",{"$f":"'10_ABRIGO GLP E RESIDUOS'!B64","v":"REVESTIMENTOS"},{"$f":"'10_ABRIGO GLP E RESIDUOS'!F64","v":9003.56},0.18356926844408011,0,null,5402.1359999999995,60,0,null,0,null,0,null,0,null,3601.4239999999995,40,0,null,0,null,0,null,0,null,0,null,9003.56,100]
["10.13",{"$f":"'10_ABRIGO GLP E RESIDUOS'!B69","v":"GRANITO"},{"$f":"'10_ABRIGO GLP E RESIDUOS'!F69","v":0},0,0,null,0,null,0,null,0,null,0,null,0,null,0,null,0,null,0,null,0,null,0,null,0,null,0,0]
["10.14",{"$f":"'10_ABRIGO GLP E RESIDUOS'!B71","v":"FORRO"},{"$f":"'10_ABRIGO GLP E RESIDUOS'!F71","v":0},0,0,null,0,null,0,null,0,null,0,null,0,null,0,null,0,null,0,null,0,null,0,null,0,null,0,0]
["10.15",{"$f":"'10_ABRIGO GLP E RESIDUOS'!B73","v":"PINTURA"},{"$f":"'10_ABRIGO GLP E RESIDUOS'!F73","v":4123.78},8.4077773438987327E-2,0,null,2474.268,60,0,null,0,null,0,null,0,null,1649.5119999999997,40,0,null,0,null,0,null,0,null,0,null,4123.78,100]
["10.16",{"$f":"'10_ABRIGO GLP E RESIDUOS'!B78","v":"CALÇAMENTO, PÁTIOS E PASSARELAS"},{"$f":"'10_ABRIGO GLP E RESIDUOS'!F78","v":0},0,0,null,0,null,0,null,0,null,0,null,0,null,0,null,0,null,0,null,0,null,0,null,0,null,0,0]
["10.17",{"$f":"'10_ABRIGO GLP E RESIDUOS'!B80","v":"SERVIÇOS COMPLEMENTARES"},{"$f":"'10_ABRIGO GLP E RESIDUOS'!F80","v":21471.89},0.43778007137307456,0,null,0,null,0,null,0,null,10735.945,50,10735.945,50,0,null,0,null,0,null,0,null,0,null,0,null,21471.89,100]
["10.18",{"$f":"'10_ABRIGO GLP E RESIDUOS'!B115","v":"INSTALAÇÕES DE SPDA"},{"$f":"'10_ABRIGO GLP E RESIDUOS'!F115","v":0},0,0,null,0,null,0,null,0,null,0,null,0,null,0,null,0,null,0,null,0,null,0,null,0,null,0,0]
["10.19",{"$f":"'10_ABRIGO GLP E RESIDUOS'!B117","v":"INSTALAÇÃO DE COMBATE A INCÊNDIO"},{"$f":"'10_ABRIGO GLP E RESIDUOS'!F117","v":0},0,0,null,0,null,0,null,0,null,0,null,0,null,0,null,0,null,0,null,0,null,0,null,0,null,0,0]
["10.20",{"$f":"'10_ABRIGO GLP E RESIDUOS'!B119","v":"INSTALAÇÕES ELÉTRICA"},{"$f":"'10_ABRIGO GLP E RESIDUOS'!F119","v":0},0,0,null,0,null,0,null,0,null,0,null,0,null,0,null,0,null,0,null,0,null,0,null,0,null,0,0]
["10.21",{"$f":"'10_ABRIGO GLP E RESIDUOS'!B121","v":"LOGICA E TELEFONICA"},{"$f":"'10_ABRIGO GLP E RESIDUOS'!F121","v":0},0,0,null,0,null,0,null,0,null,0,null,0,null,0,null,0,null,0,null,0,null,0,null,0,null,0,0]
["10.22",{"$f":"'10_ABRIGO GLP E RESIDUOS'!B123","v":"CLIMATIZAÇÃO - AR CONDICIONADO"},{"$f":"'10_ABRIGO GLP E RESIDUOS'!F123","v":0},0,0,null,0,null,0,null,0,null,0,null,0,null,0,null,0,null,0,null,0,null,0,null,0,null,0,0]
["10.23",{"$f":"'10_ABRIGO GLP E RESIDUOS'!B125","v":"INFRAESTRUTURA PARA INSTALAÇÃO DE AUDIO E VÍDEO"},{"$f":"'10_ABRIGO GLP E RESIDUOS'!F125","v":0},0,0,null,0,null,0,null,0,null,0,null,0,null,0,null,0,null,0,null,0,null,0,null,0,null,0,0]
["10.24",{"$f":"'10_ABRIGO GLP E RESIDUOS'!B127","v":"INSTALAÇÕES HIDRAULICAS "},{"$f":"'10_ABRIGO GLP E RESIDUOS'!F127","v":0},0,0,null,0,null,0,null,0,null,0,null,0,null,0,null,0,null,0,null,0,null,0,null,0,null,0,0]
["10.25",{"$f":"'10_ABRIGO GLP E RESIDUOS'!B129","v":"ÁGUAS PLUVIAIS DE COBERTURA"},{"$f":"'10_ABRIGO GLP E RESIDUOS'!F129","v":0},0,0,null,0,null,0,null,0,null,0,null,0,null,0,null,0,null,0,null,0,null,0,null,0,null,0,0]
["10.26",{"$f":"'10_ABRIGO GLP E RESIDUOS'!B131","v":"INSTALAÇÕES SANITÁRIAS"},{"$f":"'10_ABRIGO GLP E RESIDUOS'!F131","v":0},0,0,null,0,null,0,null,0,null,0,null,0,null,0,null,0,null,0,null,0,null,0,null,0,null,0,0]
["10.27",{"$f":"'10_ABRIGO GLP E RESIDUOS'!B133","v":"LOUÇAS E METÁIS"},{"$f":"'10_ABRIGO GLP E RESIDUOS'!F133","v":126.12},2.5714002168217222E-3,0,null,126.12,100,0,null,0,null,0,null,0,null,0,null,0,null,0,null,0,null,0,null,0,null,126.12,100]
["10.28",{"$f":"'10_ABRIGO GLP E RESIDUOS'!B138","v":"LIMPEZA CONTÍNUA DA OBRA"},{"$f":"'10_ABRIGO GLP E RESIDUOS'!F138","v":0},0,0,null,0,null,0,null,0,null,0,null,0,null,0,null,0,null,0,null,0,null,0,null,0,null,0,0]
["10.29",{"$f":"'10_ABRIGO GLP E RESIDUOS'!B138","v":"LIMPEZA CONTÍNUA DA OBRA"},{"$f":"'10_ABRIGO GLP E RESIDUOS'!F138","v":0},0,0,null,0,null,0,null,0,null,0,null,0,null,0,null,0,null,0,null,0,null,0,null,0,null,0,0]
["10.30",{"$f":"'10_ABRIGO GLP E RESIDUOS'!B140","v":"LIMPEZA FINAL PARA ENTREGA"},{"$f":"'10_ABRIGO GLP E RESIDUOS'!F140","v":50.2},1.0235037336223474E-3,0,null,25.1,50,0,null,{"$f":"L466*C466/100","v":0},null,0,null,0,null,25.1,50,0,null,0,null,0,null,0,null,0,null,{"$f":"AD466*$C466/100","v":50.2},100]
[null,"TOTAL",{"$f":"SUM(C436:C466)","v":60945.67},{"$f":"SUM(D436:D466)","v":1.2425920476716232},{"$f":"SUM(E436:E466)","v":0},{"$f":"E467/$C467*100","v":0},{"$f":"SUM(G436:G466)","v":24257.305999999997},{"$f":"G467/$C467*100","v":39.801524866327661},{"$f":"SUM(I436:I466)","v":0},{"$f":"I467/$C467*100","v":0},{"$f":"SUM(K436:K466)","v":0},{"$f":"K467/$C467*100","v":0},{"$f":"SUM(M436:M466)","v":10735.945},{"$f":"M467/$C467*100","v":17.615599270629069},{"$f":"SUM(O436:O466)","v":10735.945},{"$f":"O467/$C467*100","v":17.615599270629069},{"$f":"SUM(Q436:Q466)","v":15216.474},{"$f":"Q467/$C467*100","v":24.967276592414194},{"$f":"SUM(S436:S466)","v":0},{"$f":"S467/$C467*100","v":0},{"$f":"SUM(U436:U466)","v":0},{"$f":"U467/$C467*100","v":0},{"$f":"SUM(W436:W466)","v":0},{"$f":"W467/$C467*100","v":0},{"$f":"SUM(Y436:Y466)","v":0},{"$f":"Y467/$C467*100","v":0},{"$f":"SUM(AA436:AA466)","v":0},{"$f":"AA467/$C467*100","v":0},{"$f":"SUM(AC436:AC466)","v":60945.67},{"$f":"AC467/$C467*100","v":100}]
[null,"TOTAL ACUMULADO",null,null,{"$f":"E467","v":0},{"$f":"E468/$C467*100","v":0},{"$f":"G467+E468","v":24257.305999999997},{"$f":"G468/$C467*100","v":39.801524866327661},{"$f":"I467+G468","v":24257.305999999997},{"$f":"I468/$C467*100","v":39.801524866327661},{"$f":"K467+I468","v":24257.305999999997},{"$f":"K468/$C467*100","v":39.801524866327661},{"$f":"M467+K468","v":34993.250999999997},{"$f":"M468/$C467*100","v":57.41712413695673},{"$f":"O467+M468","v":45729.195999999996},{"$f":"O468/$C467*100","v":75.032723407585806},{"$f":"Q467+O468","v":60945.67},{"$f":"Q468/$C467*100","v":100},{"$f":"S467+Q468","v":60945.67},{"$f":"S468/$C467*100","v":100},{"$f":"U467+S468","v":60945.67},{"$f":"U468/$C467*100","v":100},{"$f":"W467+U468","v":60945.67},{"$f":"W468/$C467*100","v":100},{"$f":"Y467+W468","v":60945.67},{"$f":"Y468/$C467*100","v":100},{"$f":"AA467+Y468","v":60945.67},{"$f":"AA468/$C467*100","v":100}]
[]
[]
[null,null,"CRONOGRAMA FÍSICO FINANCEIRO",null,null,null,null,null,null,null,null,null,null,null,null,null,null,null,null,null,null,null,null,null,null,null,null,null,"UNAEN-FF-003"]
[]
[null,null,null,null,null,null,null,null,null,null,null,null,null,null,null,null,null,null,null,null,null,null,null,null,null,null,null,null,"Revisão:\n00","Data:\n11/05/2017"]
["SESI - SERVIÇO SOCIAL DA INDUSTRIA - DR/MT"]
[{"$f":"'[1]PLANILHA RESUMO LIC'!$A$7","v":"UNIDADE OPERACIONAL: SESI ESCOLA VARZEA GRANDE"},null,null,{"$f":"'[1]PLANILHA RESUMO LIC'!$A$8","v":"ENDEREÇO: Av. Dom Orlando Chaves, 1086, Ponte Nova  CIDADE: Varzea Grande - MT.                     "}]
["CONSTRUTORA:                                                                           ",null,null,{"$f":"CONCATENATE(\" VALOR: \",\"R$ \",TEXT(SUM(C514),\"#.##0,00\"))","v":" VALOR: R$ 516.066,95"},null,null,null,{"$f":"H53","v":"PRAZO: 10 MESES"}]
["RESPONSÁVEL TÉCNICO:"]
[]
[{"$f":"'11_CABINA DE FORÇA'!B14","v":"CABINA DE FORÇA"}]
[]
["ITEM","DESCRIÇÃO","ETAPA TOTAL",null,"1 MÊS",null,"2 MESES",null,"3 MESES",null,"4 MESES",null,"5 MESES",null,"6 MESES",null,"7 MESES",null,"8 MESES",null,"9 MESES",null,"10 MESES",null,null,null,null,null,"TOTAL "]
[null,null,"(R$)","(%)","(R$)","(%)","(R$)","(%)","(R$)","(%)","(R$)","(%)","(R$)","(%)","(R$)","(%)","(R$)","(%)","(R$)","(%)","(R$)","(%)","(R$)","(%)","(R$)","(%)","(R$)","(%)","(R$)","(%)"]
["11.0",{"$f":"'11_CABINA DE FORÇA'!B16","v":"DEMOLIÇÕES E RETIRADAS"},{"$f":"'11_CABINA DE FORÇA'!F16","v":20413.099999999999},{"$f":"C483/$C$44*100","v":0.41619290965749678},{"$f":"F483*$C483/100","v":0},null,{"$f":"H483*$C483/100","v":0},null,{"$f":"J483*$C483/100","v":0},null,{"$f":"L483*$C483/100","v":0},null,{"$f":"N483*$C483/100","v":0},null,{"$f":"P483*$C483/100","v":0},null,{"$f":"R483*$C483/100","v":0},null,{"$f":"T483*$C483/100","v":0},null,{"$f":"V483*$C483/100","v":10206.549999999999},50,{"$f":"X483*$C483/100","v":10206.549999999999},50,{"$f":"Z483*$C483/100","v":0},null,{"$f":"AB483*$C483/100","v":0},null,{"$f":"AD483*$C483/100","v":20413.099999999999},{"$f":"N483+L483+J483+H483+F483+P483+R483+T483+V483+X483+Z483+AB483","v":100}]
["11.1",{"$f":"'11_CABINA DE FORÇA'!B35","v":"INSTALAÇÕES DE CANTEIRO"},{"$f":"'11_CABINA DE FORÇA'!F35","v":0},{"$f":"C484/$C$44*100","v":0},{"$f":"F484*$C484/100","v":0},null,{"$f":"H484*$C484/100","v":0},null,{"$f":"J484*$C484/100","v":0},null,{"$f":"L484*$C484/100","v":0},null,{"$f":"N484*$C484/100","v":0},null,{"$f":"P484*$C484/100","v":0},null,{"$f":"R484*$C484/100","v":0},null,{"$f":"T484*$C484/100","v":0},null,0,null,0,null,0,null,0,null,{"$f":"AD484*$C484/100","v":0},{"$f":"N484+L484+J484+H484+F484+P484+R484+T484+V484+X484+Z484+AB484","v":0}]
["11.2",{"$f":"'11_CABINA DE FORÇA'!B37","v":"ADMINISTRAÇÃO"},{"$f":"'11_CABINA DE FORÇA'!F37","v":0},0,0,null,{"$f":"H485*$C485/100","v":0},null,{"$f":"J485*$C485/100","v":0},null,{"$f":"L485*$C485/100","v":0},null,{"$f":"N485*$C485/100","v":0},null,{"$f":"P485*$C485/100","v":0},null,{"$f":"R485*$C485/100","v":0},null,{"$f":"T485*$C485/100","v":0},null,0,null,0,null,0,null,0,null,{"$f":"AD485*$C485/100","v":0},0]
["11.3",{"$f":"'11_CABINA DE FORÇA'!B39","v":"TERRAPLENAGEM"},{"$f":"'11_CABINA DE FORÇA'!F39","v":0},0,0,null,0,null,0,null,0,null,0,null,0,null,0,null,0,null,0,null,0,null,0,null,0,null,0,0]
["11.4",{"$f":"'11_CABINA DE FORÇA'!B41","v":"FUNDAÇÃO"},{"$f":"'11_CABINA DE FORÇA'!F41","v":80399.599999999991},1.6392289000347264,0,null,40199.799999999996,50,40199.799999999996,50,0,null,0,null,0,null,0,null,0,null,0,null,0,null,0,null,0,null,80399.599999999991,100]
["11.5",{"$f":"'11_CABINA DE FORÇA'!B60","v":"IMPERMEABILIZAÇÃO"},{"$f":"'11_CABINA DE FORÇA'!F60","v":12069.289999999999},0.24607496767272632,0,null,0,null,12069.29,100,0,null,0,null,0,null,0,null,0,null,0,null,0,null,0,null,0,null,12069.29,100]
["11.6",{"$f":"'11_CABINA DE FORÇA'!B64","v":"ESTRUTURAS DE CONCRETO ARMADO"},{"$f":"'11_CABINA DE FORÇA'!F64","v":51862.899999999994},1.0574078045116022,0,null,0,null,0,null,51862.899999999994,100,0,null,0,null,0,null,0,null,0,null,0,null,0,null,0,null,51862.899999999994,100]
["11.7",{"$f":"'11_CABINA DE FORÇA'!B79","v":"ALVENARIAS E PAINÉIS"},{"$f":"'11_CABINA DE FORÇA'!F79","v":15090.789999999999},0.30767888263567295,0,null,0,null,0,null,0,null,15090.79,100,0,null,0,null,0,null,0,null,0,null,0,null,0,null,15090.79,100]
["11.8",{"$f":"'11_CABINA DE FORÇA'!B84","v":"ESTRUTURA METALICA"},{"$f":"'11_CABINA DE FORÇA'!F84","v":0},0,0,null,0,null,0,null,0,null,0,null,0,null,0,null,0,null,0,null,0,null,0,null,0,null,0,0]
["11.9",{"$f":"'11_CABINA DE FORÇA'!B86","v":"COBERTURA"},{"$f":"'11_CABINA DE FORÇA'!F86","v":0},0,0,null,0,null,0,null,0,null,0,null,0,null,0,null,0,null,0,null,0,null,0,null,0,null,0,0]
["11.10",{"$f":"'11_CABINA DE FORÇA'!B88","v":"ESQUADRIAS"},{"$f":"'11_CABINA DE FORÇA'!F88","v":28768.870000000003},0.58655469834852481,0,null,0,null,0,null,0,null,0,null,28768.870000000006,100,0,null,0,null,0,null,0,null,0,null,0,null,28768.870000000006,100]
["11.11",{"$f":"'11_CABINA DE FORÇA'!B96","v":"PISOS"},{"$f":"'11_CABINA DE FORÇA'!F96","v":11021.79},0.2247179923546106,0,null,0,null,0,null,0,null,11021.79,100,0,null,0,null,0,null,0,null,0,null,0,null,0,null,11021.79,100]
["11.12",{"$f":"'11_CABINA DE FORÇA'!B99","v":"REVESTIMENTOS"},{"$f":"'11_CABINA DE FORÇA'!F99","v":18351.330000000002},0.37415646956047399,0,null,0,null,0,null,0,null,0,null,18351.330000000002,100,0,null,0,null,0,null,0,null,0,null,0,null,18351.330000000002,100]
["11.13",{"$f":"'11_CABINA DE FORÇA'!B103","v":"GRANITO"},{"$f":"'11_CABINA DE FORÇA'!F103","v":0},0,0,null,0,null,0,null,0,null,0,null,0,null,0,null,0,null,0,null,0,null,0,null,0,null,0,0]
["11.14",{"$f":"'11_CABINA DE FORÇA'!B105","v":"FORRO"},{"$f":"'11_CABINA DE FORÇA'!F105","v":0},0,0,null,0,null,0,null,0,null,0,null,0,null,0,null,0,null,0,null,0,null,0,null,0,null,0,0]
["11.15",{"$f":"'11_CABINA DE FORÇA'!B107","v":"PINTURA"},{"$f":"'11_CABINA DE FORÇA'!F107","v":11563.029999999999},0.23575307523878908,0,null,0,null,0,null,0,null,0,null,11563.03,100,0,null,0,null,0,null,0,null,0,null,0,null,11563.03,100]
["11.16",{"$f":"'11_CABINA DE FORÇA'!B116","v":"CALÇAMENTO, PÁTIOS E PASSARELAS"},{"$f":"'11_CABINA DE FORÇA'!F116","v":0},0,0,null,0,null,0,null,0,null,0,null,0,null,0,null,0,null,0,null,0,null,0,null,0,null,0,0]
["11.17",{"$f":"'11_CABINA DE FORÇA'!B118","v":"SERVIÇOS COMPLEMENTARES"},{"$f":"'11_CABINA DE FORÇA'!F118","v":0},0,0,null,0,null,0,null,0,null,0,null,0,null,0,null,0,null,0,null,0,null,0,null,0,null,0,0]
["11.18",{"$f":"'11_CABINA DE FORÇA'!B120","v":"INSTALAÇÕES DE SPDA"},{"$f":"'11_CABINA DE FORÇA'!F120","v":0},0,0,null,0,null,0,null,0,null,0,null,0,null,0,null,0,null,0,null,0,null,0,null,0,null,0,0]
["11.19",{"$f":"'11_CABINA DE FORÇA'!B122","v":"INSTALAÇÃO DE COMBATE A INCÊNDIO"},{"$f":"'11_CABINA DE FORÇA'!F122","v":0},0,0,null,0,null,0,null,0,null,0,null,0,null,0,null,0,null,0,null,0,null,0,null,0,null,0,0]
["11.20",{"$f":"'11_CABINA DE FORÇA'!B124","v":"INSTALAÇÕES ELÉTRICA"},{"$f":"'11_CABINA DE FORÇA'!F124","v":266357.15999999997},5.4306284409769905,0,null,0,null,0,null,0,null,0,null,79907.147999999986,30,53271.431999999993,20,66589.289999999994,25,66589.289999999994,25,0,null,0,null,0,null,266357.15999999997,100]
["11.21",{"$f":"'11_CABINA DE FORÇA'!B179","v":"LOGICA E TELEFONICA"},{"$f":"'11_CABINA DE FORÇA'!F179","v":0},0,0,null,0,null,0,null,0,null,0,null,0,null,0,null,0,null,0,null,0,null,0,null,0,null,0,0]
["11.22",{"$f":"'11_CABINA DE FORÇA'!B181","v":"CLIMATIZAÇÃO - AR CONDICIONADO"},{"$f":"'11_CABINA DE FORÇA'!F181","v":0},0,0,null,0,null,0,null,0,null,0,null,0,null,0,null,0,null,0,null,0,null,0,null,0,null,0,0]
["11.23",{"$f":"'11_CABINA DE FORÇA'!B183","v":"INFRAESTRUTURA PARA INSTALAÇÃO DE AUDIO E VÍDEO"},{"$f":"'11_CABINA DE FORÇA'!F183","v":0},0,0,null,0,null,0,null,0,null,0,null,0,null,0,null,0,null,0,null,0,null,0,null,0,null,0,0]
["11.24",{"$f":"'11_CABINA DE FORÇA'!B185","v":"INSTALAÇÕES HIDRAULICAS "},{"$f":"'11_CABINA DE FORÇA'!F185","v":0},0,0,null,0,null,0,null,0,null,0,null,0,null,0,null,0,null,0,null,0,null,0,null,0,null,0,0]
["11.25",{"$f":"'11_CABINA DE FORÇA'!B187","v":"ÁGUAS PLUVIAIS DE COBERTURA"},{"$f":"'11_CABINA DE FORÇA'!F187","v":0},0,0,null,0,null,0,null,0,null,0,null,0,null,0,null,0,null,0,null,0,null,0,null,0,null,0,0]
["11.26",{"$f":"'11_CABINA DE FORÇA'!B189","v":"INSTALAÇÕES SANITÁRIAS"},{"$f":"'11_CABINA DE FORÇA'!F189","v":0},0,0,null,0,null,0,null,0,null,0,null,0,null,0,null,0,null,0,null,0,null,0,null,0,null,0,0]
["11.27",{"$f":"'11_CABINA DE FORÇA'!B191","v":"LOUÇAS E METÁIS"},{"$f":"'11_CABINA DE FORÇA'!F191","v":0},0,0,null,0,null,0,null,0,null,0,null,0,null,0,null,0,null,0,null,0,null,0,null,0,null,0,0]
["11.28",{"$f":"'11_CABINA DE FORÇA'!B193","v":"SISTEMA DE TRATAMENTO DE ESGOTO"},{"$f":"'11_CABINA DE FORÇA'!F193","v":0},0,0,null,0,null,0,null,0,null,0,null,0,null,0,null,0,null,0,null,0,null,0,null,0,null,0,0]
["11.29",{"$f":"'11_CABINA DE FORÇA'!B195","v":"LIMPEZA CONTÍNUA DA OBRA"},{"$f":"'11_CABINA DE FORÇA'!F195","v":0},0,0,null,0,null,0,null,0,null,0,null,0,null,0,null,0,null,0,null,0,null,0,null,0,null,0,0]
["11.30",{"$f":"'11_CABINA DE FORÇA'!B197","v":"LIMPEZA FINAL PARA ENTREGA"},{"$f":"'11_CABINA DE FORÇA'!F197","v":169.09},3.4474949465777434E-3,0,null,0,null,0,null,{"$f":"L513*C513/100","v":0},null,0,null,0,null,0,null,0,null,169.09,100,0,null,0,null,0,null,{"$f":"AD513*$C513/100","v":169.09},100]
[null,"TOTAL",{"$f":"SUM(C483:C513)","v":516066.95},{"$f":"SUM(D483:D513)","v":10.521841635938193},{"$f":"SUM(E483:E513)","v":0},{"$f":"E514/$C514*100","v":0},{"$f":"SUM(G483:G513)","v":40199.799999999996},{"$f":"G514/$C514*100","v":7.7896482229679682},{"$f":"SUM(I483:I513)","v":52269.09},{"$f":"I514/$C514*100","v":10.128354470287237},{"$f":"SUM(K483:K513)","v":51862.899999999994},{"$f":"K514/$C514*100","v":10.049645690350834},{"$f":"SUM(M483:M513)","v":26112.58},{"$f":"M514/$C514*100","v":5.0599210044355685},{"$f":"SUM(O483:O513)","v":138590.378},{"$f":"O514/$C514*100","v":26.855115988342209},{"$f":"SUM(Q483:Q513)","v":53271.431999999993},{"$f":"Q514/$C514*100","v":10.322581595275574},{"$f":"SUM(S483:S513)","v":66589.289999999994},{"$f":"S514/$C514*100","v":12.903226994094465},{"$f":"SUM(U483:U513)","v":76964.929999999993},{"$f":"U514/$C514*100","v":14.913749078486809},{"$f":"SUM(W483:W513)","v":10206.549999999999},{"$f":"W514/$C514*100","v":1.9777569557593251},{"$f":"SUM(Y483:Y513)","v":0},{"$f":"Y514/$C514*100","v":0},{"$f":"SUM(AA483:AA513)","v":0},{"$f":"AA514/$C514*100","v":0},{"$f":"SUM(AC483:AC513)","v":516066.95},{"$f":"AC514/$C514*100","v":100}]
[null,"TOTAL ACUMULADO",null,null,{"$f":"E514","v":0},{"$f":"E515/$C514*100","v":0},{"$f":"G514+E515","v":40199.799999999996},{"$f":"G515/$C514*100","v":7.7896482229679682},{"$f":"I514+G515","v":92468.889999999985},{"$f":"I515/$C514*100","v":17.918002693255204},{"$f":"K514+I515","v":144331.78999999998},{"$f":"K515/$C514*100","v":27.967648383606036},{"$f":"M514+K515","v":170444.37},{"$f":"M515/$C514*100","v":33.027569388041606},{"$f":"O514+M515","v":309034.74800000002},{"$f":"O515/$C514*100","v":59.882685376383826},{"$f":"Q514+O515","v":362306.18},{"$f":"Q515/$C514*100","v":70.205266971659384},{"$f":"S514+Q515","v":428895.47},{"$f":"S515/$C514*100","v":83.108493965753865},{"$f":"U514+S515","v":505860.39999999997},{"$f":"U515/$C514*100","v":98.022243044240668},{"$f":"W514+U515","v":516066.94999999995},{"$f":"W515/$C514*100","v":99.999999999999986},{"$f":"Y514+W515","v":516066.94999999995},{"$f":"Y515/$C514*100","v":99.999999999999986},{"$f":"AA514+Y515","v":516066.94999999995},{"$f":"AA515/$C514*100","v":99.999999999999986}]
[]
[]
[null,null,"CRONOGRAMA FÍSICO FINANCEIRO",null,null,null,null,null,null,null,null,null,null,null,null,null,null,null,null,null,null,null,null,null,null,null,null,null,"UNAEN-FF-003"]
[]
[null,null,null,null,null,null,null,null,null,null,null,null,null,null,null,null,null,null,null,null,null,null,null,null,null,null,null,null,"Revisão:\n00","Data:\n11/05/2017"]
["SESI - SERVIÇO SOCIAL DA INDUSTRIA - DR/MT"]
[{"$f":"'[1]PLANILHA RESUMO LIC'!$A$7","v":"UNIDADE OPERACIONAL: SESI ESCOLA VARZEA GRANDE"},null,null,{"$f":"'[1]PLANILHA RESUMO LIC'!$A$8","v":"ENDEREÇO: Av. Dom Orlando Chaves, 1086, Ponte Nova  CIDADE: Varzea Grande - MT.                     "}]
["CONSTRUTORA:                                                                           ",null,null,{"$f":"CONCATENATE(\" VALOR: \",\"R$ \",TEXT(SUM(C561),\"#.##0,00\"))","v":" VALOR: R$ 52.875,19"},null,null,null,{"$f":"H100","v":"PRAZO: 10 MESES"}]
["RESPONSÁVEL TÉCNICO:"]
[]
[{"$f":"'12_ASD'!B14","v":"ASD"}]
[]
["ITEM","DESCRIÇÃO","ETAPA TOTAL",null,"1 MÊS",null,"2 MESES",null,"3 MESES",null,"4 MESES",null,"5 MESES",null,"6 MESES",null,"7 MESES",null,"8 MESES",null,"9 MESES",null,"10 MESES",null,null,null,null,null,"TOTAL "]
[null,null,"(R$)","(%)","(R$)","(%)","(R$)","(%)","(R$)","(%)","(R$)","(%)","(R$)","(%)","(R$)","(%)","(R$)","(%)","(R$)","(%)","(R$)","(%)","(R$)","(%)","(R$)","(%)","(R$)","(%)","(R$)","(%)"]
["12.0",{"$f":"'12_ASD'!B16","v":"DEMOLIÇÕES E RETIRADAS"},{"$f":"'12_ASD'!F16","v":2119.7399999999998},{"$f":"C530/$C$44*100","v":4.321836263563017E-2},{"$f":"F530*$C530/100","v":0},null,{"$f":"H530*$C530/100","v":0},null,{"$f":"J530*$C530/100","v":0},null,{"$f":"L530*$C530/100","v":0},null,{"$f":"N530*$C530/100","v":0},null,{"$f":"P530*$C530/100","v":0},null,{"$f":"R530*$C530/100","v":0},null,{"$f":"T530*$C530/100","v":0},null,{"$f":"V530*$C530/100","v":2119.7399999999998},100,{"$f":"X530*$C530/100","v":0},null,{"$f":"Z530*$C530/100","v":0},null,{"$f":"AB530*$C530/100","v":0},null,{"$f":"AD530*$C530/100","v":2119.7399999999998},{"$f":"N530+L530+J530+H530+F530+P530+R530+T530+V530+X530+Z530+AB530","v":100}]
["12.1",{"$f":"'12_ASD'!B24","v":"INSTALAÇÕES DE CANTEIRO"},{"$f":"'12_ASD'!F24","v":0},{"$f":"C531/$C$44*100","v":0},{"$f":"F531*$C531/100","v":0},null,{"$f":"H531*$C531/100","v":0},null,{"$f":"J531*$C531/100","v":0},null,{"$f":"L531*$C531/100","v":0},null,{"$f":"N531*$C531/100","v":0},null,{"$f":"P531*$C531/100","v":0},null,{"$f":"R531*$C531/100","v":0},null,{"$f":"T531*$C531/100","v":0},null,0,null,0,null,0,null,0,null,{"$f":"AD531*$C531/100","v":0},{"$f":"N531+L531+J531+H531+F531+P531+R531+T531+V531+X531+Z531+AB531","v":0}]
["12.2",{"$f":"'12_ASD'!B26","v":"ADMINISTRAÇÃO"},{"$f":"'12_ASD'!F26","v":0},0,0,null,{"$f":"H532*$C532/100","v":0},null,{"$f":"J532*$C532/100","v":0},null,{"$f":"L532*$C532/100","v":0},null,{"$f":"N532*$C532/100","v":0},null,{"$f":"P532*$C532/100","v":0},null,{"$f":"R532*$C532/100","v":0},null,{"$f":"T532*$C532/100","v":0},null,0,null,0,null,0,null,0,null,{"$f":"AD532*$C532/100","v":0},0]
["12.3",{"$f":"'12_ASD'!B28","v":"TERRAPLENAGEM"},{"$f":"'12_ASD'!F28","v":0},0,0,null,0,null,0,null,0,null,0,null,0,null,0,null,0,null,0,null,0,null,0,null,0,null,0,0]
["12.4",{"$f":"'12_ASD'!B30","v":"FUNDAÇÃO"},{"$f":"'12_ASD'!F30","v":23934.46},0.4879882305226042,0,null,0,null,0,null,0,null,0,null,0,null,11967.23,50,11967.23,50,0,null,0,null,0,null,0,null,23934.46,100]
["12.5",{"$f":"'12_ASD'!B44","v":"IMPERMEABILIZAÇÃO"},{"$f":"'12_ASD'!F44","v":1104.71},2.2523402581074572E-2,0,null,0,null,0,null,0,null,0,null,0,null,0,null,1104.71,100,0,null,0,null,0,null,0,null,1104.71,100]
["12.6",{"$f":"'12_ASD'!B47","v":"ESTRUTURAS DE CONCRETO ARMADO"},{"$f":"'12_ASD'!F47","v":0},0,0,null,0,null,0,null,0,null,0,null,0,null,0,null,0,null,0,null,0,null,0,null,0,null,0,0]
["12.7",{"$f":"'12_ASD'!B49","v":"ALVENARIAS E PAINÉIS"},{"$f":"'12_ASD'!F49","v":0},0,0,null,0,null,0,null,0,null,0,null,0,null,0,null,0,null,0,null,0,null,0,null,0,null,0,0]
["12.8",{"$f":"'12_ASD'!B51","v":"ESTRUTURA METALICA"},{"$f":"'12_ASD'!F51","v":0},0,0,null,0,null,0,null,0,null,0,null,0,null,0,null,0,null,0,null,0,null,0,null,0,null,0,0]
["12.9",{"$f":"'12_ASD'!B53","v":"COBERTURA"},{"$f":"'12_ASD'!F53","v":4878.38},9.9462951076266681E-2,0,null,0,null,0,null,0,null,0,null,0,null,0,null,0,null,0,null,4878.38,100,0,null,0,null,4878.38,100]
["12.10",{"$f":"'12_ASD'!B58","v":"ESQUADRIAS"},{"$f":"'12_ASD'!F58","v":1724.51},3.5160207642810248E-2,0,null,0,null,0,null,0,null,0,null,0,null,0,null,1724.51,100,0,null,0,null,0,null,0,null,1724.51,100]
["12.11",{"$f":"'12_ASD'!B61","v":"PISOS"},{"$f":"'12_ASD'!F61","v":0},0,0,null,0,null,0,null,0,null,0,null,0,null,0,null,0,null,0,null,0,null,0,null,0,null,0,0]
["12.12",{"$f":"'12_ASD'!B63","v":"REVESTIMENTOS"},{"$f":"'12_ASD'!F63","v":11779.77},0.24017208319148448,0,null,0,null,0,null,0,null,0,null,0,null,5889.8850000000002,50,5889.8850000000002,50,0,null,0,null,0,null,0,null,11779.77,100]
["12.13",{"$f":"'12_ASD'!B67","v":"GRANITO"},{"$f":"'12_ASD'!F67","v":0},0,0,null,0,null,0,null,0,null,0,null,0,null,0,null,0,null,0,null,0,null,0,null,0,null,0,0]
["12.14",{"$f":"'12_ASD'!B69","v":"FORRO"},{"$f":"'12_ASD'!F69","v":0},0,0,null,0,null,0,null,0,null,0,null,0,null,0,null,0,null,0,null,0,null,0,null,0,null,0,0]
["12.15",{"$f":"'12_ASD'!B71","v":"PINTURA"},{"$f":"'12_ASD'!F71","v":6954.1399999999994},0.14178462657634483,0,null,0,null,0,null,0,null,0,null,0,null,0,null,0,null,6954.14,100,0,null,0,null,0,null,6954.14,100]
["12.16",{"$f":"'12_ASD'!B76","v":"CALÇAMENTO, PÁTIOS E PASSARELAS"},{"$f":"'12_ASD'!F76","v":0},0,0,null,0,null,0,null,0,null,0,null,0,null,0,null,0,null,0,null,0,null,0,null,0,null,0,0]
["12.17",{"$f":"'12_ASD'!B78","v":"SERVIÇOS COMPLEMENTARES"},{"$f":"'12_ASD'!F78","v":0},0,0,null,0,null,0,null,0,null,0,null,0,null,0,null,0,null,0,null,0,null,0,null,0,null,0,0]
["12.18",{"$f":"'12_ASD'!B80","v":"INSTALAÇÕES DE SPDA"},{"$f":"'12_ASD'!F80","v":0},0,0,null,0,null,0,null,0,null,0,null,0,null,0,null,0,null,0,null,0,null,0,null,0,null,0,0]
["12.19",{"$f":"'12_ASD'!B82","v":"INSTALAÇÃO DE COMBATE A INCÊNDIO"},{"$f":"'12_ASD'!F82","v":0},0,0,null,0,null,0,null,0,null,0,null,0,null,0,null,0,null,0,null,0,null,0,null,0,null,0,0]
["12.20",{"$f":"'12_ASD'!B84","v":"INSTALAÇÕES ELÉTRICA"},{"$f":"'12_ASD'!F84","v":0},0,0,null,0,null,0,null,0,null,0,null,0,null,0,null,0,null,0,null,0,null,0,null,0,null,0,0]
["12.21",{"$f":"'12_ASD'!B86","v":"LOGICA E TELEFONICA"},{"$f":"'12_ASD'!F86","v":0},0,0,null,0,null,0,null,0,null,0,null,0,null,0,null,0,null,0,null,0,null,0,null,0,null,0,0]
["12.22",{"$f":"'12_ASD'!B88","v":"CLIMATIZAÇÃO - AR CONDICIONADO"},{"$f":"'12_ASD'!F88","v":0},0,0,null,0,null,0,null,0,null,0,null,0,null,0,null,0,null,0,null,0,null,0,null,0,null,0,0]
["12.23",{"$f":"'12_ASD'!B90","v":"INFRAESTRUTURA PARA INSTALAÇÃO DE AUDIO E VÍDEO"},{"$f":"'12_ASD'!F90","v":0},0,0,null,0,null,0,null,0,null,0,null,0,null,0,null,0,null,0,null,0,null,0,null,0,null,0,0]
["12.24",{"$f":"'12_ASD'!B92","v":"INSTALAÇÕES HIDRAULICAS "},{"$f":"'12_ASD'!F92","v":0},0,0,null,0,null,0,null,0,null,0,null,0,null,0,null,0,null,0,null,0,null,0,null,0,null,0,0]
["12.25",{"$f":"'12_ASD'!B94","v":"ÁGUAS PLUVIAIS DE COBERTURA"},{"$f":"'12_ASD'!F94","v":0},0,0,null,0,null,0,null,0,null,0,null,0,null,0,null,0,null,0,null,0,null,0,null,0,null,0,0]
["12.26",{"$f":"'12_ASD'!B96","v":"INSTALAÇÕES SANITÁRIAS"},{"$f":"'12_ASD'!F96","v":0},0,0,null,0,null,0,null,0,null,0,null,0,null,0,null,0,null,0,null,0,null,0,null,0,null,0,0]
["12.27",{"$f":"'12_ASD'!B98","v":"LOUÇAS E METÁIS"},{"$f":"'12_ASD'!F98","v":0},0,0,null,0,null,0,null,0,null,0,null,0,null,0,null,0,null,0,null,0,null,0,null,0,null,0,0]
["12.28",{"$f":"'12_ASD'!B100","v":"SISTEMA DE TRATAMENTO DE ESGOTO"},{"$f":"'12_ASD'!F100","v":0},0,0,null,0,null,0,null,0,null,0,null,0,null,0,null,0,null,0,null,0,null,0,null,0,null,0,0]
["12.29",{"$f":"'12_ASD'!B102","v":"LIMPEZA CONTÍNUA DA OBRA"},{"$f":"'12_ASD'!F102","v":0},0,0,null,0,null,0,null,0,null,0,null,0,null,0,null,0,null,0,null,0,null,0,null,0,null,0,0]
["12.30",{"$f":"'12_ASD'!B104","v":"LIMPEZA FINAL PARA ENTREGA"},{"$f":"'12_ASD'!F104","v":379.48},7.737035793526064E-3,0,null,0,null,0,null,{"$f":"L560*C560/100","v":0},null,0,null,0,null,0,null,0,null,0,null,379.48,100,0,null,0,null,{"$f":"AD560*$C560/100","v":379.48},100]
[null,"TOTAL",{"$f":"SUM(C530:C560)","v":52875.189999999995},{"$f":"SUM(D530:D560)","v":1.078046900019741},{"$f":"SUM(E530:E560)","v":0},{"$f":"E561/$C561*100","v":0},{"$f":"SUM(G530:G560)","v":0},{"$f":"G561/$C561*100","v":0},{"$f":"SUM(I530:I560)","v":0},{"$f":"I561/$C561*100","v":0},{"$f":"SUM(K530:K560)","v":0},{"$f":"K561/$C561*100","v":0},{"$f":"SUM(M530:M560)","v":0},{"$f":"M561/$C561*100","v":0},{"$f":"SUM(O530:O560)","v":0},{"$f":"O561/$C561*100","v":0},{"$f":"SUM(Q530:Q560)","v":17857.114999999998},{"$f":"Q561/$C561*100","v":33.772200156633012},{"$f":"SUM(S530:S560)","v":20686.334999999999},{"$f":"S561/$C561*100","v":39.12295161492564},{"$f":"SUM(U530:U560)","v":9073.880000000001},{"$f":"U561/$C561*100","v":17.160940698274562},{"$f":"SUM(W530:W560)","v":5257.8600000000006},{"$f":"W561/$C561*100","v":9.943907530166797},{"$f":"SUM(Y530:Y560)","v":0},{"$f":"Y561/$C561*100","v":0},{"$f":"SUM(AA530:AA560)","v":0},{"$f":"AA561/$C561*100","v":0},{"$f":"SUM(AC530:AC560)","v":52875.189999999995},{"$f":"AC561/$C561*100","v":100}]
[null,"TOTAL ACUMULADO",null,null,{"$f":"E561","v":0},{"$f":"E562/$C561*100","v":0},{"$f":"G561+E562","v":0},{"$f":"G562/$C561*100","v":0},{"$f":"I561+G562","v":0},{"$f":"I562/$C561*100","v":0},{"$f":"K561+I562","v":0},{"$f":"K562/$C561*100","v":0},{"$f":"M561+K562","v":0},{"$f":"M562/$C561*100","v":0},{"$f":"O561+M562","v":0},{"$f":"O562/$C561*100","v":0},{"$f":"Q561+O562","v":17857.114999999998},{"$f":"Q562/$C561*100","v":33.772200156633012},{"$f":"S561+Q562","v":38543.449999999997},{"$f":"S562/$C561*100","v":72.895151771558659},{"$f":"U561+S562","v":47617.33},{"$f":"U562/$C561*100","v":90.056092469833217},{"$f":"W561+U562","v":52875.19},{"$f":"W562/$C561*100","v":100.00000000000003},{"$f":"Y561+W562","v":52875.19},{"$f":"Y562/$C561*100","v":100.00000000000003},{"$f":"AA561+Y562","v":52875.19},{"$f":"AA562/$C561*100","v":100.00000000000003}]
[]
[]
[null,null,"CRONOGRAMA FÍSICO FINANCEIRO",null,null,null,null,null,null,null,null,null,null,null,null,null,null,null,null,null,null,null,null,null,null,null,null,null,"UNAEN-FF-003"]
[]
[null,null,null,null,null,null,null,null,null,null,null,null,null,null,null,null,null,null,null,null,null,null,null,null,null,null,null,null,"Revisão:\n00","Data:\n11/05/2017"]
["SESI - SERVIÇO SOCIAL DA INDUSTRIA - DR/MT"]
[{"$f":"'[1]PLANILHA RESUMO LIC'!$A$7","v":"UNIDADE OPERACIONAL: SESI ESCOLA VARZEA GRANDE"},null,null,{"$f":"'[1]PLANILHA RESUMO LIC'!$A$8","v":"ENDEREÇO: Av. Dom Orlando Chaves, 1086, Ponte Nova  CIDADE: Varzea Grande - MT.                     "}]
["CONSTRUTORA:                                                                           ",null,null,{"$f":"CONCATENATE(\" VALOR: \",\"R$ \",TEXT(SUM(C608),\"#.##0,00\"))","v":" VALOR: R$ 15.237.156,49"},null,null,null,{"$f":"H6","v":"PRAZO: 10 MESES"}]
["RESPONSÁVEL TÉCNICO:"]
[]
["GERAL (TODOS OS BLOCOS)"]
[]
["ITEM","DESCRIÇÃO","ETAPA TOTAL",null,"1 MÊS",null,"2 MESES",null,"3 MESES",null,"4 MESES",null,"5 MESES",null,"6 MESES",null,"7 MESES",null,"8 MESES",null,"9 MESES",null,"10 MESES",null,null,null,null,null,"TOTAL "]
[null,null,"(R$)","(%)","(R$)","(%)","(R$)","(%)","(R$)","(%)","(R$)","(%)","(R$)","(%)","(R$)","(%)","(R$)","(%)","(R$)","(%)","(R$)","(%)","(R$)","(%)","(R$)","(%)","(R$)","(%)","(R$)","(%)"]
[1,"DEMOLIÇÕES E RETIRADAS",{"$f":"C13+C60+C107+C154+C201+C248+C295+C342+C389+C436+C483+C530","v":425154.89999999991},{"$f":"C577/$C$608*100","v":2.7902509256174204},{"$f":"E13+E60+E107+E154+E201+E248+E295+E342+E389+E436+E483+E530","v":43085.395000000004},{"$f":"IF((E577/($C$577)*100)>0,E577/($C$577)*100,\"\")","v":10.134046438133492},{"$f":"G13+G60+G107+G154+G201+G248+G295+G342+G389+G436+G483+G530","v":53998.519000000008},{"$f":"IF((G577/($C$577)*100)>0,G577/($C$577)*100,\"\")","v":12.700904776118074},{"$f":"I13+I60+I107+I154+I201+I248+I295+I342+I389+I436+I483+I530","v":10578.076000000001},{"$f":"IF((I577/($C$577)*100)>0,I577/($C$577)*100,\"\")","v":2.4880522369611651},{"$f":"K13+K60+K107+K154+K201+K248+K295+K342+K389+K436+K483+K530","v":26445.19},{"$f":"IF((K577/($C$577)*100)>0,K577/($C$577)*100,\"\")","v":6.2201305924029109},{"$f":"M13+M60+M107+M154+M201+M248+M295+M342+M389+M436+M483+M530","v":103187.74},{"$f":"IF((M577/($C$577)*100)>0,M577/($C$577)*100,\"\")","v":24.270622307304947},{"$f":"O13+O60+O107+O154+O201+O248+O295+O342+O389+O436+O483+O530","v":78500.896999999997},{"$f":"IF((O577/($C$577)*100)>0,O577/($C$577)*100,\"\")","v":18.464069683778785},{"$f":"Q13+Q60+Q107+Q154+Q201+Q248+Q295+Q342+Q389+Q436+Q483+Q530","v":26850.167000000001},{"$f":"IF((Q577/($C$577)*100)>0,Q577/($C$577)*100,\"\")","v":6.315384581008006},{"$f":"S13+S60+S107+S154+S201+S248+S295+S342+S389+S436+S483+S530","v":31226.056000000008},{"$f":"IF((S577/($C$577)*100)>0,S577/($C$577)*100,\"\")","v":7.3446303923581775},{"$f":"U13+U60+U107+U154+U201+U248+U295+U342+U389+U436+U483+U530","v":29576.302000000003},{"$f":"IF((U577/($C$577)*100)>0,U577/($C$577)*100,\"\")","v":6.9565944082968372},{"$f":"W13+W60+W107+W154+W201+W248+W295+W342+W389+W436+W483+W530","v":21706.558000000005},{"$f":"IF((W577/($C$577)*100)>0,W577/($C$577)*100,\"\")","v":5.1055645836376362},{"$f":"Y13+Y60+Y107+Y154+Y201+Y248+Y295+Y342+Y389+Y436","v":0},{"$f":"IF((Y577/($C$577)*100)>0,Y577/($C$577)*100,\"\")","v":""},{"$f":"AA13+AA60+AA107+AA154+AA201+AA248+AA295+AA342+AA389+AA436","v":0},{"$f":"IF((AA577/($C$577)*100)>0,AA577/($C$577)*100,\"\")","v":""},{"$f":"AC13+AC60+AC107+AC154+AC201+AC248+AC295+AC342+AC389+AC436+AC483+AC530","v":425154.89999999991},{"$f":"(AC577/C577)*100","v":100}]
[2,"INSTALAÇÕES DE CANTEIRO",{"$f":"C14+C61+C108+C155+C202+C249+C296+C343+C390+C437+C484+C531","v":92610.45},{"$f":"C578/$C$608*100","v":0.60779352145381815},{"$f":"E14+E61+E108+E155+E202+E249+E296+E343+E390+E437+E484+E531","v":8494.1439999999984},{"$f":"IF((E578/($C$578)*100)>0,E578/($C$578)*100,\"\")","v":9.1719066260880915},{"$f":"G14+G61+G108+G155+G202+G249+G296+G343+G390+G437+G484+G531","v":16163.153999999999},{"$f":"IF((G578/($C$578)*100)>0,G578/($C$578)*100,\"\")","v":17.452840365207166},{"$f":"I14+I61+I108+I155+I202+I249+I296+I343+I390+I437+I484+I531","v":8494.1439999999984},{"$f":"IF((I578/($C$578)*100)>0,I578/($C$578)*100,\"\")","v":9.1719066260880915},{"$f":"K14+K61+K108+K155+K202+K249+K296+K343+K390+K437+K484+K531","v":8494.1439999999984},{"$f":"IF((K578/($C$578)*100)>0,K578/($C$578)*100,\"\")","v":9.1719066260880915},{"$f":"M14+M61+M108+M155+M202+M249+M296+M343+M390+M437+M484+M531","v":8494.1439999999984},{"$f":"IF((M578/($C$578)*100)>0,M578/($C$578)*100,\"\")","v":9.1719066260880915},{"$f":"O14+O61+O108+O155+O202+O249+O296+O343+O390+O437+O484+O531","v":8494.1439999999984},{"$f":"IF((O578/($C$578)*100)>0,O578/($C$578)*100,\"\")","v":9.1719066260880915},{"$f":"Q14+Q61+Q108+Q155+Q202+Q249+Q296+Q343+Q390+Q437+Q484+Q531","v":8494.1439999999984},{"$f":"IF((Q578/($C$578)*100)>0,Q578/($C$578)*100,\"\")","v":9.1719066260880915},{"$f":"S14+S61+S108+S155+S202+S249+S296+S343+S390+S437+S484+S531","v":8494.1439999999984},{"$f":"IF((S578/($C$578)*100)>0,S578/($C$578)*100,\"\")","v":9.1719066260880915},{"$f":"U14+U61+U108+U155+U202+U249+U296+U343+U390+U437+U484+U531","v":8494.1439999999984},{"$f":"IF((U578/($C$578)*100)>0,U578/($C$578)*100,\"\")","v":9.1719066260880915},{"$f":"W14+W61+W108+W155+W202+W249+W296+W343+W390+W437+W484+W531","v":8494.1439999999984},{"$f":"IF((W578/($C$578)*100)>0,W578/($C$578)*100,\"\")","v":9.1719066260880915},0,{"$f":"IF((Y578/($C$578)*100)>0,Y578/($C$578)*100,\"\")","v":""},0,{"$f":"IF((AA578/($C$578)*100)>0,AA578/($C$578)*100,\"\")","v":""},{"$f":"AC14+AC61+AC108+AC155+AC202+AC249+AC296+AC343+AC390+AC437+AC484+AC531","v":92610.45},{"$f":"(AC578/C578)*100","v":100}]
[3,"ADMINISTRAÇÃO",827019.19999999984,5.4276478721129138,82701.919999999984,{"$f":"IF((E579/($C$579)*100)>0,E579/($C$579)*100,\"\")","v":10},82701.919999999984,{"$f":"IF((G579/($C$579)*100)>0,G579/($C$579)*100,\"\")","v":10},82701.919999999984,{"$f":"IF((I579/($C$579)*100)>0,I579/($C$579)*100,\"\")","v":10},82701.919999999984,{"$f":"IF((K579/($C$579)*100)>0,K579/($C$579)*100,\"\")","v":10},82701.919999999984,{"$f":"IF((M579/($C$579)*100)>0,M579/($C$579)*100,\"\")","v":10},82701.919999999984,{"$f":"IF((O579/($C$579)*100)>0,O579/($C$579)*100,\"\")","v":10},82701.919999999984,{"$f":"IF((Q579/($C$579)*100)>0,Q579/($C$579)*100,\"\")","v":10},82701.919999999984,{"$f":"IF((S579/($C$579)*100)>0,S579/($C$579)*100,\"\")","v":10},82701.919999999984,{"$f":"IF((U579/($C$579)*100)>0,U579/($C$579)*100,\"\")","v":10},82701.919999999984,{"$f":"IF((W579/($C$579)*100)>0,W579/($C$579)*100,\"\")","v":10},0,{"$f":"IF((Y579/($C$579)*100)>0,Y579/($C$579)*100,\"\")","v":""},0,{"$f":"IF((AA579/($C$579)*100)>0,AA579/($C$579)*100,\"\")","v":""},827019.19999999984,100]
[4,"TERRAPLENAGEM",183162.96,1.202080979611964,0,{"$f":"IF((E580/($C$580)*100)>0,E580/($C$580)*100,\"\")","v":""},0,{"$f":"IF((G580/($C$580)*100)>0,G580/($C$580)*100,\"\")","v":""},0,{"$f":"IF((I580/($C$580)*100)>0,I580/($C$580)*100,\"\")","v":""},0,{"$f":"IF((K580/($C$580)*100)>0,K580/($C$580)*100,\"\")","v":""},0,{"$f":"IF((M580/($C$580)*100)>0,M580/($C$580)*100,\"\")","v":""},0,{"$f":"IF((O580/($C$580)*100)>0,O580/($C$580)*100,\"\")","v":""},0,{"$f":"IF((Q580/($C$580)*100)>0,Q580/($C$580)*100,\"\")","v":""},45790.74,{"$f":"IF((S580/($C$580)*100)>0,S580/($C$580)*100,\"\")","v":25},45790.74,{"$f":"IF((U580/($C$580)*100)>0,U580/($C$580)*100,\"\")","v":25},91581.48,{"$f":"IF((W580/($C$580)*100)>0,W580/($C$580)*100,\"\")","v":50},0,{"$f":"IF((Y580/($C$580)*100)>0,Y580/($C$580)*100,\"\")","v":""},0,{"$f":"IF((AA580/($C$580)*100)>0,AA580/($C$580)*100,\"\")","v":""},183162.96,100]
[5,"FUNDAÇÃO",1029278.5699999998,6.7550567632189473,0,{"$f":"IF((E581/($C$581)*100)>0,E581/($C$581)*100,\"\")","v":""},407706.96699999995,{"$f":"IF((G581/($C$581)*100)>0,G581/($C$581)*100,\"\")","v":39.610944877634054},404802.27199999994,{"$f":"IF((I581/($C$581)*100)>0,I581/($C$581)*100,\"\")","v":39.328737991698397},0,{"$f":"IF((K581/($C$581)*100)>0,K581/($C$581)*100,\"\")","v":""},44913.103999999992,{"$f":"IF((M581/($C$581)*100)>0,M581/($C$581)*100,\"\")","v":4.3635518419469275},44913.103999999992,{"$f":"IF((O581/($C$581)*100)>0,O581/($C$581)*100,\"\")","v":4.3635518419469275},59785.028999999995,{"$f":"IF((Q581/($C$581)*100)>0,Q581/($C$581)*100,\"\")","v":5.8084400805119261},67158.093999999983,{"$f":"IF((S581/($C$581)*100)>0,S581/($C$581)*100,\"\")","v":6.5247733662617682},0,{"$f":"IF((U581/($C$581)*100)>0,U581/($C$581)*100,\"\")","v":""},0,{"$f":"IF((W581/($C$581)*100)>0,W581/($C$581)*100,\"\")","v":""},0,{"$f":"IF((Y581/($C$581)*100)>0,Y581/($C$581)*100,\"\")","v":""},0,{"$f":"IF((AA581/($C$581)*100)>0,AA581/($C$581)*100,\"\")","v":""},1029278.5699999998,100]
[6,"IMPERMEABILIZAÇÃO",59582.66,0.39103529611383542,0,{"$f":"IF((E582/($C$582)*100)>0,E582/($C$582)*100,\"\")","v":""},0,{"$f":"IF((G582/($C$582)*100)>0,G582/($C$582)*100,\"\")","v":""},42304.434000000001,{"$f":"IF((I582/($C$582)*100)>0,I582/($C$582)*100,\"\")","v":71.001251035116582},0,{"$f":"IF((K582/($C$582)*100)>0,K582/($C$582)*100,\"\")","v":""},0,{"$f":"IF((M582/($C$582)*100)>0,M582/($C$582)*100,\"\")","v":""},5561.1480000000001,{"$f":"IF((O582/($C$582)*100)>0,O582/($C$582)*100,\"\")","v":9.3335007198403019},8191.3379999999997,{"$f":"IF((Q582/($C$582)*100)>0,Q582/($C$582)*100,\"\")","v":13.747855500241176},3525.7400000000002,{"$f":"IF((S582/($C$582)*100)>0,S582/($C$582)*100,\"\")","v":5.9173927448019272},0,{"$f":"IF((U582/($C$582)*100)>0,U582/($C$582)*100,\"\")","v":""},0,{"$f":"IF((W582/($C$582)*100)>0,W582/($C$582)*100,\"\")","v":""},0,{"$f":"IF((Y582/($C$582)*100)>0,Y582/($C$582)*100,\"\")","v":""},0,{"$f":"IF((AA582/($C$582)*100)>0,AA582/($C$582)*100,\"\")","v":""},59582.66,100]
[7,"ESTRUTURAS DE CONCRETO ARMADO",323472.67000000004,2.1229201801024491,0,{"$f":"IF((E583/($C$583)*100)>0,E583/($C$583)*100,\"\")","v":""},21682.053999999996,{"$f":"IF((G583/($C$583)*100)>0,G583/($C$583)*100,\"\")","v":6.7029013610330646},105799.10000000002,{"$f":"IF((I583/($C$583)*100)>0,I583/($C$583)*100,\"\")","v":32.707276321056739},85160.39,{"$f":"IF((K583/($C$583)*100)>0,K583/($C$583)*100,\"\")","v":26.326919674543138},0,{"$f":"IF((M583/($C$583)*100)>0,M583/($C$583)*100,\"\")","v":""},0,{"$f":"IF((O583/($C$583)*100)>0,O583/($C$583)*100,\"\")","v":""},56024.978000000003,{"$f":"IF((Q583/($C$583)*100)>0,Q583/($C$583)*100,\"\")","v":17.319848999917056},54806.148000000001,{"$f":"IF((S583/($C$583)*100)>0,S583/($C$583)*100,\"\")","v":16.94305364345},0,{"$f":"IF((U583/($C$583)*100)>0,U583/($C$583)*100,\"\")","v":""},0,{"$f":"IF((W583/($C$583)*100)>0,W583/($C$583)*100,\"\")","v":""},0,{"$f":"IF((Y583/($C$583)*100)>0,Y583/($C$583)*100,\"\")","v":""},0,{"$f":"IF((AA583/($C$583)*100)>0,AA583/($C$583)*100,\"\")","v":""},323472.67000000004,100]
[8,"ALVENARIAS E PAINÉIS",224180.07,1.4712723476137244,0,{"$f":"IF((E584/($C$584)*100)>0,E584/($C$584)*100,\"\")","v":""},16136.386000000002,{"$f":"IF((G584/($C$584)*100)>0,G584/($C$584)*100,\"\")","v":7.1979574277053278},30799.664000000004,{"$f":"IF((I584/($C$584)*100)>0,I584/($C$584)*100,\"\")","v":13.738805594984427},86722.94,{"$f":"IF((K584/($C$584)*100)>0,K584/($C$584)*100,\"\")","v":38.684500366156541},15090.79,{"$f":"IF((M584/($C$584)*100)>0,M584/($C$584)*100,\"\")","v":6.7315484378250039},36243.675000000003,{"$f":"IF((O584/($C$584)*100)>0,O584/($C$584)*100,\"\")","v":16.167215488870177},23050.744999999999,{"$f":"IF((Q584/($C$584)*100)>0,Q584/($C$584)*100,\"\")","v":10.282245428864394},0,{"$f":"IF((S584/($C$584)*100)>0,S584/($C$584)*100,\"\")","v":""},16135.87,{"$f":"IF((U584/($C$584)*100)>0,U584/($C$584)*100,\"\")","v":7.1977272555941303},0,{"$f":"IF((W584/($C$584)*100)>0,W584/($C$584)*100,\"\")","v":""},0,{"$f":"IF((Y584/($C$584)*100)>0,Y584/($C$584)*100,\"\")","v":""},0,{"$f":"IF((AA584/($C$584)*100)>0,AA584/($C$584)*100,\"\")","v":""},224180.07,100]
[9,"ESTRUTURA METALICA",937394.16000000027,6.1520281728103461,0,{"$f":"IF((E585/($C$585)*100)>0,E585/($C$585)*100,\"\")","v":""},693.5,{"$f":"IF((G585/($C$585)*100)>0,G585/($C$585)*100,\"\")","v":7.3981685569707384E-2},295986.00000000006,{"$f":"IF((I585/($C$585)*100)>0,I585/($C$585)*100,\"\")","v":31.575404736893177},386083.01200000005,{"$f":"IF((K585/($C$585)*100)>0,K585/($C$585)*100,\"\")","v":41.186837775904209},207375.641,{"$f":"IF((M585/($C$585)*100)>0,M585/($C$585)*100,\"\")","v":22.122565922535717},39117.447,{"$f":"IF((O585/($C$585)*100)>0,O585/($C$585)*100,\"\")","v":4.1729987948719449},0,{"$f":"IF((Q585/($C$585)*100)>0,Q585/($C$585)*100,\"\")","v":""},0,{"$f":"IF((S585/($C$585)*100)>0,S585/($C$585)*100,\"\")","v":""},8138.56,{"$f":"IF((U585/($C$585)*100)>0,U585/($C$585)*100,\"\")","v":0.86821108422523108},0,{"$f":"IF((W585/($C$585)*100)>0,W585/($C$585)*100,\"\")","v":""},0,{"$f":"IF((Y585/($C$585)*100)>0,Y585/($C$585)*100,\"\")","v":""},0,{"$f":"IF((AA585/($C$585)*100)>0,AA585/($C$585)*100,\"\")","v":""},937394.16000000027,100]
[10,"COBERTURA",572783.32000000007,3.7591221195103706,0,{"$f":"IF((E586/($C$586)*100)>0,E586/($C$586)*100,\"\")","v":""},38453.904999999999,{"$f":"IF((G586/($C$586)*100)>0,G586/($C$586)*100,\"\")","v":6.7135169019935841},81230.463000000003,{"$f":"IF((I586/($C$586)*100)>0,I586/($C$586)*100,\"\")","v":14.181708887751828},104020.76199999999,{"$f":"IF((K586/($C$586)*100)>0,K586/($C$586)*100,\"\")","v":18.160578069906084},49173.515000000007,{"$f":"IF((M586/($C$586)*100)>0,M586/($C$586)*100,\"\")","v":8.5850116934271075},110679.19500000001,{"$f":"IF((O586/($C$586)*100)>0,O586/($C$586)*100,\"\")","v":19.323047849926915},109023.83,{"$f":"IF((Q586/($C$586)*100)>0,Q586/($C$586)*100,\"\")","v":19.034044147793967},61420.71,{"$f":"IF((S586/($C$586)*100)>0,S586/($C$586)*100,\"\")","v":10.723201576470487},13902.56,{"$f":"IF((U586/($C$586)*100)>0,U586/($C$586)*100,\"\")","v":2.4271935851763278},4878.38,{"$f":"IF((W586/($C$586)*100)>0,W586/($C$586)*100,\"\")","v":0.85169728755369478},0,{"$f":"IF((Y586/($C$586)*100)>0,Y586/($C$586)*100,\"\")","v":""},0,{"$f":"IF((AA586/($C$586)*100)>0,AA586/($C$586)*100,\"\")","v":""},572783.32000000007,100]
[11,"ESQUADRIAS",736456.66999999993,4.8332946536535824,0,{"$f":"IF((E587/($C$587)*100)>0,E587/($C$587)*100,\"\")","v":""},42537.543000000012,{"$f":"IF((G587/($C$587)*100)>0,G587/($C$587)*100,\"\")","v":5.7759736224535816},213462.18300000002,{"$f":"IF((I587/($C$587)*100)>0,I587/($C$587)*100,\"\")","v":28.985029492638041},68975.439000000013,{"$f":"IF((K587/($C$587)*100)>0,K587/($C$587)*100,\"\")","v":9.3658516257310858},97520.537000000011,{"$f":"IF((M587/($C$587)*100)>0,M587/($C$587)*100,\"\")","v":13.241856713715421},34322.155000000006,{"$f":"IF((O587/($C$587)*100)>0,O587/($C$587)*100,\"\")","v":4.6604445852870082},105436.31,{"$f":"IF((Q587/($C$587)*100)>0,Q587/($C$587)*100,\"\")","v":14.316702434102471},72601.546499999997,{"$f":"IF((S587/($C$587)*100)>0,S587/($C$587)*100,\"\")","v":9.858223770313602},75194.89899999999,{"$f":"IF((U587/($C$587)*100)>0,U587/($C$587)*100,\"\")","v":10.21036295319316},26406.057499999995,{"$f":"IF((W587/($C$587)*100)>0,W587/($C$587)*100,\"\")","v":3.5855548025656416},0,{"$f":"IF((Y587/($C$587)*100)>0,Y587/($C$587)*100,\"\")","v":""},0,{"$f":"IF((AA587/($C$587)*100)>0,AA587/($C$587)*100,\"\")","v":""},736456.66999999993,100]
[12,"PISOS",908986.96000000008,5.9655944374959944,99202.79800000001,{"$f":"IF((E588/($C$588)*100)>0,E588/($C$588)*100,\"\")","v":10.91355567961063},115611.88199999998,{"$f":"IF((G588/($C$588)*100)>0,G588/($C$588)*100,\"\")","v":12.718761334045977},192686.47,{"$f":"IF((I588/($C$588)*100)>0,I588/($C$588)*100,\"\")","v":21.1979355567433},14752.140000000003,{"$f":"IF((K588/($C$588)*100)>0,K588/($C$588)*100,\"\")","v":1.6229209712755397},124844.61000000002,{"$f":"IF((M588/($C$588)*100)>0,M588/($C$588)*100,\"\")","v":13.734477555101559},104539.285,{"$f":"IF((O588/($C$588)*100)>0,O588/($C$588)*100,\"\")","v":11.500636378766094},141896.67599999998,{"$f":"IF((Q588/($C$588)*100)>0,Q588/($C$588)*100,\"\")","v":15.610419317786469},106443.36399999999,{"$f":"IF((S588/($C$588)*100)>0,S588/($C$588)*100,\"\")","v":11.710109020705861},9009.7349999999988,{"$f":"IF((U588/($C$588)*100)>0,U588/($C$588)*100,\"\")","v":0.99118418596455971},0,{"$f":"IF((W588/($C$588)*100)>0,W588/($C$588)*100,\"\")","v":""},0,{"$f":"IF((Y588/($C$588)*100)>0,Y588/($C$588)*100,\"\")","v":""},0,{"$f":"IF((AA588/($C$588)*100)>0,AA588/($C$588)*100,\"\")","v":""},908986.96000000008,100]
[13,"REVESTIMENTOS",1193240.3700000001,7.8311223671103738,16057.6767,{"$f":"IF((E589/($C$589)*100)>0,E589/($C$589)*100,\"\")","v":1.345720200532605},5402.1359999999995,{"$f":"IF((G589/($C$589)*100)>0,G589/($C$589)*100,\"\")","v":0.45272822943461077},310196.98800000001,{"$f":"IF((I589/($C$589)*100)>0,I589/($C$589)*100,\"\")","v":25.996186166581005},363722.57700000005,{"$f":"IF((K589/($C$589)*100)>0,K589/($C$589)*100,\"\")","v":30.481920168356357},251570.26830000003,{"$f":"IF((M589/($C$589)*100)>0,M589/($C$589)*100,\"\")","v":21.082949808344146},35340.865000000005,{"$f":"IF((O589/($C$589)*100)>0,O589/($C$589)*100,\"\")","v":2.9617557273896122},52818.665000000001,{"$f":"IF((Q589/($C$589)*100)>0,Q589/($C$589)*100,\"\")","v":4.4264899451901716},90737.104000000007,{"$f":"IF((S589/($C$589)*100)>0,S589/($C$589)*100,\"\")","v":7.6042603218327249},67394.09,{"$f":"IF((U589/($C$589)*100)>0,U589/($C$589)*100,\"\")","v":5.6479894323387656},0,{"$f":"IF((W589/($C$589)*100)>0,W589/($C$589)*100,\"\")","v":""},0,{"$f":"IF((Y589/($C$589)*100)>0,Y589/($C$589)*100,\"\")","v":""},0,{"$f":"IF((AA589/($C$589)*100)>0,AA589/($C$589)*100,\"\")","v":""},1193240.3700000001,100]
[14,"GRANITO",94793.079999999987,0.62211791328790089,10712.635,{"$f":"IF((E590/($C$590)*100)>0,E590/($C$590)*100,\"\")","v":11.301072820927436},10712.635,{"$f":"IF((G590/($C$590)*100)>0,G590/($C$590)*100,\"\")","v":11.301072820927436},0,{"$f":"IF((I590/($C$590)*100)>0,I590/($C$590)*100,\"\")","v":""},28734.949999999997,{"$f":"IF((K590/($C$590)*100)>0,K590/($C$590)*100,\"\")","v":30.313341438003704},28734.949999999997,{"$f":"IF((M590/($C$590)*100)>0,M590/($C$590)*100,\"\")","v":30.313341438003704},3785.94,{"$f":"IF((O590/($C$590)*100)>0,O590/($C$590)*100,\"\")","v":3.9938991327215034},0,{"$f":"IF((Q590/($C$590)*100)>0,Q590/($C$590)*100,\"\")","v":""},5769.0549999999994,{"$f":"IF((S590/($C$590)*100)>0,S590/($C$590)*100,\"\")","v":6.0859453031803588},3886.2349999999992,{"$f":"IF((U590/($C$590)*100)>0,U590/($C$590)*100,\"\")","v":4.0997032694791642},2456.6800000000003,{"$f":"IF((W590/($C$590)*100)>0,W590/($C$590)*100,\"\")","v":2.5916237767567005},0,{"$f":"IF((Y590/($C$590)*100)>0,Y590/($C$590)*100,\"\")","v":""},0,{"$f":"IF((AA590/($C$590)*100)>0,AA590/($C$590)*100,\"\")","v":""},94793.079999999987,100]
[15,"FORRO",235195.65000000002,1.5435665450726102,0,{"$f":"IF((E591/($C$591)*100)>0,E591/($C$591)*100,\"\")","v":""},0,{"$f":"IF((G591/($C$591)*100)>0,G591/($C$591)*100,\"\")","v":""},64864.693999999996,{"$f":"IF((I591/($C$591)*100)>0,I591/($C$591)*100,\"\")","v":27.579036432008834},64864.693999999996,{"$f":"IF((K591/($C$591)*100)>0,K591/($C$591)*100,\"\")","v":27.579036432008834},21011.381999999998,{"$f":"IF((M591/($C$591)*100)>0,M591/($C$591)*100,\"\")","v":8.9335759398611305},0,{"$f":"IF((O591/($C$591)*100)>0,O591/($C$591)*100,\"\")","v":""},2637.3569999999995,{"$f":"IF((Q591/($C$591)*100)>0,Q591/($C$591)*100,\"\")","v":1.1213459942817816},6153.8329999999996,{"$f":"IF((S591/($C$591)*100)>0,S591/($C$591)*100,\"\")","v":2.6164739866574909},38106.724999999999,{"$f":"IF((U591/($C$591)*100)>0,U591/($C$591)*100,\"\")","v":16.202138517442815},37556.964999999997,{"$f":"IF((W591/($C$591)*100)>0,W591/($C$591)*100,\"\")","v":15.968392697739093},0,{"$f":"IF((Y591/($C$591)*100)>0,Y591/($C$591)*100,\"\")","v":""},0,{"$f":"IF((AA591/($C$591)*100)>0,AA591/($C$591)*100,\"\")","v":""},235195.65000000002,100]
[16,"PINTURA",397510.79000000015,2.6088252769529712,29235.697000000007,{"$f":"IF((E592/($C$592)*100)>0,E592/($C$592)*100,\"\")","v":7.3546926864551265},72857.557499999995,{"$f":"IF((G592/($C$592)*100)>0,G592/($C$592)*100,\"\")","v":18.328447763644345},49811.565499999997,{"$f":"IF((I592/($C$592)*100)>0,I592/($C$592)*100,\"\")","v":12.530871300374006},34382.772499999999,{"$f":"IF((K592/($C$592)*100)>0,K592/($C$592)*100,\"\")","v":8.6495192998408879},19222.155500000001,{"$f":"IF((M592/($C$592)*100)>0,M592/($C$592)*100,\"\")","v":4.8356311284028273},28387.010000000002,{"$f":"IF((O592/($C$592)*100)>0,O592/($C$592)*100,\"\")","v":7.1411923183267527},27133.357,{"$f":"IF((Q592/($C$592)*100)>0,Q592/($C$592)*100,\"\")","v":6.8258164765791625},50903.108500000002,{"$f":"IF((S592/($C$592)*100)>0,S592/($C$592)*100,\"\")","v":12.805465859178309},66620.638500000001,{"$f":"IF((U592/($C$592)*100)>0,U592/($C$592)*100,\"\")","v":16.759454127018785},18956.928,{"$f":"IF((W592/($C$592)*100)>0,W592/($C$592)*100,\"\")","v":4.7689090401797625},0,{"$f":"IF((Y592/($C$592)*100)>0,Y592/($C$592)*100,\"\")","v":""},0,{"$f":"IF((AA592/($C$592)*100)>0,AA592/($C$592)*100,\"\")","v":""},397510.79000000015,100]
[17,"CALÇAMENTO, PÁTIOS E PASSARELAS",695245.88000000012,4.5628321823450673,0,{"$f":"IF((E593/($C$593)*100)>0,E593/($C$593)*100,\"\")","v":""},0,{"$f":"IF((G593/($C$593)*100)>0,G593/($C$593)*100,\"\")","v":""},0,{"$f":"IF((I593/($C$593)*100)>0,I593/($C$593)*100,\"\")","v":""},0,{"$f":"IF((K593/($C$593)*100)>0,K593/($C$593)*100,\"\")","v":""},0,{"$f":"IF((M593/($C$593)*100)>0,M593/($C$593)*100,\"\")","v":""},173811.47000000003,{"$f":"IF((O593/($C$593)*100)>0,O593/($C$593)*100,\"\")","v":25},173811.47000000003,{"$f":"IF((Q593/($C$593)*100)>0,Q593/($C$593)*100,\"\")","v":25},139049.17600000001,{"$f":"IF((S593/($C$593)*100)>0,S593/($C$593)*100,\"\")","v":20},104286.88200000001,{"$f":"IF((U593/($C$593)*100)>0,U593/($C$593)*100,\"\")","v":15},104286.88200000001,{"$f":"IF((W593/($C$593)*100)>0,W593/($C$593)*100,\"\")","v":15},0,{"$f":"IF((Y593/($C$593)*100)>0,Y593/($C$593)*100,\"\")","v":""},0,{"$f":"IF((AA593/($C$593)*100)>0,AA593/($C$593)*100,\"\")","v":""},695245.88000000012,100]
[18,"SERVIÇOS COMPLEMENTARES",935603.81000000017,6.1402782770789806,0,{"$f":"IF((E594/($C$594)*100)>0,E594/($C$594)*100,\"\")","v":""},0,{"$f":"IF((G594/($C$594)*100)>0,G594/($C$594)*100,\"\")","v":""},0,{"$f":"IF((I594/($C$594)*100)>0,I594/($C$594)*100,\"\")","v":""},93817.938200000004,{"$f":"IF((K594/($C$594)*100)>0,K594/($C$594)*100,\"\")","v":10.027528447110534},163210.42180000001,{"$f":"IF((M594/($C$594)*100)>0,M594/($C$594)*100,\"\")","v":17.444394737982094},24806.12,{"$f":"IF((O594/($C$594)*100)>0,O594/($C$594)*100,\"\")","v":2.651348758402341},0,{"$f":"IF((Q594/($C$594)*100)>0,Q594/($C$594)*100,\"\")","v":""},0,{"$f":"IF((S594/($C$594)*100)>0,S594/($C$594)*100,\"\")","v":""},352971.24000000011,{"$f":"IF((U594/($C$594)*100)>0,U594/($C$594)*100,\"\")","v":37.726571464047375},300798.09000000008,{"$f":"IF((W594/($C$594)*100)>0,W594/($C$594)*100,\"\")","v":32.150156592457655},0,{"$f":"IF((Y594/($C$594)*100)>0,Y594/($C$594)*100,\"\")","v":""},0,{"$f":"IF((AA594/($C$594)*100)>0,AA594/($C$594)*100,\"\")","v":""},935603.81000000017,100]
[19,"INSTALAÇÕES DE SPDA",197232.26,1.2944164492203096,0,{"$f":"IF((E595/($C$595)*100)>0,E595/($C$595)*100,\"\")","v":""},27928.033500000001,{"$f":"IF((G595/($C$595)*100)>0,G595/($C$595)*100,\"\")","v":14.159972359491293},27928.033500000001,{"$f":"IF((I595/($C$595)*100)>0,I595/($C$595)*100,\"\")","v":14.159972359491293},27928.033500000001,{"$f":"IF((K595/($C$595)*100)>0,K595/($C$595)*100,\"\")","v":14.159972359491293},33450.718500000003,{"$f":"IF((M595/($C$595)*100)>0,M595/($C$595)*100,\"\")","v":16.960064494520317},33450.718500000003,{"$f":"IF((O595/($C$595)*100)>0,O595/($C$595)*100,\"\")","v":16.960064494520317},27928.033500000001,{"$f":"IF((Q595/($C$595)*100)>0,Q595/($C$595)*100,\"\")","v":14.159972359491293},18618.689000000002,{"$f":"IF((S595/($C$595)*100)>0,S595/($C$595)*100,\"\")","v":9.4399815729941956},0,{"$f":"IF((U595/($C$595)*100)>0,U595/($C$595)*100,\"\")","v":""},0,{"$f":"IF((W595/($C$595)*100)>0,W595/($C$595)*100,\"\")","v":""},0,{"$f":"IF((Y595/($C$595)*100)>0,Y595/($C$595)*100,\"\")","v":""},0,{"$f":"IF((AA595/($C$595)*100)>0,AA595/($C$595)*100,\"\")","v":""},197232.26,100]
[20,"INSTALAÇÃO DE COMBATE A INCÊNDIO",107145.46,0.70318540122836259,5357.2730000000001,{"$f":"IF((E596/($C$596)*100)>0,E596/($C$596)*100,\"\")","v":5},5357.2730000000001,{"$f":"IF((G596/($C$596)*100)>0,G596/($C$596)*100,\"\")","v":5},10714.546,{"$f":"IF((I596/($C$596)*100)>0,I596/($C$596)*100,\"\")","v":10},10714.546,{"$f":"IF((K596/($C$596)*100)>0,K596/($C$596)*100,\"\")","v":10},16071.819000000001,{"$f":"IF((M596/($C$596)*100)>0,M596/($C$596)*100,\"\")","v":15},16071.819000000001,{"$f":"IF((O596/($C$596)*100)>0,O596/($C$596)*100,\"\")","v":15},16071.819000000001,{"$f":"IF((Q596/($C$596)*100)>0,Q596/($C$596)*100,\"\")","v":15},16071.819000000001,{"$f":"IF((S596/($C$596)*100)>0,S596/($C$596)*100,\"\")","v":15},5357.2730000000001,{"$f":"IF((U596/($C$596)*100)>0,U596/($C$596)*100,\"\")","v":5},5357.2730000000001,{"$f":"IF((W596/($C$596)*100)>0,W596/($C$596)*100,\"\")","v":5},0,{"$f":"IF((Y596/($C$596)*100)>0,Y596/($C$596)*100,\"\")","v":""},0,{"$f":"IF((AA596/($C$596)*100)>0,AA596/($C$596)*100,\"\")","v":""},107145.46,100]
[21,"INSTALAÇÕES ELÉTRICA",2361137.7299999995,15.495920984663977,0,{"$f":"IF((E597/($C$597)*100)>0,E597/($C$597)*100,\"\")","v":""},45773.273999999983,{"$f":"IF((G597/($C$597)*100)>0,G597/($C$597)*100,\"\")","v":1.9386109255049682},190120.20599999995,{"$f":"IF((I597/($C$597)*100)>0,I597/($C$597)*100,\"\")","v":8.0520591232092151},261122.48699999991,{"$f":"IF((K597/($C$597)*100)>0,K597/($C$597)*100,\"\")","v":11.059180651863116},222040.3629999999,{"$f":"IF((M597/($C$597)*100)>0,M597/($C$597)*100,\"\")","v":9.4039564138429128},395540.81199999998,{"$f":"IF((O597/($C$597)*100)>0,O597/($C$597)*100,\"\")","v":16.752127882010512},354415.47899999999,{"$f":"IF((Q597/($C$597)*100)>0,Q597/($C$597)*100,\"\")","v":15.010368708986752},411900.57199999999,{"$f":"IF((S597/($C$597)*100)>0,S597/($C$597)*100,\"\")","v":17.445004023547583},429422.62499999994,{"$f":"IF((U597/($C$597)*100)>0,U597/($C$597)*100,\"\")","v":18.187106137175661},50801.911999999997,{"$f":"IF((W597/($C$597)*100)>0,W597/($C$597)*100,\"\")","v":2.1515861338592899},0,{"$f":"IF((Y597/($C$597)*100)>0,Y597/($C$597)*100,\"\")","v":""},0,{"$f":"IF((AA597/($C$597)*100)>0,AA597/($C$597)*100,\"\")","v":""},2361137.7299999995,100]
[22,"LOGICA E TELEFONICA",426723.06,2.8005426096401531,0,{"$f":"IF((E598/($C$598)*100)>0,E598/($C$598)*100,\"\")","v":""},9721.73,{"$f":"IF((G598/($C$598)*100)>0,G598/($C$598)*100,\"\")","v":2.2782293509050104},51152.966,{"$f":"IF((I598/($C$598)*100)>0,I598/($C$598)*100,\"\")","v":11.987392010171655},84760.305999999997,{"$f":"IF((K598/($C$598)*100)>0,K598/($C$598)*100,\"\")","v":19.86307137936253},70949.894,{"$f":"IF((M598/($C$598)*100)>0,M598/($C$598)*100,\"\")","v":16.626683826273648},37340.157500000001,{"$f":"IF((O598/($C$598)*100)>0,O598/($C$598)*100,\"\")","v":8.7504428516237223},59349.722500000003,{"$f":"IF((Q598/($C$598)*100)>0,Q598/($C$598)*100,\"\")","v":13.908252931069628},53255.739500000003,{"$f":"IF((S598/($C$598)*100)>0,S598/($C$598)*100,\"\")","v":12.480164418580989},46024.092500000006,{"$f":"IF((U598/($C$598)*100)>0,U598/($C$598)*100,\"\")","v":10.785471143743674},14168.451999999999,{"$f":"IF((W598/($C$598)*100)>0,W598/($C$598)*100,\"\")","v":3.320292088269146},0,{"$f":"IF((Y598/($C$598)*100)>0,Y598/($C$598)*100,\"\")","v":""},0,{"$f":"IF((AA598/($C$598)*100)>0,AA598/($C$598)*100,\"\")","v":""},426723.06,100]
[23,"CLIMATIZAÇÃO - AR CONDICIONADO",1116776.01,7.3292940893068161,31473.510500000004,{"$f":"IF((E599/($C$599)*100)>0,E599/($C$599)*100,\"\")","v":2.8182473672585431},203890.641,{"$f":"IF((G599/($C$599)*100)>0,G599/($C$599)*100,\"\")","v":18.257075651186312},203394.16850000003,{"$f":"IF((I599/($C$599)*100)>0,I599/($C$599)*100,\"\")","v":18.212619780398043},203692.05200000003,{"$f":"IF((K599/($C$599)*100)>0,K599/($C$599)*100,\"\")","v":18.239293302871005},172417.1305,{"$f":"IF((M599/($C$599)*100)>0,M599/($C$599)*100,\"\")","v":15.438828283927769},19706.470000000008,{"$f":"IF((O599/($C$599)*100)>0,O599/($C$599)*100,\"\")","v":1.7645857202824411},68107.685000000027,{"$f":"IF((Q599/($C$599)*100)>0,Q599/($C$599)*100,\"\")","v":6.0985985005175767},101439.84250000003,{"$f":"IF((S599/($C$599)*100)>0,S599/($C$599)*100,\"\")","v":9.0832755710789339},83094.805000000022,{"$f":"IF((U599/($C$599)*100)>0,U599/($C$599)*100,\"\")","v":7.4405972420557296},29559.705000000009,{"$f":"IF((W599/($C$599)*100)>0,W599/($C$599)*100,\"\")","v":2.6468785804236616},0,{"$f":"IF((Y599/($C$599)*100)>0,Y599/($C$599)*100,\"\")","v":""},0,{"$f":"IF((AA599/($C$599)*100)>0,AA599/($C$599)*100,\"\")","v":""},1116776.01,100]
[24,"INFRAESTRUTURA PARA INSTALAÇÃO DE AUDIO E VÍDEO",309609.94,2.0319404096374152,0,{"$f":"IF((E600/($C$600)*100)>0,E600/($C$600)*100,\"\")","v":""},6048.8419999999996,{"$f":"IF((G600/($C$600)*100)>0,G600/($C$600)*100,\"\")","v":1.9536976106128892},6048.8419999999996,{"$f":"IF((I600/($C$600)*100)>0,I600/($C$600)*100,\"\")","v":1.9536976106128892},90416.282999999981,{"$f":"IF((K600/($C$600)*100)>0,K600/($C$600)*100,\"\")","v":29.203288176083745},101625.28499999997,{"$f":"IF((M600/($C$600)*100)>0,M600/($C$600)*100,\"\")","v":32.823650623103376},11209.002000000002,{"$f":"IF((O600/($C$600)*100)>0,O600/($C$600)*100,\"\")","v":3.6203624470196281},21705.993000000002,{"$f":"IF((Q600/($C$600)*100)>0,Q600/($C$600)*100,\"\")","v":7.0107545642752953},30112.744500000004,{"$f":"IF((S600/($C$600)*100)>0,S600/($C$600)*100,\"\")","v":9.7260263995400162},34087.300500000005,{"$f":"IF((U600/($C$600)*100)>0,U600/($C$600)*100,\"\")","v":11.009756502003782},8355.648000000001,{"$f":"IF((W600/($C$600)*100)>0,W600/($C$600)*100,\"\")","v":2.6987660667483744},0,{"$f":"IF((Y600/($C$600)*100)>0,Y600/($C$600)*100,\"\")","v":""},0,{"$f":"IF((AA600/($C$600)*100)>0,AA600/($C$600)*100,\"\")","v":""},309609.94,100]
[25,"INSTALAÇÕES HIDRAULICAS ",27783.209999999988,0.18233854865396859,1341.4404999999992,{"$f":"IF((E601/($C$601)*100)>0,E601/($C$601)*100,\"\")","v":4.8282415890748398},12072.964499999995,{"$f":"IF((G601/($C$601)*100)>0,G601/($C$601)*100,\"\")","v":43.454174301673568},5365.761999999997,{"$f":"IF((I601/($C$601)*100)>0,I601/($C$601)*100,\"\")","v":19.312966356299359},8048.6429999999955,{"$f":"IF((K601/($C$601)*100)>0,K601/($C$601)*100,\"\")","v":28.969449534449037},0,{"$f":"IF((M601/($C$601)*100)>0,M601/($C$601)*100,\"\")","v":""},0,{"$f":"IF((O601/($C$601)*100)>0,O601/($C$601)*100,\"\")","v":""},954.39999999999986,{"$f":"IF((Q601/($C$601)*100)>0,Q601/($C$601)*100,\"\")","v":3.4351682185031907},0,{"$f":"IF((S601/($C$601)*100)>0,S601/($C$601)*100,\"\")","v":""},0,{"$f":"IF((U601/($C$601)*100)>0,U601/($C$601)*100,\"\")","v":""},0,{"$f":"IF((W601/($C$601)*100)>0,W601/($C$601)*100,\"\")","v":""},0,{"$f":"IF((Y601/($C$601)*100)>0,Y601/($C$601)*100,\"\")","v":""},0,{"$f":"IF((AA601/($C$601)*100)>0,AA601/($C$601)*100,\"\")","v":""},27783.209999999988,100]
[26,"ÁGUAS PLUVIAIS DE COBERTURA",518491.7699999999,3.4028118720200915,48245.111000000004,{"$f":"IF((E602/($C$602)*100)>0,E602/($C$602)*100,\"\")","v":9.3048942705493687},86763.604999999996,{"$f":"IF((G602/($C$602)*100)>0,G602/($C$602)*100,\"\")","v":16.73384420354445},38518.493999999999,{"$f":"IF((I602/($C$602)*100)>0,I602/($C$602)*100,\"\")","v":7.4289499329950797},0,{"$f":"IF((K602/($C$602)*100)>0,K602/($C$602)*100,\"\")","v":""},60750.599999999991,{"$f":"IF((M602/($C$602)*100)>0,M602/($C$602)*100,\"\")","v":11.716791570288571},77077.683999999994,{"$f":"IF((O602/($C$602)*100)>0,O602/($C$602)*100,\"\")","v":14.865748785173583},169669.29999999996,{"$f":"IF((Q602/($C$602)*100)>0,Q602/($C$602)*100,\"\")","v":32.723624523490507},34653.995999999992,{"$f":"IF((S602/($C$602)*100)>0,S602/($C$602)*100,\"\")","v":6.6836154409934023},2812.98,{"$f":"IF((U602/($C$602)*100)>0,U602/($C$602)*100,\"\")","v":0.54253127296504644},0,{"$f":"IF((W602/($C$602)*100)>0,W602/($C$602)*100,\"\")","v":""},0,{"$f":"IF((Y602/($C$602)*100)>0,Y602/($C$602)*100,\"\")","v":""},0,{"$f":"IF((AA602/($C$602)*100)>0,AA602/($C$602)*100,\"\")","v":""},518491.7699999999,100]
[27,"INSTALAÇÕES SANITÁRIAS",75113.86,0.49296507553293495,3612.2890000000002,{"$f":"IF((E603/($C$603)*100)>0,E603/($C$603)*100,\"\")","v":4.8090845018482611},32510.601000000002,{"$f":"IF((G603/($C$603)*100)>0,G603/($C$603)*100,\"\")","v":43.28176051663435},14449.156000000001,{"$f":"IF((I603/($C$603)*100)>0,I603/($C$603)*100,\"\")","v":19.236338007393044},21673.734,{"$f":"IF((K603/($C$603)*100)>0,K603/($C$603)*100,\"\")","v":28.854507011089563},0,{"$f":"IF((M603/($C$603)*100)>0,M603/($C$603)*100,\"\")","v":""},0,{"$f":"IF((O603/($C$603)*100)>0,O603/($C$603)*100,\"\")","v":""},2868.0800000000004,{"$f":"IF((Q603/($C$603)*100)>0,Q603/($C$603)*100,\"\")","v":3.8183099630347854},0,{"$f":"IF((S603/($C$603)*100)>0,S603/($C$603)*100,\"\")","v":""},0,{"$f":"IF((U603/($C$603)*100)>0,U603/($C$603)*100,\"\")","v":""},0,{"$f":"IF((W603/($C$603)*100)>0,W603/($C$603)*100,\"\")","v":""},0,{"$f":"IF((Y603/($C$603)*100)>0,Y603/($C$603)*100,\"\")","v":""},0,{"$f":"IF((AA603/($C$603)*100)>0,AA603/($C$603)*100,\"\")","v":""},75113.86,100]
[28,"LOUÇAS E METÁIS",156376.83000000005,1.0262861715873868,0,{"$f":"IF((E604/($C$604)*100)>0,E604/($C$604)*100,\"\")","v":""},17415.170000000002,{"$f":"IF((G604/($C$604)*100)>0,G604/($C$604)*100,\"\")","v":11.136669032106608},17289.050000000003,{"$f":"IF((I604/($C$604)*100)>0,I604/($C$604)*100,\"\")","v":11.056017697762513},38134.26,{"$f":"IF((K604/($C$604)*100)>0,K604/($C$604)*100,\"\")","v":24.386131884116075},38134.26,{"$f":"IF((M604/($C$604)*100)>0,M604/($C$604)*100,\"\")","v":24.386131884116075},0,{"$f":"IF((O604/($C$604)*100)>0,O604/($C$604)*100,\"\")","v":""},7002.9350000000013,{"$f":"IF((Q604/($C$604)*100)>0,Q604/($C$604)*100,\"\")","v":4.4782433561289094},6891.8590000000004,{"$f":"IF((S604/($C$604)*100)>0,S604/($C$604)*100,\"\")","v":4.4072123728304238},17231.550000000003,{"$f":"IF((U604/($C$604)*100)>0,U604/($C$604)*100,\"\")","v":11.019247544537128},14277.746000000003,{"$f":"IF((W604/($C$604)*100)>0,W604/($C$604)*100,\"\")","v":9.1303462284022494},0,{"$f":"IF((Y604/($C$604)*100)>0,Y604/($C$604)*100,\"\")","v":""},0,{"$f":"IF((AA604/($C$604)*100)>0,AA604/($C$604)*100,\"\")","v":""},156376.83000000005,100]
[29,"SISTEMA DE TRATAMENTO DE ESGOTO",0,0,0,{"$f":"IF((E605/($C$605)*100)>0,E605/($C$605)*100,\"\")","v":{"$error":"#DIV/0!"}},0,{"$f":"IF((G605/($C$605)*100)>0,G605/($C$605)*100,\"\")","v":{"$error":"#DIV/0!"}},0,{"$f":"IF((I605/($C$605)*100)>0,I605/($C$605)*100,\"\")","v":{"$error":"#DIV/0!"}},0,{"$f":"IF((K605/($C$605)*100)>0,K605/($C$605)*100,\"\")","v":{"$error":"#DIV/0!"}},0,{"$f":"IF((M605/($C$605)*100)>0,M605/($C$605)*100,\"\")","v":{"$error":"#DIV/0!"}},0,{"$f":"IF((O605/($C$605)*100)>0,O605/($C$605)*100,\"\")","v":{"$error":"#DIV/0!"}},0,{"$f":"IF((Q605/($C$605)*100)>0,Q605/($C$605)*100,\"\")","v":{"$error":"#DIV/0!"}},0,{"$f":"IF((S605/($C$605)*100)>0,S605/($C$605)*100,\"\")","v":{"$error":"#DIV/0!"}},0,{"$f":"IF((U605/($C$605)*100)>0,U605/($C$605)*100,\"\")","v":{"$error":"#DIV/0!"}},0,{"$f":"IF((W605/($C$605)*100)>0,W605/($C$605)*100,\"\")","v":{"$error":"#DIV/0!"}},0,{"$f":"IF((Y605/($C$605)*100)>0,Y605/($C$605)*100,\"\")","v":{"$error":"#DIV/0!"}},0,{"$f":"IF((AA605/($C$605)*100)>0,AA605/($C$605)*100,\"\")","v":{"$error":"#DIV/0!"}},0,{"$error":"#DIV/0!"}]
[30,"LIMPEZA CONTÍNUA DA OBRA",48802.64,0.32028705639420779,4880.2640000000001,{"$f":"IF((E606/($C$606)*100)>0,E606/($C$606)*100,\"\")","v":10},4880.2640000000001,{"$f":"IF((G606/($C$606)*100)>0,G606/($C$606)*100,\"\")","v":10},4880.2640000000001,{"$f":"IF((I606/($C$606)*100)>0,I606/($C$606)*100,\"\")","v":10},4880.2640000000001,{"$f":"IF((K606/($C$606)*100)>0,K606/($C$606)*100,\"\")","v":10},4880.2640000000001,{"$f":"IF((M606/($C$606)*100)>0,M606/($C$606)*100,\"\")","v":10},4880.2640000000001,{"$f":"IF((O606/($C$606)*100)>0,O606/($C$606)*100,\"\")","v":10},4880.2640000000001,{"$f":"IF((Q606/($C$606)*100)>0,Q606/($C$606)*100,\"\")","v":10},4880.2640000000001,{"$f":"IF((S606/($C$606)*100)>0,S606/($C$606)*100,\"\")","v":10},4880.2640000000001,{"$f":"IF((U606/($C$606)*100)>0,U606/($C$606)*100,\"\")","v":10},4880.2640000000001,{"$f":"IF((W606/($C$606)*100)>0,W606/($C$606)*100,\"\")","v":10},0,{"$f":"IF((Y606/($C$606)*100)>0,Y606/($C$606)*100,\"\")","v":""},0,{"$f":"IF((AA606/($C$606)*100)>0,AA606/($C$606)*100,\"\")","v":""},48802.64,100]
[31,"LIMPEZA FINAL PARA ENTREGA",20291.55,0.13317150095109376,0,{"$f":"IF((E607/($C$607)*100)>0,E607/($C$607)*100,\"\")","v":""},25.1,{"$f":"IF((G607/($C$607)*100)>0,G607/($C$607)*100,\"\")","v":0.12369680975578506},0,{"$f":"IF((I607/($C$607)*100)>0,I607/($C$607)*100,\"\")","v":""},0,{"$f":"IF((K607/($C$607)*100)>0,K607/($C$607)*100,\"\")","v":""},13078.58,{"$f":"IF((M607/($C$607)*100)>0,M607/($C$607)*100,\"\")","v":64.453331559195831},1244.1300000000001,{"$f":"IF((O607/($C$607)*100)>0,O607/($C$607)*100,\"\")","v":6.1312713912934216},25.1,{"$f":"IF((Q607/($C$607)*100)>0,Q607/($C$607)*100,\"\")","v":0.12369680975578506},0,{"$f":"IF((S607/($C$607)*100)>0,S607/($C$607)*100,\"\")","v":""},669.23,{"$f":"IF((U607/($C$607)*100)>0,U607/($C$607)*100,\"\")","v":3.298072350313308},5249.41,{"$f":"IF((W607/($C$607)*100)>0,W607/($C$607)*100,\"\")","v":25.86993107968588},0,{"$f":"IF((Y607/($C$607)*100)>0,Y607/($C$607)*100,\"\")","v":""},0,{"$f":"IF((AA607/($C$607)*100)>0,AA607/($C$607)*100,\"\")","v":""},20291.55,100]
[null,"TOTAL",{"$f":"SUM(C577:C607)","v":15237156.490000002},{"$f":"SUM(D577:D607)","v":99.999999999999986},{"$f":"SUM(E577:E607)","v":384400.15370000008},{"$f":"E608/$C608*100","v":2.5227814254731729},{"$f":"SUM(G577:G607)","v":1337045.6565},{"$f":"G608/$C608*100","v":8.7749027016785597},{"$f":"SUM(I577:I607)","v":2463579.4614999997},{"$f":"I608/$C608*100","v":16.168236265846737},{"$f":"SUM(K577:K607)","v":2200249.4771999996},{"$f":"K608/$C608*100","v":14.440026776938348},{"$f":"SUM(M577:M607)","v":1950450.0926000001},{"$f":"M608/$C608*100","v":12.800617319117654},{"$f":"SUM(O577:O607)","v":1407725.4319999996},{"$f":"O608/$C608*100","v":9.2387673049356422},{"$f":"SUM(Q577:Q607)","v":1610834.7970000003},{"$f":"Q608/$C608*100","v":10.571754631890638},{"$f":"SUM(S577:S607)","v":1504606.2644999998},{"$f":"S608/$C608*100","v":9.8745869381039597},{"$f":"SUM(U577:U607)","v":1545790.6604999998},{"$f":"U608/$C608*100","v":10.144876188116116},{"$f":"SUM(W577:W607)","v":832474.49450000026},{"$f":"W608/$C608*100","v":5.463450447899155},{"$f":"SUM(Y577:Y607)","v":0},{"$f":"Y608/$C608*100","v":0},{"$f":"SUM(AA577:AA607)","v":0},{"$f":"AA608/$C608*100","v":0},{"$f":"SUM(AC577:AC607)","v":15237156.490000002},{"$f":"AC608/$C608*100","v":100}]
[null,"TOTAL ACUMULADO",null,null,{"$f":"E608","v":384400.15370000008},{"$f":"E609/$C608*100","v":2.5227814254731729},{"$f":"G608+E609","v":1721445.8102000002},{"$f":"G609/$C608*100","v":11.297684127151731},{"$f":"I608+G609","v":4185025.2716999999},{"$f":"I609/$C608*100","v":27.465920392998466},{"$f":"K608+I609","v":6385274.7489},{"$f":"K609/$C608*100","v":41.905947169936816},{"$f":"M608+K609","v":8335724.8415000001},{"$f":"M609/$C608*100","v":54.706564489054479},{"$f":"O608+M609","v":9743450.2734999992},{"$f":"O609/$C608*100","v":63.945331793990114},{"$f":"Q608+O609","v":11354285.070499999},{"$f":"Q609/$C608*100","v":74.517086425880748},{"$f":"S608+Q609","v":12858891.334999999},{"$f":"S609/$C608*100","v":84.391673363984708},{"$f":"U608+S609","v":14404681.995499998},{"$f":"U609/$C608*100","v":94.536549552100823},{"$f":"W608+U609","v":15237156.489999998},{"$f":"W609/$C608*100","v":99.999999999999972},{"$f":"Y608+W609","v":15237156.489999998},{"$f":"Y609/$C608*100","v":99.999999999999972},{"$f":"AA608+Y609","v":15237156.489999998},{"$f":"AA609/$C608*100","v":99.999999999999972}]

{"sheet":"PLANILHA RESUMO","index":1,"n_rows":70,"n_cols":6,"rows_kept":70,"cut":false,"hidden":true,"merged":[[37,1,37,3],[31,1,31,3],[35,1,35,3],[33,1,33,3],[29,1,29,3],[23,1,23,3],[25,1,25,3],[0,0,3,5],[27,1,27,3],[6,0,6,5],[7,0,7,5],[8,0,8,5],[9,0,9,5],[10,0,10,5],[4,0,4,5],[5,0,5,5],[13,1,13,3],[15,1,15,3],[17,1,17,3],[19,1,19,3],[21,1,21,3]]}
["RESUMO PLANILHA ORÇAMENTÁRIA"]
[]
[]
[]
["SESI - SERVIÇO SOCIAL DA INDUSTRIA - DR/MT"]
["OBRA: CONTRATAÇÃO DE EMPRESA ESPECIALIZADA PARA CONTINUIDADE DA EXECUÇÃO DA OBRA DE REFORMA E AMPLIAÇÃO DA UNIDADE DO SESI ESCOLA VÁRZEA GRANDE/MT."]
["UNIDADE OPERACIONAL: SESI ESCOLA VÁRZEA GRANDE"]
["ENDEREÇO: AV. DOM ORLANDO CHAVES, N.º 1.086, PONTE NOVA - CRISTO REI         CIDADE: VÁRZEA GRANDE/MT"]
["CONSTRUTORA:"]
["RESPONSÁVEL TÉCNICO:"]
[]
["ITEM","DESCRIÇÃO",null,null,"%","Valor Total (R$)"]
[]
[1,{"$f":"'1_IMPLANTAÇÃO'!B14","v":"IMPLANTAÇÃO"},null,null,{"$f":"F14/$F$38","v":0.321892129494038},{"$f":"'1_IMPLANTAÇÃO'!F817","v":4904720.7500000009}]
[]
[2,{"$f":"'2_BLOCO A-FACHADA'!B14","v":"BLOCO A e FACHADA"},null,null,{"$f":"F16/$F$38","v":0.14605159508997073},{"$f":"'2_BLOCO A-FACHADA'!F726","v":2225411.0099999993}]
[]
[3,{"$f":"'3_BLOCO B'!B14","v":"BLOCO B"},null,null,{"$f":"F18/$F$38","v":0.12107088886372661},{"$f":"'3_BLOCO B'!F695","v":1844776.0800000003}]
[]
[4,"BLOCO C",null,null,{"$f":"F20/$F$38","v":8.2408969207876187E-2},{"$f":"'4_BLOCO C'!F571","v":1255678.3600000006}]
[]
[5,"BLOCO D",null,null,{"$f":"F22/$F$38","v":0.17658385682170005},{"$f":"'5_BLOCO D'!F749","v":2690635.8599999975}]
[]
[6,"BLOCO E",null,null,{"$f":"F24/$F$38","v":3.0247232172385462E-2},{"$f":"'6_BLOCO E'!F344","v":460881.80999999988}]
[]
[7,{"$f":"'7_MINI QUADRA'!B14","v":"MINI QUADRA COBERTA"},null,null,{"$f":"F26/$F$38","v":4.2031370513278737E-2},{"$f":"'7_MINI QUADRA'!F198","v":640438.56999999972}]
[]
[8,{"$f":"'8_SALA DE DANÇA'!B14","v":"SALA DE DANÇA"},null,null,{"$f":"F28/$F$38","v":2.456900211307075E-2},{"$f":"'8_SALA DE DANÇA'!F390","v":374361.72999999963}]
[]
[9,{"$f":"'9_ÁREA CONVIVÊNCIA'!B14","v":"ÁREA DE CONVIVÊNCIA COBERTA"},null,null,{"$f":"F30/$F$38","v":1.380602149344992E-2},{"$f":"'9_ÁREA CONVIVÊNCIA'!F314","v":210364.50999999992}]
[]
[10,{"$f":"'10_ABRIGO GLP E RESIDUOS'!B14","v":"ABRIGO GLP E ABRIGO RESIDUOS SÓLIDOS"},null,null,{"$f":"F32/$F$38","v":3.9998060031737597E-3},{"$f":"'10_ABRIGO GLP E RESIDUOS'!F143","v":60945.670000000006}]
[]
[11,{"$f":"'11_CABINA DE FORÇA'!B14","v":"CABINA DE FORÇA"},null,null,{"$f":"F34/$F$38","v":3.3868980103911761E-2},{"$f":"'11_CABINA DE FORÇA'!F200","v":516066.9499999999}]
[]
[12,{"$f":"'12_ASD'!B14","v":"ASD"},null,null,{"$f":"F36/$F$38","v":3.4701481234180064E-3},{"$f":"'12_ASD'!F107","v":52875.189999999995}]
[]
[null,"VALOR TOTAL DO SESI ESCOLA VÁRZEA GRANDE",null,null,{"$f":"SUBTOTAL(9,E14:E37)","v":1},{"$f":"SUBTOTAL(9,F14:F37)","v":15237156.489999998}]
[]
[]
[]
[]
[]
[]
[]
[]
[]
[]
[]
[]
[]
[]
[]
[]
[]
[]
[]
[]
[]
[]
[]
[]
[]
[]
[]
[]
[]
[]
[]
[null," "]

{"sheet":"1_IMPLANTAÇÃO","index":2,"n_rows":817,"n_cols":6,"rows_kept":817,"cut":false,"hidden":true,"merged":[[9,0,9,5],[10,0,10,5],[4,0,4,5],[5,0,5,5],[7,0,7,5],[6,0,6,5],[8,0,8,5],[0,3,1,5],[2,3,3,3],[2,4,3,4],[2,5,3,5],[0,0,3,2]]}
["                                 PLANILHA ORÇAMENTARIA   ",null,null,"SPN-FF-003"]
[]
[null,null,null,"Folha:              1 de 1","Revisão:      \n02","Data: \n07/10/19"]
[]
["SESI - SERVIÇO SOCIAL DA INDUSTRIA - DR/MT"]
["OBRA: CONTRATAÇÃO DE EMPRESA ESPECIALIZADA PARA CONTINUIDADE DA EXECUÇÃO DA OBRA DE REFORMA E AMPLIAÇÃO DA UNIDADE DO SESI ESCOLA VÁRZEA GRANDE/MT."]
["UNIDADE OPERACIONAL: SESI ESCOLA VÁRZEA GRANDE"]
["ENDEREÇO: AV. DOM ORLANDO CHAVES, N.º 1.086, PONTE NOVA - CRISTO REI         CIDADE: VÁRZEA GRANDE/MT"]
["CONSTRUTORA:"]
["RESPONSÁVEL TÉCNICO:"]
["BASE SINAPI UTILIZADA: 06/2021"]
["ITEM","DESCRIÇÃO","UNID.","QUANT.","Valor UNIT. (R$)","Valor Total (R$)"]
[]
[1,"IMPLANTAÇÃO"]
[]
["1.0","DEMOLIÇÕES E RETIRADAS",null,null,null,{"$f":"SUBTOTAL(9,F17:F40)","v":115000.08000000002}]
["1.0.1","DEMOLIÇÃO DE PILARES, VIGAS E LAJES EM CONCRETO ARMADO, DE FORMA MECANIZADA COM MARTELETE, SEM REAPROVEITAMENTO - BORDA DA PISCINA NO LOCAL DO ESTACIONAMENTO FRONTAL E LAJE CISTERNA ENTERRADA","M3",28.249659999999999,243.62,{"$f":"ROUND(D17*E17,2)","v":6882.18}]
["1.0.2","DEMOLIÇÃO PARCIAL DE PAVIMENTO ASFÁLTICO, DE FORMA MECANIZADA, SEM REAPROVEITAMENTO - DEMOLIÇÃO DAS CALÇADAS EXTERNAS","M2",1655.93,16.149999999999999,26743.27]
["1.0.3","DEMOLIÇÃO PARCIAL DE PAVIMENTO ASFÁLTICO, DE FORMA MECANIZADA, SEM REAPROVEITAMENTO - DEMOLIÇÃO DAS CALÇADAS DAS VAGAS EXTERNAS EXISTENTES","M2",509.22,16.149999999999999,8223.9]
["1.0.4","DEMOLIÇÃO DE ALVENARIA PARA QUALQUER TIPO DE BLOCO, DE FORMA MECANIZADA, SEM REAPROVEITAMENTO - DEPOSITO AO LADO DA CABINA DE FORÇA EXISTENTE","M3",15.538499999999999,50.71,787.96]
["1.0.5","DEMOLIÇÃO DE ALVENARIA PARA QUALQUER TIPO DE BLOCO, DE FORMA MECANIZADA, SEM REAPROVEITAMENTO - CASA DE MAQUINAS DA ANTIGA PISCINA","M3",6.6899999999999995,50.71,339.25]
["1.0.6","REMOÇÃO DE TELHAS, DE FIBROCIMENTO, METÁLICA E CERÂMICA, DE FORMA MANUAL, SEM REAPROVEITAMENTO - DEPOSITO AO LADO DA CABINA DE FORÇA EXISTENTE","M2",60,3.12,187.2]
["1.0.7","REMOÇÃO DE TELHAS, DE FIBROCIMENTO, METÁLICA E CERÂMICA, DE FORMA MANUAL, SEM REAPROVEITAMENTO - CASA DE MAQUINAS DA ANTIGA PISCINA","M2",30,3.12,93.6]
["1.0.8","DEMOLIÇÃO DE ALVENARIA PARA QUALQUER TIPO DE BLOCO, DE FORMA MECANIZADA, SEM REAPROVEITAMENTO - MURETAS EXISTENTES","M3",25.5,50.71,1293.1099999999999]
["1.0.9","DEMOLIÇÃO DE ALVENARIA PARA QUALQUER TIPO DE BLOCO, DE FORMA MECANIZADA, SEM REAPROVEITAMENTO - PISO DE CONCRETO DO ENTORNO DA SALA DE DANÇA E ÁREA DE CONVIVÊNCIA","M3",213.81300000000002,50.71,10842.46]
["1.0.10","DEMOLIÇÃO DE ALVENARIA PARA QUALQUER TIPO DE BLOCO, DE FORMA MECANIZADA, SEM REAPROVEITAMENTO - PISO DE CONCRETO DO ACESSO DE SAIDA DO ESTACIONAMENTO, INCLUSO MEIO FIO","M3",46,50.71,2332.66]
[null,"DEMOLIÇÃO DE LAJES, DE FORMA MECANIZADA COM MARTELETE, SEM REAPROVEITAMENTO. AF_12/2017","M3",7,106.24,743.68]
["1.0.11","RETIRADA DE PALMEIRA IMPERIAL,  SEM REAPROVEITAMENTO","UN",7,1085.82,7600.74]
["1.0.12","RETIRADA DE ÁRVORES DE GRANDE PORTE, INCLUSIVE CORTES, DESTOCAMENTO E BOTA-FORA ","UN",27,371.01,10017.27]
["1.0.13","BOTA FORA DE MATERIAL DESCARTADO, D.M.T. = 10 km - (CARGA, TRANSPORTE E DESCARGA MECÂNICA) - MATERIAL DEMOLIDO DAS BORDAS DA PISCINA","M3",36.724558000000002,58.67,2154.63]
["1.0.14","BOTA FORA DE MATERIAL DESCARTADO, D.M.T. = 10 km - (CARGA, TRANSPORTE E DESCARGA MECÂNICA) - MATERIAL DEMOLIDO DAS CALÇADAS","M3",150.68963000000002,58.67,8840.9599999999991]
["1.0.15","BOTA FORA DE MATERIAL DESCARTADO, D.M.T. = 10 km - (CARGA, TRANSPORTE E DESCARGA MECÂNICA) - MATERIAL DEMOLIDO DAS VAGAS EXTENAS EXISTENTES","M3",46.339020000000005,58.67,2718.71]
["1.0.16","BOTA FORA DE MATERIAL DESCARTADO, D.M.T. = 10 km - (CARGA, TRANSPORTE E DESCARGA MECÂNICA) - MATERIAL DA REMOÇÃO DAS PALMEIRAS","M3",15.120000000000001,58.67,887.09]
["1.0.17","BOTA FORA DE MATERIAL DESCARTADO, D.M.T. = 10 km - (CARGA, TRANSPORTE E DESCARGA MECÂNICA) - MATERIAL DA REMOÇÃO DAS ARVORES","M3",9.5399999999999991,58.67,559.71]
["1.0.18","BOTA FORA DE MATERIAL DESCARTADO, D.M.T. = 10 km - (CARGA, TRANSPORTE E DESCARGA MECÂNICA) - MATERIAL DEMOLIDO DO DEPOSITO AO LADO DA CABINA DE FORÇA EXISTENTE","M3",23.3385,58.67,1369.27]
["1.0.19","BOTA FORA DE MATERIAL DESCARTADO, D.M.T. = 10 km - (CARGA, TRANSPORTE E DESCARGA MECÂNICA) - MATERIAL DEMOLIDO DA CASA DE MAQUINAS DA ANTIGA PISCINA","M3",10.59,58.67,621.32000000000005]
["1.0.20","BOTA FORA DE MATERIAL DESCARTADO, D.M.T. = 10 km - (CARGA, TRANSPORTE E DESCARGA MECÂNICA) - MATERIAL DEMOLIDO DA MURETA EXISTENTE NO DESNIVEL DO ESTACIONAMENTO PAVIMENTADO COM ESTACIONAMENTO DE BRITA","M3",33.15,58.67,1944.91]
["1.0.21","BOTA FORA DE MATERIAL DESCARTADO, D.M.T. = 10 km - (CARGA, TRANSPORTE E DESCARGA MECÂNICA) - MATERIAL DEMOLIDO DO PISO DE CONCRETO DO ENTORNO DA SALA DE DANÇA E ÁREA DE CONVIVÊNCIA","M3",277.95690000000002,58.67,16307.73]
["1.0.22","BOTA FORA DE MATERIAL DESCARTADO, D.M.T. = 10 km - (CARGA, TRANSPORTE E DESCARGA MECÂNICA) - MATERIAL DEMOLIDO DO PISO DE CONCRETO DO ACESSO DE SAIDA DO ESTACIONAMENTO","M3",59.800000000000004,58.67,3508.47]
[]
["1.1","INSTALAÇÕES DE CANTEIRO",null,null,null,{"$f":"SUBTOTAL(9,F42:F65)","v":84941.439999999988}]
["1.1.1","PLACA DE OBRA EM CHAPA DE AÇO GALVANIZADA, INSTALADA, SENDO: 3,50X1,5M","M2",4.5,372.36,{"$f":"ROUND(D42*E42,2)","v":1675.62}]
["1.1.2","TAXAS DO CREA - REGISTRO DE ART`S DE EXECUÇÃO","UN",2,286.23,572.46]
["1.1.3","PLOTAGENS DE PLANTAS IMPRESSÕES ","M2",60,19.09,1145.4000000000001]
["1.1.4","TAPUME COM TELHA METÁLICA - PARA ISOLAMENTO DO BLOCO B","M2",20,104.43,{"$f":"ROUND(D45*E45,2)","v":2088.6}]
["1.1.5","EXTINTOR DE INCÊNDIO PORTÁTIL COM CARGA DE PQS DE 4 KG, CLASSE BC - FORNECIMENTO E INSTALAÇÃO. AF_10/2020_P","UN",1,215.03,215.03]
["1.1.6","EXTINTOR DE INCÊNDIO PORTÁTIL COM CARGA DE CO2 DE 6 KG, CLASSE BC - FORNECIMENTO E INSTALAÇÃO. AF_10/2020_P","UN",1,710.19,710.19]
["1.1.7","EXTINTOR DE INCÊNDIO PORTÁTIL COM CARGA DE ÁGUA PRESSURIZADA DE 10 L, CLASSE A - FORNECIMENTO E INSTALAÇÃO. AF_10/2020_P","UN",1,221.66,221.66]
["1.1.8","CONSUMO MENSAL DE ENERGIA","MÊS",10,1900.31,19003.099999999999]
["1.1.9","CONSUMO MENSAL DE ÁGUA POTÁVEL DA OBRA\n**SERÁ FORNECIDO PELO SESI ESCOLA","MÊS",10,0,0]
["1.1.10","ALUGUEL DE BEBEDOURO 100 LITROS (01 UNIDADE)","MES",10,85.78,857.8]
["1.1.11","DESPESAS MENSAL COM TELEFONIA, INTERNET","MÊS",10,145.6,1456]
["1.1.12","FORNECIMENTO DE DIÁRIO DE OBRAS ONLINE PARA ATÉ 10 USUARIOS, PLANO MENSAL","MÊS",10,233.81,2338.1]
["1.1.13","CONSUMO MENSAL DE MATERIAL DE ESCRITÓRIO","MÊS",10,375.93,{"$f":"ROUND(D54*E54,2)","v":3759.3}]
["1.1.14","ALUGUEL BETONEIRA CAPACIDADE NOMINAL DE 400 L, CAPACIDADE DE MISTURA 310 L TRIFÁSICA","MÊS",10,489.4,4894]
["1.1.15","LOCACAO MENSAL DE ANDAIME METALICO TIPO TORRE, INCLUSIVE MONTAGEM E DESMONTAGEM - CONSIDERANDO FACHADA (02 MESES) + MINI QUADRA (02 MESES) + PINTURA CX. D'ÁGUA 10 DIAS - 08 MODULOS COM 7M DE ALTURA.","M/MES",242.66480000000001,19.27,4676.1499999999996]
["1.1.16","MOBILIZAÇÃO E DESMOBILIZAÇÃO DE EQUIPAMENTO TIPO ESTACA RAIZ","UND",1,30383.58,{"$f":"ROUND(D57*E57,2)","v":30383.58}]
["1.1.17","EXECUÇÃO DE LINHA DE VIDA COM CABO DE AÇO, BRAÇOS E GANCHOS NECESSÁRIOS (4 REUTILIZAÇÕES), CONFORME PROJETO DE LINHA DE VIDA ELABORADO PELA EXECUTORA E ATENDENDO AS DIRETRIZES NORMATIVAS","M",133.79999999999998,12.58,1683.2]
["1.1.18","ADEQUAÇÃO DE ESCRITÓRIO EM CANTEIRO DE OBRA (EXISTENTE) EM CHAPA DE MADEIRA COMPENSADA, NÃO INCLUSO MOBILIÁRIO E EQUIPAMENTOS","M2",3.2,1063.8900000000001,3404.45]
["1.1.19","ADEQUAÇÃO DE REFEITÓRIO EM CANTEIRO DE OBRA (EXISTENTE) EM CHAPA DE MADEIRA COMPENSADA, NÃO INCLUSO MOBILIÁRIO E EQUIPAMENTOS","M2",5,590.74,2953.7]
["1.1.20","ADEQUAÇÃO DE SANITÁRIO E VESTIÁRIO EM CANTEIRO DE OBRA (EXISTENTE) EM CHAPA DE MADEIRA COMPENSADA, NÃO INCLUSO MOBILIÁRIO.","M2",3,967.7,2903.1]
[]
["1.1.13","INSTALAÇÕES/LIGAÇÕES E REDES PROVISÓRIAS BAIXA TENSÃO DO CANTEIRO DE OBRAS (JÁ EXECUTADOS NA OBRA DA 1ª ETAPA)"]
[]
["1.1.14","REDE PROVISÓRIA DE ÁGUA NO CANTEIRO, CONSIDERANDO, CAVALETE, TUBULAÇÃO DE DISTRIBUIÇÃO, REGISTROS DE CONTROLE, CONEXÕES, MANGUEIRAS, CAIXAS DE FIBRA,  (JÁ EXECUTADOS NA OBRA DA 1ª ETAPA)"]
[]
["1.2","ADMINISTRAÇÃO",null,null,null,{"$f":"SUBTOTAL(9,F68:F76)","v":827019.19999999984}]
["1.2.1","ENGENHEIRO CIVIL DE OBRA PLENO COM ENCARGOS COMPLEMENTARES","MES",10,22797.27,{"$f":"ROUND(D68*E68,2)","v":227972.7}]
["1.2.2","AUXILIAR TÉCNICO / ASSISTENTE DE ENGENHARIA COM ENCARGOS COMPLEMENTARES","MES",10,5364.51,{"$f":"ROUND(D69*E69,2)","v":53645.1}]
["1.2.3","ENGENHEIRO ELETRICISTA COM ENCARGOS COMPLEMENTARES","MES",10,19346.580000000002,193465.8]
["1.2.4","MESTRE DE OBRAS COM ENCARGOS COMPLEMENTARES","MES",10,7426.06,74260.600000000006]
["1.2.5","ENCARREGADO GERAL DE OBRAS COM ENCARGOS COMPLEMENTARES - PARTE CIVIL","MES",10,5020.96,50209.599999999999]
["1.2.6","ENCARREGADO GERAL DE OBRAS COM ENCARGOS COMPLEMENTARES - PARTE ELÉTRICA E AFINS","MES",10,5020.96,50209.599999999999]
["1.2.7","TÉCNICO EM SEGURANÇA DO TRABALHO COM ENCARGOS COMPLEMENTARES","MES",10,5538.66,55386.6]
["1.2.8","DOIS VIGIAS NOTURNOS COM ENCARGOS COMPLEMENTARES","MES",10,8461.56,84615.6]
["1.2.9","ALMOXARIFE COM ENCARGOS COMPLEMENTARES","MES",10,3725.36,37253.599999999999]
[]
["1.3","TERRAPLENAGEM E PAVIMENTAÇÃO",null,null,null,{"$f":"SUBTOTAL(9,F79:F87)","v":183162.96}]
["1.3.1","TERRAPLENAGEM E PAVIMENTAÇÃO DO ESTACIONAMENTO FRONTAL",null,null,null,{"$f":"SUBTOTAL(9,F80:F84)","v":173224.9}]
["1.3.1.1","ESCAVAÇÃO MECANIZADA DE VALA COM PROFUNDIDADE MAIOR QUE 1,5 M ATÉ 3,0 M COM RETROESCAVADEIRA.","M3",734.49900000000002,5.68,{"$f":"ROUND(D80*E80,2)","v":4171.95}]
["1.3.1.2","ATERRO COMPACTADO MECANICAMENTE AO NIVEL DO BALDRAME - C/ AQUISIÇÃO DE MATERIAL + 25% DE EMPOLAMENTO, EM CAMADAS DE 20cm - AQUI INCLUSO CARGA, DESCARGA, TRANSPORTE DMT ATÉ 10KM, ESPALHAMENTO COM PATROL, NIVELAMENTO E COMPACTAÇÃO MECÂNICA (100%) CONTROLADO LABORATORIALMENTE.(ÁREA TOTAL DO ESTACIONAMENTO","M3",979.33199999999999,66.84,{"$f":"ROUND(D81*E81,2)","v":65458.55}]
["1.3.1.3","BOTA FORA DE MATERIAL DESCARTADO, D.M.T. = 10 km - (CARGA, TRANSPORTE E DESCARGA MECÂNICA)","M3",954.84870000000001,58.67,{"$f":"ROUND(D82*E82,2)","v":56020.97}]
["1.3.1.4","EXECUÇÃO DE IMPRIMAÇÃO COM ASFALTO DILUÍDO CM-30. AF_11/2019","M2",1503.1100000000001,8.31,{"$f":"ROUND(D83*E83,2)","v":12490.84}]
["1.3.1.5","PAVIMENTO COM TRATAMENTO SUPERFICIAL DUPLO, COM EMULSÃO ASFÁLTICA RR-2C, COM CAPA SELANTE","M2",1503.1100000000001,23.34,{"$f":"ROUND(D84*E84,2)","v":35082.589999999997}]
[]
["1.3.2","ATERRO",null,null,null,{"$f":"SUBTOTAL(9,F87)","v":9938.06}]
["1.3.2.1","ATERRO MECANIZADO DE VALA COM ESCAVADEIRA HIDRÁULICA (CAPACIDADE DA CAÇAMBA: 0,8 M³ / POTÊNCIA: 111 HP), LARGURA ATÉ 1,5 M, PROFUNDIDADE DE 4,5 A 6,0 M, COM AREIA PARA ATERRO. AF_05/2016","M3",101.64734999999999,97.77,{"$f":"ROUND(D87*E87,2)","v":9938.06}]
[]
["1.4","FUNDAÇÕES",null,null,null,{"$f":"SUBTOTAL(9,F90:F122)","v":224565.52}]
["1.4.1","FUNDAÇÕES - MURO FRONTAL (ESTRUTURAL C1 E C8; V2 E V7) E MURO DIVISA MINI QUADRA E ASD",null,null,null,{"$f":"SUBTOTAL(9,F91:F102)","v":173458.43000000002}]
["1.4.1.1","ESCAVAÇÃO MECANIZADA PARA BLOCO DE COROAMENTO OU SAPATA, SEM PREVISÃO DE FÔRMA, COM RETROESCAVADEIRA. AF_06/2017","M3",445.41360000000003,91.26,{"$f":"ROUND(D91*E91,2)","v":40648.449999999997}]
["1.4.1.2","REATERRO MANUAL DE VALAS COM COMPACTAÇÃO MECANIZADA. AF_04/2016","M3",86.608199999999997,27.04,2341.89]
["1.4.1.3","LASTRO COM MATERIAL GRANULAR (PEDRA BRITADA N.1 E PEDRA BRITADA N.2), APLICADO EM PISOS OU LAJES SOBRE SOLO, ESPESSURA DE *10 CM*. AF_07/2019","M3",31.659300000000005,142.05000000000001,4497.2]
["1.4.1.4","FABRICAÇÃO, MONTAGEM E DESMONTAGEM DE FÔRMA PARA BLOCO DE COROAMENTO, EM CHAPA DE MADEIRA COMPENSADA RESINADA, E=17 MM, 4 UTILIZAÇÕES. AF_06/2017","M2",239.292,120.17,28755.72]
["1.4.1.5","FABRICAÇÃO DE FÔRMA PARA VIGAS, COM MADEIRA SERRADA, E = 25 MM. AF_09/2020","M2",84.456000000000003,121.66,10274.92]
["1.4.1.6","ARMAÇÃO DE BLOCO, VIGA BALDRAME E SAPATA UTILIZANDO AÇO CA-60 DE 5 MM - MONTAGEM. AF_06/2017","KG",71.31,25.68,1831.24]
["1.4.1.7","ARMAÇÃO DE BLOCO, VIGA BALDRAME OU SAPATA UTILIZANDO AÇO CA-50 DE 6,3 MM - MONTAGEM. (VERGALHÃO FORNECIDO PELO SESI)","KG",172.12,5.18,891.58]
["1.4.1.8","ARMAÇÃO DE BLOCO, VIGA BALDRAME OU SAPATA UTILIZANDO AÇO CA-50 DE 12,5 MM - MONTAGEM. AF_06/2017","KG",370.26,18.72,6931.27]
["1.4.1.9","ARMAÇÃO DE BLOCO, VIGA BALDRAME OU SAPATA UTILIZANDO AÇO CA-50 DE 16 MM - MONTAGEM (VERGALHÃO FORNECIDO PELO SESI)","KG",275.83,2.2400000000000002,617.86]
["1.4.1.10","CONCRETAGEM DE BLOCOS DE COROAMENTO E VIGAS BALDRAMES, FCK 30 MPA, COM USO DE BOMBA \u0096 LANÇAMENTO, ADENSAMENTO E ACABAMENTO. AF_06/2017","M3",47.28,693.9,32807.589999999997]
["1.4.1.11","ALVENARIA DE BLOCOS DE CONCRETO ESTRUTURAL 14X19X39 CM, (ESPESSURA 14 CM), FBK = 4,5 MPA, PARA PAREDES COM ÁREA LÍQUIDA MAIOR OU IGUAL A 6M², SEM VÃOS, UTILIZANDO PALHETA. AF_12/2014","M2",211.14,78.12,16494.259999999998]
["1.4.1.12","BOTA FORA DE MATERIAL DESCARTADO, D.M.T. = 10 km - (CARGA, TRANSPORTE E DESCARGA MECÂNICA) - INCLUSO EMPOLAMENTO 30%","M3",466.44702000000007,58.67,27366.45]
[]
["1.4.2","FUNDAÇÕES - ACESSO PRINCIPAL (ESCADAS E RAMPAS)",null,null,null,{"$f":"SUBTOTAL(9,F105:F114)","v":45435.040000000001}]
["1.4.2.1","ESCAVAÇÃO MECANIZADA PARA BLOCO DE COROAMENTO OU SAPATA, SEM PREVISÃO DE FÔRMA, COM RETROESCAVADEIRA. AF_06/2017","M3",3.28,91.26,{"$f":"ROUND(D105*E105,2)","v":299.33}]
["1.4.2.2","BOTA FORA DE MATERIAL DESCARTADO, D.M.T. = 10 km - (CARGA, TRANSPORTE E DESCARGA MECÂNICA)","M3",4.26,58.67,249.93]
["1.4.2.3","LASTRO COM MATERIAL GRANULAR (PEDRA BRITADA N.1 E PEDRA BRITADA N.2), APLICADO EM PISOS OU LAJES SOBRE SOLO, ESPESSURA DE *10 CM*. AF_07/2019","M3",3.38,142.05000000000001,480.13]
["1.4.2.4","FABRICAÇÃO DE FÔRMA PARA VIGAS, EM CHAPA DE MADEIRA COMPENSADA RESINADA, E = 17 MM. AF_09/2020","M2",23.62,109.59,2588.52]
["1.4.2.5","VIGAS E LAJES - ARMAÇÃO DE FUNDAÇÕES E ESTRUTURAS DE CONCRETO ARMADO, UTILIZANDO AÇO CA-50 DE 5.00 MM - MONTAGEM","KG",300,19.079999999999998,5724]
["1.4.2.6","VIGAS E LAJES -  ARMAÇÃO DE FUNDAÇÕES E ESTRUTURAS DE CONCRETO ARMADO, UTILIZANDO AÇO CA-50 DE 6.3 MM - MONTAGEM","KG",285,22.42,6389.7]
["1.4.2.7","EPS - BLOCOS PARA ENCHIMENTO","M³",15,564.16,8462.4]
["1.4.2.8","EXECUÇÃO E COMPACTAÇÃO DE ATERRO COM SOLO PREDOMINANTEMENTE ARENOSO - EXCLUSIVE SOLO, ESCAVAÇÃO, CARGA E TRANSPORTE. AF_11/2019","M3",32.799999999999997,6.58,215.82]
["1.4.2.9","CONCRETAGEM DE BLOCOS DE COROAMENTO E VIGAS BALDRAMES, FCK 30 MPA, COM USO DE BOMBA \u0096 LANÇAMENTO, ADENSAMENTO E ACABAMENTO. AF_06/2017","M3",30.18,693.9,20941.900000000001]
["1.4.2.10","APLICAÇÃO DE LONA PLÁSTICA","M2",32.799999999999997,2.54,83.31]
[]
["1.4.3","FUNDAÇÕES - DAS TENDAS",null,null,null,{"$f":"SUBTOTAL(9,F117:F122)","v":5672.05}]
["1.4.3.1","ESCAVAÇÃO MECANIZADA PARA BLOCO DE COROAMENTO OU SAPATA, SEM PREVISÃO DE FÔRMA, COM RETROESCAVADEIRA - CONSIDERANDO BLOCO 40X40X40 - SEM FORMA","M3",7.7440000000000007,91.26,{"$f":"ROUND(D117*E117,2)","v":706.72}]
["1.4.3.2","BOTA FORA DE MATERIAL DESCARTADO, D.M.T. = 10 km - (CARGA, TRANSPORTE E DESCARGA MECÂNICA)","M3",10.067200000000001,58.67,590.64]
["1.4.3.3","LASTRO COM MATERIAL GRANULAR (PEDRA BRITADA N.1 E PEDRA BRITADA N.2), APLICADO EM PISOS OU LAJES SOBRE SOLO, ESPESSURA DE *10 CM*. AF_07/2019","M3",5.1200000000000016E-2,142.05000000000001,7.27]
["1.4.3.4","ESTACA BROCA DE CONCRETO, DIÂMETRO DE 30CM, ESCAVAÇÃO MANUAL COM TRADO CONCHA, COM ARMADURA DE ARRANQUE - CONSIDERANDO ESTACA DE 1,5M CADA","M",24,124.71,2993.04]
["1.4.3.5","VIGAS E LAJES -  ARMAÇÃO DE FUNDAÇÕES E ESTRUTURAS DE CONCRETO ARMADO, UTILIZANDO AÇO CA-50 DE 6.3 MM - MONTAGEM - CONSIDERANDO 02 ESTRIBOS NA VERTICAL E 02 ESTRIBOS NA HORIZONTAL","KG",35.200000000000003,16.84,592.77]
["1.4.3.6","CONCRETAGEM DE BLOCOS DE COROAMENTO E VIGAS BALDRAMES, FCK 30 MPA, COM USO DE BOMBA \u0096 LANÇAMENTO, ADENSAMENTO E ACABAMENTO. AF_06/2017","M3",1.1264000000000003,693.9,781.61]
[]
["1.5","IMPERMEABILIZAÇÃO",null,null,null,{"$f":"SUBTOTAL(9,F125)","v":13902.87}]
["1.5.1","IMPERMEABILIZAÇÃO DE SUPERFÍCIE COM EMULSÃO ASFÁLTICA, 2 DEMÃOS AF_06/2018","M2",239.292,58.1,{"$f":"ROUND(D125*E125,2)","v":13902.87}]
[]
["1.6","ESTRUTURAS DE CONCRETO ARMADO",null,null,null,{"$f":"SUBTOTAL(9,F128:F143)","v":121791.44}]
["1.6.1","ESTRUTURAS DE CONCRETO ARMADO - CONTENÇÃO RAMPA ESTACIONAMENTO PAVIMENTADO",null,null,null,{"$f":"SUBTOTAL(9,F129:F133)","v":58457.32}]
["1.6.1.1","FABRICAÇÃO DE FÔRMA PARA VIGAS, EM CHAPA DE MADEIRA COMPENSADA RESINADA, E = 17 MM. AF_09/2020","M2",168.69,109.59,{"$f":"ROUND(D129*E129,2)","v":18486.740000000002}]
["1.6.1.2","ARMAÇÃO DE ESTRUTURAS DE CONCRETO ARMADO, EXCETO VIGAS, PILARES, LAJES E FUNDAÇÕES, UTILIZANDO AÇO CA-60 DE 5,0 MM - MONTAGEM. AF_12/2015","KG",142,24.35,{"$f":"ROUND(D130*E130,2)","v":3457.7}]
["1.6.1.3","ARMAÇÃO DE CORTINA DE CONTENÇÃO EM CONCRETO ARMADO, COM AÇO CA-50 DE 6,3 MM - MONTAGEM. AF_07/2019","KG",372,23.47,{"$f":"ROUND(D131*E131,2)","v":8730.84}]
["1.6.1.4","ARMAÇÃO DE CORTINA DE CONTENÇÃO EM CONCRETO ARMADO, COM AÇO CA-50 DE 8 MM - MONTAGEM. AF_07/2019","KG",672,22.95,{"$f":"ROUND(D132*E132,2)","v":15422.4}]
["1.6.1.5","CONCRETAGEM DE CORTINA DE CONTENÇÃO, ATRAVÉS DE BOMBA  \u0096 LANÇAMENTO, ADENSAMENTO E ACABAMENTO. AF_07/2019","M3",18.350000000000001,673.55,{"$f":"ROUND(D133*E133,2)","v":12359.64}]
[]
["1.6.2","ESTRUTURAS DE CONCRETO ARMADO - RAMPA E ESCADA ACESSO À ÁREA DE RECREAÇÃO",null,null,null,{"$f":"SUBTOTAL(9,F136:F138)","v":11993.310000000001}]
["1.6.1.1","ALVENARIA DE BLOCOS DE CONCRETO ESTRUTURAL 14X19X39 CM, (ESPESSURA 14 CM), FBK = 4,5 MPA, PARA PAREDES COM ÁREA LÍQUIDA MAIOR OU IGUAL A 6M², SEM VÃOS, UTILIZANDO PALHETA. AF_12/2014","M2",25.98,78.12,{"$f":"ROUND(D136*E136,2)","v":2029.56}]
["1.6.1.2","ARMAÇÃO DE BLOCO, VIGA BALDRAME OU SAPATA UTILIZANDO AÇO CA-50 DE 12,5 MM - MONTAGEM. AF_06/2017","KG",196.17,18.72,{"$f":"ROUND(D137*E137,2)","v":3672.3}]
["1.6.1.3","CONCRETAGEM DE BLOCOS DE COROAMENTO E VIGAS BALDRAMES, FCK 30 MPA, COM USO DE BOMBA \u0096 LANÇAMENTO, ADENSAMENTO E ACABAMENTO. AF_06/2017","M3",9.0668000000000006,693.9,{"$f":"ROUND(D138*E138,2)","v":6291.45}]
[]
["1.6.3","ESTRUTURAS DE CONCRETO ARMADO - MURETA/ARRIMO",null,null,null,{"$f":"SUBTOTAL(9,F141:F143)","v":51340.81}]
["1.6.3.1","ALVENARIA DE BLOCOS DE CONCRETO ESTRUTURAL 14X19X39 CM, (ESPESSURA 14 CM), FBK = 4,5 MPA, PARA PAREDES COM ÁREA LÍQUIDA MAIOR OU IGUAL A 6M², SEM VÃOS, UTILIZANDO PALHETA. AF_12/2014","M2",167.94,78.12,{"$f":"ROUND(D141*E141,2)","v":13119.47}]
["1.6.3.2","ARMAÇÃO DE BLOCO, VIGA BALDRAME OU SAPATA UTILIZANDO AÇO CA-50 DE 12,5 MM - MONTAGEM. AF_06/2017","KG",785.72,18.72,{"$f":"ROUND(D142*E142,2)","v":14708.68}]
["1.6.3.3","CONCRETAGEM DE BLOCOS DE COROAMENTO E VIGAS BALDRAMES, FCK 30 MPA, COM USO DE BOMBA \u0096 LANÇAMENTO, ADENSAMENTO E ACABAMENTO. AF_06/2017","M3",33.884800000000006,693.9,{"$f":"ROUND(D143*E143,2)","v":23512.66}]
[]
["1.7","ALVENARIAS E PAINÉIS",null,null,null,{"$f":"SUBTOTAL(9,F146)","v":0}]
[]
["1.8","ESTRUTURA METALICA",null,null,null,{"$f":"SUBTOTAL(9,F148)","v":0}]
[]
["1.9","COBERTURA",null,null,null,{"$f":"SUBTOTAL(9,F150)","v":0}]
[]
["1.10","ESQUADRIAS",null,null,null,{"$f":"SUBTOTAL(9,F152:F156)","v":151136.51999999999}]
["1.10.1","FORNCIMENTO E INSTALAÇÃO DE GRADIL MODULAR / CERCA, TIPO ALAMBRADO EM PAINEL REF. NYLOFOR OU SIMILAR, COM MALHA 5X20MM, DIMENSÃO DO MODULO DE 2,50M DE LARGURA E 2,43M DE ALTURA , COM POSTE PARA FIXAÇÃO H=3,20M SENDO 0,77M CHUBADO EM BASE DE CONCRETO, JÁ INCLUSA PINTURA NA COR PRETA.","M",142.06,680.03,{"$f":"ROUND(D152*E152,2)","v":96605.06}]
["1.10.2","FORNCIMENTO E INSTALAÇÃO  DE PORTÃO DE 02 FOLHAS EM DE GRADIL MODULAR / CERCA, TIPO ALAMBRADO EM PAINEL REF. NYLOFOR OU SIMILAR, COM MALHA 5X20MM, DIMENSÃO DO PORTAO DE 9,71M DE LARGURA E 2,43M DE ALTURA, INCLUSO PINTURA, E TRILHO DE CORRER - FACHADA PRINCIPAL","UN",1,12381.92,{"$f":"ROUND(D153*E153,2)","v":12381.92}]
["1.10.3","FORNCIMENTO E INSTALAÇÃO  DE PORTÃO DE 01 FOLHA EM DE GRADIL MODULAR / CERCA, TIPO ALAMBRADO EM PAINEL REF. NYLOFOR OU SIMILAR, COM MALHA 5X20MM, DIMENSÃO DO PORTAO DE 1,00M DE LARGURA E 2,43M DE ALTURA, INCLUSO PINTURA, E TRILHO DE CORRER","UN",4,1725.23,{"$f":"ROUND(D154*E154,2)","v":6900.92}]
["1.10.4","P26 - PORTAO DE FERRO EM CHAPA GALVANIZADA PLANA 14 GSG - FORNECIMENTO E INSTALAÇÃO - CONFORME PROJETO E MEMDORIAL DESCRITIVO - DIMENSÃO 5,00 X 3,00 M (03 UNIDADES)","M2",4,684.33,{"$f":"ROUND(D155*E155,2)","v":2737.32}]
["1.10.5","FORNECIMENTO E INSTALAÇÃO DE BRISE METÁLICO DE ALUMÍNIO REF. 84F, 90º, DA FIBROCELL OU SIMILAR - ABRIGO DE PROTEÇÃO DAS COND. DE AR VRF, INCLUSO PORTÃO.","M2",136.26999999999998,238.58,{"$f":"ROUND(D156*E156,2)","v":32511.3}]
[]
["1.11","PISOS",null,null,null,{"$f":"SUBTOTAL(9,F159)","v":0}]
[]
["1.12","REVESTIMENTOS",null,null,null,{"$f":"SUBTOTAL(9,F161:F162)","v":21579.22}]
["1.12.1","CHAPISCO APLICADO EM ALVENARIAS E ESTRUTURAS DE CONCRETO INTERNAS, COM ROLO PARA TEXTURA ACRÍLICA.  ARGAMASSA TRAÇO 1:4 E EMULSÃO POLIMÉRICA (ADESIVO) COM PREPARO EM BETONEIRA 400L. AF_06/2014","M2",427.65,8.59,{"$f":"ROUND(D161*E161,2)","v":3673.51}]
["1.12.2","EMBOÇO OU MASSA ÚNICA EM ARGAMASSA TRAÇO 1:2:8, PREPARO MANUAL, APLICADA MANUALMENTE EM PANOS CEGOS DE FACHADA (SEM PRESENÇA DE VÃOS), ESPESSURA DE 25 MM. AF_06/2014","M2",427.65,41.87,{"$f":"ROUND(D162*E162,2)","v":17905.71}]
[]
["1.13","GRANITO",null,null,null,{"$f":"SUBTOTAL(9,F165)","v":0}]
[]
["1.14","FORRO",null,null,null,{"$f":"SUBTOTAL(9,F167)","v":0}]
[]
["1.15","PINTURA",null,null,null,{"$f":"SUBTOTAL(9,F169:F173)","v":23066.63}]
["1.15.1","APLICAÇÃO MANUAL DE FUNDO SELADOR ACRÍLICO EM PAREDES.","M2",427.65,2.4300000000000002,{"$f":"ROUND(D169*E169,2)","v":1039.19}]
["1.15.2","TEXTURA ACRÍLICA, APLICAÇÃO MANUAL EM PAREDE, UMA DEMÃO. AF_09/2016","M2",427.65,15.6,{"$f":"ROUND(D170*E170,2)","v":6671.34}]
["1.15.3","APLICAÇÃO MANUAL DE PINTURA COM TINTA LÁTEX ACRÍLICA EM PAREDES, DUAS DEMÃOS. AF_06/2014","M2",599.66999999999996,15,{"$f":"ROUND(D171*E171,2)","v":8995.0499999999993}]
["1.15.4","APLICAÇÃO MANUAL DE PINTURA COM TINTA LÁTEX ACRÍLICA EM PAREDES, DUAS DEMÃOS. AF_06/2014","M2",392.7,15,{"$f":"ROUND(D172*E172,2)","v":5890.5}]
["1.15.5","PINTURA DE MEIO-FIO COM TINTA BRANCA A BASE DE CAL (CAIAÇÃO). AF_05/2021","M",333.71999999999997,1.41,{"$f":"ROUND(D173*E173,2)","v":470.55}]
[]
["1.16","CALÇAMENTO, PÁTIOS E PASSARELAS",null,null,null,{"$f":"SUBTOTAL(9,F176:F186)","v":695245.88000000012}]
["1.16.1","EXECUÇÃO DE PASSEIO EM PISO INTERTRAVADO, COM BLOCO RETANGULAR COR NATURAL DE 20 X 10 CM, ESPESSURA 6 CM. AF_12/2015","M2",1666.31,85.98,{"$f":"ROUND(D176*E176,2)","v":143269.32999999999}]
["1.16.2","EXECUÇÃO DE PASSEIO (CALÇADA) OU PISO DE CONCRETO COM CONCRETO MOLDADO IN LOCO, USINADO, ACABAMENTO CONVENCIONAL, NÃO ARMADO. AF_07/2016","M3",175.05459999999999,749.98,131287.45000000001]
["1.16.3","ARMAÇÃO PARA EXECUÇÃO DE RADIER, COM USO DE TELA Q-92. AF_09/2017 - CONSIDERADO USO DE TELAS NAS CALÇADAS ","KG",3701.1543999999994,34.200000000000003,{"$f":"ROUND(D178*E178,2)","v":126579.48}]
["1.16.4","PISO DE CONCRETO POLIDO INDUSTRIAL PARA TRÂNSITO DE VEÍCULOS, FCK 25MPA, ESP. 15CM, ARMADO COM TELA SOLDADA GERDAU Q-92 - MALHA 15X15CM D= 4,2MM OU SIMILAR, INCLUSIVE BARRAS DE  TRANSFERÊNCIA BTG 20 - D=20MM, EM AÇO CA-25 LISO, COMPRIMENTO DE 50CM, DISPOSTAS A CADA 30CM, COM FORNECIMENTO DE MATERIAL, ADENSAMENTO, SARRAFEAMENTO, POLIMENTO COM MÁQUINA POLITRIZ INDUSTRIAL, COM CONFECÇÃO DE JUNTAS DE DILATAÇÃO EM PANOS DE NO MÁXIMO 5,00X5,00M, EXECUTADAS CORTE COM MÁQUINA DE CORTE DE PISO INDUSTRIAL COM DISCO DIAMANTADO, PROFUNDIDADE MÍNIMA DE 5CM, INCLUSIVE PREPARO MANUAL DO TERRENO, APILOAMENTO DE BASE, FORNECIMENTO DE LONA PRETA E ADITIVOS PARA O CONCRETO","M2",985.78000000000009,202.88,199995.05]
["1.16.5","ASSENTAMENTO DE GUIA (MEIO-FIO) EM TRECHO RETO, CONFECCIONADA EM CONCRETO PRÉ-FABRICADO, DIMENSÕES 39X6,5X6,5X19 CM (COMPRIMENTO X BASE INFERIOR X BASE SUPERIOR X ALTURA), PARA DELIMITAÇÃO DE JARDINS, PRAÇAS OU PASSEIOS. AF_05/2016","M",333.71999999999997,58.04,19369.11]
["1.16.6","ASSENTAMENTO DE GUIA (MEIO-FIO) EM TRECHO RETO, CONFECCIONADA EM CONCRETO PRÉ-FABRICADO, DIMENSÕES 100X15X13X30 CM (COMPRIMENTO X BASE INFERIOR X BASE SUPERIOR X ALTURA), PARA VIAS URBANAS (USO VIÁRIO). AF_06/2016","M",593.48,61.88,36724.54]
["1.16.7","ASSENTAMENTO DE GUIA (MEIO-FIO) EM TRECHO CURVO, CONFECCIONADA EM CONCRETO PRÉ-FABRICADO, DIMENSÕES 100X15X13X30 CM (COMPRIMENTO X BASE INFERIOR X BASE SUPERIOR X ALTURA), PARA VIAS URBANAS (USO VIÁRIO). AF_06/2016","M",50.75,65.75,3336.81]
["1.16.8","GUIA (MEIO-FIO) E SARJETA CONJUGADOS DE CONCRETO, MOLDADA  IN LOCO  EM TRECHO RETO COM EXTRUSORA, 45 CM BASE (15 CM BASE DA GUIA + 30 CM BASE DA SARJETA) X 22 CM ALTURA. AF_06/2016","M",303.02,53.81,16305.51]
["1.16.9","GUIA (MEIO-FIO) E SARJETA CONJUGADOS DE CONCRETO, MOLDADA  IN LOCO  EM TRECHO CURVO COM EXTRUSORA, 45 CM BASE (15 CM BASE DA GUIA + 30 CM BASE DA SARJETA) X 22 CM ALTURA. AF_06/2016","M",96.850000000000009,58.15,5631.83]
["1.16.10","BATE-RODAS MOLDADO EM OBRA COM FORMA METÁLICA, PRISMATICO DIM. DA BASE IGUAL A 20CM, ALTURA IGUAL A 15CM, PINTADO NA COR AMARELA, INCLUSO ARMAÇÃO DE AÇO HORIZONTAL DIAM 8MM","UN",262,18.7,4899.3999999999996]
["1.16.11","FORNECIMENTO E ESPALHAMENTO DE BRITA (PEDRISCO CINZA), INCLUSIVE REGULARIZAÇÃO / ACERTO MANUAL COM ESPALHAMENTO E COMPACTACAO, ESP=5CM","M2",1061.8900000000001,7.39,7847.37]
[]
["1.17","SERVIÇOS COMPLEMENTARES",null,null,null,{"$f":"SUBTOTAL(9,F189:F327)","v":521761.44000000018}]
["1.17.1","SERVIÇOS COMPLEMENTARES - CFTV",null,null,null,{"$f":"SUBTOTAL(9,F190:F256)","v":138923.22}]
["1.17.1.1","ACESSÓRIOS P/ELETRODUTO E USO GERAL",null,null,null,{"$f":"SUBTOTAL(9,F191:F211)","v":9487.5499999999975}]
["1.17.1.1.1","FORNECIMENTO E INSTALAÇÃO DE ABRAÇADEIRA DE AÇO, TIPO D, 3/4\", COM CUNHA","UN",550,6.59,{"$f":"ROUND(D191*E191,2)","v":3624.5}]
["1.17.1.1.2","FORNECIMENTO E INSTALAÇÃO DE ABRAÇADEIRA DE AÇO, TIPO D, 1\", COM CUNHA","UN",20,6.75,135]
["1.17.1.1.3","FORNECIMENTO E INSTALAÇÃO DE BUCHA E ARRUELA ALUMÍNIO FUNDIDO PARA ELETRODUTO (ZAMAK) 3/4\"","UN",96,2.0299999999999998,194.88]
["1.17.1.1.4","FORNECIMENTO E INSTALAÇÃO DE BUCHA E ARRUELA ALUMÍNIO FUNDIDO PARA ELETRODUTO (ZAMAK) 1\"","UN",3,2.41,7.23]
["1.17.1.1.5","FORNECIMENTO E INSTALAÇÃO DE BOX RETO PARA ELETRODUTO 3/4\"","UN",96,5.68,545.28]
["1.17.1.1.6","FORNECIMENTO E INSTALAÇÃO DE BOX RETO PARA ELETRODUTO 1\"","UN",3,8.0399999999999991,24.12]
["1.17.1.1.7","CAIXA RETANGULAR 4\" X 2\" PVC - FORNECIMENTO E INSTALAÇÃO. ","UN",42,8.9600000000000009,376.32]
["1.17.1.1.8","CAIXA RETANGULAR 4\" X 4\"  PVC  - FORNECIMENTO E INSTALAÇÃO. AF_12/2015","UN",4,12,48]
["1.17.1.1.9","CONDULETE DE ALUMÍNIO, TIPO X, PARA ELETRODUTO DE AÇO GALVANIZADO DN 20 MM (3/4''), APARENTE - FORNECIMENTO E INSTALAÇÃO. AF_11/2016_P","UN",20,38.119999999999997,762.4]
["1.17.1.1.10","FORNECIMENTO E INSTALAÇÃO DE PLACA CEGA DE ALUMÍNIO  P/ CONDULETE","UN",20,32.700000000000003,654]
["1.17.1.1.11","FORNECIMENTO E INSTALAÇÃO DE SAÍDA LATERAL ELETROCALHA P/ ELETRODUTO 3/4\"","UN",25,10.29,257.25]
["1.17.1.1.12","FORNECIMENTO E INSTALAÇÃO DE SAÍDA ELETROCALHA P/ ELETRODUTO 1\" ","UN",2,15.54,31.08]
["1.17.1.1.13","FORNECIMENTO E INSTALAÇÃO DE SAÍDA LATERAL PERFILADO P/ ELETRODUTO 3/4\"","UN",13,18.510000000000002,240.63]
["1.17.1.1.14","FORNECIMENTO E INSTALAÇÃO DE ARAME AÇO GALVANIZADO 18 BWG, 1,24MM (0,009 KG/M)","M",250,0.77,192.5]
["1.17.1.1.15","FORNECIMENTO E INSTALAÇÃO DE ARRUELA LISA GALVANIZADA 1/4\"","UN",200,0.59,118]
["1.17.1.1.16","FORNECIMENTO E INSTALAÇÃO DE BUCHA / PARAFUSO S8","UN",254,4.4400000000000004,1127.76]
["1.17.1.1.17","FORNECIMENTO E INSTALAÇÃO DE BUCHA / PARAFUSO S10","UN",18,4.75,85.5]
["1.17.1.1.18","FORNECIMENTO E INSTALAÇÃO DE PARAFUSO GALVAN. CABEÇA LENTILHA 1/4X5/8\"","UN",54,4.93,266.22000000000003]
["1.17.1.1.19","FORNECIMENTO E INSTALAÇÃO DE PARAFUSO GALVAN. CABEÇA LOSANGULAR 1/4\"X1\" - AUTO TRAVANTE PERFILADO","UN",26,6.88,178.88]
["1.17.1.1.20","FORNECIMENTO E INSTALAÇÃO DE PORCA SEXTAVADA GALVAN. 1/4\"","UN",200,0.42,84]
["1.17.1.1.21","FORNECIMENTO E INSTALAÇÃO DE VERGALHÃO GALVANIZADO ROSCA TOTAL 1/4\"","M",30,17.8,534]
[null,""]
["1.17.1.2","ACESSÓRIOS P/ELETRODUTO E USO GERAL",null,null,null,{"$f":"SUBTOTAL(9,F214:F214)","v":753.08}]
["1.17.1.2.1","CAIXA ENTERRADA ELÉTRICA RETANGULAR, EM ALVENARIA COM TIJOLOS CERÂMICOS MACIÇOS, COM TAMPA, FUNDO COM BRITA, DIMENSÕES INTERNAS: 0,3X0,3X0,3 M. AF_12/2020","UN",4,188.27,{"$f":"ROUND(D214*E214,2)","v":753.08}]
[null,""]
["1.17.1.3","CABOS",null,null,null,{"$f":"SUBTOTAL(9,F217:F218)","v":5004.2}]
["1.17.1.3.1","CABO ELETRÔNICO CATEGORIA 6, ATOX LSZH, INSTALADO EM EDIFICAÇÃO INSTITUCIONAL - FORNECIMENTO E INSTALAÇÃO. AF_11/2019","M",40,2.58,{"$f":"ROUND(D217*E217,2)","v":103.2}]
["1.17.1.3.2","CABO ELETRÔNICO CATEGORIA 5E, INSTALADO EM EDIFICAÇÃO INSTITUCIONAL - FORNECIMENTO E INSTALAÇÃO. AF_11/2019","M",2900,1.69,4901]
[null,""]
["1.17.1.4","DISPOSITIVO CABEAMENTO EMBUTIR",null,null,null,{"$f":"SUBTOTAL(9,F221:F222)","v":83.4}]
["1.17.1.4.1","FORNECIMENTO E INSTALAÇÃO DE CONECTOR MACHO RJ45 - CAT.6","UN",6,6.95,{"$f":"ROUND(D221*E221,2)","v":41.7}]
["1.17.1.4.2","FORNECIMENTO E INSTALAÇÃO DE CONECTOR MACHO RJ45 - CAT.6","UN",6,6.95,41.7]
[null,""]
["1.17.1.5","ELETRODUTOS E ESCAVAÇÕES",null,null,null,{"$f":"SUBTOTAL(9,F225:F231)","v":5814.7500000000009}]
["1.17.1.5.1","INSTALAÇÃO DE ELETRODUTO FLEXÍVEL CORRUGADO, PVC, DN 25 MM (3/4\") - (MATERIAL FORNECIDO PELO SESI)","UN",250,3.9,{"$f":"ROUND(D225*E225,2)","v":975}]
["1.17.1.5.2","ELETRODUTO FLEXÍVEL CORRUGADO, PVC, DN 32 MM (1\") - FORNECIMENTO E INSTALAÇÃO. ","M",13,8.7200000000000006,{"$f":"ROUND(D226*E226,2)","v":113.36}]
["1.17.1.5.3","ELETRODUTO FLEXÍVEL CORRUGADO, PEAD, DN 50 (1 ½\u0094)  - FORNECIMENTO E INSTALAÇÃO. AF_04/2016","M",75,7.73,579.75]
["1.17.1.5.4","ELETRODUTO RÍGIDO ROSCÁVEL, PVC, DN 25 MM (3/4\") - FORNECIMENTO E INSTALAÇÃO. ","M",21,8.61,{"$f":"ROUND(D228*E228,2)","v":180.81}]
["1.17.1.5.5","FORNECIMENTO E INSTALAÇÃO DE ELETRODUTO METÁLICO FLEXIVEL, COM PROTEÇÃO EM PVC PRETO (SEALTUBO) - 3/4\"","M",110,21.53,2368.3000000000002]
["1.17.1.5.6","ESCAVAÇÃO MANUAL DE VALA COM PROFUNDIDADE MENOR OU IGUAL A 1,30 M. AF_02/2021","M3",13.13,75.75,{"$f":"ROUND(D230*E230,2)","v":994.6}]
["1.17.1.5.7","REATERRO MANUAL APILOADO COM SOQUETE. AF_10/2017","M3",13.13,45.92,{"$f":"ROUND(D231*E231,2)","v":602.92999999999995}]
[null,""]
["1.17.1.6","RACK E ACESSÓRIOS",null,null,null,{"$f":"SUBTOTAL(9,F234:F244)","v":12267.21}]
["1.17.1.6.1","FORNECIMENTO E INSTALAÇÃO DE RACK CAIXA PADRÃO 19\" - PORTA ACRÍLICO FUMÊ 8U X 470 MM","UN",3,592.91,{"$f":"ROUND(D234*E234,2)","v":1778.73}]
["1.17.1.6.2","FORNECIMENTO E INSTALAÇÃO DE REGUA PARA 10 TOMADAS 2P+T 20A - 1U","UN",3,150.4,451.2]
["1.17.1.6.3","FORNECIMENTO E INSTALAÇÃO DE KIT DE VENTILAÇÃO COM 2 COOLERS","UN",3,306.91000000000003,920.73]
["1.17.1.6.4","FORNECIMENTO E INSTALAÇÃO DE PATCH PANEL 24 POSIÇÕES, CAT. 6","UN",6,534.65,3207.9]
["1.17.1.6.5","FORNECIMENTO E INSTALAÇÃO DE GUIA DE CABOS FECHADO HORIZONTAL - 1U","UN",6,34.69,208.14]
["1.17.1.6.6","FORNECIMENTO E INSTALAÇÃO DE BANDEJA PARA RACK 19\", FIXA HORIZONTAL 1U.","UN",17,97.67,1660.39]
["1.17.1.6.7","FORNECIMENTO E INSTALAÇÃO DE ANEL ORGANIZADOR DE CABOS TIPO ABRAÇADEIRA VELCRO","UN",4,2.2000000000000002,8.8000000000000007]
["1.17.1.6.8","FORNECIMENTO E INSTALAÇÃO DE FITA ROTULADORA 12MM PRETO SOBRE BRANCO 8M","UN",4,104.85,419.4]
["1.17.1.6.9","FORNECIMENTO E INSTALAÇÃO DE PATCH CORD CERTIFICADO CAT.6 - CONEXÃO RJ45 X RJ45 - COMP. 1,5M - LSZH","UN",2,8.86,17.72]
["1.17.1.6.10","FORNECIMENTO E INSTALAÇÃO DE PATCH CORD CERTIFICADO CAT.6 - CONEXÃO RJ45 X RJ45 - COMP. 5M - LSZH","UN",6,135.15,810.9]
["1.17.1.6.11","FORNECIMENTO DE SERVIÇO DE CERTIFICAÇÃO DE CABO DE REDE CAT-6, COM CERTIFICADO DE AFERIÇÃO DO APARELHO","UN",65,42.82,2783.3]
[null,""]
["1.17.1.7","FIBRA ÓPTICA E ACESSÓRIOS",null,null,null,{"$f":"SUBTOTAL(9,F247:F248)","v":1916.05}]
["1.17.1.7.1","FORNECIMENTO E INSTALAÇÃO DE CORDÃO ÓPTICO MULTIMODO - 2 FO CONECTOR SC/SC - 2,50 M","UN",5,101.69,{"$f":"ROUND(D247*E247,2)","v":508.45}]
["1.17.1.7.2","FORNECIMENTO E INSTALAÇÃO DE CONVERSOR DE MÍDIA PARA FIBRA ÓTICA MM E SM 10/100 2FO RJ45","UN",5,281.52,1407.6]
[null,""]
["1.17.1.8","EQUIPAMENTOS",null,null,null,{"$f":"SUBTOTAL(9,F251:F256)","v":103596.98}]
["1.17.1.8.1","FORNECIMENTO E INSTALAÇÃO DE CÂMERA DIGITAL IP, TIPO DOME, RESOLUÇÃO FULL HD 2 MP, SENSOR DE IMAGEM: CMOS, LENTE: DISTÂNCIA FOCAL FIXA ENTRE 2,6 E 3,2MM, ÂNGULO DE ABERTURA: HORIZONTAL: INTERVALO ENTRE 100º A  115º, VERTICAL: INTERVALO ENTRE 50 - 70º, RES","UN",35,727.22,{"$f":"ROUND(D251*E251,2)","v":25452.7}]
["1.17.1.8.2","FORNECIMENTO E INSTALAÇÃO DE CÂMERA DIGITAL IP, TIPO BULLET, RESOLUÇÃO FULL HD 2 MP, SENSOR DE IMAGEM: CMOS, LENTE: DISTÂNCIA FOCAL FIXA ENTRE 2,6 E 3,2MM, ÂNGULO DE ABERTURA: HORIZONTAL: INTERVALO ENTRE 100º A  115º, VERTICAL: INTERVALO ENTRE 50 - 70º, R","UN",30,799.21,23976.3]
["1.17.1.8.3","FORNECIMENTO E INSTALAÇÃO DE INJETOR POE (IEEE 802.3AF E 802.3.AT), POTÊNCIA 30W, COM 2 PORTAS RJ45 10/100/1000 MBPS, PLUG AND PLAY, COM PROTEÇÃO CONTRA SURTOS (TENSÃO, CORRENTE E CARGA), ENTRADA DE ENERGIA 100-240 VAC, SAÍDA 51VDC 600MA, PARA ALIMENTAÇÃO","UN",65,322.77,20980.05]
["1.17.1.8.4","FORNECIMENTO E INSTALAÇÃO DE DISPOSITIVO DE GRAVAÇÃO DIGITAL DE VÍDEO EM REDE (NVR) COM 16 CANAIS PARA CÂMERAS IP, CONEXÃO EM REDE PORTA ETHERNET RJ45(10/100/1.000 MBPS), 10 USUÁRIOS, ACESSIBILIDADE DE CELULAR, INTERFACE DE CONEXÃO DE VÍDEO COM 1HDMI + 1V","UN",5,3459.45,17297.25]
["1.17.1.8.5","FORNECIMENTO E INSTALAÇÃO DE DISCO RÍGIDO 8 TB, COMPATÍVEL COM O GRAVADOR, COM 3 ANOS DE GARANTIA. - (REFERÊNCIA: WD81PURZ WESTERN DIGITAL OU SIMILAR).","UN",5,2947.6,14738]
["1.17.1.8.6","FORNECIMENTO E INSTALAÇÃO DE MONITOR PROFISSIONAL DE LED FULL HD, TAMANHO DIAGONAL DA TELA 24\", TIPO: PAINEL DIRETO DE LED 60HZ, RESOLUÇÃO: FULL HD 1920X1080 (16: 9), CONTRASTE: 100.000.000:1, TEMPO DE RESPOSTA: 5 MS, PROPORÇÃO DA TELA: 16: 9, ÁREA ATIVA ","UN",1,1152.68,1152.68]
[]
["1.17.2","SERVIÇOS COMPLEMENTARES - ACESSIBILIDADE",null,null,null,{"$f":"SUBTOTAL(9,F259:F285)","v":210740.83}]
["1.17.2.1","PISOS- ÁREA EXTERNA",null,null,null,{"$f":"SUBTOTAL(9,F260:F261)","v":64706.85}]
["1.17.2.1.1","FORNECIMENTO E INSTALAÇÃO DE PISO TÁTIL , MODELO ALERTA 25X25X2CM NA COR VERMELHO, CONFECCIONADO EM CONCRETO, ASSENTANDO COM ARMAGASSA, de acordo com a NBR 9050;","M",77.650000000000006,93.48,{"$f":"ROUND(D260*E260,2)","v":7258.72}]
["1.17.2.1.2","FORNECIMENTO E INSTALAÇÃO DE PISO TÁTIL , MODELO DIRECIONAL 25X25X2CM NA COR VERMELHO, CONFECCIONADO EM CONCRETO, ASSENTANDO COM ARMAGASSA, de acordo com a NBR 9050;","M",614.54999999999995,93.48,57448.13]
[]
["1.17.2.2","PISOS- ÁREA INTERNA",null,null,null,{"$f":"SUBTOTAL(9,F264:F265)","v":13252.689999999999}]
["1.17.2.2.1","FORNECIMENTO E INSTALAÇÃO DE REVESTIMENTO EM PISO TATIL DE DIRECIONAL  - PLACAS NO TAMANHO DE 250 MM X 250 MM, COR: AZUL, ACABAMENTO: SUPERFÍCIE NATURAL, ESPESSURA: 9,3MM, RELEVO: 14,7MM, JUNTA: 2,00MM, TIPO: PORCELANATO,  PEI 5 ,DE ACORDO COM A NBR 9050,INCLUSO  EQUIPAMENTOS.","UN",13,35.53,461.89]
["1.17.2.2.2","FORNECIMENTO E INSTALAÇÃO DE REVESTIMENTO EM PISO TATIL DE ALERTA  - PLACAS NO TAMANHO DE 250 MM X 250 MM, COR: AZUL, ACABAMENTO: SUPERFÍCIE NATURAL, ESPESSURA: 9,3MM, RELEVO: 14,7MM, JUNTA: 2,00MM, TIPO: PORCELANATO,  PEI 5 ,DE ACORDO COM A NBR 9050,INCLUSO  EQUIPAMENTOS.","UN",360,35.53,12790.8]
[]
["1.17.2.3","ÁREA DE CIRCULAÇÃO",null,null,null,{"$f":"SUBTOTAL(9,F268:F272)","v":15611.759999999998}]
["1.17.2.3.1","FORNECIMENTO E INSTALAÇÃO DE MAPA TÁTIL BRAILLE FABRICADA SOB ENCOMENDA, COM PEDESTAL,  CONFECCIONADO EM ACRÍLICO 8MM, COM APLICAÇÃO DE IMPRESSÃO DIGITAL PELO VERSO. SOBREPOSIÇÃO DE TEXTOS EM PVC 1MM E BRAILLE INCRUSTADO. DIMENSÕES DE 1000X600MM. FIXAÇÃO POR 4 PARAFUSOS, ACOMPANHA PEDESTAL., A SER INSTALADO  CONFORME PROJETO DE ACESSBILIDADE","UN",1,1940.04,{"$f":"ROUND(D268*E268,2)","v":1940.04}]
["1.17.2.3.2","TAPETE EMBORRACHADO PARA SINALIZAÇÃO DA ÁREA RESERVADA AO CADEIRANTE PARA RESGATE COM MEDIDA 1,20X0,80M COM MATERIAL FOTOLUMINESCENTE NA COR AZUL O FUNDO E A DEMARCAÇÃO DA SIMBOLOGIA NA COR BRANCO de acordo com a NBR 9050.","UN",34,232.62,7909.08]
["1.17.2.3.3","FORNECIMENTO E INSTALAÇÃO DE PLACA DE IDENTIFICAÇÃO DE SALAS DE AULA E DEMAIS AMBIENTES (20X8CM), EM ALUMINIO ANODIZADO, AUTO ADESIVA,  COM SISTEMA DE LEITURA EM BRAILLE E EM RELEVO","UN",48,46.2,2217.6]
["1.17.2.3.4","FORNECIMENTO E INSTALAÇÃO DE PLACA DE IDENTIFICAÇÃO DO CORRIMÃO, EM ALUMINIO ANODIZADO, AUTO ADESIVA,  COM SISTEMA DE LEITURA EM BRAILLE E EM RELEVO \"INICIO ou FIM\" .","UN",70,23.2,1624]
["1.17.2.3.5","SINALIZADOR VISUAL DE DEGRAUS TOTAL WALK AMARELA 3X20CM - FORNECIMENTO E INSTALAÇÃO NOS PISOS E ESPELHO DAS ESCADAS.","UN",148,12.98,1921.04]
[]
["1.17.2.4","SANITÁRIOS",null,null,null,{"$f":"SUBTOTAL(9,F275:F276)","v":4844.2800000000007}]
["1.17.2.4.1","FORNECIMENTO E INSTALAÇÃO DE PLACA DE IDENTIFICAÇÃO DE SANITÁRIOS MASCULINO / FEMININO (5X15CM), EM ALUMINIO ANODIZADO, AUTO ADESIVA,  COM SISTEMA DE LEITURA EM BRAILLE E EM RELEVO","UN",21,126.38,{"$f":"ROUND(D275*E275,2)","v":2653.98}]
["1.17.2.4.2","FORNECIMENTO E INSTALAÇÃO DE PROTETOR DE IMPACTO PARA PORTA DOS BANHEIROS PNE, CONFECCIONADO EM  INOX POLIDO 304 SHIELD OU SIMILAR, ALTURA DE 40CM COM LARGURA  90CM.  (CONSIDERADO FRENTE E VERSO) ","UN",10,219.03,2190.3000000000002]
[]
["1.17.2.5","ESTACIONAMENTOS, VAGAS ESPECIAIS E VIAS DE TRÁFEGO ",null,null,null,{"$f":"SUBTOTAL(9,F279:F285)","v":112325.25}]
["1.17.2.5.1","CONFECÇÃO E IMPLANTAÇÃO DE PLACAS DE SINALIZAÇÃO COM TRATAMENTO ANTI-FERRUGEM (AÇO N.º 18), COM PELÍCULA RETROREFLETIVA, CONFORME PROJETO DE ACESSIBILIDADE VIÁRIA.","M2",21.98,500.17,10993.74]
["1.17.2.5.2","FORNECIMENTO E IMPLANTAÇÃO DE SUPORTE METÁLICO GALVANIZADO COM Ø 2.1/2\" E 3,00MM DE PAREDE, H=3,00M.","UN",53,306.56,16247.68]
["1.17.2.5.3","FORNECIMENTO E APLICAÇÃO DE TINTA A BASE DE RESINAS METRACRILICAS PARA PINTURA VIÁRIA (A FRIO), E=0,6MM - COM MICRO ESFERA NBR 14.281 (SERVIÇO AUTOMATICO)","M2",176.46,35.520000000000003,6267.86]
["1.17.2.5.4","FORNECIMENTO E APLICAÇÃO DE TINTA A BASE DE RESINAS METRACRILICAS PARA PINTURA VIÁRIA (A FRIO), E=0,6MM - COM MICRO ESFERA NBR 14.281 (SERVIÇO MANUAL)","M2",243.21,47.79,11623.01]
["1.17.2.5.5","FORNECIMENTO E INSTALAÇÃO DE TACHÃO BIDIRECIONAL (COR AMARELA)","UN",110,81.290000000000006,8941.9]
["1.17.2.5.6","FORNECIMENTO E EXECUÇÃO DE FAIXA ELEVADA EM ESTRUTURA PRÉ-MOLDADA NO LOCAL E FECHAMENTO COM CBUQ, SENDO 02 RAMPAS DE 1,50M E 01 PLATAFORMA DE 5,00M E 01 PLATAFORMA DE 4,00M.","M",18,2836.37,51054.66]
["1.17.2.5.7","FORNECIMENTO E EXECUÇÃO DE ONDULAMENTO TRANSVERSAL PRÉ-MOLDADA NO LOCAL EM CBUQ (TIPO I), DIMENSÕES= (1,20X0,08XLARGURA PISTA)M.","M",12,599.70000000000005,7196.4]
[]
["1.17.3","DIVERSOS",null,null,null,{"$f":"SUBTOTAL(9,F288:F290)","v":102136.48999999999}]
["1.17.3.1","GUARDA-CORPO DE AÇO GALVANIZADO DE 1,30M DE ALTURA, MONTANTES TUBULARES DE 1.1/2\u0094 ESPAÇADOS DE 1,20M, TRAVESSA SUPERIOR E INFERIOR DE 2\"\u0094, GRADIL FORMADO POR BARRAS DE Ø3/4\" A CADA 11CM, FIXADO COM CHUMBADOR MECÂNICO, INCLUSO PINTURA NA COR CINZA.","M",43.38,725.44,{"$f":"ROUND(D288*E288,2)","v":31469.59}]
["1.17.3.2","ESCADA MARINHEIRO COM GUARDA CORPO, L=45CM, EXECUTADA EM BARRAS CHATA GALVANIZADA 1 1/4\" X 5/16\", E GUARDA CORPO D=65CM EM BARRA CHATA GALV.D=1\"X1/8\", SENDO DEGRAUS EM BARRA RED. D=5/8\", ESPAÇADOS DE 30CM, INCLUSIVE LIXAMENTO E PINTURA, FORNECIMENTO E INSTALAÇÃO - A SER INSTALADA NA CAIXA D'ÁGUA CILINDRICA EXISTENTE","M",20,1986.11,39722.199999999997]
["1.17.3.3","TENDA PIRAMIDAL 5X5M, EM ESTRUTURA METÁLICA E COBERTURA EM LONA, COM AS SEGUINTES CARACTERISTICAS (INCLUSO FRETE E MONTAGEM):\n\nESTRUTURA METÁLICA:\n- FABRICAÇÃO CHAPAS DOBRADAS DE 2mm (#14) COM SOLDAS NO SISTEMA MIG;\n- GALVANIZAÇÃO (ANTI-FERRUGEM) DE ALTA RESISTÊNCIA E COM PARTES UNIDAS POR ENCAIXE E FIXADAS POR PARAFUSOS E CONEXÕES EM AÇO;\n- PÉS DE SUSTENTAÇÃO, 150X150 NA CHAPA #14 ANCORADAS 10X10 POR CORDAS DE NYLON 3/4 E FIXADAS COM ESTACAS DE FERRO ENTERRADAS AO SOLO;\n\nLONA DE COBERTURA:\n- LAMINADO DE PVC CALANDRADO COM REFORÇO DE FIBRA DE TECIDO DE POLIÉSTER IMPERMEÁVEL (IMPEDE O CALOR QUANTO À LUMINOSIDADE, COM SOMBRA FRESCA), COM BLACK-OUT SOLAR E ALTA RESISTÊNCIA AO CALOR;\n- TRATAMENTO ANTI-CHAMAS, QUE IMPEDE A PROPAGAÇÃO DO FOGO EM CASOS DE ACIDENTE;\n- SEM EMENDAS MECÂNICAS E COM EMENDAS VULCANIZADAS A QUENTE.","UN",6,5157.45,30944.7]
[]
["1.17.4","CERCA ELÉTRICA",null,null,null,{"$f":"SUBTOTAL(9,F293:F327)","v":69960.899999999994}]
["1.17.4.1","CAIXA DE INSPEÇÃO PARA ATERRAMENTO, CIRCULAR, EM POLIETILENO, DIÂMETRO INTERNO = 0,3 M. AF_12/2020","UN",1,29.87,{"$f":"ROUND(D293*E293,2)","v":29.87}]
["1.17.4.2","CAIXA ENTERRADA ELÉTRICA RETANGULAR, EM ALVENARIA COM TIJOLOS CERÂMICOS MACIÇOS, COM TAMPA, FUNDO COM BRITA, DIMENSÕES INTERNAS: 0,3X0,3X0,3 M. AF_12/2020","UN",5,188.27,941.35]
["1.17.4.3","ELETRODUTO RÍGIDO ROSCÁVEL, PVC, DN 25 MM (3/4\") - FORNECIMENTO E INSTALAÇÃO. ","M",700,8.61,6027]
["1.17.4.4","RASGO EM ALVENARIA PARA RAMAIS/ DISTRIBUIÇÃO COM DIAMETROS MENORES OU IGUAIS A 40 MM. AF_05/2015","M",95,12.22,1160.9000000000001]
["1.17.4.5","ELETRODUTO RÍGIDO ROSCÁVEL, PVC, DN 40 MM (1 1/4\") - FORNECIMENTO E INSTALAÇÃO. AF_12/2015","M",50,18.239999999999998,912]
["1.17.4.6","ESCAVAÇÃO MANUAL DE VALA COM PROFUNDIDADE MENOR OU IGUAL A 1,30 M. AF_02/2021","M3",19,75.75,{"$f":"ROUND(D298*E298,2)","v":1439.25}]
["1.17.4.7","REATERRO MANUAL APILOADO COM SOQUETE. AF_10/2017","M3",19,45.92,{"$f":"ROUND(D299*E299,2)","v":872.48}]
["1.17.4.8","CAIXA OCTOGONAL 4\" X 4\" PVC - FORNECIMENTO E INSTALAÇÃO. ","UN",71,11.42,810.82]
["1.17.4.9","CAIXA RETANGULAR 4\" X 2\" PVC - FORNECIMENTO E INSTALAÇÃO. ","UN",44,8.9600000000000009,394.24]
["1.17.4.10","CURVA 90 GRAUS PARA ELETRODUTO, PVC, ROSCÁVEL, DN 25 MM (3/4\") - FORNECIMENTO E INSTALAÇÃO. AF_12/2015","UN",44,9.35,411.4]
["1.17.4.11","CURVA 90 GRAUS PARA ELETRODUTO, PVC, ROSCÁVEL, DN 40 MM (1 1/4\") - FORNECIMENTO E INSTALAÇÃO. AF_12/2015","UN",2,17.7,35.4]
["1.17.4.12","LUVA PARA ELETRODUTO, PVC, ROSCÁVEL, DN 25 MM (3/4\") - FORNECIMENTO E INSTALAÇÃO. AF_12/2015","UN",198,5.73,1134.54]
["1.17.4.13","LUVA PARA ELETRODUTO, PVC, ROSCÁVEL, DN 40 MM (1 1/4\"), PARA CIRCUITOS TERMINAIS, INSTALADA EM PAREDE - FORNECIMENTO E INSTALAÇÃO. AF_12/2015","UN",31,11.34,351.54]
["1.17.4.14","ELETRODUTO FLEXÍVEL CORRUGADO, PEAD, DN 50 (1 ½\u0094)  - FORNECIMENTO E INSTALAÇÃO. AF_04/2016","M",86,7.73,664.78]
["1.17.4.15","FORNECIMENTO E INSTALAÇÃO DE  CABO DE COBRE FLEXÍVEL ISOLADO, 6 MM², ANTI-CHAMA 0,6/1,0 KV - ATOX","M",3,11.17,33.51]
["1.17.4.16","CABO ELETRÔNICO CATEGORIA 6, ATOX LSZH, INSTALADO EM EDIFICAÇÃO INSTITUCIONAL - FORNECIMENTO E INSTALAÇÃO. AF_11/2019","M",2200,2.58,5676]
["1.17.4.17","FORNECIMENTO E INSTALAÇÃO DE ABRAÇADEIRA DE AÇO, TIPO D, 3/4\", COM CUNHA","UN",395,6.59,2603.0500000000002]
["1.17.4.18","FORNECIMENTO E INSTALAÇÃO DE ABRAÇADEIRA DE AÇO, TIPO D, 1.1/4\", COM CUNHA","UN",31,8.2100000000000009,254.51]
["1.17.4.19","FORNECIMENTO E INSTALAÇÃO DE CONECTOR RETO DE ALUMÍNIO P/ ELETRODUTO 3/4\"","UN",4,3.38,13.52]
["1.17.4.20","FORNECIMENTO E INSTALAÇÃO DE BUCHA E ARRUELA ALUMÍNIO FUNDIDO PARA ELETRODUTO (ZAMAK) 3/4\"","UN",284,2.0299999999999998,576.52]
["1.17.4.21","FORNECIMENTO E INSTALAÇÃO DE BUCHA / PARAFUSO S8","UN",300,4.4400000000000004,1332]
["1.17.4.22","FORNECIMENTO E INSTALAÇÃO DE CABO DE COBRE NÚ 35MM²","M",3,40.67,122.01]
["1.17.4.23","FORNECIMENTO E INSTALAÇÃO DE PARAFUSO ZINCADO, AUTOBROCANTE, FLANGEADO, 4,2 MM X 19 MM","CENTO",6,64.38,386.28]
["1.17.4.24","FORNECIMENTO E INSTALAÇÃO DE SENSOR DE INFRAVERMELHO ATIVO DE SEIS FEIXES IVA (REF  7100 HEXA INTELBRAS OU SIMILAR)","UN",20,890.28,17805.599999999999]
["1.17.4.25","FORNECIMENTO E INSTALAÇÃO DE SENSOR INFRAVERMELHO SEMI-EXTERNO IVP PET (REF:  5002 PET DUPLO PIR 35KG - INTELBRAS OU SIMILAR)","UN",24,215.98,5183.5200000000004]
["1.17.4.26","FORNECIMENTO E INSTALAÇÃO DE BIG HASTE INDUSTRIAL CANTONEIRA TUBO QUADRADO 25X25MM DE 1 METRO C/ GANCHOS E 12 ISOLADORES \"CASTANHA\"","UN",6,95.38,572.28]
["1.17.4.27","FORNECIMENTO E INSTALAÇÃO DE BIG HASTE INDUSTRIAL TUBO QUADRADO 25X25MM DE 1 METRO C/ 6 ISOLADORES \"W\"","UN",228,49.93,11384.04]
["1.17.4.28","FORNECIMENTO E INSTALAÇÃO DE CENTRAL DE CHOQUE CERCA ELÉTRICA ( REF: INTELBRAS HIGH POWER ELC 5003)","UN",1,571.11,571.11]
["1.17.4.29","FORNECIMENTO E INSTALAÇÃO DE CENTRAL DE CENTRAL DE ALARME  COM DISCADORA ( REF: INTELBRAS ANM 2008 MF)","UN",2,551.91999999999996,1103.8399999999999]
["1.17.4.30","FORNECIMENTO E INSTALAÇÃO DE BATERIA SELADA, 12V - 7AH","UN",3,259.79000000000002,779.37]
["1.17.4.31","FORNECIMENTO E INSTALAÇÃO DE SIRENE CORNETA MAGNÉTICA DE ALTA POTÊNCIA PRETA 12V","UN",3,121.85,365.55]
["1.17.4.32","FORNECIMENTO E INSTALAÇÃO DE CLIPS ABRAÇADEIRA PARA CABO DE AÇO ","UN",1,3.55,3.55]
["1.17.4.33","PLACA DE ADVERTÊNCIA PARA CERCA ELÉTRICA EM\nALUMÍNIO \"PERIGO CERCA ELÉTRICA\"","UN",60,8.23,493.8]
["1.17.4.34","FORNECIMENTO E INSTALAÇÃO DE CABO DE ALTA ISOLAÇÃO P/ CERCA ELÉTRICA 5MM","M",1,7.27,7.27]
["1.17.4.35","FORNECIMENTO E INSTALAÇÃO DE FIO DE ALUMÍNIO PREMIUM PARA CERCA \nELÉTRICA - 0,60MM / 0,90MM","M",3400,1.62,5508]
[]
["1.18","INSTALAÇÕES DE SPDA GERAL",null,null,null,{"$f":"SUBTOTAL(9,F330:F350)","v":186186.89}]
["1.18.1","FORNECIMENTO E INSTALAÇÃO DE BARRA CHATA DE ALUMÍNIO 3/4\" X 1/4\" ","M",700,32.299999999999997,{"$f":"ROUND(D330*E330,2)","v":22610}]
["1.18.2","FORNECIMENTO E INSTALAÇÃO DE TERMINAL AÉREO DE ALUMINIO 7/8X1/8X600MM (INSTALAÇÃO EM PLATIBANDA)","UN",130,32.770000000000003,4260.1000000000004]
["1.18.3","FORNECIMENTO E INSTALAÇÃO DE REBITE POP EM ALUMÍNIO 4 X 16MM","UN",500,1.59,795]
["1.18.4","CONDULETE DE ALUMÍNIO, TIPO X, PARA ELETRODUTO DE AÇO GALVANIZADO DN 20 MM (3/4''), APARENTE - FORNECIMENTO E INSTALAÇÃO. AF_11/2016_P","UN",42,38.119999999999997,1601.04]
["1.18.5","FORNECIMENTO E INSTALAÇÃO DE PLACA CEGA DE PVC  P/ CONDULETE","UN",42,6.64,278.88]
["1.18.6","FORNECIMENTO E INSTALAÇÃO DE BOX RETO PARA ELETRODUTO 3/4\"","UN",42,5.68,238.56]
["1.18.7","FORNECIMENTO E INSTALAÇÃO DE TERMINAL DE COMPRESSÃO 50MM²","UN",64,11.76,752.64]
["1.18.8","FORNECIMENTO E INSTALAÇÃO DE BUCHA / PARAFUSO S8","UN",2500,4.4400000000000004,11100]
["1.18.9","CAPTOR TIPO FRANKLIN PARA SPDA - FORNECIMENTO E INSTALAÇÃO. AF_12/2017","UN",1,152.4,152.4]
["1.18.10","MASTRO 1 ½  PARA SPDA - FORNECIMENTO E INSTALAÇÃO. AF_12/2017","UN",1,231.89,231.89]
["1.18.11","SUPORTE ISOLADOR PARA CORDOALHA DE COBRE - FORNECIMENTO E INSTALAÇÃO. AF_12/2017","UN",2,27.04,54.08]
["1.18.12","FORNECIMENTO E INSTALAÇÃO DE CABO DE COBRE NÚ 50MM²","M",1606,57.42,92216.52]
["1.18.13","HASTE DE ATERRAMENTO 5/8  PARA SPDA - FORNECIMENTO E INSTALAÇÃO. AF_12/2017","UN",90,61.98,5578.2]
["1.18.14","CAIXA DE INSPEÇÃO PARA ATERRAMENTO, CIRCULAR, EM POLIETILENO, DIÂMETRO INTERNO = 0,3 M. AF_12/2020","UN",19,29.87,567.53]
["1.18.15","FORNECIMENTO E INSTALAÇÃO DE CAIXA DE EQUALIZAÇÃO DE EMBUTIR, COM BARRAMENTO E 9 TERMINAIS, APROX. 26X26X10 CM","UN",10,565.33000000000004,5653.3]
["1.18.16","FORNECIMENTO E INSTALAÇÃO DE SOLDA EXOTÉRMICA CABO-HASTE COM CARTUCHO Nº115 E MOLDE CABO 50MM²-  HASTE 5/8\" ","UN",90,39.799999999999997,3582]
["1.18.17","ESCAVAÇÃO MANUAL DE VALA COM PROFUNDIDADE MENOR OU IGUAL A 1,30 M. AF_02/2021","M3",240.9,75.75,{"$f":"ROUND(D346*E346,2)","v":18248.18}]
["1.18.18","REATERRO MANUAL APILOADO COM SOQUETE. AF_10/2017","M3",240.9,45.92,{"$f":"ROUND(D347*E347,2)","v":11062.13}]
["1.18.19","FIXAÇÃO (ENCUNHAMENTO) DE ALVENARIA DE VEDAÇÃO COM ESPUMA DE POLIURETANO EXPANSIVA. AF_03/2016","M",400,17.190000000000001,6876]
["1.18.20","FORNECIMENTO E INSTALAÇÃO DE ABRAÇADEIRA DE AÇO, TIPO D, 3/4\", COM CUNHA","UN",42,6.59,276.77999999999997]
["1.18.21","ELETRODUTO RÍGIDO ROSCÁVEL, PVC, DN 25 MM (3/4\") - FORNECIMENTO E INSTALAÇÃO. ","M",6,8.61,51.66]
[]
["1.19","INSTALAÇÃO DE COMBATE A INCÊNDIO",null,null,null,{"$f":"SUBTOTAL(9,F353:F395)","v":107145.46}]
["1.19.1","EXTINTOR DE INCÊNDIO",null,null,null,{"$f":"SUBTOTAL(9,F354:F357)","v":12101.27}]
["1.19.1.1","EXTINTOR DE INCÊNDIO PORTÁTIL COM CARGA DE ÁGUA PRESSURIZADA DE 10 L, CLASSE A - FORNECIMENTO E INSTALAÇÃO. AF_10/2020_P","UN",13,221.66,{"$f":"ROUND(D354*E354,2)","v":2881.58}]
["1.19.1.2","EXTINTOR DE INCÊNDIO PORTÁTIL COM CARGA DE PQS DE 6 KG, CLASSE BC - FORNECIMENTO E INSTALAÇÃO. AF_10/2020_P","UN",15,250.4,{"$f":"ROUND(D355*E355,2)","v":3756}]
["1.19.1.3","EXTINTOR DE INCÊNDIO PORTÁTIL COM CARGA DE CO2 DE 12 KG, CLASSE BC - FORNECIMENTO E INSTALAÇÃO. AF_10/2020_P","UN",3,1254.55,{"$f":"ROUND(D356*E356,2)","v":3763.65}]
["1.19.1.4","APLICACAO DE TINTA A BASE DE EPOXI SOBRE PISO - DIMENSÃO 1,00x1,00 (0,70x0,70 + 0,15x,015 = COR VERMELHO E AMERELO) CONFORME DETALHE DO PSCIP ","M2",31,54.84,{"$f":"ROUND(D357*E357,2)","v":1700.04}]
[]
["1.19.2","SINALIZAÇÃO DE EMERGÊNCIA",null,null,null,{"$f":"SUBTOTAL(9,F360:F368)","v":5361.01}]
["1.19.2.1","PLACA DE SINALIZACAO DE SEGURANCA CONTRA INCENDIO, FOTOLUMINESCENTE, RETANGULAR, *22 X 44* CM, EM PVC *2* MM ANTI-CHAMAS (SIMBOLOS, CORES E PICTOGRAMAS CONFORME NBR 13434) -FORNECIMENTO E INSTALAÇÃO DE PLACAS DE SINALIZAÇÃO PARA SAIDA DE EMERGÊNCIA","UN",100,30.6,{"$f":"ROUND(D360*E360,2)","v":3060}]
["1.19.2.2","PLACA DE SINALIZACAO DE SEGURANCA CONTRA INCENDIO, FOTOLUMINESCENTE, QUADRADA, *25 X 25* CM, EM PVC *2* MM ANTI-CHAMAS (SIMBOLOS, CORES E PICTOGRAMAS CONFORME NBR 13434) - FORNECIMENTO E INSTALAÇÃO DE PLACAS DE SINALIZAÇÃO PARA EXTINTORES","UN",31,30.6,948.6]
["1.19.2.3","PLACA DE SINALIZACAO DE SEGURANCA CONTRA INCENDIO - ALERTA, TRIANGULAR, BASE DE *25* CM, EM PVC *2* MM ANTI-CHAMAS (SIMBOLOS, CORES E PICTOGRAMAS CONFORME NBR 13434) -FORNECIMENTO E INSTALAÇÃO DE PLACAS DE SINALIZAÇÃO RISCO ELÉTRICO E PRODUZIR CHAMAS","UN",2,30.6,61.2]
["1.19.2.4","PLACA DE SINALIZACAO DE SEGURANCA CONTRA INCENDIO, FOTOLUMINESCENTE, QUADRADA, *20 X 20* CM, EM PVC *2* MM ANTI-CHAMAS (SIMBOLOS, CORES E PICTOGRAMAS CONFORME NBR 13434) - FORNECIMENTO E INSTALAÇÃO DE PLACAS DE SINALIZAÇÃO PROIBIDO FUMAR","UN    ",1,30.6,30.6]
["1.19.2.5","PLACA DE SINALIZACAO DE SEGURANCA CONTRA INCENDIO, FOTOLUMINESCENTE, QUADRADA, *25 X 25* CM, EM PVC *2* MM ANTI-CHAMAS (SIMBOLOS, CORES E PICTOGRAMAS CONFORME NBR 13434) - FORNECIMENTO E INSTALAÇÃO AVISADOR SONORO DE ALARME DE INCÊNDIO (SIRENE)","UN",8,30.6,244.8]
["1.19.2.6","PLACA DE SINALIZACAO DE SEGURANCA CONTRA INCENDIO, FOTOLUMINESCENTE, QUADRADA, *25 X 25* CM, EM PVC *2* MM ANTI-CHAMAS (SIMBOLOS, CORES E PICTOGRAMAS CONFORME NBR 13434) - FORNECIMENTO E INSTALAÇÃO (BOTOEIRA)","UN    ",8,30.6,244.8]
["1.19.2.7","PLACA DE SINALIZACAO DE SEGURANCA CONTRA INCENDIO, FOTOLUMINESCENTE, QUADRADA, *25 X 25* CM, EM PVC *2* MM ANTI-CHAMAS (SIMBOLOS, CORES E PICTOGRAMAS CONFORME NBR 13434 - FORNECIMENTO E INSTALAÇÃO DE PLACAS DE SINALIZAÇÃO PARA HIDRANTE ","UN    ",7,30.6,214.2]
["1.19.2.8","APLICACAO DE TINTA A BASE DE EPOXI SOBRE PISO - DIMENSÃO 1,00x1,00 (0,70x0,70 + 0,15x,015 = COR VERMELHO E AMERELO) CONFORME DETALHE DO PSCIP (HIDRANTES)","M2",7,54.84,383.88]
["1.19.2.9","PINTURA COM TINTA ALQUÍDICA DE ACABAMENTO (ESMALTE SINTÉTICO BRILHANTE) PULVERIZADA SOBRE SUPERFÍCIES METÁLICAS (EXCETO PERFIL) EXECUTADO EM OBRA  (POR DEMÃO).","M2",8.31,20.81,172.93]
[]
["1.19.3","SISTEMA DE ALARME DE INCÊNDIO",null,null,null,{"$f":"SUBTOTAL(9,F371)","v":0}]
[]
["1.19.4","LUMINÁRIA DE EMERGÊNCIA",null,null,null,{"$f":"SUBTOTAL(9,F373:F374)","v":4526.83}]
["1.19.4.1","FORNECIMENTO E INSTALAÇÃO DE LUMINÁRIAS DE EMERGÊNCIA TIPO BLOCO AUTÔNOMO - 30 LEDS - 720 LÚMENS E AUTONOMIA MÍNIMA DE 1 HORA.","UN",109,34.11,{"$f":"ROUND(D373*E373,2)","v":3717.99}]
["1.19.4.2","FORNECIMENTO E INSTALAÇÃO DE ILUMINAÇÃO DE EMERGÊNCIA LED 2 FAROIS 1200 LUMENS COM BATERIA INCLUSA","UND",4,202.21,{"$f":"ROUND(D374*E374,2)","v":808.84}]
[]
["1.19.5","SISTEMA DE HIDRANTES E ALIMENTAÇÃO RESERVATÓRIO INCÊNDIO",null,null,null,{"$f":"SUBTOTAL(9,F377:F392)","v":75485.850000000006}]
["1.19.5.1","ABRIGO PARA HIDRANTE, 75X45X17CM, COM REGISTRO GLOBO ANGULAR 45 GRAUS 2 1/2\", ADAPTADOR STORZ 2 1/2\", MANGUEIRA DE INCÊNDIO 15M 2 1/2\" E ESGUICHO EM LATÃO 2 1/2\" - FORNECIMENTO E INSTALAÇÃO (ABRIGO FORNECIDO PELO SESI)","UN",7,1223.78,{"$f":"ROUND(D377*E377,2)","v":8566.4599999999991}]
["1.19.5.2","CAIXA DE INCENDIO/ABRIGO PARA MANGUEIRA, DE EMBUTIR/INTERNA, COM 75 X 45 X 17 CM, EM CHAPA DE ACO, PORTA COM VENTILACAO, VISOR COM A INSCRICAO \"INCENDIO\", SUPORTE/CESTA INTERNA PARA A MANGUEIRA, PINTURA ELETROSTATICA VERMELHA, INCLUSO MURETA - HIDRANTE DE RECALQUE","UN",1,1403.64,1403.64]
["1.19.5.3","TUBO DE AÇO PRETO SEM COSTURA, CONEXÃO SOLDADA, DN 65 (2 1/2\"), INSTALADO EM REDE DE ALIMENTAÇÃO PARA HIDRANTE - FORNECIMENTO E INSTALAÇÃO. AF_10/2020","M",186,220.73,41055.78]
["1.19.5.4","TUBO ACO GALVANIZADO COM COSTURA, CLASSE LEVE, DN 100 MM ( 4\"),  E = 3,75 MM,  *10,55* KG/M (NBR 5580)","M     ",18,357.01,6426.18]
["1.19.5.5","LUVA, EM FERRO GALVANIZADO, DN 65 (2 1/2\"), CONEXÃO ROSQUEADA, INSTALADO EM REDE DE ALIMENTAÇÃO PARA HIDRANTE - FORNECIMENTO E INSTALAÇÃO. AF_10/2020","UN",31,90.11,2793.41]
["1.19.5.6","JOELHO 90 GRAUS, EM FERRO GALVANIZADO, DN 65 (2 1/2\"), CONEXÃO ROSQUEADA, INSTALADO EM REDE DE ALIMENTAÇÃO PARA HIDRANTE - FORNECIMENTO E INSTALAÇÃO. AF_10/2020","UN",23,129.88999999999999,2987.47]
["1.19.5.7","VÁLVULA DE RETENÇÃO HORIZONTAL, DE BRONZE, ROSCÁVEL, 2 1/2\" - FORNECIMENTO E INSTALAÇÃO. AF_01/2019","UN",2,490.82,981.64]
["1.19.5.8","REGISTRO DE GAVETA BRUTO, LATÃO, ROSCÁVEL, 2 1/2\u0094, INSTALADO EM RESERVAÇÃO DE ÁGUA DE EDIFICAÇÃO QUE POSSUA RESERVATÓRIO DE FIBRA/FIBROCIMENTO \u0096 FORNECIMENTO E INSTALAÇÃO. AF_06/2016","UN",3,201.16,603.48]
["1.19.5.9","TÊ, EM FERRO GALVANIZADO, CONEXÃO ROSQUEADA, DN 65 (2 1/2\"), INSTALADO EM REDE DE ALIMENTAÇÃO PARA HIDRANTE - FORNECIMENTO E INSTALAÇÃO.","UN",8,177.74,1421.92]
["1.19.5.10","CAIXA ENTERRADA HIDRÁULICA RETANGULAR EM ALVENARIA COM TIJOLOS CERÂMICOS MACIÇOS, DIMENSÕES INTERNAS: Ø0,6 ALTURA 0,6 M.","UN",1,650.19000000000005,650.19000000000005]
["1.19.5.11","TAMPAO FOFO SIMPLES COM BASE, CLASSE B125 CARGA MAX 12,5 T, REDONDO TAMPA 600 MM","UN    ",1,954.33,954.33]
["1.19.5.12","NIPLE, EM FERRO GALVANIZADO, DN 65 (2 1/2\"), CONEXÃO ROSQUEADA, INSTALADO EM REDE DE ALIMENTAÇÃO PARA HIDRANTE - FORNECIMENTO E INSTALAÇÃO. AF_10/2020","UN",5,80.87,404.35]
["1.19.5.13","UNIÃO, EM FERRO GALVANIZADO, DN 65 (2 1/2\"), CONEXÃO ROSQUEADA, INSTALADO EM PRUMADAS - FORNECIMENTO E INSTALAÇÃO. AF_10/2020","UN",6,182.51,1095.06]
["1.19.5.14","FLANGE SEXTAVADO DE FERRO GALVANIZADO, COM ROSCA BSP, DE 2 1/2\"","UN    ",2,115.27,230.54]
["1.19.5.15","FORNECIMENTO E INSTALAÇÃO FLUXOSTATO (CHAVE DE FLUXO) DE 2\" A 4\", FABRICADA DENTRO DAS NORMAS ESPECIFICAS DA ABNT/NBR.","UN",1,994.28,994.28]
["1.19.5.16","BOMBA CENTRÍFUGA, TRIFÁSICA, 3 CV OU 2,96 HP, HM 34 A 40 M, Q 8,6 A 14,8 M3/H - FORNECIMENTO E INSTALAÇÃO. AF_12/2020","UN",2,2458.56,4917.12]
[]
["1.19.6","BARRA ANTI-PÂNICO",null,null,null,{"$f":"SUBTOTAL(9,F395:F395)","v":9670.5}]
["1.19.6.1","BARRA ANTIPANICO DUPLA, CEGA EM LADO OPOSTO, COR CINZA - FORNECIMENTO E INSTALAÇÃO","PAR   ",7,1381.5,{"$f":"ROUND(D395*E395,2)","v":9670.5}]
[]
["1.20","INSTALAÇÕES ELÉTRICA",null,null,null,{"$f":"SUBTOTAL(9,F398:F587)","v":1022000.48}]
["1.20.1","ELÉTRICA - ALARME DE INCÊNDIO",null,null,null,{"$f":"SUBTOTAL(9,F399:F438)","v":28341.869999999995}]
["1.20.1.1","ACESSÓRIOS P/ELETRODUTO E USO GERAL",null,null,null,{"$f":"SUBTOTAL(9,F400:F414)","v":6810.47}]
["1.20.1.1.1","FORNECIMENTO E INSTALAÇÃO DE ABRAÇADEIRA DE AÇO, TIPO D, 3/4\", COM CUNHA","UN",246,6.59,{"$f":"ROUND(D400*E400,2)","v":1621.14}]
["1.20.1.1.2","FORNECIMENTO E INSTALAÇÃO DE ABRAÇADEIRA DE AÇO, TIPO D, 1\", COM CUNHA","UN",20,6.75,135]
["1.20.1.1.3","FORNECIMENTO E INSTALAÇÃO DE BUCHA E ARRUELA ALUMÍNIO FUNDIDO PARA ELETRODUTO (ZAMAK) 3/4\"","UN",99,2.0299999999999998,200.97]
["1.20.1.1.4","FORNECIMENTO E INSTALAÇÃO DE BUCHA E ARRUELA ALUMÍNIO FUNDIDO PARA ELETRODUTO (ZAMAK) 1\"","UN",9,2.41,21.69]
["1.20.1.1.5","FORNECIMENTO E INSTALAÇÃO DE BOX RETO PARA ELETRODUTO 3/4\"","UN",31,5.68,176.08]
["1.20.1.1.6","FORNECIMENTO E INSTALAÇÃO DE BOX RETO PARA ELETRODUTO 1\"","UN",3,8.0399999999999991,24.12]
["1.20.1.1.7","FORNECIMENTO E INSTALAÇÃO DE CONECTOR RETO DE ALUMÍNIO P/ ELETRODUTO 3/4\"","UN",68,3.38,229.84]
["1.20.1.1.8","FORNECIMENTO E INSTALAÇÃO DE CONECTOR RETO DE ALUMÍNIO P/ ELETRODUTO 1\"","UN",6,4.93,29.58]
["1.20.1.1.9","CAIXA RETANGULAR 4\" X 2\" PVC - FORNECIMENTO E INSTALAÇÃO. ","UN",16,8.9600000000000009,143.36000000000001]
["1.20.1.1.10","CONDULETE DE ALUMÍNIO, TIPO X, PARA ELETRODUTO DE AÇO GALVANIZADO DN 20 MM (3/4''), APARENTE - FORNECIMENTO E INSTALAÇÃO. AF_11/2016_P","UN",46,38.119999999999997,1753.52]
["1.20.1.1.11","CONDULETE DE ALUMÍNIO, TIPO X, PARA ELETRODUTO DE AÇO GALVANIZADO DN 25 MM (1''), APARENTE - FORNECIMENTO E INSTALAÇÃO. AF_11/2016_P","UN",5,42.58,212.9]
["1.20.1.1.12","LUVA DE EMENDA PARA ELETRODUTO, AÇO GALVANIZADO, DN 20 MM (3/4  ), APARENTE, INSTALADA EM TETO - FORNECIMENTO E INSTALAÇÃO. AF_11/2016_P","UN",74,6.9,510.6]
["1.20.1.1.13","LUVA DE EMENDA PARA ELETRODUTO, AÇO GALVANIZADO, DN 20 MM (3/4  ), APARENTE, INSTALADA EM TETO - FORNECIMENTO E INSTALAÇÃO. AF_11/2016_P","UN",6,6.9,41.4]
["1.20.1.1.14","LUVA DE REDUÇÃO, EM FERRO GALVANIZADO, 1\" X 3/4\", CONEXÃO ROSQUEADA, INSTALADO EM REDE DE ALIMENTAÇÃO PARA SPRINKLER - FORNECIMENTO E INSTALAÇÃO. AF_10/2020","UN",3,25.45,76.349999999999994]
["1.20.1.1.15","FORNECIMENTO E INSTALAÇÃO DE BUCHA / PARAFUSO S8","UN",368,4.4400000000000004,1633.92]
[]
["1.20.1.2","CABOS",null,null,null,{"$f":"SUBTOTAL(9,F417:F418)","v":12105.5}]
["1.20.1.2.1","FORNECIMENTO E INSTALAÇÃO DE  CABO DE COBRE FLEXÍVEL ISOLADO, 2,5 MM², ANTI-CHAMA 0,6/1,0 KV - ATOX","M",1100,5.42,{"$f":"ROUND(D417*E417,2)","v":5962}]
["1.20.1.2.2","FORNECIMENTO E INSTALAÇÃO DE  CABO DE COBRE FLEXÍVEL ISOLADO, 6 MM², ANTI-CHAMA 0,6/1,0 KV - ATOX","M",550,11.17,6143.5]
[]
["1.20.1.3","ELETRODUTOS",null,null,null,{"$f":"SUBTOTAL(9,F421:F426)","v":6197.880000000001}]
["1.20.1.3.1","ELETRODUTO FLEXÍVEL CORRUGADO, PVC, DN 32 MM (1\") - FORNECIMENTO E INSTALAÇÃO. ","M",5,8.7200000000000006,{"$f":"ROUND(D421*E421,2)","v":43.6}]
["1.20.1.3.2","ELETRODUTO DE AÇO GALVANIZADO, CLASSE LEVE, DN 20 MM (3/4\u0092\u0092), APARENTE, INSTALADO EM TETO - FORNECIMENTO E INSTALAÇÃO. AF_11/2016_P","M",222,21.9,4861.8]
["1.20.1.3.3","ELETRODUTO DE AÇO GALVANIZADO, CLASSE LEVE, DN 25 MM (1\u0092\u0092), APARENTE, INSTALADO EM TETO - FORNECIMENTO E INSTALAÇÃO. AF_11/2016_P","M",18,27.19,489.42]
["1.20.1.3.4","FORNECIMENTO E INSTALAÇÃO DE ELETRODUTO METÁLICO FLEXIVEL, COM PROTEÇÃO EM PVC PRETO (SEALTUBO) - 3/4\"","M",24,21.53,516.72]
["1.20.1.3.5","FORNECIMENTO E INSTALAÇÃO DE ELETRODUTO METÁLICO FLEXIVEL, COM PROTEÇÃO EM PVC PRETO (SEALTUBO) - 1\"","M",2,26.17,52.34]
["1.22.3.42","INSTALAÇÃO DE ELETRODUTO FLEXÍVEL CORRUGADO, PVC, DN 25 MM (3/4\") - (MATERIAL FORNECIDO PELO SESI)","UN",60,3.9,234]
[]
["1.20.1.4","QUADROS E DISPOSITIVOS ELÉTRICOS",null,null,null,{"$f":"SUBTOTAL(9,F429:F431)","v":3080.2200000000003}]
["1.20.1.4.1","FORNECIMENTO E INSTALAÇÃO DE CENTRAL DE ALARME DE INCÊNDIO CONVENCIONAL 24VCC - 12 LAÇOS - AUTONOMIA MÍNIMA DE 1 HORA ","UN",1,863.82,{"$f":"ROUND(D429*E429,2)","v":863.82}]
["1.20.1.4.2","FORNECIMENTO E INSTALAÇÃO DE ACIONADOR DE ALARME TIPO QUEBRA VIDRO","UN",9,102.88,925.92]
["1.20.1.4.3","FORNECIMENTO E INSTALAÇÃO DE SIRENE AUDIO VISUAL INCÊNDIO, 120DB, COM ALCANÇE DE 100M - 24VCC ","UN",8,161.31,1290.48]
[]
["1.20.1.5","TERMINAIS E ACESSÓRIOS",null,null,null,{"$f":"SUBTOTAL(9,F434:F438)","v":147.80000000000001}]
["1.20.1.5.1","FORNECIMENTO E INSTALAÇÃO DE TERMINAL DE COMPRESSÃO 1,5 - 2,5MM²","UN",12,4.49,{"$f":"ROUND(D434*E434,2)","v":53.88}]
["1.20.1.5.2","FORNECIMENTO E INSTALAÇÃO DE TERMINAL DE COMPRESSÃO 4 - 6MM²","UN",4,7.88,31.52]
["1.20.1.5.3","FORNECIMENTO E INSTALAÇÃO DE ABRAÇADEIRA NYLON 3,5X300MM","UN",20,0.33,6.6]
["1.20.1.5.4","FORNECIMENTO E INSTALAÇÃO DE FITA ISOLANTE DE BORRACHA AUTO-FUSÃO","UN",1,2.04,2.04]
["1.20.1.5.5","FORNECIMENTO E INSTALAÇÃO DE FITA ISOLANTE 19MMX20M","UN",3,17.920000000000002,53.76]
[]
["1.20.2","ELÉTRICA DA BOMBA DE INCÊNDIO",null,null,null,{"$f":"SUBTOTAL(9,F441:F485)","v":13820.609999999999}]
["1.20.2.1","ACESSÓRIOS P/ELETRODUTO E USO GERAL",null,null,null,{"$f":"SUBTOTAL(9,F442:F453)","v":483.60999999999996}]
["1.20.2.1.1","FORNECIMENTO E INSTALAÇÃO DE ABRAÇADEIRA DE AÇO, TIPO D, 3/4\", COM CUNHA","UN",12,6.59,{"$f":"ROUND(D442*E442,2)","v":79.08}]
["1.20.2.1.2","FORNECIMENTO E INSTALAÇÃO DE ABRAÇADEIRA DE AÇO, TIPO D, 2\", COM CUNHA","UN",6,8.77,52.62]
["1.20.2.1.3","FORNECIMENTO E INSTALAÇÃO DE BUCHA E ARRUELA ALUMÍNIO FUNDIDO PARA ELETRODUTO (ZAMAK) 3/4\"","UN",2,2.0299999999999998,4.0599999999999996]
["1.20.2.1.4","FORNECIMENTO E INSTALAÇÃO DE BUCHA E ARRUELA ALUMÍNIO FUNDIDO PARA ELETRODUTO (ZAMAK) 1\"","UN",3,2.41,7.23]
["1.20.2.1.5","FORNECIMENTO E INSTALAÇÃO DE CONECTOR RETO DE ALUMÍNIO P/ ELETRODUTO 3/4\"","UN",2,3.38,6.76]
["1.20.2.1.6","FORNECIMENTO E INSTALAÇÃO DE CONECTOR RETO DE ALUMÍNIO P/ ELETRODUTO 2\"","UN",3,9.9700000000000006,29.91]
["1.20.2.1.7","CONDULETE DE ALUMÍNIO, TIPO X, PARA ELETRODUTO DE AÇO GALVANIZADO DN 25 MM (1''), APARENTE - FORNECIMENTO E INSTALAÇÃO. AF_11/2016_P","UN",1,42.58,42.58]
["1.20.2.1.8","FORNECIMENTO E INSTALAÇÃO DE MODULO DE TOMADA ELETRICA 2P+T - 10A COM ESPELHO PARA CONDULETE ","UN",1,28.36,28.36]
["1.20.2.1.9","FORNECIMENTO E INSTALAÇÃO DE ARAME AÇO GALVANIZADO 18 BWG, 1,24MM (0,009 KG/M)","M",111,0.77,85.47]
["1.20.2.1.10","FORNECIMENTO E INSTALAÇÃO DE ARRUELA LISA GALVANIZADA 1/4\"","UN",18,0.59,10.62]
["1.20.2.1.11","FORNECIMENTO E INSTALAÇÃO DE BUCHA / PARAFUSO S8","UN",18,4.4400000000000004,79.92]
["1.20.2.1.12","FORNECIMENTO E INSTALAÇÃO DE BUCHA / PARAFUSO S10","UN",12,4.75,57]
[]
["1.20.2.2","ACESSÓRIOS P/ELETRODUTO E USO GERAL",null,null,null,{"$f":"SUBTOTAL(9,F456:F456)","v":753.08}]
["1.20.2.2.1","CAIXA ENTERRADA ELÉTRICA RETANGULAR, EM ALVENARIA COM TIJOLOS CERÂMICOS MACIÇOS, COM TAMPA, FUNDO COM BRITA, DIMENSÕES INTERNAS: 0,3X0,3X0,3 M. AF_12/2020","UN",4,188.27,{"$f":"ROUND(D456*E456,2)","v":753.08}]
[]
["1.20.2.3","CABOS",null,null,null,{"$f":"SUBTOTAL(9,F459:F463)","v":5264.0399999999991}]
["1.20.2.3.1","FORNECIMENTO E INSTALAÇÃO DE  CABO DE COBRE FLEXÍVEL ISOLADO, 2,5 MM², ANTI-CHAMA 0,6/1,0 KV - ATOX","M",30,5.42,{"$f":"ROUND(D459*E459,2)","v":162.6}]
["1.20.2.3.2","FORNECIMENTO E INSTALAÇÃO DE  CABO DE COBRE FLEXÍVEL ISOLADO, 6 MM², ANTI-CHAMA 0,6/1,0 KV - ATOX","M",3,11.17,33.51]
["1.20.2.3.3","FORNECIMENTO E INSTALAÇÃO DE  CABO DE COBRE FLEXÍVEL ISOLADO, 16 MM², ANTI-CHAMA 0,6/1,0 KV - ATOX","M",208,19.010000000000002,3954.08]
["1.20.2.3.4","FORNECIMENTO E INSTALAÇÃO DE CABO DE COBRE PP 3X2,5MM² - ISOL. TERMOPLASTICO ATOX 750V","M",10,4.87,48.7]
["1.20.2.3.5","FORNECIMENTO E INSTALAÇÃO DE CABO DE COBRE PP 4X6,0MM²","M",15,71.010000000000005,1065.1500000000001]
[]
["1.20.2.4","ELETRODUTOS E ESCAVAÇÕES",null,null,null,{"$f":"SUBTOTAL(9,F466:F471)","v":1979.9899999999998}]
["1.20.2.4.1","ELETRODUTO FLEXÍVEL CORRUGADO, PEAD, DN 63 (2\")  - FORNECIMENTO E INSTALAÇÃO. AF_04/2016","M",50,11.82,{"$f":"ROUND(D466*E466,2)","v":591}]
["1.20.2.4.2","ELETRODUTO RÍGIDO ROSCÁVEL, PVC, DN 25 MM (3/4\") - FORNECIMENTO E INSTALAÇÃO. ","M",12,8.61,{"$f":"ROUND(D467*E467,2)","v":103.32}]
["1.20.2.4.3","ELETRODUTO RÍGIDO ROSCÁVEL, PVC, DN 60 MM (2\") - FORNECIMENTO E INSTALAÇÃO. AF_12/2015","M",9,22.17,{"$f":"ROUND(D468*E468,2)","v":199.53}]
["1.20.2.4.4","FORNECIMENTO E INSTALAÇÃO DE ELETRODUTO METÁLICO FLEXIVEL, COM PROTEÇÃO EM PVC PRETO (SEALTUBO) - 3/4\"","M",1,21.53,21.53]
["1.20.2.4.5","ESCAVAÇÃO MANUAL DE VALA COM PROFUNDIDADE MENOR OU IGUAL A 1,30 M. AF_02/2021","M3",8.75,75.75,{"$f":"ROUND(D470*E470,2)","v":662.81}]
["1.20.2.4.6","REATERRO MANUAL APILOADO COM SOQUETE. AF_10/2017","M3",8.75,45.92,{"$f":"ROUND(D471*E471,2)","v":401.8}]
[]
["1.20.2.5","QUADROS E DISPOSITIVOS ELÉTRICOS",null,null,null,{"$f":"SUBTOTAL(9,F474:F478)","v":5131.34}]
["1.20.2.5.1","FORNECIMENTO E INSTALAÇÃO DE QUADRO DE COMANDO PARA 2 BOMBAS DE INCÊNDIO 3CV (PRINCIPAL+RESERVA), DE SOBREPOR, METÁLICO, COM TRATAMENTO ANTICORROSIVO, ESPELHO INTERNO, PORTA E TRINCO, PINTURA PÓ POLYESTER/EPOXI, AÇO, IP-54, DIMENSÕES 400X400X200MM, COMPLE","UN",1,3077.98,{"$f":"ROUND(D474*E474,2)","v":3077.98}]
["1.20.2.5.2","FORNECIMENTO E INSTALAÇÃO DE QUADRO DE COMANDO DE SOBREPOR, EM CHAPA METÁLICA DE AÇO Nº18, COM PLACA DE MONTAGEM CHAPA METÁLICA DE AÇO Nº14, METÁLICA, AMBOS COM TRATAMENTO ANTICORROSIVO, PINTURA PÓ POLYESTER/EPÓXI NA COR CINZA, COM PORTA E TRINCO, GRAU DE","UN",1,538.29,538.29]
["1.20.2.5.3","FORNECIMENTO E INSTALAÇÃO DE CHAVE SECCIONADORA TRIFÁSICA ROTATIVA TIPO O/I, COM ABERTURA SOB CARGA, 100A/500V, COM ALAVANCA DE MANOBRA, P/ FUSÍVEIS NH 40A TAMANHO 00 (QG-BI)","UN",1,44.94,44.94]
["1.20.2.5.4","FORNECIMENTO E INSTALAÇÃO DE FUSÍVEL NH 40A, TAMANHO 00, P/ CHAVE SECCIONADORA TRIFÁSICA ROTATIVA TIPO O/I (3 PRINCIPAIS + 3 RESERVAS DO QG-BI)","UN",6,242.83,1456.98]
["1.20.2.5.5","DISJUNTOR MONOPOLAR TIPO DIN, CORRENTE NOMINAL DE 10A - FORNECIMENTO E INSTALAÇÃO. AF_10/2020","UN",1,13.15,13.15]
[]
["1.20.2.6","TERMINAIS E ACESSÓRIOS",null,null,null,{"$f":"SUBTOTAL(9,F481:F485)","v":208.54999999999995}]
["1.20.2.6.1","FORNECIMENTO E INSTALAÇÃO DE TERMINAL DE COMPRESSÃO 1,5 - 2,5MM²","UN",15,4.49,{"$f":"ROUND(D481*E481,2)","v":67.349999999999994}]
["1.20.2.6.2","FORNECIMENTO E INSTALAÇÃO DE TERMINAL DE COMPRESSÃO 4 - 6MM²","UN",10,7.88,78.8]
["1.20.2.6.3","FORNECIMENTO E INSTALAÇÃO DE ABRAÇADEIRA NYLON 3,5X300MM","UN",20,0.33,6.6]
["1.20.2.6.4","FORNECIMENTO E INSTALAÇÃO DE FITA ISOLANTE DE BORRACHA AUTO-FUSÃO","UN",1,2.04,2.04]
["1.20.2.6.5","FORNECIMENTO E INSTALAÇÃO DE FITA ISOLANTE 19MMX20M","UN",3,17.920000000000002,53.76]
[]
["1.20.3","ELETRICA DA IMPLANTAÇÃO",null,null,null,{"$f":"SUBTOTAL(9,F488:F538)","v":811714.11999999988}]
["1.20.3.1","ACESSÓRIOS P/ELETRODUTO E USO GERAL",null,null,null,{"$f":"SUBTOTAL(9,F489:F492)","v":209.70000000000002}]
["1.20.3.1.1","FORNECIMENTO E INSTALAÇÃO DE ABRAÇADEIRA DE AÇO, TIPO D, 2\", COM CUNHA","UN",10,8.77,{"$f":"ROUND(D489*E489,2)","v":87.7}]
["1.20.3.1.2","FORNECIMENTO E INSTALAÇÃO DE BUCHA E ARRUELA ALUMÍNIO FUNDIDO PARA ELETRODUTO (ZAMAK) 2\"","UN",4,9.43,37.72]
["1.20.3.1.3","FORNECIMENTO E INSTALAÇÃO DE CONECTOR RETO DE ALUMÍNIO P/ ELETRODUTO 2\"","UN",4,9.9700000000000006,39.880000000000003]
["1.20.3.1.4","FORNECIMENTO E INSTALAÇÃO DE BUCHA / PARAFUSO S8","UN",10,4.4400000000000004,44.4]
[]
["1.20.3.2","CAIXA DE PASSAGEM E CANALETAS",null,null,null,{"$f":"SUBTOTAL(9,F495:F499)","v":30556.370000000003}]
["1.20.3.2.1","CAIXA ENTERRADA ELÉTRICA RETANGULAR, EM ALVENARIA COM TIJOLOS CERÂMICOS MACIÇOS, COM TAMPA, FUNDO COM BRITA, DIMENSÕES INTERNAS: 0,4X0,4X0,4 M. AF_12/2020","UN",5,298.06,{"$f":"ROUND(D495*E495,2)","v":1490.3}]
["1.20.3.2.2","CAIXA ENTERRADA ELÉTRICA RETANGULAR, EM ALVENARIA COM TIJOLOS CERÂMICOS MACIÇOS, COM TAMPA, FUNDO COM BRITA, DIMENSÕES INTERNAS: 0,6X0,6X0,6 M. AF_12/2020","UN",10,581.84,5818.4]
["1.20.3.2.3","CAIXA ENTERRADA ELÉTRICA RETANGULAR, EM ALVENARIA COM TIJOLOS CERÂMICOS MACIÇOS, COM TAMPA, FUNDO COM BRITA, DIMENSÕES INTERNAS: 0,8X0,8X0,6 M. AF_12/2020","UN",17,778.31,13231.27]
["1.20.3.2.4","CAIXA ENTERRADA ELÉTRICA RETANGULAR, EM ALVENARIA COM TIJOLOS CERÂMICOS MACIÇOS, COM TAMPA, FUNDO COM BRITA, DIMENSÕES INTERNAS: 1X1X0,6 M. AF_12/2020","UN",3,912.13,2736.39]
["1.20.3.2.5","CANALETA EM ALVENARIA, C/ TAMPAS EM MÓDULOS DE 60CM E FUNDO BRITA - 60CM LARGURA E 06CM PROFUNDIDADE","M",9,808.89,7280.01]
[]
["1.20.3.3","CABOS",null,null,null,{"$f":"SUBTOTAL(9,F502:F507)","v":673909.15}]
["1.20.3.3.1","FORNECIMENTO E INSTALAÇÃO DE  CABO DE COBRE FLEXÍVEL ISOLADO, 16 MM², ANTI-CHAMA 0,6/1,0 KV - ATOX","M",750,19.010000000000002,{"$f":"ROUND(D502*E502,2)","v":14257.5}]
["1.20.3.3.2","FORNECIMENTO E INSTALAÇÃO DE  CABO DE COBRE FLEXÍVEL ISOLADO, 35 MM², ANTI-CHAMA 0,6/1,0 KV - ATOX","M",530,43.02,22800.6]
["1.20.3.3.3","FORNECIMENTO E INSTALAÇÃO DE  CABO DE COBRE FLEXÍVEL ISOLADO, 70 MM², ANTI-CHAMA 0,6/1,0 KV - ATOX","M",780,117.68,91790.399999999994]
["1.20.3.3.4","FORNECIMENTO E INSTALAÇÃO DE  CABO DE COBRE FLEXÍVEL ISOLADO, 120 MM², ANTI-CHAMA 0,6/1,0 KV - ATOX","M",2000,140.38,280760]
["1.20.3.3.5","FORNECIMENTO E INSTALAÇÃO DE  CABO DE COBRE FLEXÍVEL ISOLADO, 185 MM², ANTI-CHAMA 0,6/1,0 KV - ATOX","M",1250,211.03,263787.5]
["1.20.3.3.6","FORNECIMENTO E INSTALAÇÃO DE CABO DE COBRE NÚ 95mm²","M",5,102.63,513.15]
[]
["1.20.3.4","DISPOSITIVO DE PROTEÇÃO",null,null,null,{"$f":"SUBTOTAL(9,F510:F516)","v":24962.5}]
["1.20.3.4.1","FORNECIMENTO E INSTALAÇÃO DE DISJUNTOR TIPO DIN/IEC, TRIPOLAR 70 A  (REF.: MARCA SIEMENS, WEG OU SIMILAR)","UN",3,210.2,{"$f":"ROUND(D510*E510,2)","v":630.6}]
["1.20.3.4.2","FORNECIMENTO E INSTALAÇÃO DE DISJUNTOR TIPO DIN/IEC, TRIPOLAR 100 A  (REF.: MARCA SIEMENS, WEG OU SIMILAR)","UN",1,254.67,254.67]
["1.20.3.4.3","FORNECIMENTO E INSTALAÇÃO DE DISJUNTOR TRIPOLAR TERMOMAGNÉTICO EM CAIXA MOLDADA - 150A  (REF.: MARCA SIEMENS, WEG OU SIMILAR)","UN",2,490.5,981]
["1.20.3.4.4","FORNECIMENTO E INSTALAÇÃO DE DISJUNTOR TRIPOLAR TERMOMAGNÉTICO EM CAIXA MOLDADA - 450A  (REF.: MARCA SIEMENS, WEG OU SIMILAR)","UN",2,2613.86,5227.72]
["1.20.3.4.5","DISJUNTOR TERMOMAGNÉTICO TRIPOLAR , CORRENTE NOMINAL DE 600A - FORNECIMENTO E INSTALAÇÃO. AF_10/2020","UN",2,2558.36,5116.72]
["1.20.3.4.6","FORNECIMENTO E INSTALAÇÃO DE DISJUNTOR TRIPOLAR TERMOMAGNÉTICO, AJUSTÁVEL ELETRONICAMENTE (TÉRMICO E MAGNÉTICO) - NORMA DIN - 1300 A, CAIXA MOLDADA (DWA1600-E WEG OU SIMILAR)","UN",1,12238.83,12238.83]
["1.20.3.4.7","FORNECIMENTO E INSTALAÇÃO DE DISPOSITIVO DPS, 1 polo, 175 V, 45 kA","UN",4,128.24,512.96]
[]
["1.20.3.5","ELETRODUTOS E ESCAVAÇÃO",null,null,null,{"$f":"SUBTOTAL(9,F519:F524)","v":52951.55}]
["1.20.3.5.1","ELETRODUTO FLEXÍVEL CORRUGADO, PEAD, DN 63 (2\")  - FORNECIMENTO E INSTALAÇÃO. AF_04/2016","M",100,11.82,{"$f":"ROUND(D519*E519,2)","v":1182}]
["1.20.3.5.2","ELETRODUTO FLEXÍVEL CORRUGADO, PEAD, DN 90 (3\u0094) - FORNECIMENTO E INSTALAÇÃO. AF_04/2016","M",1590,18.72,29764.799999999999]
["1.20.3.5.3","ELETRODUTO RÍGIDO ROSCÁVEL, PVC, DN 60 MM (2\") - FORNECIMENTO E INSTALAÇÃO. AF_12/2015","M",12,22.17,266.04000000000002]
["1.20.3.5.4","ESCAVAÇÃO MANUAL DE VALA COM PROFUNDIDADE MENOR OU IGUAL A 1,30 M. AF_02/2021","M3",167.13,75.75,{"$f":"ROUND(D522*E522,2)","v":12660.1}]
["1.20.3.5.5","REATERRO MANUAL APILOADO COM SOQUETE. AF_10/2017","M3",167.13,45.92,{"$f":"ROUND(D523*E523,2)","v":7674.61}]
["1.20.3.5.6","INSTALAÇÃO DE ELETRODUTO FLEXÍVEL CORRUGADO, PVC, DN 25 MM (3/4\") - (MATERIAL FORNECIDO PELO SESI)","UN",360,3.9,1404]
[]
["1.20.3.6","QUADRO DE DISTRIBUIÇÃO",null,null,null,{"$f":"SUBTOTAL(9,F527:F527)","v":27401.96}]
["1.20.3.6.1","FORNECIMENTO E INSTALAÇÃO DE QUADRO GERAL DE DISTRIBUIÇÃO EM BAIXA TENSÃO, DE SOBREPOR, MONTADO EM PAINÉIS MODULARES DE CHAPA PINTADA 1X(1900X400X1000MM) + 1X(1900X400X1000MM), COM BARRAMENTO GERAL TRIFÁSICO DE COBRE 2X(2\"X5/16\")  IN: 1600A - CAPACIDADE P","UN",1,27401.96,{"$f":"ROUND(D527*E527,2)","v":27401.96}]
[]
["1.20.3.7","TERMINAIS",null,null,null,{"$f":"SUBTOTAL(9,F530:F538)","v":1722.8899999999999}]
["1.20.3.7.1","FORNECIMENTO E INSTALAÇÃO DE TERMINAL DE COMPRESSÃO 16MM²","UN",17,8.5299999999999994,{"$f":"ROUND(D530*E530,2)","v":145.01}]
["1.20.3.7.2","FORNECIMENTO E INSTALAÇÃO DE TERMINAL DE COMPRESSÃO 35MM²","UN",8,9.59,76.72]
["1.20.3.7.3","FORNECIMENTO E INSTALAÇÃO DE TERMINAL DE COMPRESSÃO 70MM²","UN",10,13.02,130.19999999999999]
["1.20.3.7.4","FORNECIMENTO E INSTALAÇÃO DE TERMINAL DE COMPRESSÃO 95MM²","UN",2,14.5,29]
["1.20.3.7.5","FORNECIMENTO E INSTALAÇÃO DE TERMINAL DE COMPRESSÃO 120MM²","UN",22,19.91,438.02]
["1.20.3.7.6","FORNECIMENTO E INSTALAÇÃO DE TERMINAL DE COMPRESSÃO 185MM²","UN",18,36.03,648.54]
["1.20.3.7.7","FORNECIMENTO E INSTALAÇÃO DE ABRAÇADEIRA NYLON 3,5X300MM","UN",200,0.33,66]
["1.20.3.7.8","FORNECIMENTO E INSTALAÇÃO DE FITA ISOLANTE DE BORRACHA AUTO-FUSÃO","UN",5,2.04,10.199999999999999]
["1.20.3.7.9","FORNECIMENTO E INSTALAÇÃO DE FITA ISOLANTE 19MMX20M","UN",10,17.920000000000002,179.2]
[]
["1.20.4","ELÉTRICA BT - ILUMINAÇÃO EXTERNA",null,null,null,{"$f":"SUBTOTAL(9,F541:F587)","v":168123.87999999998}]
["1.20.4.1","ACESSÓRIOS P/ELETRODUTO E USO GERAL",null,null,null,{"$f":"SUBTOTAL(9,F542:F546)","v":255.38}]
["1.20.4.1.1","FORNECIMENTO E INSTALAÇÃO DE ABRAÇADEIRA DE AÇO, TIPO D, 2\", COM CUNHA","UN",2,8.77,{"$f":"ROUND(D542*E542,2)","v":17.54}]
["1.20.4.1.2","FORNECIMENTO E INSTALAÇÃO DE BUCHA E ARRUELA ALUMÍNIO FUNDIDO PARA ELETRODUTO (ZAMAK) 2\"","UN",1,9.43,9.43]
["1.20.4.1.3","FORNECIMENTO E INSTALAÇÃO DE BOX RETO P/ ELETRODUTO 2\"","UN",1,9.9700000000000006,9.9700000000000006]
["1.20.4.1.4","FORNECIMENTO E INSTALAÇÃO DE ARAME AÇO GALVANIZADO 18 BWG, 1,24MM (0,009 KG/M)","M",222,0.77,170.94]
["1.20.4.1.5","FORNECIMENTO E INSTALAÇÃO DE BUCHA / PARAFUSO S10","UN",10,4.75,47.5]
[null,""]
["1.20.4.2","ACESSÓRIOS P/ELETRODUTO E USO GERAL",null,null,null,{"$f":"SUBTOTAL(9,F549:F550)","v":7075.7800000000007}]
["1.20.4.2.1","CAIXA ENTERRADA ELÉTRICA RETANGULAR, EM ALVENARIA COM TIJOLOS CERÂMICOS MACIÇOS, COM TAMPA, FUNDO COM BRITA, DIMENSÕES INTERNAS: 0,3X0,3X0,3 M. AF_12/2020","UN",36,188.27,{"$f":"ROUND(D549*E549,2)","v":6777.72}]
["1.20.4.2.2","CAIXA ENTERRADA ELÉTRICA RETANGULAR, EM ALVENARIA COM TIJOLOS CERÂMICOS MACIÇOS, COM TAMPA, FUNDO COM BRITA, DIMENSÕES INTERNAS: 0,4X0,4X0,4 M. AF_12/2020","UN",1,298.06,298.06]
[null,""]
["1.20.4.3","CABOS",null,null,null,{"$f":"SUBTOTAL(9,F553:F555)","v":33885.050000000003}]
["1.20.4.3.1","FORNECIMENTO E INSTALAÇÃO DE  CABO DE COBRE FLEXÍVEL ISOLADO, 4 MM², ANTI-CHAMA 0,6/1,0 KV - ATOX","M",3000,7.7,{"$f":"ROUND(D553*E553,2)","v":23100}]
["1.20.4.3.2","FORNECIMENTO E INSTALAÇÃO DE  CABO DE COBRE FLEXÍVEL ISOLADO, 6 MM², ANTI-CHAMA 0,6/1,0 KV - ATOX","M",850,11.17,9494.5]
["1.20.4.3.3","FORNECIMENTO E INSTALAÇÃO DE CABO DE COBRE PP 3X2,5MM² - ISOL. TERMOPLASTICO ATOX 750V","M",265,4.87,1290.55]
[null,""]
["1.20.4.4","DISPOSITIVO DE PROTEÇÃO",null,null,null,{"$f":"SUBTOTAL(9,F558:F560)","v":1261.4000000000001}]
["1.20.4.4.1","DISJUNTOR BIPOLAR TIPO DIN, CORRENTE NOMINAL DE 16A - FORNECIMENTO E INSTALAÇÃO. AF_10/2020","UN",8,67.28,{"$f":"ROUND(D558*E558,2)","v":538.24}]
["1.20.4.4.2","FORNECIMENTO E INSTALAÇÃO DE DISJUNTOR TIPO DIN/IEC, TRIPOLAR 70 A  (REF.: MARCA SIEMENS, WEG OU SIMILAR)","UN",1,210.2,210.2]
["1.20.4.4.3","FORNECIMENTO E INSTALAÇÃO DE DISPOSITIVO DPS, 1 POLO, 175 V, 45 KA","UN",4,128.24,512.96]
[null,""]
["1.20.4.5","ELETRODUTOS",null,null,null,{"$f":"SUBTOTAL(9,F563:F568)","v":30344.46}]
["1.20.4.5.1","ELETRODUTO FLEXÍVEL CORRUGADO, PVC, DN 25 MM (3/4\") - FORNECIMENTO E INSTALAÇÃO. ","M",72,6.19,{"$f":"ROUND(D563*E563,2)","v":445.68}]
["1.20.4.5.2","ELETRODUTO FLEXÍVEL CORRUGADO, PEAD, DN 50 (1 ½\u0094)  - FORNECIMENTO E INSTALAÇÃO. AF_04/2016","M",720,7.73,5565.6]
["1.20.4.5.3","ELETRODUTO FLEXÍVEL CORRUGADO, PEAD, DN 63 (2\")  - FORNECIMENTO E INSTALAÇÃO. AF_04/2016","M",720,11.82,8510.4]
["1.20.4.5.4","ELETRODUTO RÍGIDO ROSCÁVEL, PVC, DN 60 MM (2\") - FORNECIMENTO E INSTALAÇÃO. AF_12/2015","M",3,22.17,66.510000000000005]
["1.20.4.5.5","ESCAVAÇÃO MANUAL DE VALA COM PROFUNDIDADE MENOR OU IGUAL A 1,30 M. AF_02/2021","M3",129.5,75.75,{"$f":"ROUND(D567*E567,2)","v":9809.6299999999992}]
["1.20.4.5.6","REATERRO MANUAL APILOADO COM SOQUETE. AF_10/2017","M3",129.5,45.92,{"$f":"ROUND(D568*E568,2)","v":5946.64}]
[null,""]
["1.20.4.6","LUMINÁRIAS E ACESSÓRIOS",null,null,null,{"$f":"SUBTOTAL(9,F571:F577)","v":93464.86}]
["1.20.4.6.1","FORNECIMENTO E INSTALAÇÃO DE LUMINÁRIA DE LED PROJETOR PUBLICA 50W TIPO PÉTALA, >5.500LM, 5000K, IRC 70%, IP66, 100-240VAC, INSTALADA EM SUPORTE DE POSTE","UN",19,288.75,{"$f":"ROUND(D571*E571,2)","v":5486.25}]
["1.20.4.6.2","FORNECIMENTO E INSTALAÇÃO DE LUMINÁRIA DE LED PROJETOR PUBLICA 100W TIPO PÉTALA, >11.000LM, 5000K, IRC 70%, IP66, 100-240VAC, INSTALADA EM SUPORTE DE POSTE","UN",36,611.65,22019.4]
["1.20.4.6.3","FORNECIMENTO E INSTALAÇÃO DE POSTE CIRCULAR DE 3,5 METROS, EM AÇO GALVANIZADO DE Ø2.1/2\", COM PINTURA ELETROSTÁTICA NA COR CINZA, FLANGE DE FIXAÇÃO, BASE DE CONCRETO COM CHUMBADOR, INCLUSIVE ACESSÓRIOS DE INSTALAÇÃO, CONFORME PROJETO.","UN",19,1651.37,31376.03]
["1.20.4.6.4","FORNECIMENTO E INSTALAÇÃO DE POSTE CIRCULAR DE 3,5 METROS, EM AÇO GALVANIZADO DE Ø2.1/2\", COM PINTURA ELETROSTÁTICA NA COR CINZA, FLANGE DE FIXAÇÃO, BASE DE CONCRETO COM CHUMBADOR, INCLUSIVE ACESSÓRIOS DE INSTALAÇÃO, CONFORME PROJETO.","UN",17,1651.37,28073.29]
["1.20.4.6.5","FORNECIMENTO E INSTALAÇÃO DE SUPORTE EM TUBO GALVANIZADO 2.1/2\", PARA FIXAÇÃO DE 1 LUMINÁRIA PÉTALA EM POSTE TELECONICO, FIXADO COM PARAFUSO.","M",19,155.08000000000001,2946.52]
["1.20.4.6.6","FORNECIMENTO E INSTALAÇÃO DE SUPORTE EM TUBO GALVANIZADO 2.1/2\", PARA FIXAÇÃO DE 2 LUMINÁRIAS PÉTALAS EM POSTE TELECONICO, FIXADO COM PARAFUSO.","M",16,203.87,3261.92]
["1.20.4.6.7","FORNECIMENTO E INSTALAÇÃO DE SUPORTE EM TUBO GALVANIZADO 2.1/2\", PARA FIXAÇÃO DE 4 LUMINÁRIAS PÉTALAS EM POSTE TELECONICO, FIXADO COM PARAFUSO.","M",1,301.45,301.45]
[null,""]
["1.20.4.7","QUADRO DE DISTRIBUIÇÃO",null,null,null,{"$f":"SUBTOTAL(9,F580:F580)","v":1368.37}]
["1.20.4.7.1","FORNECIMENTO E INSTALAÇÃO DE QUADRO DE COMANDO DE ILUMINAÇÃO DE SOBREPOR, COM 2 PROGRAMADORES HORÁRIOS, METÁLICO, COM TRATAMENTO ANTICORROSIVO, ESPELHO INTERNO, PORTA E TRINCO, PINTURA PÓ POLYESTER/EPOXI, AÇO, IP-54, DIMENSÕES 500X500X200MM, COMPLETO, INC","UN",1,1368.37,{"$f":"ROUND(D580*E580,2)","v":1368.37}]
[null,""]
["1.20.4.8","TERMINAIS",null,null,null,{"$f":"SUBTOTAL(9,F583:F587)","v":468.58}]
["1.20.4.8.1","FORNECIMENTO E INSTALAÇÃO DE TERMINAL DE COMPRESSÃO 4 - 6MM²","UN",30,7.88,{"$f":"ROUND(D583*E583,2)","v":236.4}]
["1.20.4.8.2","FORNECIMENTO E INSTALAÇÃO DE TERMINAL DE COMPRESSÃO 16MM²","UN",8,8.5299999999999994,68.239999999999995]
["1.20.4.8.3","FORNECIMENTO E INSTALAÇÃO DE ABRAÇADEIRA NYLON 3,5X300MM","UN",50,0.33,16.5]
["1.20.4.8.4","FORNECIMENTO E INSTALAÇÃO DE FITA ISOLANTE DE BORRACHA AUTO-FUSÃO","UN",2,2.04,4.08]
["1.20.4.8.5","FORNECIMENTO E INSTALAÇÃO DE FITA ISOLANTE 19MMX20M","UN",8,17.920000000000002,143.36000000000001]
[]
["1.21","LOGICA E TELEFONICA",null,null,null,{"$f":"SUBTOTAL(9,F590:F640)","v":149360.63}]
["1.21.1"," IMPLANTAÇÃO",null,null,null,{"$f":"SUBTOTAL(9,F591:F640)","v":149360.63}]
["1.21.1.1","ACESSÓRIOS P/ELETRODUTO E USO GERAL",null,null,null,{"$f":"SUBTOTAL(9,F592:F600)","v":353.59999999999991}]
["1.21.1.1.1","FORNECIMENTO E INSTALAÇÃO DE ABRAÇADEIRA DE AÇO, TIPO D, 1\", COM CUNHA","UN",10,6.75,{"$f":"ROUND(D592*E592,2)","v":67.5}]
["1.21.1.1.2","FORNECIMENTO E INSTALAÇÃO DE BUCHA E ARRUELA ALUMÍNIO FUNDIDO PARA ELETRODUTO (ZAMAK) 1\"","UN",5,2.41,12.05]
["1.21.1.1.3","FORNECIMENTO E INSTALAÇÃO DE BOX RETO PARA ELETRODUTO 1\"","UN",5,8.0399999999999991,40.200000000000003]
["1.21.1.1.4","FORNECIMENTO E INSTALAÇÃO DE SAÍDA ELETROCALHA P/ ELETRODUTO 1\" ","UN",5,15.54,77.7]
["1.21.1.1.5","FORNECIMENTO E INSTALAÇÃO DE ARAME AÇO GALVANIZADO 18 BWG, 1,24MM (0,009 KG/M)","M",100,0.77,77]
["1.21.1.1.6","FORNECIMENTO E INSTALAÇÃO DE ARRUELA LISA GALVANIZADA 1/4\"","UN",10,0.59,5.9]
["1.21.1.1.7","FORNECIMENTO E INSTALAÇÃO DE BUCHA / PARAFUSO S8","UN",10,4.4400000000000004,44.4]
["1.21.1.1.8","FORNECIMENTO E INSTALAÇÃO DE PARAFUSO GALVAN. CABEÇA LENTILHA 1/4X5/8\"","UN",5,4.93,24.65]
["1.21.1.1.9","FORNECIMENTO E INSTALAÇÃO DE PORCA SEXTAVADA GALVAN. 1/4\"","UN",10,0.42,4.2]
[null,""]
["1.21.1.1","ACESSÓRIOS P/ELETRODUTO E USO GERAL",null,null,null,{"$f":"SUBTOTAL(9,F603:F605)","v":3473.6400000000003}]
["1.21.1.1.1","CAIXA DE PASSAGEM 15X15X10CM (EMBUTIR), FORNECIMENTO E INSTALACAO. AF_11/2019","UN",4,44.78,{"$f":"ROUND(D603*E603,2)","v":179.12}]
["1.21.1.1.2","CAIXA ENTERRADA ELÉTRICA RETANGULAR, EM ALVENARIA COM TIJOLOS CERÂMICOS MACIÇOS, COM TAMPA, FUNDO COM BRITA, DIMENSÕES INTERNAS: 0,3X0,3X0,3 M. AF_12/2020","UN",8,188.27,1506.16]
["1.21.1.1.3","CAIXA ENTERRADA ELÉTRICA RETANGULAR, EM ALVENARIA COM TIJOLOS CERÂMICOS MACIÇOS, COM TAMPA, FUNDO COM BRITA, DIMENSÕES INTERNAS: 0,4X0,4X0,4 M. AF_12/2020","UN",6,298.06,1788.36]
[null,""]
["1.21.1.2","CABOS",null,null,null,{"$f":"SUBTOTAL(9,F608:F611)","v":79188.400000000009}]
["1.21.1.2.1","CABO ELETRÔNICO CATEGORIA 6, ATOX LSZH, INSTALADO EM EDIFICAÇÃO INSTITUCIONAL - FORNECIMENTO E INSTALAÇÃO. AF_11/2019","M",20,2.58,{"$f":"ROUND(D608*E608,2)","v":51.6}]
["1.21.1.2.2","FORNECIMENTO E INSTALAÇÃO DE CABO DE FIBRA ÓTICA DE 6 PARES (12 FIBRAS), INDOOR/OUTDOOR, MULTIMODO OM3 62,5/125MICROMETRO, GRAU DE FLAMABILIDADE LSZH. (REF.: FURUKAWA FIBER-LAN INDOOR/OUTDOOR MM 12F (50) OM3 LSZH OU SIMILAR)","M",1300,39.18,50934]
["1.21.1.2.3","CABO TELEFÔNICO CTP-APL-50 20 PARES INSTALADO EM ENTRADA DE EDIFICAÇÃO - FORNECIMENTO E INSTALAÇÃO. AF_11/2019","M",800,33.61,26888]
["1.21.1.2.4","CABO TELEFÔNICO CI-50 50 PARES INSTALADO EM ENTRADA DE EDIFICAÇÃO - FORNECIMENTO E INSTALAÇÃO. AF_11/2019","M",20,65.739999999999995,1314.8]
[null,""]
["1.21.1.3","DISPOSITIVO CABEAMENTO EMBUTIR",null,null,null,{"$f":"SUBTOTAL(9,F614:F614)","v":27.8}]
["1.21.1.3.1","FORNECIMENTO E INSTALAÇÃO DE CONECTOR MACHO RJ45 - CAT.6","UN",4,6.95,{"$f":"ROUND(D614*E614,2)","v":27.8}]
[null,""]
["1.21.1.4","ELETRODUTOS",null,null,null,{"$f":"SUBTOTAL(9,F617:F618)","v":1285.25}]
["1.21.1.4.1","INSTALAÇÃO DE ELETRODUTO FLEXÍVEL CORRUGADO, PVC, DN 32 MM (1\")  - (MATERIAL FORNECIDO PELO SESI)","UN",50,4.78,{"$f":"ROUND(D617*E617,2)","v":239}]
["1.21.1.4.2","INSTALAÇÃO DE ELETRODUTO FLEXÍVEL CORRUGADO, PEAD, DN 63 (2\")  - (MATERIAL FORNECIDO PELO SESI)","UN",225,4.6500000000000004,1046.25]
[null,""]
["1.21.1.5","RACK E ACESSÓRIOS",null,null,null,{"$f":"SUBTOTAL(9,F621:F631)","v":16812.7}]
["1.21.1.5.1","FORNECIMENTO E INSTALAÇÃO DE RACK DE PISO PADRÃO 19\" FECHADO, DESMONTÁVEL - PORTA ACRÍLICO FUMÊ - 44U X 770 MM","UN",1,3122.43,{"$f":"ROUND(D621*E621,2)","v":3122.43}]
["1.21.1.5.2","FORNECIMENTO E INSTALAÇÃO DE REGUA PARA 10 TOMADAS 2P+T 20A - 1U","UN",4,150.4,601.6]
["1.21.1.5.3","FORNECIMENTO E INSTALAÇÃO DE KIT DE VENTILAÇÃO COM 2 COOLERS","UN",2,306.91000000000003,613.82000000000005]
["1.21.1.5.4","FORNECIMENTO E INSTALAÇÃO DE VOICE PANEL 30 PORTAS RJ45","UN",9,652.1,5868.9]
["1.21.1.5.5","FORNECIMENTO E INSTALAÇÃO DE VOICE PANEL 50 PORTAS RJ45","UN",4,1229.58,4918.32]
["1.21.1.5.6","FORNECIMENTO E INSTALAÇÃO DE GUIA DE CABOS FECHADO HORIZONTAL - 1U","UN",24,34.69,832.56]
["1.21.1.5.7","FORNECIMENTO E INSTALAÇÃO DE BANDEJA PARA RACK 19\", FIXA HORIZONTAL 1U.","UN",1,97.67,97.67]
["1.21.1.5.8","FORNECIMENTO E INSTALAÇÃO DE ANEL ORGANIZADOR DE CABOS TIPO ABRAÇADEIRA VELCRO","UN",10,2.2000000000000002,22]
["1.21.1.5.9","FORNECIMENTO E INSTALAÇÃO DE FITA ROTULADORA 12MM PRETO SOBRE BRANCO 8M","UN",4,104.85,419.4]
["1.21.1.5.10","FORNECIMENTO E INSTALAÇÃO DE PATCH CORD CERTIFICADO CAT.6 - CONEXÃO RJ45 X RJ45 - COMP. 1,5M - LSZH","UN",26,8.86,230.36]
["1.21.1.5.11","FORNECIMENTO DE SERVIÇO DE CERTIFICAÇÃO DE CABO DE REDE CAT-6, COM CERTIFICADO DE AFERIÇÃO DO APARELHO","UN",2,42.82,85.64]
[null,""]
["1.21.1.6","FIBRA ÓPTICA E ACESSÓRIOS",null,null,null,{"$f":"SUBTOTAL(9,F634:F640)","v":48219.240000000005}]
["1.21.1.6.1","FORNECIMENTO E INSTALAÇÃO DE DISTRIBUIDOR OPTICO INTERNO PARA 12 FO - 1U PARA RACK.","UN",14,518.47,{"$f":"ROUND(D634*E634,2)","v":7258.58}]
["1.21.1.6.2","FORNECIMENTO E INSTALAÇÃO DE CHASSIS DE MONTAGEM 14 SLOT´S PARA RACK 19\", PARA ACOMODAÇÃO DOS MÓDULOS CONVERSORES DE FIBRA ÓTICA","UN",2,2632.32,5264.64]
["1.21.1.6.3","FORNECIMENTO E INSTALAÇÃO DE EXTENSÃO PIGTAIL MULTIMODO P/ DIO - CONECTOR SC","UN",168,32.04,5382.72]
["1.21.1.6.4","FORNECIMENTO E INSTALAÇÃO DE CORDÃO ÓPTICO MULTIMODO - 2 FO CONECTOR SC/SC - 2,50 M","UN",26,101.69,2643.94]
["1.21.1.6.5","FORNECIMENTO E INSTALAÇÃO DE CONVERSOR DE MÍDIA PARA FIBRA ÓTICA MM E SM 10/100 2FO RJ45","UN",26,281.52,7319.52]
["1.21.1.6.6","FORNECIMENTO DE SERVIÇO DE CERTIFICACAO DE CABEAMENTO DE FIBRA OPTICA","UN",168,34.26,5755.68]
["1.21.1.6.7","FORNECIMENTO DE SERVIÇO DE FUSÃO FIBRA ÓTICA COM EXTENSÃO PIGTAIL COM CERTIFICAÇÃO DE AFERIÇÃO DO APARELHO","UN",168,86.87,14594.16]
[]
["1.22","CLIMATIZAÇÃO - AR CONDICIONADO",null,null,null,{"$f":"SUBTOTAL(9,F643:F645)","v":9929.4500000000007}]
["1.22.1","IMPLANTAÇÃO GERAL - SERVIÇOS PRELIMINARES",null,null,null,{"$f":"SUBTOTAL(9,F644:F645)","v":9929.4500000000007}]
["1.22.1.1","MOBILIZAÇÃO E DESMOBILIZAÇÃO  (MÁQUINAS E EQUIPAMENTOS)","UN",1,7066.45,{"$f":"ROUND(D644*E644,2)","v":7066.45}]
["1.22.1.2","LOCACAO DE ANDAIME SUSPENSO OU BALANCIM MANUAL, CAPACIDADE DE CARGA TOTAL DE APROXIMADAMENTE 250 KG/M2, PLATAFORMA DE 1,50 M X 0,80 M (C X L), CABO DE 45 M","MES   ",4,715.75,2863]
[]
["1.23","INFRAESTRUTURA PARA INSTALAÇÃO DE AUDIO E VÍDEO",null,null,null,{"$f":"SUBTOTAL(9,F648:F681)","v":56045.010000000009}]
["1.23.1","IMPLANTAÇÃO - MULTIMIDA",null,null,null,{"$f":"SUBTOTAL(9,F649:F681)","v":56045.010000000009}]
["1.23.1.1","ACESSÓRIOS P/ELETRODUTO E USO GERAL",null,null,null,{"$f":"SUBTOTAL(9,F650:F663)","v":8915.5}]
["1.23.1.1.1","FORNECIMENTO E INSTALAÇÃO DE ABRAÇADEIRA DE AÇO, TIPO D, 3/4\", COM CUNHA","UN",90,6.59,{"$f":"ROUND(D650*E650,2)","v":593.1}]
["1.23.1.1.2","FORNECIMENTO E INSTALAÇÃO DE BUCHA E ARRUELA ALUMÍNIO FUNDIDO PARA ELETRODUTO (ZAMAK) 3/4\"","UN",106,2.0299999999999998,215.18]
["1.23.1.1.3","FORNECIMENTO E INSTALAÇÃO DE CONECTOR RETO DE ALUMÍNIO P/ ELETRODUTO 3/4\"","UN",106,3.38,358.28]
["1.23.1.1.4","CONDULETE DE ALUMÍNIO, TIPO X, PARA ELETRODUTO DE AÇO GALVANIZADO DN 20 MM (3/4''), APARENTE - FORNECIMENTO E INSTALAÇÃO. AF_11/2016_P","UN",53,38.119999999999997,2020.36]
["1.23.1.1.5","CAIXA RETANGULAR 4\" X 2\" PVC - FORNECIMENTO E INSTALAÇÃO. ","UN",1,8.9600000000000009,8.9600000000000009]
["1.23.1.1.6","FORNECIMENTO E INSTALAÇÃO DE PLACA CEGA DE ALUMÍNIO  P/ CONDULETE","UN",1,32.700000000000003,32.700000000000003]
["1.23.1.1.7","FORNECIMENTO E INSTALAÇÃO DE ARAME AÇO GALVANIZADO 18 BWG, 1,24MM (0,009 KG/M)","M",200,0.77,154]
["1.23.1.1.8","FORNECIMENTO E INSTALAÇÃO DE ARRUELA LISA GALVANIZADA 1/4\"","UN",276,0.59,162.84]
["1.23.1.1.9","FORNECIMENTO E INSTALAÇÃO DE BUCHA / PARAFUSO S8","UN",6,4.4400000000000004,26.64]
["1.23.1.1.10","FORNECIMENTO E INSTALAÇÃO DE CHUMBADOR PARABOLT AÇO 1/4\" X 3\"","UN",2,13.59,27.18]
["1.23.1.1.11","FORNECIMENTO E INSTALAÇÃO DE PORCA SEXTAVADA GALVAN. 1/4\"","UN",270,0.42,113.4]
["1.23.1.1.12","FORNECIMENTO E INSTALAÇÃO DE VERGALHÃO GALVANIZADO ROSCA TOTAL 1/4\"","M",90,17.8,1602]
["1.23.1.1.13","FORNECIMENTO E INSTALAÇÃO DE SEPTO DIVISOR DE ELETROCALHA 50MM DE ALTURA","UN",85,41.32,3512.2]
["1.23.1.1.14","SUPORTE MÃO FRANCESA EM AÇO, ABAS IGUAIS 30 CM, CAPACIDADE MINIMA 60 KG, BRANCO - FORNECIMENTO E INSTALAÇÃO. AF_01/2020","UN",2,44.33,88.66]
[null,""]
["1.23.1.2","CABOS",null,null,null,{"$f":"SUBTOTAL(9,F666:F667)","v":4198.21}]
["1.23.1.2.1","FORNECIMENTO E INSTALAÇÃO DE CABO POLARIZADO, PARA SONORIZAÇÃO 2X1,5MM² - BICOLOR","M",700,5.98,{"$f":"ROUND(D666*E666,2)","v":4186}]
["1.23.1.2.2","FORNECIMENTO E INSTALAÇÃO DE CABO DE ÁUDIO BALANCEADO CONECTORES: P2 MACHO X P2 MACHO - 2 METROS","UN",1,12.21,12.21]
[null,""]
["1.23.1.3","DISPOSITIVO MULTIMIDIA",null,null,null,{"$f":"SUBTOTAL(9,F670:F671)","v":413.54999999999995}]
["1.23.1.3.1","FORNECIMENTO E INSTALAÇÃO DE RACK METÁLICO 2U, COM TAMPA E CHAVE","UN",1,336.95,{"$f":"ROUND(D670*E670,2)","v":336.95}]
["1.23.1.3.2","FORNECIMENTO E INSTALAÇÃO DE CAPACITOR BIPOLAR DE 470UF/50V","UN",4,19.149999999999999,76.599999999999994]
[null,""]
["1.23.1.4","ELETRODUTOS",null,null,null,{"$f":"SUBTOTAL(9,F674:F675)","v":799.66}]
["1.23.1.4.1","ELETRODUTO FLEXÍVEL CORRUGADO, PVC, DN 25 MM (3/4\") - FORNECIMENTO E INSTALAÇÃO. ","M",4,6.19,{"$f":"ROUND(D674*E674,2)","v":24.76}]
["1.23.1.4.2","ELETRODUTO RÍGIDO ROSCÁVEL, PVC, DN 25 MM (3/4\") - FORNECIMENTO E INSTALAÇÃO. ","M",90,8.61,{"$f":"ROUND(D675*E675,2)","v":774.9}]
[null,""]
["1.23.1.5","EQUIPAMENTOS E ACESSÓRIOS",null,null,null,{"$f":"SUBTOTAL(9,F678:F681)","v":41718.089999999997}]
["1.23.1.5.1","FORNECIMENTO E INSTALAÇÃO DE MODULO AMPLIFICADOR COM POTÊNCIA DE 480 WRMS (4X120W DE 4OHMS), COM 3 CANAIS DE ENTRADAS, SENDO: CANAL 1(APP, BLUETOOTH, USB, SD CARD E RÁDIO FM, ENTRADA OPTICAL), CANAL 2 (MICROFONE P10 E XLR) E CANAL 3 (AUX 2, ENTRADA ESTÉRE","UN",1,4072.84,{"$f":"ROUND(D678*E678,2)","v":4072.84}]
["1.23.1.5.2","FORNECIMENTO E INSTALAÇÃO DE TRANSFORMADOR DE TRONCO (ELEVADOR) 100W - 70 V, INSTALADO JUNTO ÀS ARANDELAS DOS CORREDORES, ACIMA DO FORRO, PARA EQUALIZAÇÃO DO SOM (REF.: T100 FRAHN)","UN",4,217.8,{"$f":"ROUND(D679*E679,2)","v":871.2}]
["1.23.1.5.3","FORNECIMENTO E INSTALAÇÃO DE TRANSFORMADOR DE LINHA (REBAIXADOR) 5W - 70 V, INSTALADO JUNTO ÀS ARANDELAS DOS CORREDORES, ACIMA DO FORRO, PARA EQUALIZAÇÃO DO SOM (REF.: T5 FRAHN)","UN",53,284.26,{"$f":"ROUND(D680*E680,2)","v":15065.78}]
["1.23.1.5.4","FORNECIMENTO E INSTALAÇÃO DE SONOFLETOR CIRCULAR 6\" DE EMBUTIR EM FORRO, COM TELA, COR BRANCA, SENSIBILIDADE MÍNIMA DE 89DB, POTÊNCIA DE 30W OU SUPERIOR, RESP. FREQUENCIA 50HZ A 20KHZ (JBL SELENIUM 6CO2R OU SIMILAR)","UN",53,409.59,{"$f":"ROUND(D681*E681,2)","v":21708.27}]
[]
["1.24","INSTALAÇÕES HIDRAULICAS ",null,null,null,{"$f":"SUBTOTAL(9,F684:F723)","v":26828.809999999987}]
["1.24.1","TUBOS E CONEXÕES",null,null,null,{"$f":"SUBTOTAL(9,F685:F722)","v":26828.809999999987}]
["1.24.1.1","RASGO EM ALVENARIA PARA RAMAIS/ DISTRIBUIÇÃO COM DIAMETROS MENORES OU IGUAIS A 40 MM. AF_05/2015","M",224.2,12.22,{"$f":"ROUND(D685*E685,2)","v":2739.72}]
["1.24.1.2","RASGO EM ALVENARIA PARA RAMAIS/ DISTRIBUIÇÃO COM DIÂMETROS MAIORES QUE 40 MM E MENORES OU IGUAIS A 75 MM. AF_05/2015","M",522.70000000000005,13.16,6878.73]
["1.24.1.3","MASSA ÚNICA, PARA RECEBIMENTO DE PINTURA, EM ARGAMASSA TRAÇO 1:2:8, PREPARO MANUAL, APLICADA MANUALMENTE EM FACES INTERNAS DE PAREDES, ESPESSURA DE 10MM, COM EXECUÇÃO DE TALISCAS. AF_06/2014","M2",74.690000000000012,24.24,1810.49]
["1.24.1.4","REGISTRO DE GAVETA BRUTO, LATÃO, ROSCÁVEL, 2 1/2\u0094, INSTALADO EM RESERVAÇÃO DE ÁGUA DE EDIFICAÇÃO QUE POSSUA RESERVATÓRIO DE FIBRA/FIBROCIMENTO \u0096 FORNECIMENTO E INSTALAÇÃO. AF_06/2016","UN",2,201.16,402.32]
["1.24.1.5","REGISTRO DE GAVETA BRUTO, LATÃO, ROSCÁVEL, 3/4\", COM ACABAMENTO E CANOPLA CROMADOS. FORNECIDO E INSTALADO EM RAMAL DE ÁGUA. AF_12/2014","UN",12,63.23,758.76]
["1.24.1.6","REGISTRO DE GAVETA BRUTO, LATÃO, ROSCÁVEL, 1\u0094, COM ACABAMENTO E CANOPLA CROMADOS, FORNECIMENTO E INSTALAÇÃO. AF_06/2016","UN",3,96.24,288.72000000000003]
["1.24.1.7","REGISTRO DE GAVETA BRUTO, LATÃO, ROSCÁVEL, 1 1/2\u0094, COM ACABAMENTO E CANOPLA CROMADOS, INSTALADO EM RESERVAÇÃO DE ÁGUA DE EDIFICAÇÃO QUE POSSUA RESERVATÓRIO DE FIBRA/FIBROCIMENTO \u0096 FORNECIMENTO E INSTALAÇÃO. AF_06/2016","UN",14,125.68,1759.52]
["1.24.1.8","REGISTRO DE PRESSÃO BRUTO, LATÃO, ROSCÁVEL, 3/4\", COM ACABAMENTO E CANOPLA CROMADOS. FORNECIDO E INSTALADO EM RAMAL DE ÁGUA. AF_12/2014","UN",9,60.31,542.79]
["1.24.1.9","ENGATE FLEXÍVEL EM PLÁSTICO BRANCO, 1/2\u0094 X 30CM - FORNECIMENTO E INSTALAÇÃO. AF_01/2020","UN",52,9.67,502.84]
["1.24.1.10","LUVA COM BUCHA DE LATÃO, PVC, SOLDÁVEL, DN 25MM X 3/4\u0094, INSTALADO EM RAMAL OU SUB-RAMAL DE ÁGUA - FORNECIMENTO E INSTALAÇÃO. AF_12/2014","UN",50,13.95,697.5]
["1.24.1.11","ADAPTADOR CURTO COM BOLSA E ROSCA PARA REGISTRO, PVC, SOLDÁVEL, DN 25MM X 3/4\u0094, INSTALADO EM RAMAL OU SUB-RAMAL DE ÁGUA - FORNECIMENTO E INSTALAÇÃO. AF_12/2014","UN",42,6.85,287.7]
["1.24.1.12","ADAPTADOR CURTO COM BOLSA E ROSCA PARA REGISTRO, PVC, SOLDÁVEL, DN 32MM X 1\u0094, INSTALADO EM RAMAL OU SUB-RAMAL DE ÁGUA - FORNECIMENTO E INSTALAÇÃO. AF_12/2014","UN",6,9.31,55.86]
["1.24.1.13","ADAPTADOR CURTO COM BOLSA E ROSCA PARA REGISTRO, PVC, SOLDÁVEL, DN 50MM X 1.1/2\u0094, INSTALADO EM PRUMADA DE ÁGUA - FORNECIMENTO E INSTALAÇÃO. AF_12/2014","UN",28,12.2,341.6]
["1.24.1.14","ADAPTADOR CURTO COM BOLSA E ROSCA PARA REGISTRO, PVC, SOLDÁVEL, DN 75MM X 2.1/2\u0094, INSTALADO EM PRUMADA DE ÁGUA - FORNECIMENTO E INSTALAÇÃO. AF_12/2014","UN",4,34.200000000000003,136.80000000000001]
["1.24.1.15","BUCHA DE REDUCAO DE PVC, SOLDAVEL, LONGA, COM 50 X 25 MM, PARA AGUA FRIA PREDIAL","UN    ",36,6.55,235.8]
["1.24.1.16","BUCHA DE REDUCAO DE PVC, SOLDAVEL, LONGA, COM 60 X 25 MM, PARA AGUA FRIA PREDIAL","UN    ",2,14.16,28.32]
["1.24.1.17","BUCHA DE REDUCAO DE PVC, SOLDAVEL, LONGA, COM 60 X 50 MM, PARA AGUA FRIA PREDIAL","UN    ",7,22.52,157.63999999999999]
["1.24.1.18","BUCHA DE REDUCAO DE PVC, SOLDAVEL, LONGA, COM 50 X 32 MM, PARA AGUA FRIA PREDIAL","UN    ",5,8.32,41.6]
["1.24.1.19","BUCHA DE REDUCAO DE PVC, SOLDAVEL, CURTA, COM 32 X 25 MM, PARA AGUA FRIA PREDIAL","UN    ",1,1.42,{"$f":"ROUND(D703*E703,2)","v":1.42}]
["1.24.1.20","BUCHA DE REDUCAO DE PVC, SOLDAVEL, LONGA, COM 75 X 50 MM, PARA AGUA FRIA PREDIAL","UN    ",4,26.32,105.28]
["1.24.1.21","BUCHA DE REDUCAO DE PVC, SOLDAVEL, CURTA, COM 75 X 60 MM, PARA AGUA FRIA PREDIAL","UN    ",4,25.66,{"$f":"ROUND(D705*E705,2)","v":102.64}]
["1.24.1.22","JOELHO 90 GRAUS, PVC, SOLDÁVEL, DN 25MM, INSTALADO EM RAMAL OU SUB-RAMAL DE ÁGUA - FORNECIMENTO E INSTALAÇÃO. AF_12/2014","UN",32,8.81,281.92]
["1.24.1.23","JOELHO 90 GRAUS, PVC, SOLDÁVEL, DN 32MM, INSTALADO EM RAMAL OU SUB-RAMAL DE ÁGUA - FORNECIMENTO E INSTALAÇÃO. AF_12/2014","UN",3,12.31,36.93]
["1.24.1.24","JOELHO 90 GRAUS, PVC, SOLDÁVEL, DN 50MM, INSTALADO EM PRUMADA DE ÁGUA - FORNECIMENTO E INSTALAÇÃO. AF_12/2014","UN",32,15.18,485.76]
["1.24.1.25","JOELHO 90 GRAUS, PVC, SOLDÁVEL, DN 50MM, INSTALADO EM PRUMADA DE ÁGUA - FORNECIMENTO E INSTALAÇÃO. AF_12/2014","UN",12,15.18,182.16]
["1.24.1.26","JOELHO 90 GRAUS, PVC, SOLDÁVEL, DN 75MM, INSTALADO EM PRUMADA DE ÁGUA - FORNECIMENTO E INSTALAÇÃO. AF_12/2014","UN",3,125.92,377.76]
["1.24.1.27","TUBO, PVC, SOLDÁVEL, DN 25MM, INSTALADO EM RAMAL DE DISTRIBUIÇÃO DE ÁGUA - FORNECIMENTO E INSTALAÇÃO. AF_12/2014","M",152.6,9.69,1478.69]
["1.24.1.28","TUBO, PVC, SOLDÁVEL, DN 32MM, INSTALADO EM RAMAL DE DISTRIBUIÇÃO DE ÁGUA - FORNECIMENTO E INSTALAÇÃO. AF_12/2014","M",6,16.53,99.18]
["1.24.1.29","TUBO, PVC, SOLDÁVEL, DN 50MM, INSTALADO EM PRUMADA DE ÁGUA - FORNECIMENTO E INSTALAÇÃO. AF_12/2014","M",123.6,19.07,2357.0500000000002]
["1.24.1.30","TUBO, PVC, SOLDÁVEL, DN 75MM, INSTALADO EM PRUMADA DE ÁGUA - FORNECIMENTO E INSTALAÇÃO. AF_12/2014","M",12,52.23,626.76]
["1.24.1.31","TE, PVC, SOLDÁVEL, DN 25MM, INSTALADO EM PRUMADA DE ÁGUA - FORNECIMENTO E INSTALAÇÃO. AF_12/2014","UN",3,7.11,21.33]
["1.24.1.32","TE, PVC, SOLDÁVEL, DN 32MM, INSTALADO EM RAMAL OU SUB-RAMAL DE ÁGUA - FORNECIMENTO E INSTALAÇÃO. AF_12/2014","UN",2,18.29,{"$f":"ROUND(D716*E716,2)","v":36.58}]
["1.24.1.33","TE, PVC, SOLDÁVEL, DN 50MM, INSTALADO EM PRUMADA DE ÁGUA - FORNECIMENTO E INSTALAÇÃO. AF_12/2014","UN",47,23.96,1126.1199999999999]
["1.24.1.34","TE, PVC, SOLDÁVEL, DN 60MM, INSTALADO EM PRUMADA DE ÁGUA - FORNECIMENTO E INSTALAÇÃO. AF_12/2014","UN",7,51.24,358.68]
["1.24.1.35","TE, PVC, SOLDÁVEL, DN 75MM, INSTALADO EM PRUMADA DE ÁGUA - FORNECIMENTO E INSTALAÇÃO. AF_12/2014","UN",4,94.78,379.12]
["1.24.1.36","JOELHO 90 GRAUS COM BUCHA DE LATÃO, PVC, SOLDÁVEL, DN 25MM, X 3/4\u0094 INSTALADO EM RAMAL OU SUB-RAMAL DE ÁGUA - FORNECIMENTO E INSTALAÇÃO. AF_12/2014","UN",23,16.690000000000001,{"$f":"ROUND(D720*E720,2)","v":383.87}]
["1.24.1.37","JOELHO 90 GRAUS COM BUCHA DE LATÃO, PVC, SOLDÁVEL, DN 25MM, X 1/2\u0094 INSTALADO EM RAMAL OU SUB-RAMAL DE ÁGUA - FORNECIMENTO E INSTALAÇÃO. AF_12/2014","UN",36,15.32,551.52]
["1.24.1.38","TÊ COM BUCHA DE LATÃO NA BOLSA CENTRAL, PVC, SOLDÁVEL, DN 25MM X 3/4\u0094, INSTALADO EM RAMAL OU SUB-RAMAL DE ÁGUA - FORNECIMENTO E INSTALAÇÃO. AF_03/2015","UN",7,24.19,169.33]
[]
["1.25","DRENAGEM",null,null,null,{"$f":"SUBTOTAL(9,F725:F761)","v":243002.39999999997}]
["1.25.1","ÁGUAS PLUVIAIS SUPERFICIAL - COBERTURA ENTRE OS BLOCOS",null,null,null,{"$f":"SUBTOTAL(9,F726:F727)","v":9265.4700000000012}]
["1.25.1.1","CALHA EM CHAPA DE AÇO GALVANIZADO NÚMERO 24, DESENVOLVIMENTO DE 33 CM, INCLUSO TRANSPORTE VERTICAL. AF_07/2019","M",65,70.87,4606.55]
["1.25.1.2","CALHA EM CHAPA DE AÇO GALVANIZADO NÚMERO 24, DESENVOLVIMENTO DE 50 CM, INCLUSO TRANSPORTE VERTICAL. AF_07/2019","M",49,95.08,4658.92]
[]
["1.25.2","DRENAGEM DE ÁGUAS PLUVIAIS DE TODA UNIDADE - IMPLANTAÇÃO GERAL",null,null,null,{"$f":"SUBTOTAL(9,F730:F748)","v":131818.71}]
["1.25.2.1","JOELHO 90 GRAUS, PVC, SERIE R, ÁGUA PLUVIAL, DN 100 MM, JUNTA ELÁSTICA, FORNECIDO E INSTALADO EM RAMAL DE ENCAMINHAMENTO. AF_12/2014","UN",14,49.03,686.42]
["1.25.2.2","JOELHO 90 GRAUS, PVC, SERIE R, ÁGUA PLUVIAL, DN 150 MM, JUNTA ELÁSTICA, FORNECIDO E INSTALADO EM CONDUTORES VERTICAIS DE ÁGUAS PLUVIAIS. AF_12/2014","UN",55,153.1,{"$f":"ROUND(D731*E731,2)","v":8420.5}]
["1.25.2.3","LUVA SIMPLES, PVC, SERIE R, ÁGUA PLUVIAL, DN 100 MM, JUNTA ELÁSTICA, FORNECIDO E INSTALADO EM RAMAL DE ENCAMINHAMENTO. AF_12/2014","UN",14,28.59,400.26]
["1.25.2.4","LUVA SIMPLES, PVC, SERIE R, ÁGUA PLUVIAL, DN 150 MM, JUNTA ELÁSTICA, FORNECIDO E INSTALADO EM CONDUTORES VERTICAIS DE ÁGUAS PLUVIAIS. AF_12/2014","UN",55,83.34,4583.7]
["1.25.2.5","TUBO PVC, SÉRIE R, ÁGUA PLUVIAL, DN 100 MM, FORNECIDO E INSTALADO EM RAMAL DE ENCAMINHAMENTO. AF_12/2014","M",81,71.709999999999994,5808.51]
["1.25.2.6","TUBO PVC, SÉRIE R, ÁGUA PLUVIAL, DN 150 MM, FORNECIDO E INSTALADO EM CONDUTORES VERTICAIS DE ÁGUAS PLUVIAIS. AF_12/2014","M",16.64,94.31,1569.32]
["1.25.2.7","TUBO DE CONCRETO PARA REDES COLETORAS DE ÁGUAS PLUVIAIS, DIÂMETRO DE 400 MM, JUNTA RÍGIDA, INSTALADO EM LOCAL COM BAIXO NÍVEL DE INTERFERÊNCIAS - ASSENTAMENTO (MATERIAL FORNECIDO PELO SESI)","M",51,45.87,2339.37]
["1.25.2.8","TUBO DE CONCRETO PARA REDES COLETORAS DE ÁGUAS PLUVIAIS, DIÂMETRO DE 600 MM, JUNTA RÍGIDA, INSTALADO EM LOCAL COM BAIXO NÍVEL DE INTERFERÊNCIAS - ASSENTAMENTO (MATERIAL FORNECIDO PELO SESI)","M",13.240000000000002,66.680000000000007,882.84]
["1.25.2.9","POÇO DE VISITA EM ANEL DE CONCRETO,BALÃO DE 0,60 M (DI), PROFUNDIDADE ATÉ 1,20 M, INCLUSIVE TAMPÃO TD-600","UND",6,1731.56,10389.36]
["1.25.2.10","POÇO DE VISITA EM ANEL DE CONCRETO,BALÃO DE 0,80 M (DI), PROFUNDIDADE DE 1,21 ATÉ 1,50 M, INCLUSIVE TAMPÃO TD-600","UND",5,2483.23,12416.15]
["1.25.2.11","TAMPA DE CONCRETO ARMADO PARA POCO, COM  FURO E TAMPINHA, D = *1,10* M, E = 0,05 M","UN    ",4,254.06,1016.24]
["1.25.2.12","CANALETA/CALHA DE BLOCO DE CONCRETO (MEIA CANA) 20CM - FORNECIMENTO E INSTALAÇÃO","M",51.610000000000014,32.450000000000003,1674.74]
["1.25.2.13","CANALETA/CALHA DE BLOCO DE CONCRETO (MEIA CANA) 30CM - FORNECIMENTO E INSTALAÇÃO","M",127.16,37.409999999999997,4757.0600000000004]
["1.25.2.14","GRELHA FF 30X90CM, 135KG, P/ CX RALO COM ASSENTAMENTO DE ARGAMASSA CIMENTO/AREIA 1:4 - FORNECIMENTO E INSTALAÇÃO - CONSIDERANDO 16,65M / 0,90M = 19 UND","UN",19,611.63,11620.97]
["1.25.2.15","ESCAVAÇÃO MECANIZADA DE VALA COM PROF. ATÉ 1,5 M (MÉDIA ENTRE MONTANTE E JUSANTE/UMA COMPOSIÇÃO POR TRECHO), COM RETROESCAVADEIRA (0,26 M3/88 HP), LARG. DE 0,8 M A 1,5 M, EM SOLO DE 1A CATEGORIA, EM LOCAIS COM ALTO NÍVEL DE INTERFERÊNCIA. AF_02/2021","M3",217.59,11.45,2491.41]
["1.25.2.16","CONCRETO MAGRO PARA LASTRO, TRAÇO 1:4,5:4,5 (CIMENTO/ AREIA MÉDIA/ BRITA 1)  - PREPARO MECÂNICO COM BETONEIRA 400 L. AF_07/2016","M3",23.362000000000002,370.19,{"$f":"ROUND(D745*E745,2)","v":8648.3799999999992}]
["1.25.2.17","REATERRO MANUAL DE VALAS COM COMPACTAÇÃO MECANIZADA. AF_04/2016","M3",186.92000000000002,27.04,5054.32]
["1.25.2.18","CALHA EM CHAPA DE AÇO GALVANIZADO NÚMERO 24, DESENVOLVIMENTO DE 50 CM, INCLUSO TRANSPORTE VERTICAL - PARA AS PRUMADAS DE ÁGUAS DOS BLOCOS ESCOLARES, SALA DE DANÇA E ÁREA CONVIVÊNCIA (CONSIDERANDO 15CMX10CM DES TOTAL 50CM","M",463.5,95.08,44069.58]
["1.25.2.19","PINTURA COM TINTA ALQUÍDICA DE FUNDO E ACABAMENTO (ESMALTE SINTÉTICO GRAFITE) PULVERIZADA SOBRE SUPERFÍCIES METÁLICAS (EXCETO PERFIL) EXECUTADO EM OBRA (POR DEMÃO). AF_01/2020","M2",231.75,21.53,4989.58]
[]
["1.25.3","DRENAGEM DO ESTACIONAMENTO PAVIMENTADO",null,null,null,{"$f":"SUBTOTAL(9,F751:F761)","v":101918.22}]
["1.25.3.1","ESCAVAÇÃO MECANIZADA DE VALA COM PROF. ATÉ 1,5 M (MÉDIA ENTRE MONTANTE E JUSANTE/UMA COMPOSIÇÃO POR TRECHO), COM RETROESCAVADEIRA (0,26 M3/88 HP), LARG. DE 0,8 M A 1,5 M, EM SOLO DE 1A CATEGORIA, EM LOCAIS COM ALTO NÍVEL DE INTERFERÊNCIA. AF_02/2021","M3",103.5,11.45,{"$f":"ROUND(D751*E751,2)","v":1185.08}]
["1.25.3.2","REATERRO MANUAL APILOADO COM SOQUETE. AF_10/2017","M3",37.75,45.92,1733.48]
["1.25.3.3","PREPARO DE FUNDO DE VALA COM LARGURA MENOR QUE 1,5 M (ACERTO DO SOLO NATURAL). AF_08/2020","M2",4.29,5.55,23.81]
["1.25.3.4","LASTRO COM MATERIAL GRANULAR (PEDRA BRITADA N.1 E PEDRA BRITADA N.2), APLICADO EM PISOS OU LAJES SOBRE SOLO, ESPESSURA DE *5 CM*. AF_07/2019","M3",4.1399999999999997,142.05000000000001,{"$f":"ROUND(D754*E754,2)","v":588.09}]
["1.25.3.5","CAIXA PARA BOCA DE LOBO COMBINADA COM GRELHA RETANGULAR, EM ALVENARIA COM BLOCOS DE CONCRETO, DIMENSÕES INTERNAS: 1,3X1X1,2 M. AF_12/2020","UN",12,2294.31,27531.72]
["1.25.3.6","POÇO DE INSPEÇÃO CIRCULAR PARA DRENAGEM, EM CONCRETO PRÉ-MOLDADO, DIÂMETRO INTERNO = 0,6 M, PROFUNDIDADE = 1 M, EXCLUINDO TAMPÃO. AF_12/2020","UN",9,467.23,4205.07]
["1.25.3.7","TAMPA CIRCULAR PARA ESGOTO E DRENAGEM, EM FERRO FUNDIDO, DIÂMETRO INTERNO = 0,6 M. AF_12/2020","UN",9,881.65,7934.85]
["1.25.3.8","TUBO DE CONCRETO SIMPLES PARA AGUAS PLUVIAIS, CLASSE PS1, COM ENCAIXE MACHO E FEMEA, DIAMETRO NOMINAL DE 200 MM","M     ",38,35.93,1365.34]
["1.25.3.9","TUBO DE CONCRETO PARA REDES COLETORAS DE ESGOTO SANITÁRIO, DIÂMETRO DE 300 MM, JUNTA ELÁSTICA, INSTALADO EM LOCAL COM BAIXO NÍVEL DE INTERFERÊNCIAS - FORNECIMENTO E ASSENTAMENTO. AF_12/2015","M",138,300.49,41467.620000000003]
["1.25.3.10","CALHA/CANALETA DE CONCRETO SIMPLES, TIPO MEIA CANA, DIAMETRO DE 60 CM, PARA AGUA PLUVIAL","M     ",104,82.15,{"$f":"ROUND(D760*E760,2)","v":8543.6}]
["1.25.3.11","GRELHA FF 30X90CM, 135KG, P/ CX RALO COM ASSENTAMENTO DE ARGAMASSA CIMENTO/AREIA 1:4 - FORNECIMENTO E INSTALAÇÃO","UN",12,611.63,7339.56]
[]
["1.26","INSTALAÇÕES SANITÁRIAS",null,null,null,{"$f":"SUBTOTAL(9,F764:F806)","v":72245.78}]
["1.26.1","ESCAVAÇÃO MANUAL DE VALA COM PROFUNDIDADE MENOR OU IGUAL A 1,30 M. AF_02/2021","M3",143.09399999999999,75.75,{"$f":"ROUND(D764*E764,2)","v":10839.37}]
["1.26.2","REATERRO MANUAL APILOADO COM SOQUETE. AF_10/2017","M3",128.78460000000001,45.92,5913.79]
["1.26.3","RASGO EM CONTRAPISO PARA RAMAIS/ DISTRIBUIÇÃO COM DIÂMETROS MAIORES QUE 40 MM E MENORES OU IGUAIS A 75 MM. AF_05/2015","M",2,24.35,48.7]
["1.26.4","LASTRO DE CONCRETO MAGRO, APLICADO EM BLOCOS DE COROAMENTO OU SAPATAS, ESPESSURA DE 5 CM. AF_08/2017","M2",204.42,29.94,6120.33]
["1.26.5","CAIXA DE GORDURA DUPLA (CAPACIDADE: 126 L), RETANGULAR, EM ALVENARIA COM TIJOLOS CERÂMICOS MACIÇOS, DIMENSÕES INTERNAS = 0,4X0,7 M, ALTURA INTERNA = 0,8 M. AF_12/2020","UN",2,756.97,1513.94]
["1.26.6","CAIXA ENTERRADA HIDRÁULICA RETANGULAR EM ALVENARIA COM TIJOLOS CERÂMICOS MACIÇOS, DIMENSÕES INTERNAS: 0,6X0,6X0,6 M PARA REDE DE ESGOTO. AF_12/2020","UN",17,650.19000000000005,11053.23]
["1.26.7","CAIXA ENTERRADA HIDRÁULICA RETANGULAR EM ALVENARIA COM TIJOLOS CERÂMICOS MACIÇOS, DIMENSÕES INTERNAS: 0,8X0,8X0,6 M PARA REDE DE ESGOTO. AF_12/2020","UN",4,893.33,{"$f":"ROUND(D770*E770,2)","v":3573.32}]
["1.26.8","CURVA CURTA 90 GRAUS, PVC, SERIE NORMAL, ESGOTO PREDIAL, DN 40 MM, JUNTA SOLDÁVEL, FORNECIDO E INSTALADO EM RAMAL DE DESCARGA OU RAMAL DE ESGOTO SANITÁRIO. AF_12/2014","UN",22,11.42,251.24]
["1.26.9","JOELHO 45 GRAUS, PVC, SERIE NORMAL, ESGOTO PREDIAL, DN 100 MM, JUNTA ELÁSTICA, FORNECIDO E INSTALADO EM RAMAL DE DESCARGA OU RAMAL DE ESGOTO SANITÁRIO. AF_12/2014","UN",8,28.26,226.08]
["1.26.10","JOELHO 45 GRAUS, PVC, SERIE NORMAL, ESGOTO PREDIAL, DN 40 MM, JUNTA SOLDÁVEL, FORNECIDO E INSTALADO EM RAMAL DE DESCARGA OU RAMAL DE ESGOTO SANITÁRIO. AF_12/2014","UN",1,7.78,7.78]
["1.26.11","JOELHO 45 GRAUS, PVC, SERIE NORMAL, ESGOTO PREDIAL, DN 50 MM, JUNTA ELÁSTICA, FORNECIDO E INSTALADO EM RAMAL DE DESCARGA OU RAMAL DE ESGOTO SANITÁRIO. AF_12/2014","UN",29,13.54,392.66]
["1.26.12","JOELHO 45 GRAUS, PVC, SERIE NORMAL, ESGOTO PREDIAL, DN 75 MM, JUNTA ELÁSTICA, FORNECIDO E INSTALADO EM RAMAL DE DESCARGA OU RAMAL DE ESGOTO SANITÁRIO. AF_12/2014","UN",4,22.81,91.24]
["1.26.13","JOELHO 90 GRAUS, PVC, SERIE NORMAL, ESGOTO PREDIAL, DN 100 MM, JUNTA ELÁSTICA, FORNECIDO E INSTALADO EM RAMAL DE DESCARGA OU RAMAL DE ESGOTO SANITÁRIO. AF_12/2014","UN",13,28.32,368.16]
["1.26.14","JOELHO 90 GRAUS, PVC, SERIE NORMAL, ESGOTO PREDIAL, DN 40 MM, JUNTA SOLDÁVEL, FORNECIDO E INSTALADO EM RAMAL DE DESCARGA OU RAMAL DE ESGOTO SANITÁRIO. AF_12/2014","UN",6,10.69,64.14]
["1.26.15","JOELHO 90 GRAUS, PVC, SERIE NORMAL, ESGOTO PREDIAL, DN 50 MM, JUNTA ELÁSTICA, FORNECIDO E INSTALADO EM RAMAL DE DESCARGA OU RAMAL DE ESGOTO SANITÁRIO. AF_12/2014","UN",32,12.86,411.52]
["1.26.16","JOELHO 90 GRAUS, PVC, SERIE NORMAL, ESGOTO PREDIAL, DN 75 MM, JUNTA ELÁSTICA, FORNECIDO E INSTALADO EM RAMAL DE DESCARGA OU RAMAL DE ESGOTO SANITÁRIO. AF_12/2014","UN",8,21.82,174.56]
["1.26.17","JOELHO PVC, COM BOLSA E ANEL, 90 GRAUS, DN 40 X *38* MM, SERIE NORMAL, PARA ESGOTO PREDIAL","UN    ",12,5.81,{"$f":"ROUND(D780*E780,2)","v":69.72}]
["1.26.18","JUNÇÃO SIMPLES, PVC, SERIE NORMAL, ESGOTO PREDIAL, DN 100 X 100 MM, JUNTA ELÁSTICA, FORNECIDO E INSTALADO EM RAMAL DE DESCARGA OU RAMAL DE ESGOTO SANITÁRIO. AF_12/2014","UN",23,54.95,1263.8499999999999]
["1.26.19","JUNÇÃO SIMPLES, PVC, SERIE NORMAL, ESGOTO PREDIAL, DN 40 MM, JUNTA SOLDÁVEL, FORNECIDO E INSTALADO EM RAMAL DE DESCARGA OU RAMAL DE ESGOTO SANITÁRIO. AF_12/2014","UN",1,12.98,12.98]
["1.26.20","JUNÇÃO SIMPLES, PVC, SERIE NORMAL, ESGOTO PREDIAL, DN 50 X 50 MM, JUNTA ELÁSTICA, FORNECIDO E INSTALADO EM RAMAL DE DESCARGA OU RAMAL DE ESGOTO SANITÁRIO. AF_12/2014","UN",4,26.13,{"$f":"ROUND(D783*E783,2)","v":104.52}]
["1.26.21","JUNÇÃO SIMPLES, PVC, SERIE NORMAL, ESGOTO PREDIAL, DN 75 X 75 MM, JUNTA ELÁSTICA, FORNECIDO E INSTALADO EM RAMAL DE DESCARGA OU RAMAL DE ESGOTO SANITÁRIO. AF_12/2014","UN",5,42,210]
["1.26.22","REDUCAO EXCENTRICA PVC P/ ESG PREDIAL DN 100 X 50MM","UN    ",15,10.74,161.1]
["1.26.23","REDUÇÃO EXCÊNTRICA, PVC, SERIE R, ÁGUA PLUVIAL, DN 100 X 75 MM, JUNTA ELÁSTICA, FORNECIDO E INSTALADO EM RAMAL DE ENCAMINHAMENTO. AF_12/2014","UN",1,32.9,32.9]
["1.26.24","REDUÇÃO EXCÊNTRICA, PVC, SERIE R, ÁGUA PLUVIAL, DN 75 X 50 MM, JUNTA ELÁSTICA, FORNECIDO E INSTALADO EM RAMAL DE ENCAMINHAMENTO. AF_12/2014","UN",2,18.600000000000001,37.200000000000003]
["1.26.25","TUBO PVC, SERIE NORMAL, ESGOTO PREDIAL, DN 100 MM, FORNECIDO E INSTALADO EM RAMAL DE DESCARGA OU RAMAL DE ESGOTO SANITÁRIO. AF_12/2014","M",299.61,58.29,17464.27]
["1.26.26","TUBO PVC, SERIE NORMAL, ESGOTO PREDIAL, DN 50 MM, FORNECIDO E INSTALADO EM RAMAL DE DESCARGA OU RAMAL DE ESGOTO SANITÁRIO. AF_12/2014","M",195.44,29.58,5781.12]
["1.26.27","TUBO PVC, SERIE NORMAL, ESGOTO PREDIAL, DN 75 MM, FORNECIDO E INSTALADO EM RAMAL DE DESCARGA OU RAMAL DE ESGOTO SANITÁRIO. AF_12/2014","M",26.189999999999998,45.47,{"$f":"ROUND(D790*E790,2)","v":1190.8599999999999}]
["1.26.28","TUBO PVC, SERIE NORMAL, ESGOTO PREDIAL, DN 40 MM, FORNECIDO E INSTALADO EM RAMAL DE DESCARGA OU RAMAL DE ESGOTO SANITÁRIO. AF_12/2014","M",18.729999999999997,19.260000000000002,{"$f":"ROUND(D791*E791,2)","v":360.74}]
["1.26.29","TE, PVC, SERIE NORMAL, ESGOTO PREDIAL, DN 50 X 50 MM, JUNTA ELÁSTICA, FORNECIDO E INSTALADO EM PRUMADA DE ESGOTO SANITÁRIO OU VENTILAÇÃO. AF_12/2014","UN",15,19.47,{"$f":"ROUND(D792*E792,2)","v":292.05}]
["1.26.30","TE SANITARIO, PVC, DN 75 X 50 MM, SERIE NORMAL PARA ESGOTO PREDIAL","UN    ",5,20.14,{"$f":"ROUND(D793*E793,2)","v":100.7}]
["1.26.31","TE, PVC, SERIE NORMAL, ESGOTO PREDIAL, DN 75 X 75 MM, JUNTA ELÁSTICA, FORNECIDO E INSTALADO EM PRUMADA DE ESGOTO SANITÁRIO OU VENTILAÇÃO. AF_12/2014","UN",1,33.299999999999997,33.299999999999997]
["1.26.32","CAIXA SIFONADA, PVC, DN 100 X 100 X 50 MM, JUNTA ELÁSTICA, FORNECIDA E INSTALADA EM RAMAL DE DESCARGA OU EM RAMAL DE ESGOTO SANITÁRIO. AF_12/2014","UN",8,37.19,297.52]
["1.26.33","GRELHA PVC CROMADA REDONDA, 150 MM","UN    ",23,45.57,{"$f":"ROUND(D796*E796,2)","v":1048.1099999999999}]
["1.26.34","CAIXA SIFONADA PVC, 150 X 150 X 50 MM, COM GRELHA REDONDA BRANCA","UN    ",10,60.47,604.70000000000005]
["1.26.35","CAIXA SIFONADA PVC, 150 X 185 X 75 MM, COM GRELHA QUADRADA BRANCA","UN    ",3,75.23,{"$f":"ROUND(D798*E798,2)","v":225.69}]
["1.26.36","JOELHO 90 GRAUS, PVC, SERIE NORMAL, ESGOTO PREDIAL, DN 50 MM, JUNTA ELÁSTICA, FORNECIDO E INSTALADO EM PRUMADA DE ESGOTO SANITÁRIO OU VENTILAÇÃO. AF_12/2014","UN",12,9,{"$f":"ROUND(D799*E799,2)","v":108}]
["1.26.37","JOELHO 90 GRAUS, PVC, SERIE NORMAL, ESGOTO PREDIAL, DN 75 MM, JUNTA ELÁSTICA, FORNECIDO E INSTALADO EM PRUMADA DE ESGOTO SANITÁRIO OU VENTILAÇÃO. AF_12/2014","UN",5,17.100000000000001,85.5]
["1.26.38","TE, PVC, SERIE NORMAL, ESGOTO PREDIAL, DN 50 X 50 MM, JUNTA ELÁSTICA, FORNECIDO E INSTALADO EM PRUMADA DE ESGOTO SANITÁRIO OU VENTILAÇÃO. AF_12/2014","UN",11,19.47,{"$f":"ROUND(D801*E801,2)","v":214.17}]
["1.26.39","TE, PVC, SERIE NORMAL, ESGOTO PREDIAL, DN 75 X 75 MM, JUNTA ELÁSTICA, FORNECIDO E INSTALADO EM PRUMADA DE ESGOTO SANITÁRIO OU VENTILAÇÃO. AF_12/2014","UN",3,33.299999999999997,{"$f":"ROUND(D802*E802,2)","v":99.9}]
["1.26.40","TUBO PVC, SERIE NORMAL, ESGOTO PREDIAL, DN 50 MM, FORNECIDO E INSTALADO EM PRUMADA DE ESGOTO SANITÁRIO OU VENTILAÇÃO. AF_12/2014","M",51.309999999999995,13.42,688.58]
["1.26.41","TUBO PVC, SERIE NORMAL, ESGOTO PREDIAL, DN 75 MM, FORNECIDO E INSTALADO EM PRUMADA DE ESGOTO SANITÁRIO OU VENTILAÇÃO. AF_12/2014","M",23.04,21.83,502.96]
["1.26.42","TERMINAL DE VENTILACAO, 50 MM, SERIE NORMAL, ESGOTO PREDIAL","UN    ",14,9.94,139.16]
["1.26.43","TERMINAL DE VENTILACAO, 75 MM, SERIE NORMAL, ESGOTO PREDIAL","UN    ",4,16.53,66.12]
[]
["1.27","LOUÇAS E METÁIS",null,null,null,{"$f":"SUBTOTAL(9,F809)","v":0}]
[]
["1.28","SISTEMA DE TRATAMENTO DE ESGOTO",null,null,null,{"$f":"SUBTOTAL(9,F811)","v":0}]
[]
["1.29","LIMPEZA CONTÍNUA DA OBRA",null,null,null,{"$f":"SUBTOTAL(9,F813)","v":48802.64}]
["1.29.1","LIMPEZA DIÁRIA DA OBRA COM MINIMO DE 2 SERVENTES","MÊS",8,6100.33,{"$f":"ROUND(D813*E813,2)","v":48802.64}]
[]
["1.30","LIMPEZA FINAL PARA ENTREGA",null,null,null,{"$f":"SUBTOTAL(9,F816)","v":0}]
[]
["VALOR TOTAL",null,null,null,null,{"$f":"SUBTOTAL(9,F14:F816)","v":4904720.7500000009}]

{"sheet":"2_BLOCO A-FACHADA","index":3,"n_rows":726,"n_cols":6,"rows_kept":726,"cut":false,"hidden":true,"merged":[[10,0,10,5],[0,0,3,2],[0,3,1,5],[2,3,3,3],[2,4,3,4],[2,5,3,5],[4,0,4,5],[5,0,5,5],[6,0,6,5],[7,0,7,5],[8,0,8,5],[9,0,9,5]]}
["                                 PLANILHA ORÇAMENTARIA   ",null,null,"SPN-FF-003"]
[]
[null,null,null,"Folha:              1 de 1","Revisão:      \n02","Data: \n07/10/19"]
[]
["SESI - SERVIÇO SOCIAL DA INDUSTRIA - DR/MT"]
["OBRA: CONTRATAÇÃO DE EMPRESA ESPECIALIZADA PARA CONTINUIDADE DA EXECUÇÃO DA OBRA DE REFORMA E AMPLIAÇÃO DA UNIDADE DO SESI ESCOLA VÁRZEA GRANDE/MT."]
["UNIDADE OPERACIONAL: SESI ESCOLA VÁRZEA GRANDE"]
["ENDEREÇO: AV. DOM ORLANDO CHAVES, N.º 1.086, PONTE NOVA - CRISTO REI         CIDADE: VÁRZEA GRANDE/MT"]
["CONSTRUTORA:"]
["RESPONSÁVEL TÉCNICO:"]
["BASE SINAPI UTILIZADA: 06/2021"]
["ITEM","DESCRIÇÃO","UNID.","QUANT.","Valor UNIT. (R$)","Valor Total (R$)"]
[]
[2,"BLOCO A e FACHADA"]
[]
["2.0","DEMOLIÇÕES E RETIRADAS",null,null,null,{"$f":"SUBTOTAL(9,F17:F21)","v":5461.6500000000005}]
["2.0.1","DEMOLIÇÃO - ACESSO ENTRE OS BLOCOS A E B",null,null,null,{"$f":"SUBTOTAL(9,F18:F21)","v":5461.6500000000005}]
["2.0.1.1","DEMOLIÇÃO DE PILARES E VIGAS EM CONCRETO ARMADO, DE FORMA MECANIZADA COM MARTELETE, SEM REAPROVEITAMENTO. AF_12/2017","M3",5.04,243.62,{"$f":"ROUND(D18*E18,2)","v":1227.8399999999999}]
["2.0.1.2","REMOÇÃO DE PINTURA LÁTEX OU TEXTURA (RASPAGEM E/OU LIXAMENTO E/OU ESCOVAÇÃO","M2",343.26,7.66,{"$f":"ROUND(D19*E19,2)","v":2629.37}]
["2.0.1.3","DEMOLIÇÃO DE REVESTIMENTO CERÂMICO, DE FORMA MANUAL, SEM REAPROVEITAMENTO. AF_12/2017","M2",33,19.96,{"$f":"ROUND(D20*E20,2)","v":658.68}]
["2.0.1.4","BOTA FORA DE MATERIAL DESCARTADO, D.M.T. = 10 km - (CARGA, TRANSPORTE E DESCARGA MECÂNICA)","M3",16.12,58.67,945.76]
[]
["2.1","INSTALAÇÕES DE CANTEIRO",null,null,null,{"$f":"SUBTOTAL(9,F24)","v":0}]
[]
["2.2","ADMINISTRAÇÃO",null,null,null,{"$f":"SUBTOTAL(9,F26)","v":0}]
[]
["2.3","TERRAPLENAGEM",null,null,null,{"$f":"SUBTOTAL(9,F28)","v":0}]
[]
["2.4","FUNDAÇÃO",null,null,null,{"$f":"SUBTOTAL(9,F30:F61)","v":163777.16}]
["2.4.1","FUNDAÇÃO - FACHADA (JÁ EXECUTADA)",null,null,null,{"$f":"SUBTOTAL(9,F31)","v":0}]
[]
["2.4.2","FUNDAÇÃO - ESCADA E RAMPA ENTRE OS BLOCOS A E B",null,null,null,{"$f":"SUBTOTAL(9,F33:F42)","v":26560.73}]
["2.4.2.1","ESCAVAÇÃO MECANIZADA PARA BLOCO DE COROAMENTO OU SAPATA, SEM PREVISÃO DE FÔRMA, COM RETROESCAVADEIRA. AF_06/2017","M3",2.4,91.26,{"$f":"ROUND(D33*E33,2)","v":219.02}]
["2.4.2.2","BOTA FORA DE MATERIAL DESCARTADO, D.M.T. = 10 km - (CARGA, TRANSPORTE E DESCARGA MECÂNICA)","M3",3.12,58.67,183.05]
["2.4.2.3","LASTRO COM MATERIAL GRANULAR (PEDRA BRITADA N.1 E PEDRA BRITADA N.2), APLICADO EM PISOS OU LAJES SOBRE SOLO, ESPESSURA DE *10 CM*. AF_07/2019","M3",2.35,142.05000000000001,333.82]
["2.4.2.4","FABRICAÇÃO DE FÔRMA PARA VIGAS, EM CHAPA DE MADEIRA COMPENSADA PLASTIFICADA, E = 18 MM. AF_09/2020","M2",17,129.29,2197.9299999999998]
["2.4.2.5","ARMAÇÃO DE BLOCO, VIGA BALDRAME E SAPATA UTILIZANDO AÇO CA-60 DE 5 MM - MONTAGEM. AF_06/2017","KG",259,25.68,6651.12]
["2.4.2.6","ARMAÇÃO DE BLOCO, VIGA BALDRAME OU SAPATA UTILIZANDO AÇO CA-50 DE 6,3 MM - MONTAGEM. (VERGALHÃO FORNECIDO PELO SESI)","KG",152,5.18,{"$f":"ROUND(D38*E38,2)","v":787.36}]
["2.4.2.7","EPS - BLOCOS PARA ENCHIMENTO","M³",7.5,564.16,4231.2]
["2.4.2.8","COMPACTAÇÃO MECÂNICA DE SOLO PARA EXECUÇÃO DE RADIER, COM COMPACTADOR DE SOLOS A PERCUSSÃO. AF_09/2017","M2",24.6,3.01,74.05]
["2.4.2.9","CONCRETAGEM DE PILARES, FCK = 25 MPA, COM USO DE BOMBA EM EDIFICAÇÃO COM SEÇÃO MÉDIA DE PILARES MAIOR QUE 0,25 M² - LANÇAMENTO, ADENSAMENTO E ACABAMENTO. AF_12/2015","M3",18,656.15,11810.7]
["2.4.2.10","LONA PLASTICA EXTRA FORTE PRETA, E = 200 MICRA PARA IMPERMEABILIZAÇÃO","M2    ",24,3.02,72.48]
[]
["2.4.3","FUNDAÇÃO - ACESSO ENTRE OS BLOCOS A E B",null,null,null,{"$f":"SUBTOTAL(9,F45:F61)","v":137216.42999999996}]
["2.4.3.1","ESCAVAÇÃO MECANIZADA PARA BLOCO DE COROAMENTO OU SAPATA, SEM PREVISÃO DE FÔRMA, COM RETROESCAVADEIRA. AF_06/2017","M3",57.57,91.26,{"$f":"ROUND(D45*E45,2)","v":5253.84}]
["2.4.3.2","BOTA FORA DE MATERIAL DESCARTADO, D.M.T. = 10 km - (CARGA, TRANSPORTE E DESCARGA MECÂNICA)","M3",57.19,58.67,{"$f":"ROUND(D46*E46,2)","v":3355.34}]
["2.4.3.3","REATERRO MANUAL DE VALAS COM COMPACTAÇÃO MECANIZADA. AF_04/2016","M3",34.69,27.04,{"$f":"ROUND(D47*E47,2)","v":938.02}]
["2.4.3.4","ESTACAS - ESTACAS RAIZ DE Ø31cm EM SOLO INCLUSIVE A  INJENÇÃO DE ARGAMASSA FCK>20 MPA, INCLUSIVE LANÇAMENTO DE ARMAÇÃO / CONSUMO MÍNIMO DE CIMENTO - 600 kg/m³.","M",168,474.01,{"$f":"ROUND(D48*E48,2)","v":79633.679999999993}]
["2.4.3.5","ESTACAS - ARMAÇÃO DE BLOCO, VIGA BALDRAME OU SAPATA UTILIZANDO AÇO CA-50 DE 6,3 MM - MONTAGEM. (FORNECIDA PELO SESI ESTACA MONTADA)","KG",0,25.13,0]
["2.4.3.6","ESTACAS - ARMAÇÃO DE BLOCO, VIGA BALDRAME OU SAPATA UTILIZANDO AÇO CA-50 DE 12,5 MM - MONTAGEM. (FORNECIDA PELO SESI ESTACA MONTADA)","KG",0,18.72,{"$f":"ROUND(D50*E50,2)","v":0}]
["2.4.3.7","BLOCOS - LASTRO COM MATERIAL GRANULAR (PEDRA BRITADA N.1 E PEDRA BRITADA N.2), APLICADO EM PISOS OU LAJES SOBRE SOLO, ESPESSURA DE *10 CM*. AF_07/2019","M3",0.88,142.05000000000001,125]
["2.4.3.8","BLOCOS - FABRICAÇÃO, MONTAGEM E DESMONTAGEM DE FÔRMA PARA BLOCO DE COROAMENTO, EM MADEIRA SERRADA, E=25 MM, 1 UTILIZAÇÃO. AF_06/2017","M2",81.400000000000006,165.28,13453.79]
["2.4.3.9","BLOCOS - ARMAÇÃO DE BLOCO, VIGA BALDRAME E SAPATA UTILIZANDO AÇO CA-60 DE 5 MM - MONTAGEM. AF_06/2017","KG",163.9,25.68,4208.95]
["2.4.3.10","BLOCOS - ARMAÇÃO DE BLOCO, VIGA BALDRAME OU SAPATA UTILIZANDO AÇO CA-50 DE 8 MM - MONTAGEM. AF_06/2017","KG",68.2,24.24,1653.17]
["2.4.3.11","BLOCOS - CONCRETAGEM DE BLOCOS DE COROAMENTO E VIGAS BALDRAMES, FCK 30 MPA, COM USO DE BOMBA \u0096 LANÇAMENTO, ADENSAMENTO E ACABAMENTO. AF_06/2017","M3",18.8,693.9,13045.32]
["2.4.3.12","VIGA BALDRAME  - LASTRO COM MATERIAL GRANULAR (PEDRA BRITADA N.1 E PEDRA BRITADA N.2), APLICADO EM PISOS OU LAJES SOBRE SOLO, ESPESSURA DE *10 CM*. AF_07/2019","M3",0.94,142.05000000000001,133.53]
["2.4.3.13","VIGA BALDRAME - FABRICAÇÃO, MONTAGEM E DESMONTAGEM DE FÔRMA PARA VIGA BALDRAME, EM MADEIRA SERRADA, E=25 MM, 1 UTILIZAÇÃO. AF_06/2017","M2",56.83,148.03,8412.5400000000009]
["2.4.3.14","VIGA BALDRAME - ARMAÇÃO DE BLOCO, VIGA BALDRAME E SAPATA UTILIZANDO AÇO CA-60 DE 5 MM - MONTAGEM. AF_06/2017","KG",56.4,25.68,1448.35]
["2.4.3.15","VIGA BALDRAME - ARMAÇÃO DE BLOCO, VIGA BALDRAME OU SAPATA UTILIZANDO AÇO CA-50 DE 8 MM - MONTAGEM. AF_06/2017","KG",122.3,24.24,2964.55]
["2.4.3.16","VIGA BALDRAME - ARMAÇÃO DE BLOCO, VIGA BALDRAME OU SAPATA UTILIZANDO AÇO CA-50 DE 10 MM - MONTAGEM. AF_06/2017","KG",8.3000000000000007,21.99,182.52]
["2.4.3.17","VIGA BALDRAME - CONCRETAGEM DE BLOCOS DE COROAMENTO E VIGAS BALDRAMES, FCK 30 MPA, COM USO DE BOMBA \u0096 LANÇAMENTO, ADENSAMENTO E ACABAMENTO. AF_06/2017","M3",3.47,693.9,{"$f":"ROUND(D61*E61,2)","v":2407.83}]
[]
["2.5","IMPERMEABILIZAÇÃO",null,null,null,{"$f":"SUBTOTAL(9,F64)","v":8031.16}]
["2.5.1","IMPERMEABILIZAÇÃO DE SUPERFÍCIE COM EMULSÃO ASFÁLTICA, 2 DEMÃOS AF_06/2018","M2",138.23000000000002,58.1,8031.16]
[]
["2.6","ESTRUTURAS DE CONCRETO ARMADO",null,null,null,{"$f":"SUBTOTAL(9,F67:F70)","v":9502.91}]
["2.6.3","ESTRUTURAS DE CONCRETO ARMADO - MURETA/ARRIMO",null,null,null,{"$f":"SUBTOTAL(9,F68:F71)","v":9502.91}]
["2.6.3.1","ALVENARIA DE BLOCOS DE CONCRETO ESTRUTURAL 14X19X39 CM, (ESPESSURA 14 CM), FBK = 4,5 MPA, PARA PAREDES COM ÁREA LÍQUIDA MAIOR OU IGUAL A 6M², SEM VÃOS, UTILIZANDO PALHETA. AF_12/2014","M2",41.600999999999999,78.12,{"$f":"ROUND(D68*E68,2)","v":3249.87}]
["2.6.3.2","ARMAÇÃO DE BLOCO, VIGA BALDRAME OU SAPATA UTILIZANDO AÇO CA-50 DE 12,5 MM - MONTAGEM. AF_06/2017","KG",141.28,18.72,2644.76]
["2.6.3.3","CONCRETAGEM DE BLOCOS DE COROAMENTO E VIGAS BALDRAMES, FCK 30 MPA, COM USO DE BOMBA \u0096 LANÇAMENTO, ADENSAMENTO E ACABAMENTO. AF_06/2017","M3",5.2000000000000011,693.9,3608.28]
[]
["2.7","ALVENARIAS E PAINÉIS",null,null,null,{"$f":"SUBTOTAL(9,F73:F74)","v":43999.520000000004}]
["2.6.3.1","ALVENARIA DE VEDAÇÃO DE BLOCOS CERÂMICOS FURADOS NA HORIZONTAL DE 9X19X19CM (ESPESSURA 9CM) DE PAREDES COM ÁREA LÍQUIDA MAIOR OU IGUAL A 6M² COM VÃOS E ARGAMASSA DE ASSENTAMENTO COM PREPARO EM BETONEIRA. AF_06/2014","M2",243.21,89.93,{"$f":"ROUND(D73*E73,2)","v":21871.88}]
["2.6.3.2","FORNECIMENTO E INSTALAÇÃO DE PAREDE DE GESSO ACARTONADO ESP. 10CM, FACE DUPLA, COM ISOLAMENTO TERMO-ACÚSTICO DE LÃ DE ROCHA 50MM (CONSUMO CONF. TCPO 04840.8.5.1, MONTANTE M75-0,62kg/m, GUIA 75 )","M2",128.44,172.28,22127.64]
[]
["2.8","ESTRUTURA METALICA",null,null,null,{"$f":"SUBTOTAL(9,F77:F85)","v":465871.34000000008}]
["2.8.1","ESTRUTURA MTÁLICA - DA FACHADA, INCLUSIVE MARQUISE",null,null,null,{"$f":"SUBTOTAL(9,F78:F80)","v":323566.17000000004}]
["2.8.1.1","ESTRUTURA METALICA DA COBERTURA CONFORME PROJETO EM AÇO ESTRUTURAL","KG",15568,18.63,{"$f":"ROUND(D78*E78,2)","v":290031.84000000003}]
["2.8.1.2","PINTURA COM TINTA ALQUÍDICA DE FUNDO (TIPO ZARCÃO) PULVERIZADA SOBRE SUPERFÍCIES METÁLICAS (EXCETO PERFIL) EXECUTADO EM OBRA (POR DEMÃO). AF_01/2020_P","M2",840.67,21.31,17914.68]
["2.8.1.3","PINTURA COM TINTA ACRÍLICA DE ACABAMENTO PULVERIZADA SOBRE SUPERFÍCIES METÁLICAS (EXCETO PERFIL) EXECUTADO EM OBRA (02 DEMÃOS). AF_01/2020_P","M2",840.67,18.579999999999998,{"$f":"ROUND(D80*E80,2)","v":15619.65}]
[]
["2.8.2","ESTRUTURA METÁLICA - DO ACESSO ENTRE OS BLOCOS A e B",null,null,null,{"$f":"SUBTOTAL(9,F83:F85)","v":142305.16999999998}]
["2.8.1.2","ESTRUTURA METALICA DA COBERTURA CONFORME PROJETO EM AÇO ESTRUTURAL","KG",6200.4,18.63,{"$f":"ROUND(D83*E83,2)","v":115513.45}]
["2.8.1.3","PINTURA COM TINTA ALQUÍDICA DE FUNDO (TIPO ZARCÃO) PULVERIZADA SOBRE SUPERFÍCIES METÁLICAS (EXCETO PERFIL) EXECUTADO EM OBRA (POR DEMÃO). AF_01/2020_P","M2",671.64,21.31,14312.65]
["2.8.1.4","PINTURA COM TINTA ACRÍLICA DE ACABAMENTO PULVERIZADA SOBRE SUPERFÍCIES METÁLICAS (EXCETO PERFIL) EXECUTADO EM OBRA (02 DEMÃOS). AF_01/2020_P","M2",671.64,18.579999999999998,12479.07]
[]
["2.9","COBERTURA",null,null,null,{"$f":"SUBTOTAL(9,F88:F91)","v":75474.789999999994}]
["2.9.1","CUMEEIRA METÁLICA AÇO GALVALUME TRAPEZOIDAL 40 40X60CM - FORNECIMENTO E INSTALAÇÃO","M",58.64,84.19,{"$f":"ROUND(D88*E88,2)","v":4936.8999999999996}]
["2.9.2","FORNECIMENTO E INSTALAÇÃO DE TELHA ISOLANTE COM NUCLEO EM POLIESTIRENO (EPS), E = 50 MM, COM PRE-PINTURA NAS DUAS FACES, FACE SUPERIOR EM TELHA DE AÇO TRAPEZOIDAL E=0,50MM E FACE INFERIOR EM CHAPA PLANA E=0,50MM, INCLUSIVE PARAFUSOS E CALAFETAÇÃO COM SELANTE","M2",205,297.14,{"$f":"ROUND(D89*E89,2)","v":60913.7}]
["2.9.3","INSTALAÇÃO DE TELHA ISOLANTE COM NUCLEO EM POLIESTIRENO (EPS), E = 50 MM, COM PRE-PINTURA NAS DUAS FACES, FACE SUPERIOR EM TELHA DE AÇO TRAPEZOIDAL E=0,50MM E FACE INFERIOR EM CHAPA PLANA E=0,50MM, INCLUSIVE PARAFUSOS E CALAFETAÇÃO COM SELANTE (MATERIAL FORNECIDO SESI) - MARQUISE DA ENTRADA DA UNIDADE","M2",34.51,11.02,380.3]
["2.9.4","PLATIBANDA EM CHAPA DE AÇO ESPESSURA 2,00mm, H=870mm, DOBRA CARTOLA: 30X20X970mm, COM METALON DIM. 50X20X0,97mm NA FACE INFERIOR PARA ARREMATE COM O FORRO, FUNDO ANTICORROSIVO EM PRIMER EPÓXI NAS DUAS FACES - PLATIBANDA ACESSO BLOCO A ao B.","M2",37.340000000000003,247.56,{"$f":"ROUND(D91*E91,2)","v":9243.89}]
[]
["2.10","ESQUADRIAS",null,null,null,{"$f":"SUBTOTAL(9,F94:F113)","v":180608.43000000002}]
["2.10.1","FORNECIMENTO E INSTALAÇÃO DE PELE DE VIDRO COR VERDE 8MM (4MM + 4MM) INCLUSIVE ESTRUTURA DE ALUMÍNIO - SISTEMA STRUCTURAL GLAZING, INCLUSO 02 PORTAS DE ABRIR 02 FOLHAS - DIM: 2,10X2,45M (P7)","M2",24.82,1747.04,{"$f":"ROUND(D94*E94,2)","v":43361.53}]
["2.10.2","(P1, P3, P4, P5, P10) - PORTA EM ALUMÍNIO DE ABRIR TIPO VENEZIANA COM GUARNIÇÃO, FIXAÇÃO COM PARAFUSOS - FORNECIMENTO E INSTALAÇÃO","M2",34.82,679.02,{"$f":"ROUND(D95*E95,2)","v":23643.48}]
["2.10.3","P2 - PORTA EM ALUMÍNIO, COM VISOR DE VIDRO, DE ABRIR TIPO VENEZIANA COM GUARNIÇÃO, FIXAÇÃO COM PARAFUSOS - FORNECIMENTO E INSTALAÇÃO. AF_12/2019","M2",9.4499999999999993,742.18,7013.6]
["2.10.4","P6 - PORTA DE VIDRO TEMPERADO DE DUAS FOLHAS DE ABRIR 1,80X2,10 INCOLOR ESP.10MM, COM MOLA HIDRÁULICA DE PISO NAS DUAS FOLHAS,PUXADOR TUBULAR RETO 40CM ALUMINIO POLIDO, FERRAGENS CROMADAS E FIXAÇÕES EM PAREDES, PISOS E FORROS CONFORME NORMAS DO FABRICANTE, SEGUINDO AS INDICAÇÕES DO PROJETO ARQUITETÔNICO, INCLUSIVE FERRAGENS DE INSTALAÇÃO PARA PERFEITO USO E FUNCIONAMENTO.","CONJ",2,3713.54,7427.08]
["2.10.5","BANDEIRAS FIXAS P6 - PAINÉIS (BANDEIRAS) FIXOS EM VIDRO TEMPERADO INCOLOR ESP. 10MM, FERRAGENS CROMADAS E FIXAÇÕES EM PAREDES, PISOS E FORROS CONFORME NORMAS DO FABRICANTE PARA PERFEITO USO E FUNCIONAMENTO","M2",3.24,561.64,1819.71]
["2.10.6","P8 - PORTA DE VIDRO TEMPERADO DE DUAS FOLHAS DE ABRIR 3,00X2,10 FUMÊ ESP.10MM, COM MOLA HIDRÁULICA DE PISO NAS DUAS FOLHAS,PUXADOR TUBULAR RETO 40CM ALUMINIO POLIDO, FERRAGENS CROMADAS E FIXAÇÕES EM PAREDES, PISOS E FORROS CONFORME NORMAS DO FABRICANTE, SEGUINDO AS INDICAÇÕES DO PROJETO ARQUITETÔNICO, INCLUSIVE FERRAGENS DE INSTALAÇÃO PARA PERFEITO USO E FUNCIONAMENTO.","CONJ",1,4730.5,4730.5]
["2.10.7","P11 - PORTA DE VIDRO TEMPERADO DE DUAS FOLHAS DE ABRIR 2,00X2,10M FUMÊ  ESP.10MM,  COM MOLA HIDRÁULICA NAS 02 FOLHAS, FERRAGENS CROMADAS E FIXAÇÕES EM PAREDES, PISOS E FORROS CONFORME NORMAS DO FABRICANTE PARA PERFEITO USO E FUNCIONAMENTO, INCLUSO BARRA ANTIPÂNICO DUPLA.","UN",1,4818.18,4818.18]
["2.10.8","BANDEIRAS FIXAS P11 - PAINÉIS (BANDEIRAS) FIXOS EM VIDRO TEMPERADO INCOLOR ESP. 10MM, FERRAGENS CROMADAS E FIXAÇÕES EM PAREDES, PISOS E FORROS CONFORME NORMAS DO FABRICANTE PARA PERFEITO USO E FUNCIONAMENTO","M2",1.8,561.64,1010.95]
["2.10.9","P13 - PORTA DE ABRIR COM MOLA HIDRÁULICA, EM VIDRO TEMPERADO, 1,00X1,10 M, ESPESSURA 10 MM, INCLUSIVE ACESSÓRIOS.","CONJ",4,1517.56,{"$f":"ROUND(D102*E102,2)","v":6070.24}]
["2.10.10","P38 – PORTA DE VIDRO TEMPERADO, UMA FOLHA DE ABRIR 0,90X2,10M FUMÊ ESP.10MM, COM MOLA HIDRÁULICA DE PISO NA FOLHA, PUXADOR TUBULAR RETO 40CM ALUMINIO POLIDO, FERRAGENS CROMADAS E FIXAÇÕES EM PAREDES, PISOS E FORROS CONFORME NORMAS DO FABRICANTE, SEGUINDO AS INDICAÇÕES DO PROJETO ARQUITETÔNICO, INCLUSIVE FERRAGENS DE INSTALAÇÃO PARA PERFEITO USO E FUNCIONAMENTO.","CONJ",1,1856.77,{"$f":"ROUND(D103*E103,2)","v":1856.77}]
["2.10.11","BANDEIRAS FIXAS P38 - PAINÉIS (BANDEIRAS) FIXOS EM VIDRO TEMPERADO INCOLOR ESP. 10MM, FERRAGENS CROMADAS E FIXAÇÕES EM PAREDES, PISOS E FORROS CONFORME NORMAS DO FABRICANTE PARA PERFEITO USO E FUNCIONAMENTO","M2",0.81,561.64,454.93]
["2.10.12","P9 - PORTA DE FERRO, DE ABRIR, TIPO VENEZIANA, COM GUARNIÇÕES.","M2",1.8900000000000001,684.33,1293.3800000000001]
["2.10.13","INSTALAÇÃO DE VIDRO TEMPERADO FIXO, E = 10 MM, ENCAIXADO EM PERFIL U, PEÇAS SUBDIVIDIDAS A CADA 1,20M, COM MONTANTES DE ALUMINIO, CHUMBADOS NO PISO E NA LAJE.","M2",24.060000000000002,516.35,12423.38]
["2.10.14","V1 - VISOR EM VIDRO TEMPERADO INCOLOR ESPESSURA=8MM COM REQUADRO DE ALUMÍNIO NA COR NATURAL, DIMENSÕES 120X100CM","UN",1,682.7,682.7]
["2.10.15","V2 - VISOR EM VIDRO TEMPERADO INCOLOR ESPESSURA=8MM COM REQUADRO DE ALUMÍNIO NA COR NATURAL, DIM. 2,00X1,00M","UN",1,789.95,789.95]
["2.10.16","J1 - JANELA MAXIM-AR COM ESTRUTURA DE ALUMÍNIO ANODIZADO NATURAL E VIDRO TEMPERADO FUMÊ 6 mm - DIM. 1,00X0,60M, COMPLETA,  INCLUSIVE FERRAGENS, FECHADURA, PUXADORES E  VEDAÇÕES - BANDEIRAS CONFORME PROJETO","UN",6,668.64,4011.84]
["2.10.17","J2 - JANELA MAXIM-AR COM ESTRUTURA DE ALUMÍNIO ANODIZADO NATURAL E VIDRO TEMPERADO INCOLOR 6 mm - DIM. 2,00X1,50M, COMPLETA,  INCLUSIVE FERRAGENS, FECHADURA, PUXADORES E  VEDAÇÕES - BANDEIRAS CONFORME PROJETO","UN",18,2899.06,52183.08]
["2.10.18","J3 - JANELA MAXIM-AR COM ESTRUTURA DE ALUMÍNIO ANODIZADO NATURAL E VIDRO TEMPERADO INCOLOR 6 mm - DIM. 0,40X0,60M, COMPLETA,  INCLUSIVE FERRAGENS, FECHADURA, PUXADORES E  VEDAÇÕES - BANDEIRAS CONFORME PROJETO","UN",4,400.51,{"$f":"ROUND(D111*E111,2)","v":1602.04}]
["2.10.19","J4 - JANELA MAXIM-AR COM ESTRUTURA DE ALUMÍNIO ANODIZADO NATURAL E VIDRO TEMPERADO INCOLOR 6 mm - DIM. 3,00X1,50M, COMPLETA,  INCLUSIVE FERRAGENS, FECHADURA, PUXADORES E  VEDAÇÕES - BANDEIRAS CONFORME PROJETO","UN",1,3780.11,{"$f":"ROUND(D112*E112,2)","v":3780.11}]
["2.10.20","J5 - JANELA MAXIM-AR COM ESTRUTURA DE ALUMÍNIO ANODIZADO NATURAL E VIDRO TEMPERADO FUMÊ 6 mm - DIM. 1,00X0,75M, COMPLETA,  INCLUSIVE FERRAGENS, FECHADURA, PUXADORES E  VEDAÇÕES - BANDEIRAS CONFORME PROJETO","UN",2,817.49,{"$f":"ROUND(D113*E113,2)","v":1634.98}]
[]
["2.11","PISOS",null,null,null,{"$f":"SUBTOTAL(9,F116:F123)","v":73760.700000000012}]
["2.11.1","CONTRAPISO DE CONCRETO, ESPESSURA 7CM, PREPARO MECANICO (INCLUSO CALÇAMENTO EXTERNO DO ENTORNO DO BLOCO)","M2",261.10000000000002,42.03,{"$f":"ROUND(D116*E116,2)","v":10974.03}]
["2.11.2","REVESTIMENTO CERÂMICO PARA PISO COM PLACAS TIPO PORCELANATO DE DIMENSÕES 90X90 CM APLICADA EM AMBIENTES INTERNOS - MODELO ELIANE MUNARI BRANCO AC OU SIMILAR (MATERIAL FORNECIDO PELO SESI)","M2",231.23,40.47,9357.8799999999992]
["2.11.3","APLICAÇÃO DE REJUNTE CIMENTICIO EM REVESTIMENTO CERÂMICO PARA PISO COM PLACAS TIPO PORCELANATO DE DIMENSÕES 90X90 CM APLICADA EM AMBIENTES INTERNOS - MODELO ELIANE MUNARI BRANCO AC OU SIMILAR","M2",807.33,4.6100000000000003,{"$f":"ROUND(D118*E118,2)","v":3721.79}]
["2.11.4","PISO EM GRANITO APLICADO EM AMBIENTES INTERNOS, FRISADO/ANTIDERRAPANTE - ESCADA E RAMPA ENTRE BLOCO A / B","M2",23.53,366.52,{"$f":"ROUND(D119*E119,2)","v":8624.2199999999993}]
["2.11.5","RODAPÉ EM GRANITO, ALTURA 10 CM - ESCADA E RAMPA ENTRE BLOCO A / B","M",13.4,66.400000000000006,{"$f":"ROUND(D120*E120,2)","v":889.76}]
["2.11.6","FORNECIMENTO E ESPALHAMENTO DE BRITA (PEDRISCO CINZA), INCLUSIVE REGULARIZAÇÃO / ACERTO MANUAL COM ESPALHAMENTO E COMPACTACAO, ESP=5CM - ÁREA DA HORTA","M2",103.5,7.39,{"$f":"ROUND(D121*E121,2)","v":764.87}]
["2.11.7","PISO EM PLACA 80X100X2 CM DE GRANITO OCRE ITABIRA, FLAMEADO, FORNECIMENTO E INSTALAÇÃO - ACESSO PRINCIPAL FACHADA","M2",86.38,456.45,{"$f":"ROUND(D122*E122,2)","v":39428.15}]
[]
["2.12","REVESTIMENTOS",null,null,null,{"$f":"SUBTOTAL(9,F125:F133)","v":535255.89}]
["2.12.1","CHAPISCO APLICADO EM ALVENARIAS E ESTRUTURAS DE CONCRETO INTERNAS, COM ROLO PARA TEXTURA ACRÍLICA.  ARGAMASSA TRAÇO 1:4 E EMULSÃO POLIMÉRICA (ADESIVO) COM PREPARO EM BETONEIRA 400L. AF_06/2014","M2",469.58,8.59,{"$f":"ROUND(D125*E125,2)","v":4033.69}]
["2.12.2","EMBOÇO OU MASSA ÚNICA EM ARGAMASSA TRAÇO 1:2:8, PREPARO MECÂNICO COM BETONEIRA 400 L, APLICADA MANUALMENTE EM PANOS DE FACHADA COM PRESENÇA DE VÃOS, ESPESSURA DE 25 MM. AF_06/2014","M2",469.58,55.05,{"$f":"ROUND(D126*E126,2)","v":25850.38}]
["2.12.3","REVESTIMENTO CERÂMICO PARA PAREDES COM PLACAS TIPO PORCELANATO DE DIMENSÕES 90X90 CM APLICADA EM AMBIENTES INTERNOS - MODELO ELIANE LIMESTONE AREIA POL OU SIMILAR","M2",216.73800000000003,197.45,{"$f":"ROUND(D127*E127,2)","v":42794.92}]
["2.12.4","REVESTIMENTO CERÂMICO PARA PAREDES COM PLACAS TIPO PORCELANATO DE DIMENSÕES 14,5X90 CM APLICADA EM AMBIENTES INTERNOS - MODELO ELIANE LIMESTONE AREIA POL OU SIMILAR","M2",61.590200000000003,409.33,25210.720000000001]
["2.12.5","REVESTIMENTO CERAMICO PORTOBELLO GLACIE WHITE 30X60CM, INCLUSO E REJUNTE - FORNECIMENTO E INSTALAÇÃO (AZULEJO FORNECIDO PELO SESI)","M2",188.71999999999997,84.59,15963.82]
["2.12.6","REVESTIMENTO CERÂMICO PARA PAREDES EXTERNAS EM PASTILHAS JATOBÁ DE PORCELANA 5 X 5 CM (PLACAS DE 30 X 30 CM), ALINHADAS A PRUMO, JD. 4102 - PÉROLA OCEANO (JATOBÁ OU SIMILAR)","M2",21.440000000000005,202.77,4347.3900000000003]
["2.12.7","FORNECIMENTO E INSTALAÇÃO DE BRISES ALUMINIO LIGA TEMPERADA, CH 2800 X 1250 X1,50 BRP 04 C 14,00 SENTIDO TRANSVERSAL, PINTADO NA COR PRETO. INCLUSIVE ESTRUTURA DE SUSTENTAÇÃO E FIXAÇÃO EM ALUMINIO, INCLUSIVE CHUMBAMENTOS EM ALVENARIAS, E DEMAIS ANCORAGENS DO CONJUNTO, CONFORME INDICAÇÃO EM PROJETO E ESPECIFICAÇÃO DO FABRICANTE - FORNECIMENTO E INSTALAÇÃO - FACHADA","M2",184.03,1188.1400000000001,218653.4]
["2.12.8","REVESTIMENTO DE ACM Tecbond PRATA SILVER WHITE METALLIC OU SIMILAR  - ALUMÍNIO COMPOSTO, TUBOS DE AUMÍNIO, ACESSÓRIOS, FRETES - CHAPAS DE ACM COM PINTURA KAYNNAR (PVDF) COM 4,0 DE ESPESSURA, COM GARANTIA DE PINTURA DE FABRICA DE 10 A 15 ANOS - CONFORME INDICAÇÃO EM PROJETO E ESPECIFICAÇÃO DO FABRICANTE; INCLUSIVE ESTRUTURA DE SUSTENTAÇÃO EM ALUMINIO ANODIZADO RETANGULAR PERFIL 25,50X3,18MM E FIXAÇÃO EM CANTONEIRA DE ALUMINIO 25,4X3,17MM E=1/8\" , INCLUSIVE CHUMBAMENTOS EM ALVENARIAS/CONCRETO, E DEMAIS ANCORAGENS DO CONJUNTO, CONFORME NORMAS DO FABRICANTE - FACHADA","M2",189.13999999999996,692.82,{"$f":"ROUND(D132*E132,2)","v":131039.97}]
["2.12.9","REVESTIMENTO DE ACM Tecbond ESVERDEADO JADE SILVER OU SIMILAR  - ALUMÍNIO COMPOSTO, TUBOS DE AUMÍNIO, ACESSÓRIOS, FRETES - CHAPAS DE ACM COM PINTURA KAYNNAR (PVDF) COM 4,0 DE ESPESSURA, COM GARANTIA DE PINTURA DE FABRICA DE 10 A 15 ANOS - CONFORME INDICAÇÃO EM PROJETO E ESPECIFICAÇÃO DO FABRICANTE; INCLUSIVE ESTRUTURA DE SUSTENTAÇÃO EM ALUMINIO ANODIZADO RETANGULAR PERFIL 25,50X3,18MM E FIXAÇÃO EM CANTONEIRA DE ALUMINIO 25,4X3,17MM E=1/8\" , INCLUSIVE CHUMBAMENTOS EM ALVENARIAS/CONCRETO, E DEMAIS ANCORAGENS DO CONJUNTO, CONFORME NORMAS DO FABRICANTE - FACHADA","M2",57.574999999999989,1169.98,67361.600000000006]
[]
["2.13","GRANITO",null,null,null,{"$f":"SUBTOTAL(9,F136:F139)","v":21425.27}]
["2.13.1","BANCADA DE GRANITO CINZA ANDORINHA, SOBRE MÃOS-FRANCESAS METÁLICAS, ESP=2cm COM FRONTÃO 20cm, SAIA COM ACAB. DE MEIA ESQUADRIA E REFORÇO INFERIOR DE BORDA E CORTE PARA INST. DE CUBAS DE LOUÇA OVAL DE EMBUTIR LOCAL","M2",6.2580000000000009,782.35,{"$f":"ROUND(D136*E136,2)","v":4895.95}]
["2.13.2","DIVISORIA SANITÁRIA, TIPO CABINE, EM GRANITO CINZA POLIDO, ESP = 3CM, ASSENTADO COM ARGAMASSA COLANTE AC III-E, EXCLUSIVE FERRAGENS. AF_01/2021","M2",20.420000000000002,701.86,14331.98]
["2.13.3","PEITORIL LINEAR EM GRANITO OU MÁRMORE, L = 15CM, COMPRIMENTO DE ATÉ 2M, ASSENTADO COM ARGAMASSA 1:6 COM ADITIVO. AF_11/2020","M",1.06,132.84,{"$f":"ROUND(D138*E138,2)","v":140.81}]
["2.13.4","SOLEIRA EM GRANITO, LARGURA 15 CM, ESPESSURA 2,0 CM. AF_09/2020","M",21.729999999999997,94.64,2056.5300000000002]
[]
["2.14","FORRO",null,null,null,{"$f":"SUBTOTAL(9,F142:F144)","v":45683.86}]
["2.14.1","FORRO ACÚSTICO DE FIBRA MINERAL 625 MM X 625 MM TEGULAR,  INSTALADOS EM PERFIL \"T\", SUPENSO POR PENDURAIS EM ARRAME GALVANIZADO A CADA 1250X1250MM (PLACAS DE FORRO FORNECIDO PELO SESI)","M2",803.82,38.880000000000003,{"$f":"ROUND(D142*E142,2)","v":31252.52}]
["2.14.2","FORRO DE PVC, LISO, PARA AMBIENTES COMERCIAIS, INCLUSIVE ESTRUTURA DE FIXAÇÃO.","M2",25.201999999999998,90.99,2293.13]
["2.14.3","REVESTIMENTO DE ACM Tecbond PRATA SILVER WHITE METALLIC OU SIMILAR  - ALUMÍNIO COMPOSTO, TUBOS DE AUMÍNIO, ACESSÓRIOS, FRETES - CHAPAS DE ACM COM PINTURA KAYNNAR (PVDF) COM 4,0 DE ESPESSURA, COM GARANTIA DE PINTURA DE FABRICA DE 10 A 15 ANOS - CONFORME INDICAÇÃO EM PROJETO E ESPECIFICAÇÃO DO FABRICANTE; INCLUSIVE ESTRUTURA DE SUSTENTAÇÃO EM ALUMINIO ANODIZADO RETANGULAR PERFIL 25,50X3,18MM E FIXAÇÃO EM CANTONEIRA DE ALUMINIO 25,4X3,17MM E=1/8\" , INCLUSIVE CHUMBAMENTOS EM ALVENARIAS/CONCRETO, E DEMAIS ANCORAGENS DO CONJUNTO, CONFORME NORMAS DO FABRICANTE - NA MARQUISE DA FACHADA.","M2",17.52,692.82,{"$f":"ROUND(D144*E144,2)","v":12138.21}]
[]
["2.15","PINTURA",null,null,null,{"$f":"SUBTOTAL(9,F147:F152)","v":51429.31}]
["2.15.1","APLICAÇÃO DE FUNDO SELADOR ACRÍLICO EM PAREDES, UMA DEMÃO. AF_06/2014","M2",705.8599999999999,2.06,{"$f":"ROUND(D147*E147,2)","v":1454.07}]
["2.15.2","APLICAÇÃO E LIXAMENTO DE MASSA LÁTEX EM PAREDES, UMA DEMÃO. AF_06/2014","M2",392.63,10.85,4260.04]
["2.15.3","APLICAÇÃO MANUAL DE PINTURA COM TINTA LÁTEX ACRÍLICA EM PAREDES, DUAS DEMÃOS. AF_06/2014","M2",945.33999999999992,15,{"$f":"ROUND(D149*E149,2)","v":14180.1}]
["2.15.4","TEXTURA ACRÍLICA, APLICAÇÃO MANUAL EM PAREDE, UMA DEMÃO. AF_09/2016","M2",936.17000000000007,15.6,14604.25]
["2.15.5","APLICAÇÃO MANUAL DE TINTA LÁTEX ACRÍLICA EM PAREDE EXTERNAS, DUAS DEMÃOS.","M2",879.64,15.82,{"$f":"ROUND(D151*E151,2)","v":13915.9}]
["2.15.6","PINTURA DE PISO COM TINTA ACRÍLICA, APLICAÇÃO MANUAL, 3 DEMÃOS, INCLUSO FUNDO PREPARADOR. AF_05/2021","M2",144.88,20.81,{"$f":"ROUND(D152*E152,2)","v":3014.95}]
[]
["2.16","CALÇAMENTO, PÁTIOS E PASSARELAS",null,null,null,{"$f":"SUBTOTAL(9,F155)","v":0}]
[]
["2.17","SERVIÇOS COMPLEMENTARES",null,null,null,{"$f":"SUBTOTAL(9,F157:F161)","v":40757.060000000005}]
["2.17.1","ESPELHO  CRISTAL E=4MM, FORNECIMENTO E INSTALAÇÃO","M2",15.79,549.79999999999995,{"$f":"ROUND(D157*E157,2)","v":8681.34}]
["2.17.2","FORNECIMENTO E INSTALAÇÃO DE QUADRO/LOUSA EM VIDRO TEMPERADO LEITOSO 6MM ADESIVADAS COM PELICULA DE SEGURANÇA BRANCA, INCLUSIVE APARADOR PARA CANETA PILOTO 30X10CM, COM BOTOES DE CABECA DE LATAO CROMADO","M2",17.28,379.21,6552.75]
["2.17.3","FORNECIMENTO E INSTALAÇÃO CORRIMÃO DUPLO, H=0,92M E H=0,70M, DIÂMETRO EXTERNO = 1 1/2\", EM AÇO INOX, FIXADO EM PISO.","M",5.92,515.79999999999995,3053.54]
["2.17.4","FORNECIMENTO E INSTALAÇÃO DE GUARDA CORPO H=1,30M, COLUNAS DIÂM. 1 1/2\" A CADA 1M, TUBO HORIZONTAL SUPERIOR E INFERIOR DE DIÂM 1 1/2\", TUBOS VERTICAIS 3/4\" A CADA 11CM E COM CORRIMÃO DUPLO DE Ø 1 1/2\" COM H=0,92CM/H=0,70CM, EM AÇO INÓX - CONFORME PROJETO E MEMORIAL DE ACESSIBILIDADE","M",15.29,998.08,15260.64]
["2.17.5","FORNECIMENTO FABRICAÇÃO E INSTALAÇÃO DE GUARDA-CORPOS INOX, COM AS SEGUINTES CARACTERÍSTICAS: \r\n• COM 1,30M DE ALTURA TOTAL\r\n• COLUNAS - EM TUBOS DE AÇO INÓX, Ø= 1.1/2\"  - CHAPA #16  CADA  1,00M (NO MÁXIMO) CHUMBADAS NO CONCRETO;\r\n• BARRAS VERTICAIS INTERMEDIÁRIAS DE FECHAMENTO - Ø= 3/4\" - CHAPA #16 A CADA 11CM, TOTALIZANDO 07 LINHAS CONTÍNUAS;\r\n• BARRA HORIZONTAL DE ACABAMENTO SUPERIOR - EM TUBOS DE AÇO INÓX, D= 1.1/2\" - CHAPA #16.\r\n• BARRA HORIZONTAL DE ACABAMENTO INFERIOR - EM TUBOS DE AÇO INÓX, D= 1.1/2\" - CHAPA #16.\n• CANOPLA EM AÇO INÓX DE ACABAMENTO NA BASE DAS COLUNAS CHAPA #16.","M",7.81,923.02,{"$f":"ROUND(D161*E161,2)","v":7208.79}]
[]
["2.18","INSTALAÇÕES DE SPDA",null,null,null,{"$f":"SUBTOTAL(9,F164)","v":0}]
[]
["2.19","INSTALAÇÃO DE COMBATE A INCÊNDIO",null,null,null,{"$f":"SUBTOTAL(9,F166)","v":0}]
[]
["2.20","INSTALAÇÕES ELÉTRICA",null,null,null,{"$f":"SUBTOTAL(9,F168:F463)","v":228866.36999999991}]
["2.20.1","INSTALAÇÕES ELÉTRICA BAIXA TENSÃO",null,null,null,{"$f":"SUBTOTAL(9,F169:F261)","v":86512.339999999967}]
["2.20.1.1","ACESSÓRIOS P/ELETRODUTO E USO GERAL",null,null,null,{"$f":"SUBTOTAL(9,F170:F193)","v":6239.95}]
["2.20.1.1.1","FORNECIMENTO E INSTALAÇÃO DE ABRAÇADEIRA DE AÇO, TIPO D, 3/4\", COM CUNHA","UN",100,6.59,{"$f":"ROUND(D170*E170,2)","v":659}]
["2.20.1.1.2","FORNECIMENTO E INSTALAÇÃO DE ABRAÇADEIRA DE AÇO, TIPO D, 1\", COM CUNHA","UN",50,6.75,337.5]
["2.20.1.1.3","FORNECIMENTO E INSTALAÇÃO DE BUCHA E ARRUELA ALUMÍNIO FUNDIDO PARA ELETRODUTO (ZAMAK) 3/4\"","UN",100,2.0299999999999998,203]
["2.20.1.1.4","FORNECIMENTO E INSTALAÇÃO DE BUCHA E ARRUELA ALUMÍNIO FUNDIDO PARA ELETRODUTO (ZAMAK) 1\"","UN",50,2.41,120.5]
["2.20.1.1.5","FORNECIMENTO E INSTALAÇÃO DE BOX RETO PARA ELETRODUTO 3/4\"","UN",100,5.68,568]
["2.20.1.1.6","FORNECIMENTO E INSTALAÇÃO DE BOX RETO PARA ELETRODUTO 1\"","UN",50,8.0399999999999991,402]
["2.20.1.1.7","FORNECIMENTO E INSTALAÇÃO DE PRENSA CABO 1/2\"","UN",18,30.33,545.94000000000005]
["2.20.1.1.8","CAIXA OCTOGONAL 4\" X 4\" PVC - FORNECIMENTO E INSTALAÇÃO. ","UN",101,11.42,1153.42]
["2.20.1.1.9","CAIXA RETANGULAR 4\" X 2\" PVC - FORNECIMENTO E INSTALAÇÃO. ","UN",20,8.9600000000000009,179.2]
["2.20.1.1.10","FORNECIMENTO E INSTALAÇÃO DE CAIXA ALUMÍNIO 4X4\" DE PISO C/ TAMPA - EMBUTIR","UN",4,62.03,248.12]
["2.20.1.1.11","FORNECIMENTO E INSTALAÇÃO DE PLACA CEGA PVC 4X2\"","UN",3,4.82,14.46]
["2.20.1.1.12","FORNECIMENTO E INSTALAÇÃO DE SAÍDA LATERAL ELETROCALHA P/ ELETRODUTO 3/4\"","UN",2,10.29,20.58]
["2.20.1.1.13","FORNECIMENTO E INSTALAÇÃO DE SAÍDA ELETROCALHA P/ ELETRODUTO 1\" ","UN",2,15.54,31.08]
["2.20.1.1.14","FORNECIMENTO E INSTALAÇÃO DE SAÍDA LATERAL PERFILADO P/ ELETRODUTO 3/4\"","UN",6,18.510000000000002,111.06]
["2.20.1.1.15","FORNECIMENTO E INSTALAÇÃO DE SAÍDA LATERAL PERFILADO P/ ELETRODUTO 1\"","UN",1,14.87,14.87]
["2.20.1.1.16","FORNECIMENTO E INSTALAÇÃO DE ARAME AÇO GALVANIZADO 18 BWG, 1,24MM (0,009 KG/M)","M",50,0.77,38.5]
["2.20.1.1.17","FORNECIMENTO E INSTALAÇÃO DE ARRUELA LISA GALVANIZADA 1/4\"","UN",50,0.59,29.5]
["2.20.1.1.18","FORNECIMENTO E INSTALAÇÃO DE BUCHA / PARAFUSO S8","UN",234,4.4400000000000004,1038.96]
["2.20.1.1.19","FORNECIMENTO E INSTALAÇÃO DE BUCHA / PARAFUSO S10","UN",12,4.75,57]
["2.20.1.1.20","FORNECIMENTO E INSTALAÇÃO DE CHUMBADOR PARABOLT AÇO 1/4\" X 3\"","UN",10,13.59,135.9]
["2.20.1.1.21","FORNECIMENTO E INSTALAÇÃO DE PARAFUSO GALVAN. CABEÇA LENTILHA 1/4X5/8\"","UN",22,4.93,108.46]
["2.20.1.1.22","FORNECIMENTO E INSTALAÇÃO DE PARAFUSO GALVAN. CABEÇA LOSANGULAR 1/4\"X1\" - AUTO TRAVANTE PERFILADO","UN",5,6.88,34.4]
["2.20.1.1.23","FORNECIMENTO E INSTALAÇÃO DE PORCA SEXTAVADA GALVAN. 1/4\"","UN",25,0.42,10.5]
["2.20.1.1.24","FORNECIMENTO E INSTALAÇÃO DE VERGALHÃO GALVANIZADO ROSCA TOTAL 1/4\"","M",10,17.8,178]
[]
["2.20.1.2","CABOS",null,null,null,{"$f":"SUBTOTAL(9,F196:F199)","v":33932.199999999997}]
["2.20.1.2.1","FORNECIMENTO E INSTALAÇÃO DE CABO DE COBRE FLEXÍVEL ISOL. TERMOPLASTICO ATOX 750V - 2,5 MM² (TP SINTENAX PIRELLI OU SIMILAR)","M",5300,4.83,{"$f":"ROUND(D196*E196,2)","v":25599}]
["2.20.1.2.2","FORNECIMENTO E INSTALAÇÃO DE CABO DE COBRE FLEXÍVEL ISOL. TERMOPLASTICO ATOX 750V - 4 MM² (TP SINTENAX PIRELLI OU SIMILAR)","M",850,7.06,6001]
["2.20.1.2.3","FORNECIMENTO E INSTALAÇÃO DE CABO DE COBRE FLEXÍVEL ISOL. TERMOPLASTICO ATOX 750V - 6 MM² (TP SINTENAX PIRELLI OU SIMILAR)","M",200,10.199999999999999,2040]
["2.20.1.2.4","FORNECIMENTO E INSTALAÇÃO DE CABO DE COBRE PP 3X2,5MM² - ISOL. TERMOPLASTICO ATOX 750V","M",60,4.87,292.2]
[]
["2.20.1.3","DISPOSITIVO ELÉTRICO EMBUTIDO",null,null,null,{"$f":"SUBTOTAL(9,F202:F213)","v":4355.87}]
["2.20.1.3.1","CAMPAINHA CIGARRA (1 MÓDULO), 10A/250V, INCLUINDO SUPORTE E PLACA - FORNECIMENTO E INSTALAÇÃO. AF_09/2017","UN",2,41.45,{"$f":"ROUND(D202*E202,2)","v":82.9}]
["2.20.1.3.2","INTERRUPTOR PULSADOR CAMPAINHA (1 MÓDULO), 10A/250V, INCLUINDO SUPORTE E PLACA - FORNECIMENTO E INSTALAÇÃO. AF_09/2017","UN",2,23.23,46.46]
["2.20.1.3.3","INTERRUPTOR SIMPLES (1 MÓDULO), 10A/250V, INCLUINDO SUPORTE E PLACA - FORNECIMENTO E INSTALAÇÃO. AF_12/2015","UN",18,24.35,438.3]
["2.20.1.3.4","INTERRUPTOR SIMPLES (2 MÓDULOS), 10A/250V, INCLUINDO SUPORTE E PLACA - FORNECIMENTO E INSTALAÇÃO. AF_12/2015","UN",7,38.520000000000003,269.64]
["2.20.1.3.5","INTERRUPTOR SIMPLES (3 MÓDULOS), 10A/250V, INCLUINDO SUPORTE E PLACA - FORNECIMENTO E INSTALAÇÃO. AF_12/2015","UN",1,52.7,52.7]
["2.20.1.3.6","INTERRUPTOR PARALELO (2 MÓDULOS), 10A/250V, INCLUINDO SUPORTE E PLACA - FORNECIMENTO E INSTALAÇÃO. AF_12/2015","UN",4,49.97,199.88]
["2.20.1.3.7","INTERRUPTOR SIMPLES (1 MÓDULO) COM 1 TOMADA DE EMBUTIR 2P+T 10 A,  INCLUINDO SUPORTE E PLACA - FORNECIMENTO E INSTALAÇÃO. AF_12/2015","UN",3,43.09,129.27000000000001]
["2.20.1.3.8","INTERRUPTOR SIMPLES (2 MÓDULOS) COM 1 TOMADA DE EMBUTIR 2P+T 10 A,  INCLUINDO SUPORTE E PLACA - FORNECIMENTO E INSTALAÇÃO. AF_12/2015","UN",4,57.27,229.08]
["2.20.1.3.9","TOMADA DE EMBUTIR (1 MÓDULO), 2P+T 10 A, INCLUINDO SUPORTE E PLACA - FORNECIMENTO E INSTALAÇÃO. AF_12/2015","UN",41,25.73,1054.93]
["2.20.1.3.10","TOMADA DE EMBUTIR (1 MÓDULO), 2P+T 20 A, INCLUINDO SUPORTE E PLACA - FORNECIMENTO E INSTALAÇÃO. AF_12/2015","UN",21,27.91,586.11]
["2.20.1.3.11","TOMADA DE EMBUTIR (2 MÓDULOS), 2P+T 10 A, INCLUINDO SUPORTE E PLACA - FORNECIMENTO E INSTALAÇÃO. AF_12/2015","UN",28,41.24,1154.72]
["2.20.1.3.12","FORNECIMENTO E INSTALAÇÃO DE PLUGUE MACHO  2P+T - 10A","UN",4,27.97,111.88]
[]
["2.20.1.4","DISPOSITIVO DE PROTEÇÃO",null,null,null,{"$f":"SUBTOTAL(9,F216:F225)","v":5790.76}]
["2.20.1.4.1","DISJUNTOR MONOPOLAR TIPO DIN, CORRENTE NOMINAL DE 10A - FORNECIMENTO E INSTALAÇÃO. AF_10/2020","UN",6,13.15,{"$f":"ROUND(D216*E216,2)","v":78.900000000000006}]
["2.20.1.4.2","DISJUNTOR MONOPOLAR TIPO DIN, CORRENTE NOMINAL DE 16A - FORNECIMENTO E INSTALAÇÃO. AF_10/2020","UN",23,13.72,315.56]
["2.20.1.4.3","DISJUNTOR BIPOLAR TIPO DIN, CORRENTE NOMINAL DE 16A - FORNECIMENTO E INSTALAÇÃO. AF_10/2020","UN",2,67.28,134.56]
["2.20.1.4.4","DISJUNTOR BIPOLAR TIPO DIN, CORRENTE NOMINAL DE 32A - FORNECIMENTO E INSTALAÇÃO. AF_10/2020","UN",2,72.19,144.38]
["2.20.1.4.5","FORNECIMENTO E INSTALAÇÃO DE DISJUNTOR TIPO DIN/IEC, TRIPOLAR 70 A  (REF.: MARCA SIEMENS, WEG OU SIMILAR)","UN",1,210.2,210.2]
["2.20.1.4.6","FORNECIMENTO E INSTALAÇÃO DE DISJUNTOR TRIPOLAR TERMOMAGNÉTICO EM CAIXA MOLDADA - 175A  (REF.: MARCA SIEMENS, WEG OU SIMILAR)","UN",1,661.22,661.22]
["2.20.1.4.7","FORNECIMENTO E INSTALAÇÃO DE DISJUNTOR TRIPOLAR TERMOMAGNÉTICO EM CAIXA MOLDADA - 450A  (REF.: MARCA SIEMENS, WEG OU SIMILAR)","UN",1,2613.86,2613.86]
["2.20.1.4.8","FORNECIMENTO E INSTALAÇÃO DE DISPOSITIVO DR, 2 POLOS, SENSIBILIDADE DE 30 MA, CORRENTE DE 25 A, TIPO AC","UN",4,186.52,746.08]
["2.20.1.4.9","FORNECIMENTO E INSTALAÇÃO DE DISPOSITIVO DR, 2 POLOS, SENSIBILIDADE DE 30 MA, CORRENTE DE 25 A, TIPO AC","UN",2,186.52,373.04]
["2.20.1.4.10","FORNECIMENTO E INSTALAÇÃO DE DISPOSITIVO DPS, 1 polo, 175 V, 45 kA","UN",4,128.24,512.96]
[]
["2.20.1.5","ELETROCALHAS / PERFILADOS",null,null,null,{"$f":"SUBTOTAL(9,F228:F232)","v":610.24}]
["2.20.1.5.1","FORNECIMENTO E INSTALAÇÃO DESAÍDA LATERAL DE ELETROCALHA P/PERFILADO 38X38MM","UN",1,17.02,{"$f":"ROUND(D228*E228,2)","v":17.02}]
["2.20.1.5.2","FORNECIMENTO E INSTALAÇÃO DE EMENDA INTERNA TIPO \"I\" P/ PERFILADO METÁLICO 38X38MM - CHAPA 18","UN",2,20.399999999999999,40.799999999999997]
["2.20.1.5.3","FORNECIMENTO E INSTALAÇÃO DE EMENDA INTERNA TIPO \"L\" P/ PERFILADO METÁLICO 38X38MM  - CHAPA 18","UN",1,22.84,22.84]
["2.20.1.5.4","FORNECIMENTO E INSTALAÇÃO DE PERFILADO PERFURADO METÁLICO 38X38MM, COM TAMPA - CHAPA 18","M",12,30.59,367.08]
["2.20.1.5.5","FORNECIMENTO E INSTALAÇÃO DE SUPORTE CURTO P/ PERFILADO METÁLICO 38X38MM","UN",10,16.25,162.5]
[]
["2.20.1.6","EXTENSÃO EM MOBILIARIO",null,null,null,{"$f":"SUBTOTAL(9,F235:F240)","v":3669.65}]
["2.20.1.6.1","FORNECIMENTO E INSTALAÇÃO DE PLUGUE MACHO  2P+T - 10A","UN",21,27.97,{"$f":"ROUND(D235*E235,2)","v":587.37}]
["2.20.1.6.2","FORNECIMENTO E INSTALAÇÃO DE TOMADA ELÉTRICA SOBREPOR 2P+T 10A - EM CAIXA PVC","UN",43,44.79,1925.97]
["2.20.1.6.3","FORNECIMENTO E INSTALAÇÃO DE CANALETA PVC #30X30CM C/ TAMPA - VENTILADA - BARRA 2 METROS","UN",21,41.1,863.1]
["2.20.1.6.4","FORNECIMENTO E INSTALAÇÃO DE CABO DE COBRE PP 3X2,5MM² - ISOL. TERMOPLASTICO ATOX 750V","M",38,4.87,185.06]
["2.20.1.6.5","FORNECIMENTO E INSTALAÇÃO DE PARAFUSO ATARRACHANTE 3X12MM","UN",105,0.7,73.5]
["2.20.1.6.6","FORNECIMENTO E INSTALAÇÃO DE ABRAÇADEIRA NYLON 3,5X300MM","UN",105,0.33,34.65]
[]
["2.20.1.7","ELETRODUTOS",null,null,null,{"$f":"SUBTOTAL(9,F243:F244)","v":1055}]
["2.20.1.7.1","ELETRODUTO FLEXÍVEL CORRUGADO, PVC, DN 25 MM (3/4\") - FORNECIMENTO E INSTALAÇÃO. ","M",100,6.19,{"$f":"ROUND(D243*E243,2)","v":619}]
["2.20.1.7.2","ELETRODUTO FLEXÍVEL CORRUGADO, PVC, DN 32 MM (1\") - FORNECIMENTO E INSTALAÇÃO. ","M",50,8.7200000000000006,436]
[]
["2.20.1.8","LUMINÁRIAS E ACESSÓRIOS",null,null,null,{"$f":"SUBTOTAL(9,F247:F247)","v":20208.900000000001}]
["2.20.1.8.1","FORNECIMENTO E INSTALAÇÃO DE LUMINÁRIA QUADRADA ALETAS REFLEXIVAS DE EMBUTIR, MODULAR 60X60CM, COM 4 LÂMPADAS TUBULARES LED T8 9W, TEMPERATURA DE COR 6.000K, TOTAL DE FLUXO LUMINOSO ENTRE 3.200 A 4.000 LUMENS, COM CORPO EM CHAPA METÁLICA PINTADA ELETROSTATICAMENTE, INCLUSIVE SOQUETES T8 E ACESSÓRIOS DE FIXAÇÃO (EXCLUSIVE LUMINÁRIA, FORNECIDA PELO SESI MT)","UN",159,127.1,{"$f":"ROUND(D247*E247,2)","v":20208.900000000001}]
[]
["2.20.1.9","QUADRO DE DISTRIBUIÇÃO",null,null,null,{"$f":"SUBTOTAL(9,F250:F250)","v":9709.5400000000009}]
["2.20.1.9.1","FORNECIMENTO E INSTALAÇÃO DE QUADRO MONTADO DE SOBREPOR, EM CHAPA PINTADA, COM BARRAMENTO TRIFÁSICO DE 500A, CAPACIDADE PARA: 02 DISJ. DE 150A A 225A CAIXA MOLDADA  + 02 DISJ. DE 80A A 125A CAIXA MOLDADA + 80 MÓDULOS TIPO DIN, INCLUSIVE BARRAMENTO NEUTRO ","UN",1,9709.5400000000009,{"$f":"ROUND(D250*E250,2)","v":9709.5400000000009}]
[]
["2.20.1.10","TERMINAIS",null,null,null,{"$f":"SUBTOTAL(9,F253:F261)","v":940.23}]
["2.20.1.10.1","FORNECIMENTO E INSTALAÇÃO DE TERMINAL DE COMPRESSÃO 1,5 - 2,5MM²","UN",60,4.49,{"$f":"ROUND(D253*E253,2)","v":269.39999999999998}]
["2.20.1.10.2","FORNECIMENTO E INSTALAÇÃO DE TERMINAL DE COMPRESSÃO 4 - 6MM²","UN",30,7.88,236.4]
["2.20.1.10.3","FORNECIMENTO E INSTALAÇÃO DE TERMINAL DE COMPRESSÃO 16MM²","UN",5,8.5299999999999994,42.65]
["2.20.1.10.4","FORNECIMENTO E INSTALAÇÃO DE TERMINAL DE COMPRESSÃO 35MM²","UN",1,9.59,9.59]
["2.20.1.10.5","FORNECIMENTO E INSTALAÇÃO DE TERMINAL DE COMPRESSÃO 70MM²","UN",3,13.02,39.06]
["2.20.1.10.6","FORNECIMENTO E INSTALAÇÃO DE TERMINAL DE COMPRESSÃO 120MM²","UN",9,19.91,179.19]
["2.20.1.10.7","FORNECIMENTO E INSTALAÇÃO DE ABRAÇADEIRA NYLON 3,5X300MM","UN",50,0.33,16.5]
["2.20.1.10.8","FORNECIMENTO E INSTALAÇÃO DE FITA ISOLANTE DE BORRACHA AUTO-FUSÃO","UN",2,2.04,4.08]
["2.20.1.10.9","FORNECIMENTO E INSTALAÇÃO DE FITA ISOLANTE 19MMX20M","UN",8,17.920000000000002,143.36000000000001]
[]
["2.20.2","ELÉTRICA ILUMINAÇÃO EXTERNA - BLOCO A",null,null,null,{"$f":"SUBTOTAL(9,F264:F298)","v":2557.0399999999995}]
["2.20.2.1","ACESSÓRIOS P/ELETRODUTO E USO GERAL",null,null,null,{"$f":"SUBTOTAL(9,F265:F274)","v":194.96}]
["2.20.2.1.1","FORNECIMENTO E INSTALAÇÃO DE ABRAÇADEIRA DE AÇO, TIPO D, 3/4\", COM CUNHA","UN",1,6.59,{"$f":"ROUND(D265*E265,2)","v":6.59}]
["2.20.2.1.2","FORNECIMENTO E INSTALAÇÃO DE BUCHA E ARRUELA ALUMÍNIO FUNDIDO PARA ELETRODUTO (ZAMAK) 3/4\"","UN",1,2.0299999999999998,2.0299999999999998]
["2.20.2.1.3","FORNECIMENTO E INSTALAÇÃO DE BOX RETO PARA ELETRODUTO 3/4\"","UN",1,5.68,5.68]
["2.20.2.1.4","FORNECIMENTO E INSTALAÇÃO DE PRENSA CABO 1/2\"","UN",3,30.33,90.99]
["2.20.2.1.5","CAIXA RETANGULAR 4\" X 2\" PVC - FORNECIMENTO E INSTALAÇÃO. ","UN",1,8.9600000000000009,8.9600000000000009]
["2.20.2.1.6","FORNECIMENTO E INSTALAÇÃO DE SAÍDA LATERAL PERFILADO P/ ELETRODUTO 3/4\"","UN",1,18.510000000000002,18.510000000000002]
["2.20.2.1.7","FORNECIMENTO E INSTALAÇÃO DE ARRUELA LISA GALVANIZADA 1/4\"","UN",4,0.59,2.36]
["2.20.2.1.8","FORNECIMENTO E INSTALAÇÃO DE BUCHA / PARAFUSO S8","UN",10,4.4400000000000004,44.4]
["2.20.2.1.9","FORNECIMENTO E INSTALAÇÃO DE PARAFUSO GALVAN. CABEÇA LOSANGULAR 1/4\"X1\" - AUTO TRAVANTE PERFILADO","UN",2,6.88,13.76]
["2.20.2.1.10","FORNECIMENTO E INSTALAÇÃO DE PORCA SEXTAVADA GALVAN. 1/4\"","UN",4,0.42,1.68]
[]
["2.20.2.2","CABOS",null,null,null,{"$f":"SUBTOTAL(9,F277:F278)","v":1694.21}]
["2.20.2.2.1","FORNECIMENTO E INSTALAÇÃO DE CABO DE COBRE FLEXÍVEL ISOL. TERMOPLASTICO ATOX 750V - 2,5 MM² (TP SINTENAX PIRELLI OU SIMILAR)","M",215,4.83,{"$f":"ROUND(D277*E277,2)","v":1038.45}]
["2.20.2.2.2","FORNECIMENTO E INSTALAÇÃO DE CABO DE COBRE PP 4 X 2,5 MM²","M",28,23.42,655.76]
[]
["2.20.2.3","DISPOSITIVO ELÉTRICO EMBUTIDO",null,null,null,{"$f":"SUBTOTAL(9,F281:F281)","v":52.7}]
["2.20.2.3.1","INTERRUPTOR SIMPLES (3 MÓDULOS), 10A/250V, INCLUINDO SUPORTE E PLACA - FORNECIMENTO E INSTALAÇÃO. AF_12/2015","UN",1,52.7,{"$f":"ROUND(D281*E281,2)","v":52.7}]
[]
["2.20.2.4","DISPOSITIVO ELÉTRICO SOBREPOR",null,null,null,{"$f":"SUBTOTAL(9,F284:F284)","v":313.17}]
["2.20.2.4.1","SENSOR DE PRESENÇA PARA ILUMINAÇÃO, 100W, 127V, COM ÂNGULO DE DETECÇÃO DE 180º, FUNÇÃO FOTOCÉLULA AJUSTÁVEL, FUNÇÃO TEMPORIZADOR AJUSTÁVEL, DISTÂNCIA DE DETECÇÃO 12 METROS, SOBREPOR - FORNECIMENTO E INSTALAÇÃO. ","UN",3,104.39,313.17]
[]
["2.20.2.5","DISPOSITIVO DE PROTEÇÃO",null,null,null,{"$f":"SUBTOTAL(9,F287:F287)","v":13.15}]
["2.20.2.5.1","DISJUNTOR MONOPOLAR TIPO DIN, CORRENTE NOMINAL DE 10A - FORNECIMENTO E INSTALAÇÃO. AF_10/2020","UN",1,13.15,{"$f":"ROUND(D287*E287,2)","v":13.15}]
[]
["2.20.2.6","ELETRODUTOS",null,null,null,{"$f":"SUBTOTAL(9,F290:F290)","v":30.95}]
["2.20.2.6.1","ELETRODUTO FLEXÍVEL CORRUGADO, PVC, DN 25 MM (3/4\") - FORNECIMENTO E INSTALAÇÃO. ","M",5,6.19,{"$f":"ROUND(D290*E290,2)","v":30.95}]
[]
["2.20.2.7","LUMINÁRIAS E ACESSÓRIOS",null,null,null,{"$f":"SUBTOTAL(9,F293:F294)","v":217.53}]
["2.20.2.7.1","FORNECIMENTO E INSTALAÇÃO DE REFLETOR HOLOFOTE LED 30W, IP 66, ÂNGULO DE ABERTURA DE 120°, TEMPERATURA DE COR 6000K (REF.: ILUMINIM RSPM-30WBF OU SIMILAR)","UN",1,68.849999999999994,{"$f":"ROUND(D293*E293,2)","v":68.849999999999994}]
["2.20.2.7.2","FORNECIMENTO E INSTALAÇÃO DE REFLETOR HOLOFOTE LED 50W, IP 66, ÂNGULO DE ABERTURA DE 120°, TEMPERATURA DE COR 6000K (REF.: ILUMINIM RSPM-50WBF OU SIMILAR)","UN",2,74.34,148.68]
[]
["2.20.2.8","TERMINAIS",null,null,null,{"$f":"SUBTOTAL(9,F297:F298)","v":40.370000000000005}]
["2.20.2.8.1","FORNECIMENTO E INSTALAÇÃO DE TERMINAL DE COMPRESSÃO 1,5 - 2,5MM²","UN",5,4.49,{"$f":"ROUND(D297*E297,2)","v":22.45}]
["2.20.2.8.2","FORNECIMENTO E INSTALAÇÃO DE FITA ISOLANTE 19MMX20M","UN",1,17.920000000000002,17.920000000000002]
[]
["2.20.3","ELÉTRICA ILUMINAÇÃO EMERGÊNCIA - BLOCO A",null,null,null,{"$f":"SUBTOTAL(9,F301:F328)","v":6651.62}]
["2.20.3.1","ACESSÓRIOS P/ELETRODUTO E USO GERAL",null,null,null,{"$f":"SUBTOTAL(9,F302:F312)","v":349.40999999999997}]
["2.20.3.1.1","FORNECIMENTO E INSTALAÇÃO DE ABRAÇADEIRA DE AÇO, TIPO D, 3/4\", COM CUNHA","UN",12,6.59,{"$f":"ROUND(D302*E302,2)","v":79.08}]
["2.20.3.1.2","FORNECIMENTO E INSTALAÇÃO DE BUCHA E ARRUELA ALUMÍNIO FUNDIDO PARA ELETRODUTO (ZAMAK) 3/4\"","UN",6,2.0299999999999998,12.18]
["2.20.3.1.3","FORNECIMENTO E INSTALAÇÃO DE BOX RETO PARA ELETRODUTO 3/4\"","UN",12,5.68,68.16]
["2.20.3.1.4","CAIXA RETANGULAR 4\" X 2\" PVC - FORNECIMENTO E INSTALAÇÃO. ","UN",11,8.9600000000000009,98.56]
["2.20.3.1.5","FORNECIMENTO E INSTALAÇÃO DE SAÍDA LATERAL ELETROCALHA P/ ELETRODUTO 3/4\"","UN",2,10.29,20.58]
["2.20.3.1.6","FORNECIMENTO E INSTALAÇÃO DE SAÍDA LATERAL PERFILADO P/ ELETRODUTO 3/4\"","UN",1,18.510000000000002,18.510000000000002]
["2.20.3.1.7","FORNECIMENTO E INSTALAÇÃO DE ARRUELA LISA GALVANIZADA 1/4\"","UN",5,0.59,2.95]
["2.20.3.1.8","FORNECIMENTO E INSTALAÇÃO DE BUCHA / PARAFUSO S8","UN",2,4.4400000000000004,8.8800000000000008]
["2.20.3.1.9","FORNECIMENTO E INSTALAÇÃO DE PARAFUSO GALVAN. CABEÇA LENTILHA 1/4X5/8\"","UN",5,4.93,24.65]
["2.20.3.1.10","FORNECIMENTO E INSTALAÇÃO DE PARAFUSO GALVAN. CABEÇA LOSANGULAR 1/4\"X1\" - AUTO TRAVANTE PERFILADO","UN",2,6.88,13.76]
["2.20.3.1.11","FORNECIMENTO E INSTALAÇÃO DE PORCA SEXTAVADA GALVAN. 1/4\"","UN",5,0.42,2.1]
[]
["2.20.3.2","CABOS",null,null,null,{"$f":"SUBTOTAL(9,F315:F315)","v":4830}]
["2.20.3.2.1","FORNECIMENTO E INSTALAÇÃO DE CABO DE COBRE FLEXÍVEL ISOL. TERMOPLASTICO ATOX 750V - 2,5 MM² (TP SINTENAX PIRELLI OU SIMILAR)","M",1000,4.83,{"$f":"ROUND(D315*E315,2)","v":4830}]
[]
["2.20.3.3","DISPOSITIVO ELÉTRICO EMBUTIDO",null,null,null,{"$f":"SUBTOTAL(9,F318:F318)","v":746.17}]
["2.20.3.3.1","TOMADA DE EMBUTIR (1 MÓDULO), 2P+T 10 A, INCLUINDO SUPORTE E PLACA - FORNECIMENTO E INSTALAÇÃO. AF_12/2015","UN",29,25.73,{"$f":"ROUND(D318*E318,2)","v":746.17}]
[]
["2.20.3.4","DISPOSITIVO DE PROTEÇÃO",null,null,null,{"$f":"SUBTOTAL(9,F321:F321)","v":26.3}]
["2.20.3.4.1","DISJUNTOR MONOPOLAR TIPO DIN, CORRENTE NOMINAL DE 10A - FORNECIMENTO E INSTALAÇÃO. AF_10/2020","UN",2,13.15,{"$f":"ROUND(D321*E321,2)","v":26.3}]
[]
["2.20.3.5","ELETRODUTOS",null,null,null,{"$f":"SUBTOTAL(9,F324:F324)","v":619}]
["2.20.3.5.1","ELETRODUTO FLEXÍVEL CORRUGADO, PVC, DN 25 MM (3/4\") - FORNECIMENTO E INSTALAÇÃO. ","M",100,6.19,{"$f":"ROUND(D324*E324,2)","v":619}]
[]
["2.20.3.6","TERMINAIS",null,null,null,{"$f":"SUBTOTAL(9,F327:F328)","v":80.740000000000009}]
["2.20.3.6.1","FORNECIMENTO E INSTALAÇÃO DE TERMINAL DE COMPRESSÃO 1,5 - 2,5MM²","UN",10,4.49,{"$f":"ROUND(D327*E327,2)","v":44.9}]
["2.20.3.6.2","FORNECIMENTO E INSTALAÇÃO DE FITA ISOLANTE 19MMX20M","UN",2,17.920000000000002,35.840000000000003]
[]
["2.20.4","ELÉTRICA AR CONDICONADO - BLOCO A",null,null,null,{"$f":"SUBTOTAL(9,F331:F380)","v":30948.390000000003}]
["2.20.4.1","ACESSÓRIOS P/ELETRODUTO E USO GERAL",null,null,null,{"$f":"SUBTOTAL(9,F332:F343)","v":3822.5800000000004}]
["2.20.4.1.1","FORNECIMENTO E INSTALAÇÃO DE ABRAÇADEIRA DE AÇO, TIPO D, 3/4\", COM CUNHA","UN",120,6.59,{"$f":"ROUND(D332*E332,2)","v":790.8}]
["2.20.4.1.2","FORNECIMENTO E INSTALAÇÃO DE BUCHA E ARRUELA ALUMÍNIO FUNDIDO PARA ELETRODUTO (ZAMAK) 3/4\"","UN",92,2.0299999999999998,186.76]
["2.20.4.1.3","FORNECIMENTO E INSTALAÇÃO DE BOX RETO PARA ELETRODUTO 3/4\"","UN",92,5.68,522.55999999999995]
["2.20.4.1.4","CAIXA RETANGULAR 4\" X 2\" PVC - FORNECIMENTO E INSTALAÇÃO. ","UN",43,8.9600000000000009,385.28]
["2.20.4.1.5","FORNECIMENTO E INSTALAÇÃO DE SAÍDA LATERAL ELETROCALHA P/ ELETRODUTO 3/4\"","UN",6,10.29,61.74]
["2.20.4.1.6","FORNECIMENTO E INSTALAÇÃO DE ARRUELA LISA GALVANIZADA 1/4\"","UN",152,0.59,89.68]
["2.20.4.1.7","FORNECIMENTO E INSTALAÇÃO DE BUCHA / PARAFUSO S8","UN",142,4.4400000000000004,630.48]
["2.20.4.1.8","FORNECIMENTO E INSTALAÇÃO DE BUCHA / PARAFUSO S10","UN",12,4.75,57]
["2.20.4.1.9","FORNECIMENTO E INSTALAÇÃO DE CHUMBADOR PARABOLT AÇO 1/4\" X 3\"","UN",16,13.59,217.44]
["2.20.4.1.10","FORNECIMENTO E INSTALAÇÃO DE PARAFUSO GALVAN. CABEÇA LENTILHA 1/4X5/8\"","UN",124,4.93,611.32000000000005]
["2.20.4.1.11","FORNECIMENTO E INSTALAÇÃO DE CHUMBADOR PARABOLT AÇO 1/4\" X 3\"","UN",16,13.59,217.44]
["2.20.4.1.12","FORNECIMENTO E INSTALAÇÃO DE PORCA SEXTAVADA GALVAN. 1/4\"","UN",124,0.42,52.08]
[]
["2.20.4.2","CABOS",null,null,null,{"$f":"SUBTOTAL(9,F346:F349)","v":18915.78}]
["2.20.4.2.1","FORNECIMENTO E INSTALAÇÃO DE CABO DE COBRE FLEXÍVEL ISOL. TERMOPLASTICO ATOX 750V - 2,5 MM² (TP SINTENAX PIRELLI OU SIMILAR)","M",1650,4.83,{"$f":"ROUND(D346*E346,2)","v":7969.5}]
["2.20.4.2.2","FORNECIMENTO E INSTALAÇÃO DE  CABO DE COBRE FLEXÍVEL ISOLADO, 10 MM², ANTI-CHAMA 0,6/1,0 KV - ATOX","M",107,12.54,1341.78]
["2.20.4.2.3","FORNECIMENTO E INSTALAÇÃO DE  CABO DE COBRE FLEXÍVEL ISOLADO, 25 MM², ANTI-CHAMA 0,6/1,0 KV - ATOX","M",25,31.14,778.5]
["2.20.4.2.4","FORNECIMENTO E INSTALAÇÃO DE  CABO DE COBRE FLEXÍVEL ISOLADO, 70 MM², ANTI-CHAMA 0,6/1,0 KV - ATOX","M",75,117.68,8826]
[]
["2.20.4.3","DISPOSITIVO ELÉTRICO EMBUTIDO",null,null,null,{"$f":"SUBTOTAL(9,F352:F353)","v":1358.99}]
["2.20.4.3.1","INTERRUPTOR BIPOLAR (1 MÓDULO), 10A/250V, INCLUINDO SUPORTE E PLACA - FORNECIMENTO E INSTALAÇÃO. AF_09/2017","UN",15,42.57,{"$f":"ROUND(D352*E352,2)","v":638.54999999999995}]
["2.20.4.3.2","TOMADA DE EMBUTIR (1 MÓDULO), 2P+T 10 A, INCLUINDO SUPORTE E PLACA - FORNECIMENTO E INSTALAÇÃO. AF_12/2015","UN",28,25.73,720.44]
[]
["2.20.4.4","DISPOSITIVO DE PROTEÇÃO",null,null,null,{"$f":"SUBTOTAL(9,F356:F359)","v":1616.66}]
["2.20.4.4.1","DISJUNTOR BIPOLAR TIPO DIN, CORRENTE NOMINAL DE 16A - FORNECIMENTO E INSTALAÇÃO. AF_10/2020","UN",4,67.28,{"$f":"ROUND(D356*E356,2)","v":269.12}]
["2.20.4.4.2","DISJUNTOR BIPOLAR TIPO DIN, CORRENTE NOMINAL DE 40A - FORNECIMENTO E INSTALAÇÃO. AF_10/2020","UN",4,75.400000000000006,301.60000000000002]
["2.20.4.4.3","FORNECIMENTO E INSTALAÇÃO DE DISJUNTOR TRIPOLAR TERMOMAGNÉTICO EM CAIXA MOLDADA - 175A  (REF.: MARCA SIEMENS, WEG OU SIMILAR)","UN",1,661.22,661.22]
["2.20.4.4.4","FORNECIMENTO E INSTALAÇÃO DE DISPOSITIVO DPS, 1 polo, 175 V, 45 kA","UN",3,128.24,384.72]
[]
["2.20.4.5","ELETROCALHAS / PERFILADOS",null,null,null,{"$f":"SUBTOTAL(9,F362:F362)","v":0}]
[]
["2.20.4.6","EXTENSÃO EM MOBILIARIO",null,null,null,{"$f":"SUBTOTAL(9,F364:F365)","v":987.69999999999993}]
["2.20.4.6.1","FORNECIMENTO E INSTALAÇÃO DE PLUGUE MACHO  2P+T - 10A","UN",28,27.97,{"$f":"ROUND(D364*E364,2)","v":783.16}]
["2.20.4.6.2","FORNECIMENTO E INSTALAÇÃO DE CABO DE COBRE PP 3X2,5MM² - ISOL. TERMOPLASTICO ATOX 750V","M",42,4.87,204.54]
[]
["2.20.4.7","ELETRODUTOS",null,null,null,{"$f":"SUBTOTAL(9,F368:F368)","v":495.2}]
["2.20.4.7.1","ELETRODUTO FLEXÍVEL CORRUGADO, PVC, DN 25 MM (3/4\") - FORNECIMENTO E INSTALAÇÃO. ","M",80,6.19,{"$f":"ROUND(D368*E368,2)","v":495.2}]
[]
["2.20.4.8","QUADRO DE DISTRIBUIÇÃO",null,null,null,{"$f":"SUBTOTAL(9,F371:F371)","v":3429.51}]
["2.20.4.8.1","FORNECIMENTO E INSTALAÇÃO DE QUADRO MONTADO DE SOBREPOR, EM CHAPA PINTADA, GRAU DE PROTEÇÃO IP65, COM BARRAMENTO TRIFÁSICO DE 300A, CAPACIDADE PARA:  32 MÓDULOS TIPO DIN, INCLUSIVE BARRAMENTO TERRA, COMPLETO, COM ACESSÓRIOS DE MONTAGEM, ISOLAÇÃO E PROTEÇÃ","UN",1,3429.51,{"$f":"ROUND(D371*E371,2)","v":3429.51}]
[]
["2.20.4.9","TERMINAIS",null,null,null,{"$f":"SUBTOTAL(9,F374:F380)","v":321.97000000000003}]
["2.20.4.9.1","FORNECIMENTO E INSTALAÇÃO DE TERMINAL DE COMPRESSÃO 1,5 - 2,5MM²","UN",18,4.49,{"$f":"ROUND(D374*E374,2)","v":80.819999999999993}]
["2.20.4.9.2","FORNECIMENTO E INSTALAÇÃO DE TERMINAL DE COMPRESSÃO 10MM²","UN",16,8.23,131.68]
["2.20.4.9.3","FORNECIMENTO E INSTALAÇÃO DE TERMINAL DE COMPRESSÃO 35MM²","UN",2,9.59,19.18]
["2.20.4.9.4","FORNECIMENTO E INSTALAÇÃO DE TERMINAL DE COMPRESSÃO 70MM²","UN",4,13.02,52.08]
["2.20.4.9.5","FORNECIMENTO E INSTALAÇÃO DE ABRAÇADEIRA NYLON 3,5X300MM","UN",1,0.33,0.33]
["2.20.4.9.6","FORNECIMENTO E INSTALAÇÃO DE FITA ISOLANTE DE BORRACHA AUTO-FUSÃO","UN",1,2.04,2.04]
["2.20.4.9.7","FORNECIMENTO E INSTALAÇÃO DE FITA ISOLANTE 19MMX20M","UN",2,17.920000000000002,35.840000000000003]
[]
["2.20.5","ELÉTRICA BT - FACHADA",null,null,null,{"$f":"SUBTOTAL(9,F383:F442)","v":36096.219999999994}]
["2.20.5.1","ACESSÓRIOS P/ELETRODUTO E USO GERAL",null,null,null,{"$f":"SUBTOTAL(9,F384:F402)","v":4273.34}]
["2.20.5.1.1","FORNECIMENTO E INSTALAÇÃO DE ABRAÇADEIRA DE AÇO, TIPO D, 3/4\", COM CUNHA","UN",6,6.59,{"$f":"ROUND(D384*E384,2)","v":39.54}]
["2.20.5.1.2","FORNECIMENTO E INSTALAÇÃO DE ABRAÇADEIRA DE AÇO, TIPO D, 1\", COM CUNHA","UN",10,6.75,67.5]
["2.20.5.1.3","FORNECIMENTO E INSTALAÇÃO DE ABRAÇADEIRA DE AÇO, TIPO D, 2\", COM CUNHA","UN",6,8.77,52.62]
["2.20.5.1.4","FORNECIMENTO E INSTALAÇÃO DE BUCHA E ARRUELA ALUMÍNIO FUNDIDO PARA ELETRODUTO (ZAMAK) 3/4\"","UN",10,2.0299999999999998,20.3]
["2.20.5.1.5","FORNECIMENTO E INSTALAÇÃO DE BUCHA E ARRUELA ALUMÍNIO FUNDIDO PARA ELETRODUTO (ZAMAK) 1\"","UN",4,2.41,9.64]
["2.20.5.1.6","FORNECIMENTO E INSTALAÇÃO DE BUCHA E ARRUELA ALUMÍNIO FUNDIDO PARA ELETRODUTO (ZAMAK) 2\"","UN",2,9.43,18.86]
["2.20.5.1.7","FORNECIMENTO E INSTALAÇÃO DE BOX RETO PARA ELETRODUTO 3/4\"","UN",10,5.68,56.8]
["2.20.5.1.8","FORNECIMENTO E INSTALAÇÃO DE BOX RETO PARA ELETRODUTO 1\"","UN",4,8.0399999999999991,32.159999999999997]
["2.20.5.1.9","FORNECIMENTO E INSTALAÇÃO DE BOX RETO P/ ELETRODUTO 2\"","UN",2,9.9700000000000006,19.940000000000001]
["2.20.5.1.10","CAIXA RETANGULAR 4\" X 2\" PVC - FORNECIMENTO E INSTALAÇÃO. ","UN",37,8.9600000000000009,331.52]
["2.20.5.1.11","CONDULETE DE ALUMÍNIO, TIPO X, PARA ELETRODUTO DE AÇO GALVANIZADO DN 20 MM (3/4''), APARENTE - FORNECIMENTO E INSTALAÇÃO. AF_11/2016_P","UN",5,38.119999999999997,190.6]
["2.20.5.1.12","FORNECIMENTO E INSTALAÇÃO DE PLACA CEGA DE ALUMÍNIO  P/ CONDULETE","UN",5,32.700000000000003,163.5]
["2.20.5.1.13","FORNECIMENTO E INSTALAÇÃO DE ARAME AÇO GALVANIZADO 18 BWG, 1,24MM (0,009 KG/M)","M",555,0.77,427.35]
["2.20.5.1.14","LUVA PARA ELETRODUTO, PVC, ROSCÁVEL, DN 25 MM (3/4\"), PARA CIRCUITOS TERMINAIS - FORNECIMENTO E INSTALAÇÃO. AF_12/2015","UN",4,5.73,22.92]
["2.20.5.1.15","LUVA PARA ELETRODUTO, PVC, ROSCÁVEL, DN 32 MM (1\"), PARA CIRCUITOS TERMINAIS - FORNECIMENTO E INSTALAÇÃO. AF_12/2015","UN",8,7.52,60.16]
["2.20.5.1.16","LUVA PARA ELETRODUTO, PVC, ROSCÁVEL, DN 60 MM (2\") - FORNECIMENTO E INSTALAÇÃO. AF_12/2015","UN",4,15.67,62.68]
["2.20.5.1.17","CURVA 90 GRAUS PARA ELETRODUTO, PVC, ROSCÁVEL, DN 32 MM (1\"), PARA CIRCUITOS TERMINAIS - FORNECIMENTO E INSTALAÇÃO. AF_12/2015","UN",4,12.7,50.8]
["2.20.5.1.18","FORNECIMENTO E INSTALAÇÃO DE BUCHA / PARAFUSO S10","UN",15,4.75,71.25]
["2.20.5.1.19","FORNECIMENTO E INSTALAÇÃO DE PARAFUSO ZINCADO, AUTOBROCANTE, FLANGEADO, 4,2 MM X 19 MM","CENTO",40,64.38,2575.1999999999998]
[null,""]
["2.20.5.2","ACESSÓRIOS P/ELETRODUTO E USO GERAL",null,null,null,{"$f":"SUBTOTAL(9,F405:F407)","v":3672.86}]
["2.20.5.2.1","CAIXA DE PASSAGEM 15X15X10CM (EMBUTIR), FORNECIMENTO E INSTALACAO. AF_11/2019","UN",2,44.78,{"$f":"ROUND(D405*E405,2)","v":89.56}]
["2.20.5.2.2","FORNECIMENTO E INSTALAÇÃO DE CAIXA DE PASSAGEM HERMÉTICA SOBREPOR EM PVC C/ TAMPA IP65 - 40X30X14CM","UN",4,236.88,947.52]
["2.20.5.2.3","CAIXA ENTERRADA ELÉTRICA RETANGULAR, EM ALVENARIA COM TIJOLOS CERÂMICOS MACIÇOS, COM TAMPA, FUNDO COM BRITA, DIMENSÕES INTERNAS: 0,3X0,3X0,3 M. AF_12/2020","UN",14,188.27,2635.78]
[null,""]
["2.20.5.3","CABOS",null,null,null,{"$f":"SUBTOTAL(9,F410:F413)","v":18150.3}]
["2.20.5.3.1","FORNECIMENTO E INSTALAÇÃO DE  CABO DE COBRE FLEXÍVEL ISOLADO, 2,5 MM², ANTI-CHAMA 0,6/1,0 KV - ATOX","M",850,5.42,{"$f":"ROUND(D410*E410,2)","v":4607}]
["2.20.5.3.2","FORNECIMENTO E INSTALAÇÃO DE  CABO DE COBRE FLEXÍVEL ISOLADO, 4 MM², ANTI-CHAMA 0,6/1,0 KV - ATOX","M",1300,7.7,10010]
["2.20.5.3.3","FORNECIMENTO E INSTALAÇÃO DE  CABO DE COBRE FLEXÍVEL ISOLADO, 16 MM², ANTI-CHAMA 0,6/1,0 KV - ATOX","M",150,19.010000000000002,2851.5]
["2.20.5.3.4","FORNECIMENTO E INSTALAÇÃO DE CABO DE COBRE PP 3X2,5MM² - ISOL. TERMOPLASTICO ATOX 750V","M",140,4.87,681.8]
[null,""]
["2.20.5.4","DISPOSITIVO ELÉTRICO EMBUTIDO",null,null,null,{"$f":"SUBTOTAL(9,F416:F416)","v":38.520000000000003}]
["2.20.5.4.1","INTERRUPTOR SIMPLES (2 MÓDULOS), 10A/250V, INCLUINDO SUPORTE E PLACA - FORNECIMENTO E INSTALAÇÃO. AF_12/2015","UN",1,38.520000000000003,{"$f":"ROUND(D416*E416,2)","v":38.520000000000003}]
[null,""]
["2.20.5.5","DISPOSITIVO DE PROTEÇÃO",null,null,null,{"$f":"SUBTOTAL(9,F419:F422)","v":872.76}]
["2.20.5.5.1","DISJUNTOR MONOPOLAR TIPO DIN, CORRENTE NOMINAL DE 16A - FORNECIMENTO E INSTALAÇÃO. AF_10/2020","UN",6,13.72,{"$f":"ROUND(D419*E419,2)","v":82.32}]
["2.20.5.5.2","DISJUNTOR BIPOLAR TIPO DIN, CORRENTE NOMINAL DE 16A - FORNECIMENTO E INSTALAÇÃO. AF_10/2020","UN",1,67.28,67.28]
["2.20.5.5.3","FORNECIMENTO E INSTALAÇÃO DE DISJUNTOR TIPO DIN/IEC, TRIPOLAR 70 A  (REF.: MARCA SIEMENS, WEG OU SIMILAR)","UN",1,210.2,210.2]
["2.20.5.5.4","FORNECIMENTO E INSTALAÇÃO DE DISPOSITIVO DPS, 1 POLO, 175 V, 45 KA","UN",4,128.24,512.96]
[null,""]
["2.20.5.6","ELETRODUTOS",null,null,null,{"$f":"SUBTOTAL(9,F425:F431)","v":7346.4700000000012}]
["2.20.5.6.1","ELETRODUTO FLEXÍVEL CORRUGADO REFORÇADO, PVC, DN 25 MM (3/4\"), PARA CIRCUITOS TERMINAIS, INSTALADO EM FORRO - FORNECIMENTO E INSTALAÇÃO. AF_12/2015","M",190,9.8000000000000007,{"$f":"ROUND(D425*E425,2)","v":1862}]
["2.20.5.6.2","ELETRODUTO FLEXÍVEL CORRUGADO, PEAD, DN 50 (1 ½\u0094)  - FORNECIMENTO E INSTALAÇÃO. AF_04/2016","M",150,7.73,1159.5]
["2.20.5.6.3","ELETRODUTO RÍGIDO ROSCÁVEL, PVC, DN 25 MM (3/4\") - FORNECIMENTO E INSTALAÇÃO. ","M",12,8.61,103.32]
["2.20.5.6.4","ELETRODUTO RÍGIDO ROSCÁVEL, PVC, DN 32 MM (1\") - FORNECIMENTO E INSTALAÇÃO. AF_12/2015","M",20,11.95,239]
["2.20.5.6.5","ELETRODUTO RÍGIDO ROSCÁVEL, PVC, DN 60 MM (2\") - FORNECIMENTO E INSTALAÇÃO. AF_12/2015","M",15,22.17,332.55]
["2.20.5.6.6","ESCAVAÇÃO MANUAL DE VALA COM PROFUNDIDADE MENOR OU IGUAL A 1,30 M. AF_02/2021","M3",30,75.75,{"$f":"ROUND(D430*E430,2)","v":2272.5}]
["2.20.5.6.7","REATERRO MANUAL APILOADO COM SOQUETE. AF_10/2017","M3",30,45.92,{"$f":"ROUND(D431*E431,2)","v":1377.6}]
[null,""]
["2.20.5.7","QUADRO DE DISTRIBUIÇÃO",null,null,null,{"$f":"SUBTOTAL(9,F434:F434)","v":1368.37}]
["2.20.5.7.1","FORNECIMENTO E INSTALAÇÃO DE QUADRO DE COMANDO DE ILUMINAÇÃO DE SOBREPOR, COM 2 PROGRAMADORES HORÁRIOS, METÁLICO, COM TRATAMENTO ANTICORROSIVO, ESPELHO INTERNO, PORTA E TRINCO, PINTURA PÓ POLYESTER/EPOXI, AÇO, IP-54, DIMENSÕES 500X500X200MM, COMPLETO, INC","UN",1,1368.37,{"$f":"ROUND(D434*E434,2)","v":1368.37}]
[null,""]
["2.20.5.8","TERMINAIS",null,null,null,{"$f":"SUBTOTAL(9,F437:F442)","v":373.6}]
["2.20.5.8.1","FORNECIMENTO E INSTALAÇÃO DE TERMINAL DE COMPRESSÃO 1,5 - 2,5MM²","UN",10,4.49,{"$f":"ROUND(D437*E437,2)","v":44.9}]
["2.20.5.8.2","FORNECIMENTO E INSTALAÇÃO DE TERMINAL DE COMPRESSÃO 4 - 6MM²","UN",15,7.88,118.2]
["2.20.5.8.3","FORNECIMENTO E INSTALAÇÃO DE TERMINAL DE COMPRESSÃO 16MM²","UN",12,8.5299999999999994,102.36]
["2.20.5.8.4","FORNECIMENTO E INSTALAÇÃO DE ABRAÇADEIRA NYLON 3,5X300MM","UN",50,0.33,16.5]
["2.20.5.8.5","FORNECIMENTO E INSTALAÇÃO DE FITA ISOLANTE DE BORRACHA AUTO-FUSÃO","UN",1,2.04,2.04]
["2.20.5.8.6","FORNECIMENTO E INSTALAÇÃO DE FITA ISOLANTE 19MMX20M","UN",5,17.920000000000002,89.6]
[]
["2.20.6","LUMINOTÉCNICO DA FACHADA",null,null,null,{"$f":"SUBTOTAL(9,F445:F463)","v":66100.760000000009}]
["2.20.6.1","FORNECIMENTO E INSTALAÇÃO DE ABRAÇADEIRA DE AÇO, TIPO D, 1\", COM CUNHA","UN",200,6.75,{"$f":"ROUND(D445*E445,2)","v":1350}]
["2.20.6.2","FORNECIMENTO E INSTALAÇÃO DE BUCHA E ARRUELA ALUMÍNIO FUNDIDO PARA ELETRODUTO (ZAMAK) 1\"","UN",200,2.41,482]
["2.20.6.3","FORNECIMENTO E INSTALAÇÃO DE BOX RETO PARA ELETRODUTO 1\"","UN",40,8.0399999999999991,321.60000000000002]
["2.20.6.4","CONDULETE DE ALUMÍNIO, TIPO X, PARA ELETRODUTO DE AÇO GALVANIZADO DN 25 MM (1''), APARENTE - FORNECIMENTO E INSTALAÇÃO. AF_11/2016_P","UN",20,42.58,851.6]
["2.20.6.5","FORNECIMENTO E INSTALAÇÃO DE BUCHA / PARAFUSO S8","UN",400,4.4400000000000004,1776]
["2.20.6.6","ELETRODUTO RÍGIDO ROSCÁVEL, PVC, DN 32 MM (1\") - FORNECIMENTO E INSTALAÇÃO. AF_12/2015","M",300,11.95,3585]
["2.20.6.7","ESCAVAÇÃO MANUAL DE VALA COM PROFUNDIDADE MENOR OU IGUAL A 1,30 M. AF_02/2021","M3",5,75.75,{"$f":"ROUND(D451*E451,2)","v":378.75}]
["2.20.6.8","REATERRO MANUAL APILOADO COM SOQUETE. AF_10/2017","M3",5,45.92,{"$f":"ROUND(D452*E452,2)","v":229.6}]
["2.20.6.9","ELETRODUTO FLEXÍVEL CORRUGADO, PEAD, DN 50 (1 ½\u0094)  - FORNECIMENTO E INSTALAÇÃO. AF_04/2016","M",50,7.73,386.5]
["2.20.6.10","CABO ELETRÔNICO CATEGORIA 6, ATOX LSZH, INSTALADO EM EDIFICAÇÃO INSTITUCIONAL - FORNECIMENTO E INSTALAÇÃO. AF_11/2019","M",30,2.58,77.400000000000006]
["2.20.6.11","FORNECIMENTO E INSTALAÇÃO DE LUMINÁRIA EMBUTIR LED QUADRADO 24W 3000K BIVOLT 270X270X28MM (REF.STH9954Q/30-E STELLA OU SIMILAR)","UN",3,134.18,402.54]
["2.20.6.12","FORNECIMENTO E INSTALAÇÃO DE LUMINÁRIA EMBUTIR COM LAMPADA LED DICROICA GU10 6W 3000K BRANCO QUENTE (REF STELLA STH8535/30 OU SIMILAR)","UN",16,124.78,1996.48]
["2.20.6.13","FORNECIMENTO E INSTALAÇÃO DE LUMINÁRIA DE EMBUTIR SOLO LED  FLAT IN ANTIOFUSCANTE 25W 2700K BIVOLT IP67 Ø192X113MM (REF STELLA STH8535/30 OU SIMILAR)","UN",20,1203.32,24066.400000000001]
["2.20.6.14","FORNECIMENTO E INSTALAÇÃO DE FITA LED RGB 3000K 14,4W,IP65 24V  (REF: LEMCA OU SIMILAR)","M",115,74.510000000000005,8568.65]
["2.20.6.15","FORNECIMENTO E INSTALAÇÃO DE FONTE TENSAO  200-24 EXTERNO (REF: XLG LEMCA OU SIMILAR)","UN",11,925.27,10177.969999999999]
["2.20.6.16","FORNECIMENTO E INSTALAÇÃO DE AMPLIFICADOR PARA FITA RGB 360 - 24V 180W  (REF: LEMCA OU SIMILAR)","UN",8,323.51,2588.08]
["2.20.6.17","FORNECIMENTO E INSTALAÇÃO DE LED CONTRALADOR ARQ DMX (REF: LEMCA OU SIMILAR)","UN",1,5623.51,5623.51]
["2.20.6.18","FORNECIMENTO E INSTALAÇÃO DE LED SPLITTER DE SINAL DMX 3 SAIDAS  (REF: LEMCA OU SIMILAR)","UN",1,1366.2,1366.2]
["2.20.6.19","FORNECIMENTO E INSTALAÇÃO DE LED DECODER DRIVER DMX 4 CANAIS - 8A  (REF: LEMCA OU SIMILAR)","UN",3,624.16,1872.48]
[]
["2.21","LOGICA E TELEFONICA",null,null,null,{"$f":"SUBTOTAL(9,F466:F572)","v":48608.65}]
["2.21.1","LOGICA E TELEFONICA - BLOCO A",null,null,null,{"$f":"SUBTOTAL(9,F467:F544)","v":45566.900000000009}]
["2.21.1.1","ACESSÓRIOS P/ELETRODUTO E USO GERAL",null,null,null,{"$f":"SUBTOTAL(9,F468:F487)","v":2485.3900000000003}]
["2.21.1.1.1","FORNECIMENTO E INSTALAÇÃO DE ABRAÇADEIRA DE AÇO, TIPO D, 3/4\", COM CUNHA","UN",30,6.59,{"$f":"ROUND(D468*E468,2)","v":197.7}]
["2.21.1.1.2","FORNECIMENTO E INSTALAÇÃO DE ABRAÇADEIRA DE AÇO, TIPO D, 1\", COM CUNHA","UN",5,6.75,33.75]
["2.21.1.1.3","FORNECIMENTO E INSTALAÇÃO DE BUCHA E ARRUELA ALUMÍNIO FUNDIDO PARA ELETRODUTO (ZAMAK) 3/4\"","UN",30,2.0299999999999998,60.9]
["2.21.1.1.4","FORNECIMENTO E INSTALAÇÃO DE BUCHA E ARRUELA ALUMÍNIO FUNDIDO PARA ELETRODUTO (ZAMAK) 1\"","UN",1,2.41,2.41]
["2.21.1.1.5","FORNECIMENTO E INSTALAÇÃO DE BOX RETO PARA ELETRODUTO 3/4\"","UN",5,5.68,28.4]
["2.21.1.1.6","FORNECIMENTO E INSTALAÇÃO DE BOX RETO PARA ELETRODUTO 1\"","UN",1,8.0399999999999991,8.0399999999999991]
["2.21.1.1.7","CAIXA RETANGULAR 4\" X 2\" PVC - FORNECIMENTO E INSTALAÇÃO. ","UN",10,8.9600000000000009,89.6]
["2.21.1.1.8","CAIXA RETANGULAR 4\" X 4\"  PVC  - FORNECIMENTO E INSTALAÇÃO. AF_12/2015","UN",1,12,12]
["2.21.1.1.9","CONDULETE DE ALUMÍNIO, TIPO X, PARA ELETRODUTO DE AÇO GALVANIZADO DN 20 MM (3/4''), APARENTE - FORNECIMENTO E INSTALAÇÃO. AF_11/2016_P","UN",5,38.119999999999997,190.6]
["2.21.1.1.10","FORNECIMENTO E INSTALAÇÃO DE PLACA CEGA DE ALUMÍNIO  P/ CONDULETE","UN",7,32.700000000000003,228.9]
["2.21.1.1.11","FORNECIMENTO E INSTALAÇÃO DE SAÍDA ELETROCALHA P/ ELETRODUTO 1\" ","UN",1,15.54,15.54]
["2.21.1.1.12","FORNECIMENTO E INSTALAÇÃO DE SAÍDA LATERAL PERFILADO P/ ELETRODUTO 3/4\"","UN",5,18.510000000000002,92.55]
["2.21.1.1.13","FORNECIMENTO E INSTALAÇÃO DE ARAME AÇO GALVANIZADO 18 BWG, 1,24MM (0,009 KG/M)","M",60,0.77,46.2]
["2.21.1.1.14","FORNECIMENTO E INSTALAÇÃO DE ARRUELA LISA GALVANIZADA 1/4\"","UN",60,0.59,35.4]
["2.21.1.1.15","FORNECIMENTO E INSTALAÇÃO DE BUCHA / PARAFUSO S8","UN",30,4.4400000000000004,133.19999999999999]
["2.21.1.1.16","FORNECIMENTO E INSTALAÇÃO DE BUCHA / PARAFUSO S10","UN",10,4.75,47.5]
["2.21.1.1.17","FORNECIMENTO E INSTALAÇÃO DE CHUMBADOR PARABOLT AÇO 1/4\" X 3\"","UN",30,13.59,407.7]
["2.21.1.1.18","FORNECIMENTO E INSTALAÇÃO DE PARAFUSO GALVAN. CABEÇA LENTILHA 1/4X5/8\"","UN",60,4.93,295.8]
["2.21.1.1.19","FORNECIMENTO E INSTALAÇÃO DE PORCA SEXTAVADA GALVAN. 1/4\"","UN",60,0.42,25.2]
["2.21.1.1.20","FORNECIMENTO E INSTALAÇÃO DE VERGALHÃO GALVANIZADO ROSCA TOTAL 1/4\"","M",30,17.8,534]
[null,""]
["2.21.1.2","CABOS",null,null,null,{"$f":"SUBTOTAL(9,F490:F490)","v":6450}]
["2.21.1.2.1","CABO ELETRÔNICO CATEGORIA 6, ATOX LSZH, INSTALADO EM EDIFICAÇÃO INSTITUCIONAL - FORNECIMENTO E INSTALAÇÃO. AF_11/2019","M",2500,2.58,{"$f":"ROUND(D490*E490,2)","v":6450}]
[null,""]
["2.21.1.3","DISPOSITIVO CABEAMENTO EMBUTIR",null,null,null,{"$f":"SUBTOTAL(9,F493:F498)","v":4496.6899999999996}]
["2.21.1.3.1","FORNECIMENTO E INSTALAÇÃO DE PLACA 4X2\" - BRANCA, 1 MÓDULO P/ RJ45","UN",16,7.93,{"$f":"ROUND(D493*E493,2)","v":126.88}]
["2.21.1.3.2","FORNECIMENTO E INSTALAÇÃO DE PLACA 4X2\" - BRANCA, 2 MÓDULOS P/ RJ45","UN",25,11.84,296]
["2.21.1.3.3","FORNECIMENTO E INSTALAÇÃO DE PLACA 4X2\" - 3 MÓDULOS P/ RJ45","UN",17,7.45,126.65]
["2.21.1.3.4","FORNECIMENTO E INSTALAÇÃO DE MÓDULO P/TOMADA KEYSTONE","UN",117,6.59,771.03]
["2.21.1.3.5","FORNECIMENTO E INSTALAÇÃO DE TOMADA KEYSTONE RJ45 - CAT.6","UN",117,26.79,3134.43]
["2.21.1.3.6","FORNECIMENTO E INSTALAÇÃO DE CONECTOR MACHO RJ45 - CAT.6","UN",6,6.95,41.7]
[null,""]
["2.21.1.4","ELETROCALHAS / PERFILADOS",null,null,null,{"$f":"SUBTOTAL(9,F501:F509)","v":2731.1099999999997}]
["2.21.1.4.1","FORNECIMENTO E INSTALAÇÃO DE ELETROCALHA PERFURADA TIPO U 100X50 MM - CHAPA 20, COM TAMPA","M",10,133.36000000000001,{"$f":"ROUND(D501*E501,2)","v":1333.6}]
["2.21.1.4.2","FORNECIMENTO E INSTALAÇÃO DE FLANGE 100X50 MM CHAPA 20","UN",1,12.87,12.87]
["2.21.1.4.3","FORNECIMENTO E INSTALAÇÃO DE SUPORTE VERTICAL P/ ELETROCALHA METÁLICA 100X50MM","UN",10,16.93,169.3]
["2.21.1.4.4","FORNECIMENTO E INSTALAÇÃO DE TALA PLANA PERFURADA - 50MM","UN",10,6.86,68.599999999999994]
["2.21.1.4.5","FORNECIMENTO E INSTALAÇÃO DESAÍDA LATERAL DE ELETROCALHA P/PERFILADO 38X38MM","UN",5,17.02,85.1]
["2.21.1.4.6","FORNECIMENTO E INSTALAÇÃO DE EMENDA INTERNA TIPO \"I\" P/ PERFILADO METÁLICO 38X38MM - CHAPA 18","UN",5,20.399999999999999,102]
["2.21.1.4.7","FORNECIMENTO E INSTALAÇÃO DE EMENDA INTERNA TIPO \"L\" P/ PERFILADO METÁLICO 38X38MM  - CHAPA 18","UN",1,22.84,22.84]
["2.21.1.4.8","FORNECIMENTO E INSTALAÇÃO DE PERFILADO PERFURADO METÁLICO 38X38MM, COM TAMPA - CHAPA 18","M",20,30.59,611.79999999999995]
["2.21.1.4.9","FORNECIMENTO E INSTALAÇÃO DE SUPORTE CURTO P/ PERFILADO METÁLICO 38X38MM","UN",20,16.25,325]
[null,""]
["2.21.1.5","EXTENSÃO EM MOBILIARIO",null,null,null,{"$f":"SUBTOTAL(9,F512:F515)","v":1104.79}]
["2.21.1.5.1","FORNECIMENTO E INSTALAÇÃO DE MÓDULO P/TOMADA KEYSTONE","UN",47,6.59,{"$f":"ROUND(D512*E512,2)","v":309.73}]
["2.21.1.5.2","FORNECIMENTO E INSTALAÇÃO DE CONECTOR MACHO RJ45 - CAT.6","UN",47,6.95,326.64999999999998]
["2.21.1.5.3","CABO ELETRÔNICO CATEGORIA 6, ATOX LSZH, INSTALADO EM EDIFICAÇÃO INSTITUCIONAL - FORNECIMENTO E INSTALAÇÃO. AF_11/2019","M",164.5,2.58,424.41]
["2.21.1.5.4","FORNECIMENTO E INSTALAÇÃO DE ANEL ORGANIZADOR DE CABOS TIPO ABRAÇADEIRA VELCRO","UN",20,2.2000000000000002,44]
[null,""]
["2.21.1.6","ELETRODUTOS",null,null,null,{"$f":"SUBTOTAL(9,F518:F521)","v":1740.9}]
["2.21.1.6.1","ELETRODUTO FLEXÍVEL CORRUGADO, PVC, DN 32 MM (1\") - FORNECIMENTO E INSTALAÇÃO. ","M",10,8.7200000000000006,{"$f":"ROUND(D518*E518,2)","v":87.2}]
["2.21.1.6.2","ELETRODUTO RÍGIDO ROSCÁVEL, PVC, DN 25 MM (3/4\") - FORNECIMENTO E INSTALAÇÃO. ","M",24,8.61,206.64]
["2.21.1.6.3","FORNECIMENTO E INSTALAÇÃO DE ELETRODUTO METÁLICO FLEXIVEL, COM PROTEÇÃO EM PVC PRETO (SEALTUBO) - 3/4\"","M",2,21.53,43.06]
["2.21.1.6.4","INSTALAÇÃO DE ELETRODUTO FLEXÍVEL CORRUGADO, PVC, DN 25 MM (3/4\") - (MATERIAL FORNECIDO PELO SESI)","UN",360,3.9,1404]
[null,""]
["2.21.1.7","RACK E ACESSÓRIOS",null,null,null,{"$f":"SUBTOTAL(9,F524:F536)","v":17955.650000000001}]
["2.21.1.7.1","FORNECIMENTO E INSTALAÇÃO DE RACK CAIXA PADRÃO 19\" - PORTA ACRÍLICO FUMÊ 12U X 470 MM","UN",1,777.62,777.62]
["2.21.1.7.2","FORNECIMENTO E INSTALAÇÃO DE RACK CAIXA PADRÃO 19\" - PORTA ACRÍLICO FUMÊ 16U X 470 MM","UN",2,1293.03,2586.06]
["2.21.1.7.3","FORNECIMENTO E INSTALAÇÃO DE REGUA PARA 10 TOMADAS 2P+T 20A - 1U","UN",3,150.4,451.2]
["2.21.1.7.4","FORNECIMENTO E INSTALAÇÃO DE KIT DE VENTILAÇÃO COM 2 COOLERS","UN",3,306.91000000000003,920.73]
["2.21.1.7.5","PATCH PANEL 24 PORTAS, CATEGORIA 6 - FORNECIMENTO E INSTALAÇÃO. AF_11/2019","UN",6,698.58,4191.4799999999996]
["2.21.1.7.6","FORNECIMENTO E INSTALAÇÃO DE VOICE PANEL 30 PORTAS RJ45","UN",2,652.1,1304.2]
["2.21.1.7.7","FORNECIMENTO E INSTALAÇÃO DE GUIA DE CABOS FECHADO HORIZONTAL - 1U","UN",14,34.69,485.66]
["2.21.1.7.8","FORNECIMENTO E INSTALAÇÃO DE BANDEJA PARA RACK 19\", FIXA HORIZONTAL 1U.","UN",3,97.67,293.01]
["2.21.1.7.9","FORNECIMENTO E INSTALAÇÃO DE ANEL ORGANIZADOR DE CABOS TIPO ABRAÇADEIRA VELCRO","UN",6,2.2000000000000002,13.2]
["2.21.1.7.10","FORNECIMENTO E INSTALAÇÃO DE ANILHA DE IDENTIFICACAO PARA CABOS DE 0 A 9 (KIT 100 PECAS)","UN",3,69.38,208.14]
["2.21.1.7.11","FORNECIMENTO E INSTALAÇÃO DE FITA ROTULADORA 12MM PRETO SOBRE BRANCO 8M","UN",3,104.85,314.55]
["2.21.1.7.12","FORNECIMENTO E INSTALAÇÃO DE PATCH CORD CERTIFICADO CAT.6 - CONEXÃO RJ45 X RJ45 - COMP. 1,5M - LSZH","UN",129,8.86,1142.94]
["2.21.1.7.13","FORNECIMENTO DE SERVIÇO DE CERTIFICAÇÃO DE CABO DE REDE CAT-6, COM CERTIFICADO DE AFERIÇÃO DO APARELHO","UN",123,42.82,5266.86]
[null,""]
["2.21.1.8","FIBRA ÓPTICA E ACESSÓRIOS",null,null,null,{"$f":"SUBTOTAL(9,F539:F544)","v":8602.3700000000008}]
["2.21.1.8.1","FORNECIMENTO E INSTALAÇÃO DE DISTRIBUIDOR OPTICO INTERNO PARA 12 FO - 1U PARA RACK.","UN",3,518.47,1555.41]
["2.21.1.8.2","FORNECIMENTO E INSTALAÇÃO DE EXTENSÃO PIGTAIL MULTIMODO P/ DIO - CONECTOR SC","UN",36,32.04,1153.44]
["2.21.1.8.3","FORNECIMENTO E INSTALAÇÃO DE CORDÃO ÓPTICO MULTIMODO - 2 FO CONECTOR SC/SC - 2,50 M","UN",4,101.69,406.76]
["2.21.1.8.4","FORNECIMENTO E INSTALAÇÃO DE CONVERSOR DE MÍDIA PARA FIBRA ÓTICA MM E SM 10/100 2FO RJ45","UN",4,281.52,1126.08]
["2.21.1.8.5","FORNECIMENTO DE SERVIÇO DE CERTIFICACAO DE CABEAMENTO DE FIBRA OPTICA","UN",36,34.26,1233.3599999999999]
["2.21.1.8.6","FORNECIMENTO DE SERVIÇO DE FUSÃO FIBRA ÓTICA COM EXTENSÃO PIGTAIL COM CERTIFICAÇÃO DE AFERIÇÃO DO APARELHO","UN",36,86.87,3127.32]
[null,""]
["2.21.2","FACHADA",null,null,null,{"$f":"SUBTOTAL(9,F547:F572)","v":3041.7499999999995}]
["2.21.2.1","ACESSÓRIOS P/ELETRODUTO E USO GERAL",null,null,null,{"$f":"SUBTOTAL(9,F548:F558)","v":1755.2499999999998}]
["2.21.2.1.1","FORNECIMENTO E INSTALAÇÃO DE ABRAÇADEIRA DE AÇO, TIPO D, 3/4\", COM CUNHA","UN",100,6.59,{"$f":"ROUND(D548*E548,2)","v":659}]
["2.21.2.1.2","FORNECIMENTO E INSTALAÇÃO DE BUCHA E ARRUELA ALUMÍNIO FUNDIDO PARA ELETRODUTO (ZAMAK) 3/4\"","UN",22,2.0299999999999998,44.66]
["2.21.2.1.3","FORNECIMENTO E INSTALAÇÃO DE BOX RETO PARA ELETRODUTO 3/4\"","UN",22,5.68,124.96]
["2.21.2.1.4","CONDULETE DE ALUMÍNIO, TIPO X, PARA ELETRODUTO DE AÇO GALVANIZADO DN 20 MM (3/4''), APARENTE - FORNECIMENTO E INSTALAÇÃO. AF_11/2016_P","UN",10,38.119999999999997,381.2]
["2.21.2.1.5","FORNECIMENTO E INSTALAÇÃO DE PLACA CEGA DE ALUMÍNIO  P/ CONDULETE","UN",10,32.700000000000003,327]
["2.21.2.1.6","FORNECIMENTO E INSTALAÇÃO DE SAÍDA LATERAL PERFILADO P/ ELETRODUTO 3/4\"","UN",2,18.510000000000002,37.020000000000003]
["2.21.2.1.7","FORNECIMENTO E INSTALAÇÃO DE ARAME AÇO GALVANIZADO 18 BWG, 1,24MM (0,009 KG/M)","M",111,0.77,85.47]
["2.21.2.1.8","FORNECIMENTO E INSTALAÇÃO DE ARRUELA LISA GALVANIZADA 1/4\"","UN",4,0.59,2.36]
["2.21.2.1.9","FORNECIMENTO E INSTALAÇÃO DE PARAFUSO ZINCADO, AUTOBROCANTE, FLANGEADO, 4,2 MM X 19 MM","CENTO",1,64.38,64.38]
["2.21.2.1.10","FORNECIMENTO E INSTALAÇÃO DE PARAFUSO GALVAN. CABEÇA LOSANGULAR 1/4\"X1\" - AUTO TRAVANTE PERFILADO","UN",4,6.88,27.52]
["2.21.2.1.11","FORNECIMENTO E INSTALAÇÃO DE PORCA SEXTAVADA GALVAN. 1/4\"","UN",4,0.42,1.68]
[null,""]
["2.21.2.2","CABOS",null,null,null,{"$f":"SUBTOTAL(9,F561:F561)","v":412.8}]
["2.21.2.2.1","CABO ELETRÔNICO CATEGORIA 6, ATOX LSZH, INSTALADO EM EDIFICAÇÃO INSTITUCIONAL - FORNECIMENTO E INSTALAÇÃO. AF_11/2019","M",160,2.58,{"$f":"ROUND(D561*E561,2)","v":412.8}]
[null,""]
["2.21.2.3","DISPOSITIVO CABEAMENTO EMBUTIR",null,null,null,{"$f":"SUBTOTAL(9,F564:F564)","v":21.2}]
["2.21.2.3.1","FORNECIMENTO E INSTALAÇÃO DE CONECTOR MACHO RJ45 - CAT.5E","UN",4,5.3,{"$f":"ROUND(D564*E564,2)","v":21.2}]
[null,""]
["2.21.2.4","ELETRODUTOS",null,null,null,{"$f":"SUBTOTAL(9,F567:F568)","v":645.78}]
["2.21.2.4.1","ELETRODUTO RÍGIDO ROSCÁVEL, PVC, DN 25 MM (3/4\") - FORNECIMENTO E INSTALAÇÃO. ","M",60,8.61,{"$f":"ROUND(D567*E567,2)","v":516.6}]
["2.21.2.4.2","FORNECIMENTO E INSTALAÇÃO DE ELETRODUTO METÁLICO FLEXIVEL, COM PROTEÇÃO EM PVC PRETO (SEALTUBO) - 3/4\"","M",6,21.53,129.18]
[null,""]
["2.21.2.5","RACK E ACESSÓRIOS",null,null,null,{"$f":"SUBTOTAL(9,F571:F572)","v":206.72}]
["2.21.2.5.1","FORNECIMENTO E INSTALAÇÃO DE PATCH CORD CERTIFICADO CAT.6 - CONEXÃO RJ45 X RJ45 - COMP. 1,5M - LSZH","UN",4,8.86,{"$f":"ROUND(D571*E571,2)","v":35.44}]
["2.21.2.5.2","FORNECIMENTO DE SERVIÇO DE CERTIFICAÇÃO DE CABO DE REDE CAT-6, COM CERTIFICADO DE AFERIÇÃO DO APARELHO","UN",4,42.82,171.28]
[]
["2.22","CLIMATIZAÇÃO - AR CONDICIONADO",null,null,null,{"$f":"SUBTOTAL(9,F575:F624)","v":114190.11000000002}]
["2.22.1","INSTALAÇÕES HIDRÁULICAS",null,null,null,{"$f":"SUBTOTAL(9,F576:F581)","v":1523.7}]
["2.22.1.1","TUBO, PVC, SOLDÁVEL, DN 32MM, INSTALADO EM DRENO DE AR-CONDICIONADO – FORNECIMENTO E INSTALAÇÃO","M",36,16.309999999999999,{"$f":"ROUND(D576*E576,2)","v":587.16}]
["2.22.1.2","JOELHO 45 GRAUS, PVC, SOLDÁVEL, DN 32MM, INSTALADO EM DRENO DE AR-CONDICIONADO - FORNECIMENTO E INSTALAÇÃO","UND",18,9.36,168.48]
["2.22.1.3","CURVA 90 GRAUS, PVC, SOLDÁVEL, DN 32MM, INSTALADO EM DRENO DE AR-CONDICIONADO - FORNECIMENTO E INSTALAÇÃO","UND",18,12.56,226.08]
["2.22.1.4","TE, PVC, SOLDÁVEL, DN 32MM, INSTALADO EM DRENO DE AR-CONDICIONADO - FORNECIMENTO E INSTALAÇÃO","UND",18,11.97,215.46]
["2.22.1.5","LUVA, PVC, SOLDÁVEL, DN 32MM, INSTALADO EM DRENO DE AR-CONDICIONADO - FORNECIMENTO E INSTALAÇÃO","UND",18,5.32,95.76]
["2.22.1.6","TUBO DE ESPUMA DE POLIETILENO EXPANDIDO FLEXIVEL PARA ISOLAMENTO TERMICO DE TUBULACAO DE AR CONDICIONADO, AGUA QUENTE,  DN 1 1/2\", E= 10 MM","M     ",36,6.41,230.76]
[]
["2.22.2","INSTALAÇÕES DE CLIMATIZAÇÃO",null,null,null,{"$f":"SUBTOTAL(9,F584:F603)","v":62814}]
["2.22.2.1","TUBO DE COBRE FLEXIVEL, D = 1/4 \", E = 0,79 MM, PARA AR-CONDICIONADO/ INSTALACOES GAS RESIDENCIAIS E COMERCIAIS","M     ",4,32.1,{"$f":"ROUND(D584*E584,2)","v":128.4}]
["2.22.2.2","TUBO DE COBRE FLEXIVEL, D = 3/8 \", E = 0,79 MM, PARA AR-CONDICIONADO/ INSTALACOES GAS RESIDENCIAIS E COMERCIAIS","M     ",32,49.37,{"$f":"ROUND(D585*E585,2)","v":1579.84}]
["2.22.2.3","TUBO DE COBRE FLEXIVEL, D = 1/2 \", E = 0,79 MM, PARA AR-CONDICIONADO/ INSTALACOES GAS RESIDENCIAIS E COMERCIAIS","M     ",7,66.98,468.86]
["2.22.2.4","TUBO DE COBRE FLEXIVEL, D = 5/8 \", E = 0,79 MM, PARA AR-CONDICIONADO/ INSTALACOES GAS RESIDENCIAIS E COMERCIAIS","M     ",32,83.3,2665.6]
["2.22.2.5","TUBO EM COBRE FLEXÍVEL, DN (3/4\"x1,00mm), COM ISOLAMENTO, INSTALADO EM RAMAL DE ALIMENTAÇÃO DE AR CONDICIONADO COM CONDENSADORA CENTRAL FORNECIMENTO E INSTALAÇÃO","M",10,195.61,1956.1]
["2.22.2.6","TUBO EM COBRE FLEXÍVEL, DN (1.1/8\" x 1,60mm), COM ISOLAMENTO, INSTALADO EM RAMAL DE ALIMENTAÇÃO DE AR CONDICIONADO COM CONDENSADORA CENTRAL FORNECIMENTO E INSTALAÇÃO","M",3,323.95,971.85]
["2.22.2.7","TUBO EM COBRE FLEXÍVEL, DN (1.3/8\" x 1,60mm), COM ISOLAMENTO, INSTALADO EM RAMAL DE ALIMENTAÇÃO DE AR CONDICIONADO COM CONDENSADORA CENTRAL FORNECIMENTO E INSTALAÇÃO","M",10,389.47,{"$f":"ROUND(D590*E590,2)","v":3894.7}]
["2.22.2.8","REVESTIMENTO DE TUBULAÇÃO FRIGORÍGENA EXTERNA COM FITA PVC BRANCA ","M",38,18.14,689.32]
["2.22.2.9","FORNECIMENTO DE GÁS NITROGÊNIO","M3",25,71.94,1798.5]
["2.22.2.10","FORNECIMENTO DE GÁS REFRIGERANTE R-410A","KG",28,79.16,2216.48]
["2.22.2.11","FORNECIMENTO E INSTALAÇÃO DE DERIVADOR EM \"Y\" ISOLADO TERMICAMENTE PARA REDE FRIGORÍGENA DO SISTEMA VRF - REF. LG ARCNN21","UN",2,1458.82,2917.64]
["2.22.2.12","FORNECIMENTO E INSTALAÇÃO DE GRELHA DE VENTILAÇÃO, 225x125mm - REF. TROX AT-AG","UN",4,213.64,{"$f":"ROUND(D595*E595,2)","v":854.56}]
["2.22.2.13","FORNECIMENTO E INSTALAÇÃO DE GRELHA DE VENTILAÇÃO, 225x165mm - REF. TROX AT-AG","UN",3,225.63,676.89]
["2.22.2.14","FORNECIMENTO E INSTALAÇÃO DE GRELHA DE VENTILAÇÃO, 325x225mm - REF. TROX AT-AG","UN",10,299.29000000000002,2992.9]
["2.22.2.15","FORNECIMENTO E INSTALAÇÃO DE VENEZIANA DE CAPTAÇÃO DE AR, 385x330mm - REF. TROX AWG","UN",10,426.04,4260.3999999999996]
["2.22.2.16","FORNECIMENTO E INSTALAÇÃO DE GRELHA DE EXAUSTÃO, 325x165mm - REF. TROX AR-AG","UN",7,271.88,1903.16]
["2.22.2.17","FORNECIMENTO E INSTALAÇÃO DE DUTO EM CHAPA DE AÇO GALVANIZADO - #26 (4,00 KG/M2), INCLUSIVE ELEMENTOS DE FIXAÇÃO E SUPORTES","M2",104,275.33999999999997,28635.360000000001]
["2.22.2.18","FORNECIMENTO E INSTALAÇÃO DE DUTO FLEXÍVEL CIRCULAR, SEM ISOLAMENTO TÉRMICO, DIÂMETRO DE 04\" COM COLARINHO - REF.: MULTIVAC ALUDEC 60","M",8,92.8,742.4]
["2.22.2.19","FORNECIMENTO E INSTALAÇÃO DE DUTO FLEXÍVEL CIRCULAR, SEM ISOLAMENTO TÉRMICO, DIÂMETRO DE 05\" COM COLARINHO - REF.: MULTIVAC ALUDEC 60","M",18,101.98,1835.64]
["2.22.2.20","FORNECIMENTO E INSTALAÇÃO DE DUTO FLEXÍVEL CIRCULAR,  SEM ISOLAMENTO TÉRMICO, DIÂMETRO DE 08\" COM COLARINHO - REF.: MULTIVAC ALUDEC 60","M",12,135.44999999999999,1625.4]
[]
["2.22.3","INSTALAÇÕES ELÉTRICAS",null,null,null,{"$f":"SUBTOTAL(9,F606:F609)","v":6204.4800000000005}]
["2.22.3.1","ELETRODUTO DE AÇO GALVANIZADO, CLASSE LEVE, DN 20 MM (3/4\u0092\u0092), APARENTE, INSTALADO EM PAREDE - FORNECIMENTO E INSTALAÇÃO. AF_11/2016_P","M",90,28.04,{"$f":"ROUND(D606*E606,2)","v":2523.6}]
["2.22.3.2","FORNECIMENTO E INSTALAÇÃO DE CABO SHIELDADO 3x1,00mm² - 70°C-500V","M",36,12.69,456.84]
["2.22.3.3","FORNECIMENTO E INSTALAÇÃO DE CABO PP FLEXÍVEL 3x1,5mm²","M",110,12.19,1340.9]
["2.22.3.4","VARIADOR DE VELOCIDADE PARA UNIDADE VENTILADORA, INCLUINDO SUPORTE E PLACA - FORNECIMENTO E INSTALAÇÃO","UN",7,269.02,1883.14]
[]
["2.22.4","EQUIPAMENTOS",null,null,null,{"$f":"SUBTOTAL(9,F612:F623)","v":43647.930000000008}]
["2.22.4.1","INSTALAÇÃO DE EQUIPAMENTO DO SISTEMA VRF, UNIDADE EVAPORADORA, CONFIGURAÇÃO DE PAREDE, CAPACIDADE DE 12.300 BTU/H, INCLUIDO CONTROLE REMOTO - REF. LG CRNU12GSJN4","UN",1,614.44000000000005,{"$f":"ROUND(D612*E612,2)","v":614.44000000000005}]
["2.22.4.2","INSTALAÇÃO DE EQUIPAMENTO DO SISTEMA VRF, UNIDADE EVAPORADORA, CONFIGURAÇÃO CASSETE 4 VIAS, CAPACIDADE DE 19.100 BTU/H, INCLUIDO PAINEL EXTERNO E CONTROLE REMOTO - REF. LG CRNU18GTQB4","UN",1,937.66,937.66]
["2.22.4.3","INSTALAÇÃO DE EQUIPAMENTO DO SISTEMA VRF, UNIDADE EVAPORADORA, CONFIGURAÇÃO CASSETE 4 VIAS, CAPACIDADE DE 24.200 BTU/H, INCLUIDO PAINEL EXTERNO E CONTROLE REMOTO - REF. LG CRNU24GTPA4","UN",3,937.66,2812.98]
["2.22.4.4","INSTALAÇÃO DE EQUIPAMENTO DO SISTEMA VRF, UNIDADE EVAPORADORA, CONFIGURAÇÃO CASSETE 4 VIAS, CAPACIDADE DE 36.200 BTU/H, INCLUIDO PAINEL EXTERNO E CONTROLE REMOTO - REF. LG CRNU36GTNA4","UN",2,1134.28,2268.56]
["2.22.4.5","INSTALAÇÃO DE EQUIPAMENTO DO SISTEMA VRF, UNIDADE EVAPORADORA, CONFIGURAÇÃO CASSETE 4 VIAS, CAPACIDADE DE 42.000 BTU/H, INCLUIDO PAINEL EXTERNO E CONTROLE REMOTO - REF. LG CRNU42GTMA4","UN",8,1183.44,9467.52]
["2.22.4.6","INSTALAÇÃO DE EQUIPAMENTO DO SISTEMA VRF, UNIDADE EVAPORADORA, CONFIGURAÇÃO CASSETE 4 VIAS, CAPACIDADE DE 48.100 BTU/H, INCLUIDO PAINEL EXTERNO E CONTROLE REMOTO - REF. LG CRNU48GTMA4","UN",3,1183.44,3550.32]
["2.22.4.7","INSTALAÇÃO DE EQUIPAMENTO DO SISTEMA VRF, UNIDADE CONDENSADORA MODULAR, CONFIGURAÇÃO VERTICAL, CAPACIDADE DE 267.500 BTU/H, INCLUIDO CALÇO AMORTECEDOR - REF. LG CRUN280BTE5 - MÓDULOS CRUN140BTE5 E CRUN140BTE5","UN",1,4612.24,4612.24]
["2.22.4.8","INSTALAÇÃO DE EQUIPAMENTO DO SISTEMA VRF, UNIDADE CONDENSADORA MODULAR, CONFIGURAÇÃO VERTICAL, CAPACIDADE DE 305.700 BTU/H, INCLUIDO CALÇO AMORTECEDOR - REF. LG CRUN320BTE5 - MÓDULOS CRUN160BTE5 E CRUN160BTE5","UN",1,5195.96,5195.96]
["2.22.4.9","INSTALAÇÃO DE VENTILADOR TIPO \"IN LINE\", VAZÃO MÁXIMA DE 453 M3/H, PRESSÃO ESTÁTICA DE 30mmca  E FILTRO G4 - REF. SICFLUX ACI 150","UN",2,1636.85,3273.7]
["2.22.4.10","INSTALAÇÃO DE VENTILADOR TIPO \"IN LINE\", VAZÃO MÁXIMA DE 905 M3/H, PRESSÃO ESTÁTICA DE 43mmca  E FILTRO G4 - REF. SICFLUX ACI 250","UN",5,1762.52,8812.6]
["2.22.4.11","INSTALAÇÃO DE VENTILADOR TIPO \"IN LINE\", VAZÃO MÁXIMA DE 390 M3/H, PRESSÃO ESTÁTICA DE 35mmca - REF. SICFLUX ACI 125","UN",2,700.65,1401.3]
["2.22.4.12","INSTALAÇÃO DE VENTILADOR TIPO \"IN LINE\", VAZÃO MÁXIMA DE 560 M3/H, PRESSÃO ESTÁTICA DE 56mmca - REF. SICFLUX ACI 150","UN",1,700.65,700.65]
[]
["2.23","INFRAESTRUTURA PARA INSTALAÇÃO DE AUDIO E VÍDEO",null,null,null,{"$f":"SUBTOTAL(9,F626:F665)","v":30244.21}]
["2.23.1","ACESSÓRIOS P/ELETRODUTO E USO GERAL",null,null,null,{"$f":"SUBTOTAL(9,F627:F644)","v":1835.65}]
["2.23.1.1","FORNECIMENTO E INSTALAÇÃO DE ABRAÇADEIRA DE AÇO, TIPO D, 3/4\", COM CUNHA","UN",30,6.59,{"$f":"ROUND(D627*E627,2)","v":197.7}]
["2.23.1.2","FORNECIMENTO E INSTALAÇÃO DE ABRAÇADEIRA DE AÇO, TIPO D, 1\", COM CUNHA","UN",6,6.75,40.5]
["2.23.1.3","FORNECIMENTO E INSTALAÇÃO DE BUCHA E ARRUELA ALUMÍNIO FUNDIDO PARA ELETRODUTO (ZAMAK) 3/4\"","UN",15,2.0299999999999998,30.45]
["2.23.1.4","FORNECIMENTO E INSTALAÇÃO DE BUCHA E ARRUELA ALUMÍNIO FUNDIDO PARA ELETRODUTO (ZAMAK) 1\"","UN",3,2.41,7.23]
["2.23.1.5","FORNECIMENTO E INSTALAÇÃO DE BOX RETO PARA ELETRODUTO 3/4\"","UN",1,5.68,5.68]
["2.23.1.6","FORNECIMENTO E INSTALAÇÃO DE BOX RETO PARA ELETRODUTO 1\"","UN",1,8.0399999999999991,8.0399999999999991]
["2.23.1.7","FORNECIMENTO E INSTALAÇÃO DE CONECTOR RETO DE ALUMÍNIO P/ ELETRODUTO 3/4\"","UN",15,3.38,50.7]
["2.23.1.8","FORNECIMENTO E INSTALAÇÃO DE CONECTOR RETO DE ALUMÍNIO P/ ELETRODUTO 1\"","UN",1,4.93,4.93]
["2.23.1.9","CONDULETE DE ALUMÍNIO, TIPO X, PARA ELETRODUTO DE AÇO GALVANIZADO DN 20 MM (3/4''), APARENTE - FORNECIMENTO E INSTALAÇÃO. AF_11/2016_P","UN",8,38.119999999999997,304.95999999999998]
["2.23.1.10","CONDULETE DE ALUMÍNIO, TIPO X, PARA ELETRODUTO DE AÇO GALVANIZADO DN 25 MM (1''), APARENTE - FORNECIMENTO E INSTALAÇÃO. AF_11/2016_P","UN",1,42.58,42.58]
["2.23.1.11","CAIXA RETANGULAR 4\" X 2\" PVC - FORNECIMENTO E INSTALAÇÃO. ","UN",3,8.9600000000000009,26.88]
["2.23.1.12","FORNECIMENTO E INSTALAÇÃO DE PLACA CEGA DE ALUMÍNIO  P/ CONDULETE","UN",1,32.700000000000003,32.700000000000003]
["2.23.1.13","FORNECIMENTO E INSTALAÇÃO DE ARRUELA LISA GALVANIZADA 1/4\"","UN",60,0.59,35.4]
["2.23.1.14","FORNECIMENTO E INSTALAÇÃO DE BUCHA / PARAFUSO S8","UN",20,4.4400000000000004,88.8]
["2.23.1.15","FORNECIMENTO E INSTALAÇÃO DE CHUMBADOR PARABOLT AÇO 1/4\" X 3\"","UN",36,13.59,489.24]
["2.23.1.16","FORNECIMENTO E INSTALAÇÃO DE PORCA SEXTAVADA GALVAN. 1/4\"","UN",60,0.42,25.2]
["2.23.1.17","FORNECIMENTO E INSTALAÇÃO DE VERGALHÃO GALVANIZADO ROSCA TOTAL 1/4\"","M",20,17.8,356]
["2.23.1.18","SUPORTE MÃO FRANCESA EM AÇO, ABAS IGUAIS 30 CM, CAPACIDADE MINIMA 60 KG, BRANCO - FORNECIMENTO E INSTALAÇÃO. AF_01/2020","UN",2,44.33,88.66]
[null,""]
["2.23.2","CABOS",null,null,null,{"$f":"SUBTOTAL(9,F647:F650)","v":2456.9300000000003}]
["2.23.2.1","FORNECIMENTO E INSTALAÇÃO DE CABO POLARIZADO, PARA SONORIZAÇÃO 2X1,5MM² - BICOLOR","M",156,5.98,{"$f":"ROUND(D647*E647,2)","v":932.88}]
["2.23.2.2","FORNECIMENTO E INSTALÇÃO DE CABO HDMI 4K ULTRA HD BLINDADO COM FILTRO 1,5M","UN",5,68.599999999999994,343]
["2.23.2.3","FORNECIMENTO E INSTALÇÃO DE CABO HDMI 4K ULTRA HD BLINDADO COM FILTRO 15M","UN",5,224,1120]
["2.23.2.4","FORNECIMENTO E INSTALAÇÃO DE CABO DE ÁUDIO BALANCEADO CONECTORES: P2 MACHO X P2 MACHO - 2 METROS","UN",5,12.21,61.05]
[null,""]
["2.23.3","DISPOSITIVO MULTIMIDIA",null,null,null,{"$f":"SUBTOTAL(9,F653:F655)","v":2691.5}]
["2.23.3.1","FORNECIMENTO E INSTALAÇÃO DE RACK METÁLICO 2U, COM TAMPA E CHAVE","UN",5,336.95,{"$f":"ROUND(D653*E653,2)","v":1684.75}]
["2.23.3.2","FORNECIMENTO E INSTALAÇÃO DE SUPORTE UNIVERSAL PARA PROJETOR - PROLONGADOR","UN",5,153.18,765.9]
["2.23.3.3","FORNECIMENTO E INSTALAÇÃO DE CONECTOR KEYSTONE HDMI FÊMEA X FÊMEA, EM MÓDULO PVC BRANCO","UN",5,48.17,240.85]
[null,""]
["2.23.4","ELETRODUTOS",null,null,null,{"$f":"SUBTOTAL(9,F658:F660)","v":298.52}]
["2.23.4.1","ELETRODUTO FLEXÍVEL CORRUGADO, PVC, DN 25 MM (3/4\") - FORNECIMENTO E INSTALAÇÃO. ","M",5,6.19,{"$f":"ROUND(D658*E658,2)","v":30.95}]
["2.23.4.2","ELETRODUTO FLEXÍVEL CORRUGADO, PVC, DN 32 MM (1\") - FORNECIMENTO E INSTALAÇÃO. ","M",6,8.7200000000000006,{"$f":"ROUND(D659*E659,2)","v":52.32}]
["2.23.4.3","ELETRODUTO RÍGIDO ROSCÁVEL, PVC, DN 25 MM (3/4\") - FORNECIMENTO E INSTALAÇÃO. ","M",25,8.61,{"$f":"ROUND(D660*E660,2)","v":215.25}]
[null,""]
["2.23.5","EQUIPAMENTOS E ACESSÓRIOS",null,null,null,{"$f":"SUBTOTAL(9,F663:F665)","v":22961.61}]
["2.23.5.1","FORNECIMENTO E INSTALAÇÃO DE MODULO AMPLIFICADOR COM POTÊNCIA DE 30 WRMS, COM ENTRADA DE MICROFONE E AUXILIAR COM CONTROLES DE VOLUMES INDEPENDENTES, CONTROLE DE GRAVE E AGUDO (REF.: SLIM 1000 OU SIMILAR)","UN",1,921.43,{"$f":"ROUND(D663*E663,2)","v":921.43}]
["2.23.5.2","FORNECIMENTO E INSTALAÇÃO DE MODULO AMPLIFICADOR COM POTÊNCIA DE 200 WRMS, COM ENTRADA DE MICROFONE E AUXILIAR COM CONTROLES DE VOLUMES INDEPENDENTES, CONTROLE DE GRAVE E AGUDO (REF.: SLIM 3000 OU SIMILAR)","UN",4,1618.94,{"$f":"ROUND(D664*E664,2)","v":6475.76}]
["2.23.5.3","FORNECIMENTO E INSTALAÇÃO DE SONOFLETOR CIRCULAR 6\" DE EMBUTIR EM FORRO, COM TELA, COR BRANCA, SENSIBILIDADE MÍNIMA DE 89DB, POTÊNCIA DE 30W OU SUPERIOR, RESP. FREQUENCIA 50HZ A 20KHZ (JBL SELENIUM 6CO2R OU SIMILAR)","UN",38,409.59,{"$f":"ROUND(D665*E665,2)","v":15564.42}]
[]
["2.24","INSTALAÇÕES HIDRAULICAS ",null,null,null,{"$f":"SUBTOTAL(9,F668:F668)","v":0}]
[]
["2.25","ÁGUAS PLUVIAIS DE COBERTURA",null,null,null,{"$f":"SUBTOTAL(9,F670:F689)","v":45132.23}]
["2.25.1","CALHA EM CHAPA DE AÇO GALVANIZADO NÚMERO 24, DESENVOLVIMENTO DE 33 CM, INCLUSO TRANSPORTE VERTICAL - ACESSO BLOCO A ao B","M",45.68,70.87,{"$f":"ROUND(D670*E670,2)","v":3237.34}]
["2.25.2","RUFO C/ PINGADEIRA - CHAPA EM AÇO GALVANIZADO 0,50MM, CORTE 80 CM PARA FECHAMENTO INTERNO E TOPO DE PLATIBANDA, incluso acessórios para fixação e vedação - ACESSO BLOCO A ao B.","M",19.18,113.19,{"$f":"ROUND(D671*E671,2)","v":2170.98}]
["2.25.3","REDUÇÃO EXCÊNTRICA, PVC, SERIE R, ÁGUA PLUVIAL, DN 150 X 100 MM, JUNTA ELÁSTICA, FORNECIDO E INSTALADO EM CONDUTORES VERTICAIS DE ÁGUAS PLUVIAIS. AF_12/2014","UN",13,91.29,1186.77]
["2.25.4","CURVA 87 GRAUS E 30 MINUTOS, PVC, SERIE R, ÁGUA PLUVIAL, DN 150 MM, JUNTA ELÁSTICA, FORNECIDO E INSTALADO EM CONDUTORES VERTICAIS DE ÁGUAS PLUVIAIS. AF_12/2014","UN",13,202.27,2629.51]
["2.25.5","CURVAR 45 GRAUS, PVC, SERIE R, ÁGUA PLUVIAL, DN 100 MM, JUNTA ELÁSTICA, FORNECIDO E INSTALADO EM RAMAL DE ENCAMINHAMENTO. AF_12/2014","UN",6,42.54,255.24]
["2.25.6","CURVA LONGA PVC, PB, JE, 45 GRAUS, DN 150 MM, PARA REDE COLETORA ESGOTO (NBR 10569)","UN    ",4,242.37,969.48]
["2.25.7","JOELHO 45 GRAUS, PVC, SERIE R, ÁGUA PLUVIAL, DN 100 MM, JUNTA ELÁSTICA, FORNECIDO E INSTALADO EM RAMAL DE ENCAMINHAMENTO. AF_12/2014","UN",3,40.049999999999997,{"$f":"ROUND(D676*E676,2)","v":120.15}]
["2.25.8","JOELHO 45 GRAUS, PVC, SERIE R, ÁGUA PLUVIAL, DN 150 MM, JUNTA ELÁSTICA, FORNECIDO E INSTALADO EM CONDUTORES VERTICAIS DE ÁGUAS PLUVIAIS. AF_12/2014","UN",2,127.32,254.64]
["2.25.9","JOELHO 90 GRAUS, PVC, SERIE R, ÁGUA PLUVIAL, DN 100 MM, JUNTA ELÁSTICA, FORNECIDO E INSTALADO EM RAMAL DE ENCAMINHAMENTO. AF_12/2014","UN",12,49.03,588.36]
["2.25.10","JOELHO 90 GRAUS, PVC, SERIE R, ÁGUA PLUVIAL, DN 150 MM, JUNTA ELÁSTICA, FORNECIDO E INSTALADO EM CONDUTORES VERTICAIS DE ÁGUAS PLUVIAIS. AF_12/2014","UN",4,153.1,612.4]
["2.25.11","JUNÇÃO SIMPLES, PVC, SERIE R, ÁGUA PLUVIAL, DN 100 X 100 MM, JUNTA ELÁSTICA, FORNECIDO E INSTALADO EM RAMAL DE ENCAMINHAMENTO. AF_12/2014","UN",2,89.98,179.96]
["2.25.12","JUNÇÃO SIMPLES, PVC, SERIE R, ÁGUA PLUVIAL, DN 150 X 150 MM, JUNTA ELÁSTICA, FORNECIDO E INSTALADO EM CONDUTORES VERTICAIS DE ÁGUAS PLUVIAIS. AF_12/2014","UN",4,266.33999999999997,1065.3599999999999]
["2.25.13","JUNÇÃO SIMPLES, PVC, SERIE R, ÁGUA PLUVIAL, DN 150 X 100 MM, JUNTA ELÁSTICA, FORNECIDO E INSTALADO EM CONDUTORES VERTICAIS DE ÁGUAS PLUVIAIS. AF_12/2014","UN",1,222.88,222.88]
["2.25.14","LUVA SIMPLES, PVC, SERIE R, ÁGUA PLUVIAL, DN 100 MM, JUNTA ELÁSTICA, FORNECIDO E INSTALADO EM RAMAL DE ENCAMINHAMENTO. AF_12/2014","UN",20,28.59,571.79999999999995]
["2.25.15","LUVA SIMPLES, PVC, SERIE R, ÁGUA PLUVIAL, DN 150 MM, JUNTA ELÁSTICA, FORNECIDO E INSTALADO EM CONDUTORES VERTICAIS DE ÁGUAS PLUVIAIS. AF_12/2014","UN",26,83.34,2166.84]
["2.25.16","TUBO DE PVC PARA REDE DE ÁGUAS PLUVIAIS DE PAREDE MACIÇA, DN 200 MM, JUNTA ELÁSTICA - FORNECIMENTO E ASSENTAMENTO. AF_01/2021","M",48,157.87,7577.76]
["2.25.17","TUBO PVC, SÉRIE R, ÁGUA PLUVIAL, DN 100 MM, FORNECIDO E INSTALADO EM RAMAL DE ENCAMINHAMENTO. AF_12/2014","M",32,71.709999999999994,2294.7199999999998]
["2.25.18","TUBO PVC, SÉRIE R, ÁGUA PLUVIAL, DN 150 MM, FORNECIDO E INSTALADO EM CONDUTORES VERTICAIS DE ÁGUAS PLUVIAIS. AF_12/2014","M",60,94.31,{"$f":"ROUND(D687*E687,2)","v":5658.6}]
["2.25.19","IMPERMEABILIZAÇÃO DE SUPERFÍCIE COM EMULSÃO ASFÁLTICA, 2 DEMÃOS - NAS CALHAS DE CONCRETO EXISTENTE","M2",189,58.1,10980.9]
["2.25.20","TUBO DRENO, CORRUGADO, ESPIRALADO, FLEXIVEL, PERFURADO, EM POLIETILENO DE ALTA DENSIDADE (PEAD), DN 100 MM, (4\") PARA DRENAGEM ","M",66,36.19,2388.54]
[]
["2.26","INSTALAÇÕES SANITÁRIAS",null,null,null,{"$f":"SUBTOTAL(9,F692:F692)","v":0}]
[]
["2.27","LOUÇAS E METÁIS",null,null,null,{"$f":"SUBTOTAL(9,F694:F718)","v":34578.100000000006}]
["2.27.1","CABIDEIRO 20160 EVIDENCE CROMADO (MARCA DECA, DOCOL OU SIMILAR)- FORNECIMENTO E INSTALAÇÃO","UN",13,33.299999999999997,{"$f":"ROUND(D694*E694,2)","v":432.9}]
["2.27.2","CUBA DE EMBUTIR OVAL EM LOUÇA BRANCA, 35 X 50CM OU EQUIVALENTE - FORNECIMENTO E INSTALAÇÃO. AF_01/2020","UN",13,176.04,{"$f":"ROUND(D695*E695,2)","v":2288.52}]
["2.27.3","LAVATÓRIO MASTER DE CANTO COR BRANCO GELO, COD 76, (MARCA DECA OU SIMILAR), INCLUSO SIFÃO TIPO COPO, PARA LAVATÓRIO 1680, CROMADO, 1\" - 1.1/2\", VALVULA DE METAL CROMADO 1\", PARA LAVATÓRIO, SEM LADRÃO. - FORNECIMENTO E INSTALAÇÃO","UN",2,1564.49,{"$f":"ROUND(D696*E696,2)","v":3128.98}]
["2.27.4","VÁLVULA EM METAL CROMADO 1.1/2\u0094 X 1.1/2\u0094 PARA TANQUE OU LAVATÓRIO, COM OU SEM LADRÃO - FORNECIMENTO E INSTALAÇÃO. AF_01/2020","UN",15,34.36,{"$f":"ROUND(D697*E697,2)","v":515.4}]
["2.27.5","ENGATE FLEXÍVEL EM PLÁSTICO BRANCO, 1/2\u0094 X 40CM - FORNECIMENTO E INSTALAÇÃO. AF_01/2020","UN",15,12.97,{"$f":"ROUND(D698*E698,2)","v":194.55}]
["2.27.6","SIFÃO DO TIPO GARRAFA EM METAL CROMADO 1 X 1.1/2\u0094 - FORNECIMENTO E INSTALAÇÃO. AF_01/2020","UN",15,191.93,{"$f":"ROUND(D699*E699,2)","v":2878.95}]
["2.27.7","TORNEIRA DE MESA PRESMATIC ECO CROMADA COD 1173, MARCA DECA, DOCOL OU SIMILAR, FORNECIMENTO E INSTALAÇÃO.","UN",13,215.45,2800.85]
["2.27.8","TORNEIRA DE MESA PRESMATIC ECO CROMADA COD 1173 CONFORTO (COM ALAVANCA PARA PCD), MARCA DECA, DOCOL OU SIMILAR, FORNECIMENTO E INSTALAÇÃO.","UN",2,865.81,{"$f":"ROUND(D701*E701,2)","v":1731.62}]
["2.27.9","VASO SANITARIO SIFONADO CONVENCIONAL COM LOUÇA BRANCA, INCLUSO CONJUNTO DE LIGAÇÃO PARA BACIA SANITÁRIA AJUSTÁVEL - FORNECIMENTO E INSTALAÇÃO. AF_10/2016","UN",9,269.99,2429.91]
["2.27.10","VASO SANITARIO SIFONADO CONVENCIONAL PARA PCD SEM FURO FRONTAL COM LOUÇA BRANCA SEM ASSENTO, INCLUSO CONJUNTO DE LIGAÇÃO PARA BACIA SANITÁRIA AJUSTÁVEL - FORNECIMENTO E INSTALAÇÃO. AF_01/2020","UN",2,1069.02,2138.04]
["2.27.11","VASO SANITÁRIO INFANTIL LOUÇA BRANCA - FORNECIMENTO E INSTALACAO. AF_01/2020","UN",2,505.75,{"$f":"ROUND(D704*E704,2)","v":1011.5}]
["2.27.12","ACABAMENTO METALICO CROMADO REF. DOCOL OU SIMILAR- FORNECIMENTO E INSTALAÇÃO - FORNECIMENTO E INSTALAÇÃO","UN",11,112.6,{"$f":"ROUND(D705*E705,2)","v":1238.5999999999999}]
["2.27.13","ACABAMENTO PARA VÁLVULA BENEFIT CROMADO (ALAVANCA PARA PCD)- DOCOL OU SIMILAR","UN",2,809.75,{"$f":"ROUND(D706*E706,2)","v":1619.5}]
["2.27.14","ASSENTO SANITÁRIO CONVENCIONAL - FORNECIMENTO E INSTALACAO. AF_01/2020","UN",13,48.02,624.26]
["2.27.15","DUCHA HIGIÊNICA CROMADO REF:  LINK DECA 1984.C.ACT.LNK.CRL, MARCA DECA, DOCOL OU SIMILAR, FORNECIMENTO E INSTALAÇÃO.","UN",7,411.23,{"$f":"ROUND(D708*E708,2)","v":2878.61}]
["2.27.16","TANQUE DE LOUÇA BRANCA COM COLUNA, 30L OU EQUIVALENTE - FORNECIMENTO E INSTALAÇÃO. AF_01/2020","UN",2,992.66,1985.32]
["2.27.17","TORNEIRA CROMADA TUBO MÓVEL, DE PAREDE, 1/2\u0094 OU 3/4\u0094, PARA PIA DE COZINHA, PADRÃO MÉDIO - FORNECIMENTO E INSTALAÇÃO. AF_01/2020","UN",2,126.12,{"$f":"ROUND(D710*E710,2)","v":252.24}]
["2.27.18","MICTÓRIO DE LOUÇA BRANCA C/ SIFÃO INTEGRADO - CÓD M.715 - DECA OU SIMILAR - FORNECIMENTO E INSTALAÇÃO (REF. 74234/001)","UN",3,606.83000000000004,1820.49]
["2.27.19","VÁLVULA DE DESCARGA CROMADO PARA MICTÓRIO 1/2\" HORIZONTAL DE FECHAMENTO AUTOMÁTICO DECAMATIC ECO - CÓD 2572.C - DECA OU SIMILAR - FORNECIMENTO E INSTALAÇÃO","UN",3,177.08,{"$f":"ROUND(D712*E712,2)","v":531.24}]
["2.27.20","CHUVEIRO ELÉTRICO COMUM CORPO PLÁSTICO, TIPO DUCHA \u0096 FORNECIMENTO E INSTALAÇÃO. AF_01/2020","UN",2,99.3,{"$f":"ROUND(D713*E713,2)","v":198.6}]
["2.27.21","BARRA DE APOIO INOX RETA 400mm PARA PORTA DOS BANHEIROS PCD E/OU ACESSÓRIO PARA BANHEIRO PNE  (NORMA 9050/2015). - DESCRIÇÃO DO MATERIAL: • AÇO INOX 304 POLIDO., • DIÂMETRO DE 1” ½ , • ESPESSURA DE 1,2 MILÍMETROS, • SUPORTE COM TRÊS PONTOS DE FIXAÇÃO, • CANOPLA DE ACABAMENTO COM Ø DE 85MM, • BUCHA NYLON S10, • PARAFUSO SEXTAVADO S10 - FORNECIMENTO E INSTALAÇÃO","UN",6,251.8,1510.8]
["2.27.22","BARRA DE APOIO RETA, EM ACO INOX POLIDO, COMPRIMENTO 70 CM,  FIXADA NA PAREDE - FORNECIMENTO E INSTALAÇÃO. AF_01/2020","UN",2,377.71,755.42]
["2.27.23","BARRA DE APOIO RETA, EM ACO INOX POLIDO, COMPRIMENTO 80 CM,  FIXADA NA PAREDE - FORNECIMENTO E INSTALAÇÃO. AF_01/2020","UN",2,395.95,{"$f":"ROUND(D716*E716,2)","v":791.9}]
["2.27.24","BARRA DE APOIO RETA, EM ACO INOX POLIDO, COMPRIMENTO 90 CM,  FIXADA NA PAREDE - FORNECIMENTO E INSTALAÇÃO. AF_01/2020","UN",2,409.95,819.9]
[]
["2.28","SISTEMA DE TRATAMENTO DE ESGOTO",null,null,null,{"$f":"SUBTOTAL(9,F720)","v":0}]
[]
["2.29","LIMPEZA CONTÍNUA DA OBRA",null,null,null,{"$f":"SUBTOTAL(9,F722)","v":0}]
[]
["2.30","LIMPEZA FINAL PARA ENTREGA",null,null,null,{"$f":"SUBTOTAL(9,F724)","v":2752.29}]
["2.30.1","LIMPEZA FINAL PARA ENTREGA","M2",902.39,3.05,{"$f":"ROUND(D724*E724,2)","v":2752.29}]
[]
["VALOR TOTAL",null,null,null,null,{"$f":"SUBTOTAL(9,F14:F725)","v":2225411.0099999993}]

{"sheet":"3_BLOCO B","index":4,"n_rows":695,"n_cols":6,"rows_kept":695,"cut":false,"hidden":true,"merged":[[10,0,10,5],[0,0,3,2],[0,3,1,5],[2,3,3,3],[2,4,3,4],[2,5,3,5],[4,0,4,5],[5,0,5,5],[6,0,6,5],[7,0,7,5],[8,0,8,5],[9,0,9,5]]}
["                                 PLANILHA ORÇAMENTARIA   ",null,null,"SPN-FF-003"]
[]
[null,null,null,"Folha:              1 de 1","Revisão:      \n02","Data: \n07/10/19"]
[]
["SESI - SERVIÇO SOCIAL DA INDUSTRIA - DR/MT"]
["OBRA: CONTRATAÇÃO DE EMPRESA ESPECIALIZADA PARA CONTINUIDADE DA EXECUÇÃO DA OBRA DE REFORMA E AMPLIAÇÃO DA UNIDADE DO SESI ESCOLA VÁRZEA GRANDE/MT."]
["UNIDADE OPERACIONAL: SESI ESCOLA VÁRZEA GRANDE"]
["ENDEREÇO: AV. DOM ORLANDO CHAVES, N.º 1.086, PONTE NOVA - CRISTO REI         CIDADE: VÁRZEA GRANDE/MT"]
["CONSTRUTORA:"]
["RESPONSÁVEL TÉCNICO:"]
["BASE SINAPI UTILIZADA: 06/2021"]
["ITEM","DESCRIÇÃO","UNID.","QUANT.","Valor UNIT. (R$)","Valor Total (R$)"]
[]
[3,"BLOCO B"]
[]
["3.0","DEMOLIÇÕES E RETIRADAS",null,null,null,{"$f":"SUBTOTAL(9,F17:F37)","v":103301.45999999999}]
["3.0.1","DEMOLIÇÃO",null,null,null,{"$f":"SUBTOTAL(9,F18:F37)","v":103301.45999999999}]
["3.0.1.1","DEMOLIÇÃO DE ALVENARIA DE BLOCO FURADO, DE FORMA MANUAL, SEM REAPROVEITAMENTO. AF_12/2017","M3",35.71,49.97,{"$f":"ROUND(D18*E18,2)","v":1784.43}]
["3.0.1.2","REMOÇÃO DE PINTURA LÁTEX OU TEXTURA (RASPAGEM E/OU LIXAMENTO E/OU ESCOVAÇÃO","M2",511.17,7.66,3915.56]
["3.0.1.3","REMOÇÃO DE LOUÇAS, DE FORMA MANUAL, SEM REAPROVEITAMENTO, ARMAZENAMENTO EM LOCAL INDICADO PELA FISCALIZAÇÃO","UN",35,10.86,{"$f":"ROUND(D20*E20,2)","v":380.1}]
["3.0.1.4","REMOÇÃO DE PORTAS, DE FORMA MANUAL, SEM REAPROVEITAMENTO, ARMAZENAMENTO EM LOCAL INDICADO PELA FISCALIZAÇÃO","M2",28.560000000000002,8.14,232.48]
["3.0.1.5","REMOÇÃO DE JANELAS, DE FORMA MANUAL, SEM REAPROVEITAMENTO, ARMAZENAMENTO EM LOCAL INDICADO PELA FISCALIZAÇÃO","M2",42,30.15,1266.3]
["3.0.1.6","REMOÇÃO DE GRADIL METÁLICO, DE FORMA MANUAL, SEM REAPROVEITAMENTO, ARMAZENAMENTO EM LOCAL INDICADO PELA FISCALIZAÇÃO","M2",160.941,8.14,1310.06]
["3.0.1.7","DEMOLIÇÃO DE REVESTIMENTO CERÂMICO, DE FORMA MECANIZADA COM MARTELETE, SEM REAPROVEITAMENTO. AF_12/2017","M2",159.63,10.45,{"$f":"ROUND(D24*E24,2)","v":1668.13}]
["3.0.1.8","DEMOLIÇÃO DE PISO REVESTIDO COM GRANILITE E CONTRAPISO EM CONCRETO, DE FORMA MECANIZADA COM MARTELETE, SEM REAPROVEITAMENTO.","M2",1041.29,34.07,35476.75]
["3.0.1.9","DEMOLIÇÃO DE PAVIMENTO INTERTRAVADO, DE FORMA MANUAL, COM REAPROVEITAMENTO. AF_12/2017","M2",219.25,14,{"$f":"ROUND(D26*E26,2)","v":3069.5}]
["3.0.1.10","DEMOLIÇÃO DE PILARES E VIGAS EM CONCRETO ARMADO, DE FORMA MECANIZADA COM MARTELETE, SEM REAPROVEITAMENTO. AF_12/2017","M3",11.2,243.62,{"$f":"ROUND(D27*E27,2)","v":2728.54}]
["3.0.1.11","DEMOLIÇÃO DE LAJES, DE FORMA MECANIZADA COM MARTELETE, SEM REAPROVEITAMENTO. AF_12/2017","M3",16.96,106.24,1801.83]
["3.0.1.12","REMOÇÃO DE TRAMA DE MADEIRA PARA COBERTURA, DE FORMA MANUAL, SEM REAPROVEITAMENTO. AF_12/2017","M2",988.15,6.73,{"$f":"ROUND(D29*E29,2)","v":6650.25}]
["3.0.1.13","REMOÇÃO DE TESOURAS DE MADEIRA, COM VÃO MENOR QUE 8M, DE FORMA MANUAL, SEM REAPROVEITAMENTO. AF_12/2017","UN",16,74.510000000000005,1192.1600000000001]
["3.0.1.14","REMOÇÃO DE TELHAS, DE FIBROCIMENTO, METÁLICA E CERÂMICA, DE FORMA MANUAL, SEM REAPROVEITAMENTO. AF_12/2017","M2",988.15,3.12,3083.03]
["3.0.1.15","RETIRADA GUARDA-CORPO E CORRIMÃO SEM REAPROVEITAMENTO","M",36.22,8.67,314.02999999999997]
["3.0.1.16","LIMPEZA DE CONTRAPISO COM VASSOURA A SECO - LIMPEZA DA LAJE DA COBERTURA","M2",988.15,3.16,3122.55]
["3.0.1.17","DEMOLIÇÃO DE PISO, SOLEIRAS, BANCADAS EM REVESTIDO DE GRANITO","M2",39.33,20.84,{"$f":"ROUND(D34*E34,2)","v":819.64}]
["3.0.1.18","RETIRADA DE CIRCUITOS ELÉTRICOS EM GERAL, INCLUSO: TOMADAS ELÉTRICAS,  LÓGICAS E TELEFONE, CABEAMENTOS, ELETRODUTOS, ETC, INCLUSO TRANSPORTE E DEPOSITO EM LOCAL A SER INDICADO PELA FISCALIZAÇÃO","M2",988.15,6.86,{"$f":"ROUND(D35*E35,2)","v":6778.71}]
["3.0.1.19","SERVIÇOS DE RETIRADA DE APARELHOS DE AR CONDICIONADO, INCLUSO RECOLHIMENTO DO GÁS, INCLUSO TRANSPORTE E DEPOSITO EM LOCAL A SER INDICADO PELA FISCALIZAÇÃO","UN",27,161.6,{"$f":"ROUND(D36*E36,2)","v":4363.2}]
["3.0.1.20","BOTA FORA DE MATERIAL DESCARTADO, D.M.T. = 10 km - (CARGA, TRANSPORTE E DESCARGA MECÂNICA)","M3",397.89,58.67,{"$f":"ROUND(D37*E37,2)","v":23344.21}]
[]
["3.1","INSTALAÇÕES DE CANTEIRO (ACESSO PROVISÓRIO AO BLOCO B PARA DEMOLIÇÃO DO LOCAL ONDE SERÁ SALA DOS PROFESSORES)",null,null,null,{"$f":"SUBTOTAL(9,F40:F46)","v":6832.21}]
["3.1.1","DEMOLIÇÃO DE ALVENARIA DE BLOCO FURADO, DE FORMA MANUAL, SEM REAPROVEITAMENTO. AF_12/2017","M3",4.2,49.97,{"$f":"ROUND(D40*E40,2)","v":209.87}]
["3.1.2","RETIRADA DE JANELA DE VIDRO TEMPERADO DE FORMA CUIADADOSA PARA POSTERIOR REAPROVEITAMENTO","M2",3,15.45,46.35]
["3.1.3","INSTALAÇÃO DE PORTA DE VIDRO TEMPERADO DE FORMA CUIADADOSA PARA POSTERIOR REAPROVEITAMENTO","M2",4.2,15.45,{"$f":"ROUND(D42*E42,2)","v":64.89}]
["3.1.4","PORTA DE FERRO, DE ABRIR, TIPO GRADE COM CHAPA, COM GUARNIÇÕES. AF_12/2019","M2",7.5,684.33,5132.4799999999996]
["3.1.5","CONCRETAGEM DE RADIER, PISO OU LAJE SOBRE SOLO, FCK 30 MPA, PARA ESPESSURA DE 10 CM - LANÇAMENTO, ADENSAMENTO E ACABAMENTO. AF_09/2017","M3",1.7999999999999998,704.1,1267.3800000000001]
["3.1.6","RETIRADA DE PORTA DE VIDRO TEMPERADO DE FORMA CUIADADOSA PARA POSTERIOR REAPROVEITAMENTO","M2",4.2,15.45,{"$f":"ROUND(D45*E45,2)","v":64.89}]
["3.1.7","INSTALAÇÃO DE JANELA DE VIDRO TEMPERADO DE FORMA CUIADADOSA PARA POSTERIOR REAPROVEITAMENTO","M2",3,15.45,46.35]
[]
["3.2","ADMINISTRAÇÃO",null,null,null,{"$f":"SUBTOTAL(9,F49)","v":0}]
[]
["3.3","TERRAPLENAGEM",null,null,null,{"$f":"SUBTOTAL(9,F51)","v":0}]
[]
["3.4","FUNDAÇÃO",null,null,null,{"$f":"SUBTOTAL(9,F53:F98)","v":154706.92999999993}]
["3.4.1","FUNDAÇÃO - ESCADA E RAMPA ENTRE OS BLOCOS B / C",null,null,null,{"$f":"SUBTOTAL(9,F54:F63)","v":30347.599999999999}]
["3.4.1.1","ESCAVAÇÃO MECANIZADA PARA BLOCO DE COROAMENTO OU SAPATA, SEM PREVISÃO DE FÔRMA, COM RETROESCAVADEIRA. AF_06/2017","M3",2.6,91.26,{"$f":"ROUND(D54*E54,2)","v":237.28}]
["3.4.1.2","BOTA FORA DE MATERIAL DESCARTADO, D.M.T. = 10 km - (CARGA, TRANSPORTE E DESCARGA MECÂNICA)","M3",3.4,58.67,199.48]
["3.4.1.3","LASTRO COM MATERIAL GRANULAR (PEDRA BRITADA N.1 E PEDRA BRITADA N.2), APLICADO EM PISOS OU LAJES SOBRE SOLO, ESPESSURA DE *10 CM*. AF_07/2019","M3",2.6,142.05000000000001,369.33]
["3.4.1.4","FABRICAÇÃO DE FÔRMA PARA VIGAS, EM CHAPA DE MADEIRA COMPENSADA PLASTIFICADA, E = 18 MM. AF_09/2020","M2",17,129.29,2197.9299999999998]
["3.4.1.5","ARMAÇÃO DE BLOCO, VIGA BALDRAME E SAPATA UTILIZANDO AÇO CA-60 DE 5 MM - MONTAGEM. AF_06/2017","KG",220,25.68,5649.6]
["3.4.1.6","ARMAÇÃO DE BLOCO, VIGA BALDRAME OU SAPATA UTILIZANDO AÇO CA-50 DE 6,3 MM - MONTAGEM. (VERGALHÃO FORNECIDO PELO SESI)","KG",173,5.18,896.14]
["3.4.1.7","EPS - BLOCOS PARA ENCHIMENTO","M³",11,564.16,6205.76]
["3.4.1.8","COMPACTAÇÃO MECÂNICA DE SOLO PARA EXECUÇÃO DE RADIER, COM COMPACTADOR DE SOLOS A PERCUSSÃO. AF_09/2017","M2",26,3.01,78.260000000000005]
["3.4.1.9","CONCRETAGEM DE PILARES, FCK = 25 MPA, COM USO DE BOMBA EM EDIFICAÇÃO COM SEÇÃO MÉDIA DE PILARES MAIOR QUE 0,25 M² - LANÇAMENTO, ADENSAMENTO E ACABAMENTO. AF_12/2015","M3",22,656.15,14435.3]
["3.4.1.10","LONA PLASTICA EXTRA FORTE PRETA, E = 200 MICRA PARA IMPERMEABILIZAÇÃO","M2    ",26,3.02,78.52]
[]
["3.4.2","FUNDAÇÃO - ACESSO ENTRE OS  BLOCOS B / C e SALA DOS PROFESSORES",null,null,null,{"$f":"SUBTOTAL(9,F66:F81)","v":77663.569999999992}]
["3.4.2.1","ESCAVAÇÃO MECANIZADA PARA BLOCO DE COROAMENTO OU SAPATA, SEM PREVISÃO DE FÔRMA, COM RETROESCAVADEIRA. AF_06/2017","M3",21.134999999999998,91.26,{"$f":"ROUND(D66*E66,2)","v":1928.78}]
["3.4.2.2","BOTA FORA DE MATERIAL DESCARTADO, D.M.T. = 10 km - (CARGA, TRANSPORTE E DESCARGA MECÂNICA)","M3",27.475499999999997,58.67,{"$f":"ROUND(D67*E67,2)","v":1611.99}]
["3.4.2.3","REATERRO MANUAL DE VALAS COM COMPACTAÇÃO MECANIZADA. AF_04/2016","M3",7.0449999999999982,27.04,{"$f":"ROUND(D68*E68,2)","v":190.5}]
["3.4.2.4","ESTACAS - ESTACAS RAIZ DE Ø31cm EM SOLO INCLUSIVE A  INJENÇÃO DE ARGAMASSA FCK>20 MPA, INCLUSIVE LANÇAMENTO DE ARMAÇÃO / CONSUMO MÍNIMO DE CIMENTO - 600 kg/m³.","M",96,474.01,{"$f":"ROUND(D69*E69,2)","v":45504.959999999999}]
["3.4.2.5","ESTACAS - ARMAÇÃO DE BLOCO, VIGA BALDRAME E SAPATA UTILIZANDO AÇO CA-60 DE 5 MM - MONTAGEM. AF_06/2017","KG",69,25.68,1771.92]
["3.4.2.6","ESTACAS - ARMAÇÃO DE BLOCO, VIGA BALDRAME OU SAPATA UTILIZANDO AÇO CA-50 DE 10 MM - MONTAGEM. AF_06/2017","KG",178,21.99,3914.22]
["3.4.2.7","BLOCOS - LASTRO COM MATERIAL GRANULAR (PEDRA BRITADA N.1 E PEDRA BRITADA N.2), APLICADO EM PISOS OU LAJES SOBRE SOLO, ESPESSURA DE *10 CM*. AF_07/2019","M3",0.38400000000000012,142.05000000000001,54.55]
["3.4.2.8","BLOCOS - FABRICAÇÃO, MONTAGEM E DESMONTAGEM DE FÔRMA PARA BLOCO DE COROAMENTO, EM MADEIRA SERRADA, E=25 MM, 1 UTILIZAÇÃO. AF_06/2017","M2",23.52,165.28,3887.39]
["3.4.2.9","BLOCOS - ARMAÇÃO DE BLOCO, VIGA BALDRAME OU SAPATA UTILIZANDO AÇO CA-50 DE 10 MM - MONTAGEM. AF_06/2017","KG",268,21.99,5893.32]
["3.4.2.10","BLOCOS - CONCRETAGEM DE BLOCOS DE COROAMENTO E VIGAS BALDRAMES, FCK 30 MPA, COM USO DE BOMBA \u0096 LANÇAMENTO, ADENSAMENTO E ACABAMENTO. AF_06/2017","M3",4.12,693.9,2858.87]
["3.4.2.11","VIGA BALDRAME  - LASTRO COM MATERIAL GRANULAR (PEDRA BRITADA N.1 E PEDRA BRITADA N.2), APLICADO EM PISOS OU LAJES SOBRE SOLO, ESPESSURA DE *10 CM*. AF_07/2019","M3",4.9200000000000008,142.05000000000001,698.89]
["3.4.2.12","VIGA BALDRAME - FABRICAÇÃO, MONTAGEM E DESMONTAGEM DE FÔRMA PARA VIGA BALDRAME, EM MADEIRA SERRADA, E=25 MM, 1 UTILIZAÇÃO. AF_06/2017","M2",36.799999999999997,148.03,5447.5]
["3.4.2.13","VIGA BALDRAME - ARMAÇÃO DE BLOCO, VIGA BALDRAME E SAPATA UTILIZANDO AÇO CA-60 DE 5 MM - MONTAGEM. AF_06/2017","KG",28,25.68,719.04]
["3.4.2.14","VIGA BALDRAME - ARMAÇÃO DE BLOCO, VIGA BALDRAME OU SAPATA UTILIZANDO AÇO CA-50 DE 6,3 MM - MONTAGEM. AF_06/2017","KG",27,25.13,678.51]
["3.4.2.15","VIGA BALDRAME - ARMAÇÃO DE BLOCO, VIGA BALDRAME OU SAPATA UTILIZANDO AÇO CA-50 DE 10 MM - MONTAGEM. AF_06/2017","KG",28,21.99,615.72]
["3.4.2.16","VIGA BALDRAME - CONCRETAGEM DE BLOCOS DE COROAMENTO E VIGAS BALDRAMES, FCK 30 MPA, COM USO DE BOMBA \u0096 LANÇAMENTO, ADENSAMENTO E ACABAMENTO. AF_06/2017","M3",2.72,693.9,1887.41]
[]
["3.4.3","FUNDAÇÃO - COBERTURA ÁREA DE RECREAÇÃO INFANTIL",null,null,null,{"$f":"SUBTOTAL(9,F84:F98)","v":46695.76}]
["3.4.3.1","ESCAVAÇÃO MECANIZADA PARA BLOCO DE COROAMENTO OU SAPATA, SEM PREVISÃO DE FÔRMA, COM RETROESCAVADEIRA. AF_06/2017","M3",11.355,91.26,{"$f":"ROUND(D84*E84,2)","v":1036.26}]
["3.4.3.2","BOTA FORA DE MATERIAL DESCARTADO, D.M.T. = 10 km - (CARGA, TRANSPORTE E DESCARGA MECÂNICA)","M3",9.8410000000000011,58.67,{"$f":"ROUND(D85*E85,2)","v":577.37}]
["3.4.3.3","REATERRO MANUAL DE VALAS COM COMPACTAÇÃO MECANIZADA. AF_04/2016","M3",3.7850000000000001,27.04,{"$f":"ROUND(D86*E86,2)","v":102.35}]
["3.4.3.4","ESTACAS - ESTACAS RAIZ DE Ø31cm EM SOLO INCLUSIVE A  INJENÇÃO DE ARGAMASSA FCK>20 MPA, INCLUSIVE LANÇAMENTO DE ARMAÇÃO / CONSUMO MÍNIMO DE CIMENTO - 600 kg/m³.","M",64,474.01,{"$f":"ROUND(D87*E87,2)","v":30336.639999999999}]
["3.4.3.5","ESTACAS - ARMAÇÃO DE BLOCO, VIGA BALDRAME E SAPATA UTILIZANDO AÇO CA-60 DE 5 MM - MONTAGEM. AF_06/2017","KG",46,25.68,1181.28]
["3.4.3.6","ESTACAS - ARMAÇÃO DE BLOCO, VIGA BALDRAME OU SAPATA UTILIZANDO AÇO CA-50 DE 10 MM - MONTAGEM. AF_06/2017","KG",118,21.99,2594.8200000000002]
["3.4.3.7","BLOCOS - LASTRO COM MATERIAL GRANULAR (PEDRA BRITADA N.1 E PEDRA BRITADA N.2), APLICADO EM PISOS OU LAJES SOBRE SOLO, ESPESSURA DE *10 CM*. AF_07/2019","M3",0.25600000000000006,142.05000000000001,36.36]
["3.4.3.8","BLOCOS - FABRICAÇÃO, MONTAGEM E DESMONTAGEM DE FÔRMA PARA BLOCO DE COROAMENTO, EM MADEIRA SERRADA, E=25 MM, 1 UTILIZAÇÃO. AF_06/2017","M2",15.68,165.28,2591.59]
["3.4.3.9","BLOCOS - ARMAÇÃO DE BLOCO, VIGA BALDRAME OU SAPATA UTILIZANDO AÇO CA-50 DE 10 MM - MONTAGEM. AF_06/2017","KG",179,21.99,3936.21]
["3.4.3.10","BLOCOS - CONCRETAGEM DE BLOCOS DE COROAMENTO E VIGAS BALDRAMES, FCK 30 MPA, COM USO DE BOMBA \u0096 LANÇAMENTO, ADENSAMENTO E ACABAMENTO. AF_06/2017","M3",2.74,693.9,1901.29]
["3.4.3.11","PILARES DE ARRANQUE - MONTAGEM E DESMONTAGEM DE FÔRMA DE PILARES RETANGULARES E ESTRUTURAS SIMILARES, PÉ-DIREITO SIMPLES, EM MADEIRA SERRADA, 1 UTILIZAÇÃO. AF_09/2020","M2",4.4800000000000004,238.53,1068.6099999999999]
["3.4.3.12","PILARES DE ARRANQUE - ARMAÇÃO DE PILAR OU VIGA DE UMA ESTRUTURA CONVENCIONAL DE CONCRETO ARMADO EM UMA EDIFICAÇÃO TÉRREA UTILIZANDO AÇO CA-60 DE 5,0 MM - MONTAGEM. AF_12/2015","KG",10,25.71,257.10000000000002]
["3.4.3.13","PILARES DE ARRANQUE - ARMAÇÃO DE PILAR OU VIGA DE UMA ESTRUTURA CONVENCIONAL DE CONCRETO ARMADO EM UMA EDIFICAÇÃO TÉRREA UTILIZANDO AÇO CA-50 DE 8,0 MM - MONTAGEM. AF_12/2015","KG",7,24.24,169.68]
["3.4.3.14","PILARES DE ARRANQUE - ARMAÇÃO DE PILAR OU VIGA DE UMA ESTRUTURA CONVENCIONAL DE CONCRETO ARMADO EM UMA EDIFICAÇÃO TÉRREA UTILIZANDO AÇO CA-50 DE 12,5 MM - MONTAGEM. AF_12/2015","KG",35,18.579999999999998,650.29999999999995]
["3.4.3.15","PILARES DE ARRANQUE - CONCRETAGEM DE PILARES, FCK = 25 MPA, COM USO DE BOMBA EM EDIFICAÇÃO COM SEÇÃO MÉDIA DE PILARES MAIOR QUE 0,25 M² - LANÇAMENTO, ADENSAMENTO E ACABAMENTO. AF_12/2015","M3",0.39,656.15,255.9]
[]
["3.5","IMPERMEABILIZAÇÃO",null,null,null,{"$f":"SUBTOTAL(9,F101)","v":5663.59}]
["3.5.1","IMPERMEABILIZAÇÃO DE SUPERFÍCIE COM EMULSÃO ASFÁLTICA, 2 DEMÃOS AF_06/2018","M2",97.48,58.1,5663.59]
[]
["3.6","ESTRUTURAS DE CONCRETO ARMADO",null,null,null,{"$f":"SUBTOTAL(9,F104:F109)","v":7246.2500000000009}]
["3.6.1","ESTRUTURAS DE CONCRETO ARMADO - ACESSO ENTRE OS  BLOCOS B / C e SALA DOS PROFESSORES",null,null,null,{"$f":"SUBTOTAL(9,F105:F110)","v":7246.2500000000009}]
["3.6.1.1","PILARES - MONTAGEM E DESMONTAGEM DE FÔRMA DE PILARES RETANGULARES E ESTRUTURAS SIMILARES, PÉ-DIREITO SIMPLES, EM MADEIRA SERRADA, 1 UTILIZAÇÃO. AF_09/2020","M2",12.96,238.53,{"$f":"ROUND(D105*E105,2)","v":3091.35}]
["3.6.1.2","PILARES - ARMAÇÃO DE PILAR OU VIGA DE UMA ESTRUTURA CONVENCIONAL DE CONCRETO ARMADO EM UMA EDIFICAÇÃO TÉRREA UTILIZANDO AÇO CA-60 DE 5,0 MM - MONTAGEM. AF_12/2015","KG",44,25.71,1131.24]
["3.6.1.3","PILARES - ARMAÇÃO DE PILAR OU VIGA DE UMA ESTRUTURA CONVENCIONAL DE CONCRETO ARMADO EM UMA EDIFICAÇÃO TÉRREA UTILIZANDO AÇO CA-50 DE 8,0 MM - MONTAGEM. AF_12/2015","KG",15,24.24,{"$f":"ROUND(D107*E107,2)","v":363.6}]
["3.6.1.4","PILARES - ARMAÇÃO DE PILAR OU VIGA DE UMA ESTRUTURA CONVENCIONAL DE CONCRETO ARMADO EM UMA EDIFICAÇÃO TÉRREA UTILIZANDO AÇO CA-50 DE 10,0 MM - MONTAGEM. AF_12/2015","KG",83,21.93,1820.19]
["3.6.1.5","PILARES - CONCRETAGEM DE PILARES, FCK = 25 MPA, COM USO DE BOMBA EM EDIFICAÇÃO COM SEÇÃO MÉDIA DE PILARES MAIOR QUE 0,25 M² - LANÇAMENTO, ADENSAMENTO E ACABAMENTO. AF_12/2015","M3",1.28,656.15,839.87]
[]
["3.7","ALVENARIAS E PAINÉIS",null,null,null,{"$f":"SUBTOTAL(9,F112:F116)","v":20699.980000000003}]
["3.7.1","ALVENARIA DE VEDAÇÃO DE BLOCOS CERÂMICOS FURADOS NA HORIZONTAL DE 9X19X19CM (ESPESSURA 9CM) DE PAREDES COM ÁREA LÍQUIDA MAIOR OU IGUAL A 6M² COM VÃOS E ARGAMASSA DE ASSENTAMENTO COM PREPARO EM BETONEIRA. AF_06/2014","M2",109.10000000000001,89.93,{"$f":"ROUND(D112*E112,2)","v":9811.36}]
["3.7.2","FORNECIMENTO E INSTALAÇÃO DE PAREDE DE GESSO ACARTONADO ESP. 10CM, FACE DUPLA, COM ISOLAMENTO TERMO-ACÚSTICO DE LÃ DE ROCHA 50MM (CONSUMO CONF. TCPO 04840.8.5.1, MONTANTE M75-0,62kg/m, GUIA 75 )","M2",30.69,172.28,5287.27]
["3.7.3","VERGA MOLDADA IN LOCO EM CONCRETO PARA JANELAS COM MAIS DE 1,5 M DE VÃO. AF_03/2016","M",25.2,91.19,2297.9899999999998]
["3.7.4","CONTRAVERGA MOLDADA IN LOCO EM CONCRETO PARA VÃOS DE MAIS DE 1,5 M DE COMPRIMENTO. AF_03/2016","M",25.2,82.78,2086.06]
["3.7.5","VERGA MOLDADA IN LOCO EM CONCRETO PARA PORTAS COM MAIS DE 1,5 M DE VÃO. AF_03/2016","M",13.16,92.5,{"$f":"ROUND(D116*E116,2)","v":1217.3}]
[]
["3.8","ESTRUTURA METALICA",null,null,null,{"$f":"SUBTOTAL(9,F119:F132)","v":225242.53}]
["3.8.1","ESTRUTURA MTÁLICA - DO ACESSO ENTRE OS BLOCOS B e C e SALA DOS PROFESSORES",null,null,null,{"$f":"SUBTOTAL(9,F120:F122)","v":75984.450000000012}]
["3.8.1.1","ESTRUTURA METALICA DA COBERTURA CONFORME PROJETO EM AÇO ESTRUTURAL","KG",3471.9599999999996,18.63,{"$f":"ROUND(D120*E120,2)","v":64682.61}]
["3.8.1.2","PINTURA COM TINTA ALQUÍDICA DE FUNDO (TIPO ZARCÃO) PULVERIZADA SOBRE SUPERFÍCIES METÁLICAS (EXCETO PERFIL) EXECUTADO EM OBRA (POR DEMÃO). AF_01/2020_P","M2",283.32499999999999,21.31,6037.66]
["3.8.1.3","PINTURA COM TINTA ACRÍLICA DE ACABAMENTO PULVERIZADA SOBRE SUPERFÍCIES METÁLICAS (EXCETO PERFIL) EXECUTADO EM OBRA (02 DEMÃOS). AF_01/2020_P","M2",283.32499999999999,18.579999999999998,5264.18]
[]
["3.8.2","ESTRUTURA METÁLICA - COBERTURA ÁREA DE RECREAÇÃO INFANTIL",null,null,null,{"$f":"SUBTOTAL(9,F125:F127)","v":36452.049999999996}]
["3.8.1.2","ESTRUTURA METALICA DA COBERTURA CONFORME PROJETO EM AÇO ESTRUTURAL","KG",1831.9299999999998,18.63,{"$f":"ROUND(D125*E125,2)","v":34128.86}]
["3.8.1.3","PINTURA COM TINTA ALQUÍDICA DE FUNDO (TIPO ZARCÃO) PULVERIZADA SOBRE SUPERFÍCIES METÁLICAS (EXCETO PERFIL) EXECUTADO EM OBRA (POR DEMÃO). AF_01/2020_P","M2",58.24,21.31,1241.0899999999999]
["3.8.1.4","PINTURA COM TINTA ACRÍLICA DE ACABAMENTO PULVERIZADA SOBRE SUPERFÍCIES METÁLICAS (EXCETO PERFIL) EXECUTADO EM OBRA (02 DEMÃOS). AF_01/2020_P","M2",58.24,18.579999999999998,1082.0999999999999]
[]
["3.8.3","ESTRUTURA METÁLICA - SUBSTITUIÇÃO COBERTURA BLOCO B",null,null,null,{"$f":"SUBTOTAL(9,F130:F132)","v":112806.03}]
["3.8.3.1","ESTRUTURA METALICA DA COBERTURA CONFORME PROJETO EM AÇO ESTRUTURAL","KG",4785.3599999999997,18.63,{"$f":"ROUND(D130*E130,2)","v":89151.26}]
["3.8.3.2","PINTURA COM TINTA ALQUÍDICA DE FUNDO (TIPO ZARCÃO) PULVERIZADA SOBRE SUPERFÍCIES METÁLICAS (EXCETO PERFIL) EXECUTADO EM OBRA (POR DEMÃO). AF_01/2020_P","M2",593,21.31,12636.83]
["3.8.3.3","PINTURA COM TINTA ACRÍLICA DE ACABAMENTO PULVERIZADA SOBRE SUPERFÍCIES METÁLICAS (EXCETO PERFIL) EXECUTADO EM OBRA (02 DEMÃOS). AF_01/2020_P","M2",593,18.579999999999998,11017.94]
[]
["3.9","COBERTURA",null,null,null,{"$f":"SUBTOTAL(9,F135:F139)","v":190072.6}]
["3.9.1","CUMEEIRA METÁLICA AÇO GALVALUME TRAPEZOIDAL 40 40X60CM - FORNECIMENTO E INSTALAÇÃO","M",101.49,84.19,{"$f":"ROUND(D135*E135,2)","v":8544.44}]
["3.9.2","FORNECIMENTO E INSTALAÇÃO DE TELHA ISOLANTE COM NUCLEO EM POLIESTIRENO (EPS), E = 50 MM, COM PRE-PINTURA NAS DUAS FACES, FACE SUPERIOR EM TELHA DE AÇO TRAPEZOIDAL E=0,50MM E FACE INFERIOR EM CHAPA PLANA E=0,50MM, INCLUSIVE PARAFUSOS E CALAFETAÇÃO COM SELANTE","M2",168.33,297.14,50017.58]
["3.9.3","TELHAMENTO COM TELHA DE AÇO/ALUMÍNIO E = 0,5 MM, COM ATÉ 2 ÁGUAS, INCLUSO IÇAMENTO. AF_07/2019","M2",993.09,105.32,104592.24]
["3.9.4","COBERTURA/FECHAMENTO EM POLICARBONATO ALVEOLAR 10MM, INCLUSIVE ACESSÓRIOS DE  FIXAÇÃO EM ALUMÍNIO NATURAL.","M2",88.8,255.1,{"$f":"ROUND(D138*E138,2)","v":22652.880000000001}]
["3.9.5","PLATIBANDA EM CHAPA DE AÇO ESPESSURA 2,00mm, H=870mm, DOBRA CARTOLA: 30X20X970mm, COM METALON DIM. 50X20X0,97mm NA FACE INFERIOR PARA ARREMATE COM O FORRO, FUNDO ANTICORROSIVO EM PRIMER EPÓXI NAS DUAS FACES","M2",17.23,247.56,{"$f":"ROUND(D139*E139,2)","v":4265.46}]
[]
["3.10","ESQUADRIAS",null,null,null,{"$f":"SUBTOTAL(9,F142:F155)","v":74246.14999999998}]
["3.10.1","P1 e P5 - PORTA EM ALUMÍNIO DE ABRIR TIPO VENEZIANA COM GUARNIÇÃO, FIXAÇÃO COM PARAFUSOS - FORNECIMENTO E INSTALAÇÃO","M2",15.87,679.02,{"$f":"ROUND(D142*E142,2)","v":10776.05}]
["3.10.2","P19 - INSTALAÇÃO DE PORTA EM ALUMÍNIO, COM VISOR DE VIDRO, DE ABRIR TIPO VENEZIANA COM GUARNIÇÃO, FIXAÇÃO COM PARAFUSOS.","M2",1.89,76.38,144.36000000000001]
["3.10.3","P6 - PORTA DE VIDRO TEMPERADO DE DUAS FOLHAS DE ABRIR 1,80X2,10 INCOLOR ESP.10MM, COM MOLA HIDRÁULICA DE PISO NAS DUAS FOLHAS,PUXADOR TUBULAR RETO 40CM ALUMINIO POLIDO, FERRAGENS CROMADAS E FIXAÇÕES EM PAREDES, PISOS E FORROS CONFORME NORMAS DO FABRICANTE, SEGUINDO AS INDICAÇÕES DO PROJETO ARQUITETÔNICO, INCLUSIVE FERRAGENS DE INSTALAÇÃO PARA PERFEITO USO E FUNCIONAMENTO.","CONJ",2,3713.54,7427.08]
["3.10.4","BANDEIRAS FIXAS P6 - PAINÉIS (BANDEIRAS) FIXOS EM VIDRO TEMPERADO INCOLOR ESP. 10MM, FERRAGENS CROMADAS E FIXAÇÕES EM PAREDES, PISOS E FORROS CONFORME NORMAS DO FABRICANTE PARA PERFEITO USO E FUNCIONAMENTO","M2",3.24,561.64,1819.71]
["3.10.5","P11 - PORTA DE VIDRO TEMPERADO DE DUAS FOLHAS DE ABRIR 2,00X2,10M FUMÊ  ESP.10MM,  COM MOLA HIDRÁULICA NAS 02 FOLHAS, FERRAGENS CROMADAS E FIXAÇÕES EM PAREDES, PISOS E FORROS CONFORME NORMAS DO FABRICANTE PARA PERFEITO USO E FUNCIONAMENTO, INCLUSO BARRA ANTIPÂNICO DUPLA.","UN",4,4818.18,19272.72]
["3.10.6","BANDEIRAS FIXAS P11 - PAINÉIS (BANDEIRAS) FIXOS EM VIDRO TEMPERADO INCOLOR ESP. 10MM, FERRAGENS CROMADAS E FIXAÇÕES EM PAREDES, PISOS E FORROS CONFORME NORMAS DO FABRICANTE PARA PERFEITO USO E FUNCIONAMENTO","M2",7.2,561.64,4043.81]
["3.10.7","P17 - PORTA DE VIDRO TEMPERADO DE DUAS FOLHAS DE CORRER 2,00X2,10M FUMÊ  ESP.10MM, FERRAGENS CROMADAS E FIXAÇÕES EM PAREDES, PISOS E FORROS CONFORME NORMAS DO FABRICANTE PARA PERFEITO USO E FUNCIONAMENTO.","UN",1,2185.64,2185.64]
["3.10.8","P14 - FORNECIMENTO E INSTALAÇÃO DE GRADIL MODULAR BARRA SECA, TIPO ALAMBRADO EM PAINEL REFERÊNCIA - NYLOFOR OU SIMILAR, COM MALHA 5X20MM, DIMENSÃO DO MÓDULO (1,00M DE LARGURA X 2.43M DE ALTURA), COM POSTE DE FIXAÇÃO H=3,00, SENDO 0,47M CHUMBADO EM BASE DE CONCRETO, JÁ INCLUSO PINTURA (COR A PRETA)","UN",4,919.39,{"$f":"ROUND(D149*E149,2)","v":3677.56}]
["3.10.9","FORNCIMENTO E INSTALAÇÃO DE GRADIL MODULAR / CERCA, TIPO ALAMBRADO EM PAINEL REF. NYLOFOR OU SIMILAR, COM MALHA 5X20MM, DIMENSÃO DO MODULO DE 2,50M DE LARGURA E 2,43M DE ALTURA , COM POSTE PARA FIXAÇÃO H=3,20M SENDO 0,77M CHUBADO EM BASE DE CONCRETO, JÁ INCLUSA PINTURA NA COR PRETA","M",16.03,680.03,{"$f":"ROUND(D150*E150,2)","v":10900.88}]
["3.10.10","V2 - VISOR EM VIDRO TEMPERADO INCOLOR ESPESSURA=8MM COM REQUADRO DE ALUMÍNIO NA COR NATURAL, DIM. 2,00X1,00M","UN",4,789.95,{"$f":"ROUND(D151*E151,2)","v":3159.8}]
["3.10.11","V3 - VISOR EM VIDRO TEMPERADO INCOLOR ESPESSURA=8MM COM REQUADRO DE ALUMÍNIO NA COR NATURAL, DIM. 2,00X1,50M","UN",1,1286.3800000000001,1286.3800000000001]
["3.10.12","V4 - VISOR EM VIDRO TEMPERADO INCOLOR ESPESSURA=8MM COM REQUADRO DE ALUMÍNIO NA COR NATURAL, DIMENSÕES 300X100CM","UN",1,1303.98,{"$f":"ROUND(D153*E153,2)","v":1303.98}]
["3.10.13","J1 - JANELA MAXIM-AR COM ESTRUTURA DE ALUMÍNIO ANODIZADO NATURAL E VIDRO TEMPERADO FUMÊ 6 mm - DIM. 1,00X0,60M, COMPLETA,  INCLUSIVE FERRAGENS, FECHADURA, PUXADORES E  VEDAÇÕES - BANDEIRAS CONFORME PROJETO","UN",8,668.64,5349.12]
["3.10.14","J2 - JANELA MAXIM-AR COM ESTRUTURA DE ALUMÍNIO ANODIZADO NATURAL E VIDRO TEMPERADO INCOLOR 6 mm - DIM. 2,00X1,50M, COMPLETA,  INCLUSIVE FERRAGENS, FECHADURA, PUXADORES E  VEDAÇÕES - BANDEIRAS CONFORME PROJETO","UN",1,2899.06,2899.06]
[]
["3.11","PISOS",null,null,null,{"$f":"SUBTOTAL(9,F158:F166)","v":169567.90999999995}]
["3.11.1","CONTRAPISO DE CONCRETO, ESPESSURA 7CM, PREPARO MECANICO (INCLUSO PISOS EXTERNOS)","M2",1131.9599999999998,42.03,{"$f":"ROUND(D158*E158,2)","v":47576.28}]
["3.11.2","REVESTIMENTO CERÂMICO PARA PISO COM PLACAS TIPO PORCELANATO DE DIMENSÕES 90X90 CM APLICADA EM AMBIENTES INTERNOS - MODELO ELIANE MUNARI BRANCO AC OU SIMILAR (MATERIAL FORNECIDO PELO SESI)","M2",66.160000000000025,40.47,2677.5]
["3.11.3","REVESTIMENTO CERÂMICO PARA PISO COM PLACAS TIPO PORCELANATO DE DIMENSÕES 90X90 CM APLICADA EM AMBIENTES INTERNOS - MODELO ELIANE MUNARI BRANCO AC OU SIMILAR","M2",554.86999999999989,115.35,{"$f":"ROUND(D160*E160,2)","v":64004.25}]
["3.11.4","REVESTIMENTO CERÂMICO PARA PISO COM PLACAS TIPO PORCELANATO DE DIMENSÕES 19,4X118,2 CM APLICADA EM AMBIENTES INTERNOS - MODELO ELIANE SIERRA MARFIM AC OU SIMILAR (MATERIAL FORNECIDO PELO SESI)","M2",278.83999999999997,40.47,11284.65]
["3.11.5","PISO EM GRANITO APLICADO EM AMBIENTES INTERNOS, FRISADO/ANTIDERRAPANTE - ESCADA E RAMPA ENTRE BLOCO B / C","M2",26.21,366.52,9606.49]
["3.11.6","RODAPÉ EM GRANITO, ALTURA 10 CM - ESCADA E RAMPA ENTRE BLOCO B / C","M",14.42,66.400000000000006,957.49]
["3.11.7","FORNECIMENTO E ESPALHAMENTO DE BRITA (PEDRISCO CINZA), INCLUSIVE REGULARIZAÇÃO / ACERTO MANUAL COM ESPALHAMENTO E COMPACTACAO, ESP=5CM - ÁREA DA HORTA","M2",66,7.39,487.74]
["3.11.8","EXECUÇÃO DE PASSEIO EM PISO INTERTRAVADO, COM BLOCO RETANGULAR COR NATURAL DE 20 X 10 CM, ESPESSURA 6 CM. AF_12/2015","M2",285.04000000000002,85.98,24507.74]
["3.11.9","FORNECIMENTO E INSTALAÇÃO DE GRAMA SINTETICA ARTIFICIAL 12MM COM PROTEÇÃO UV E ANTI-FUNGO, EXECUTADO COM ADESIVO.","M2",115.7,73.17,{"$f":"ROUND(D166*E166,2)","v":8465.77}]
[]
["3.12","REVESTIMENTOS",null,null,null,{"$f":"SUBTOTAL(9,F169:F174)","v":113871.54000000001}]
["3.12.1","CHAPISCO APLICADO EM ALVENARIAS E ESTRUTURAS DE CONCRETO INTERNAS, COM ROLO PARA TEXTURA ACRÍLICA.  ARGAMASSA TRAÇO 1:4 E EMULSÃO POLIMÉRICA (ADESIVO) COM PREPARO EM BETONEIRA 400L. AF_06/2014","M2",218.20000000000002,8.59,{"$f":"ROUND(D169*E169,2)","v":1874.34}]
["3.12.2","EMBOÇO OU MASSA ÚNICA EM ARGAMASSA TRAÇO 1:2:8, PREPARO MECÂNICO COM BETONEIRA 400 L, APLICADA MANUALMENTE EM PANOS DE FACHADA COM PRESENÇA DE VÃOS, ESPESSURA DE 25 MM. AF_06/2014","M2",218.20000000000002,55.05,12011.91]
["3.12.3","REVESTIMENTO CERÂMICO PARA PAREDES COM PLACAS TIPO PORCELANATO DE DIMENSÕES 90X90 CM APLICADA EM AMBIENTES INTERNOS - MODELO ELIANE LIMESTONE AREIA POL OU SIMILAR","M2",321.06600000000003,197.45,63394.48]
["3.12.4","REVESTIMENTO CERÂMICO PARA PAREDES COM PLACAS TIPO PORCELANATO DE DIMENSÕES 14,5X90 CM APLICADA EM AMBIENTES INTERNOS - MODELO ELIANE LIMESTONE AREIA POL OU SIMILAR","M2",63.224349999999987,409.33,25879.62]
["3.12.5","REVESTIMENTO CERAMICO PORTOBELLO GLACIE WHITE 30X60CM, INCLUSO E REJUNTE - FORNECIMENTO E INSTALAÇÃO (AZULEJO FORNECIDO PELO SESI)","M2",90.97999999999999,84.59,7696]
["3.12.6","REVESTIMENTO CERÂMICO PARA PAREDES EXTERNAS EM PASTILHAS JATOBÁ DE PORCELANA 5 X 5 CM (PLACAS DE 30 X 30 CM), ALINHADAS A PRUMO, JD. 4102 - PÉROLA OCEANO (JATOBÁ OU SIMILAR)","M2",14.87,202.77,3015.19]
[]
["3.13","GRANITO",null,null,null,{"$f":"SUBTOTAL(9,F177:F179)","v":7772.4699999999993}]
["3.13.1","BANCADA DE GRANITO CINZA ANDORINHA, SOBRE MÃOS-FRANCESAS METÁLICAS, ESP=2cm COM FRONTÃO 20cm, SAIA COM ACAB. DE MEIA ESQUADRIA E REFORÇO INFERIOR DE BORDA E CORTE PARA INST. DE CUBAS DE LOUÇA OVAL DE EMBUTIR LOCAL","M2",5.57,782.35,{"$f":"ROUND(D177*E177,2)","v":4357.6899999999996}]
["3.13.2","PEITORIL LINEAR EM GRANITO OU MÁRMORE, L = 20CM, COMPRIMENTO DE ATÉ 2M, ASSENTADO COM ARGAMASSA 1:6 COM ADITIVO. AF_11/2020","M",17,132.84,2258.2800000000002]
["3.13.3","SOLEIRA EM GRANITO, LARGURA 15 CM, ESPESSURA 2,0 CM. AF_09/2020","M",12.22,94.64,1156.5]
[]
["3.14","FORRO",null,null,null,{"$f":"SUBTOTAL(9,F182:F183)","v":37321.230000000003}]
["3.14.1","FORRO ACÚSTICO DE FIBRA MINERAL 625 MM X 625 MM TEGULAR,  INSTALADOS EM PERFIL \"T\", SUPENSO POR PENDURAIS EM ARRAME GALVANIZADO A CADA 1250X1250MM (PLACAS DE FORRO FORNECIDO PELO SESI)","M2",923.4,38.880000000000003,{"$f":"ROUND(D182*E182,2)","v":35901.79}]
["3.14.2","FORRO DE PVC, LISO, PARA AMBIENTES COMERCIAIS, INCLUSIVE ESTRUTURA DE FIXAÇÃO. AF_05/2017_P","M2",15.6,90.99,{"$f":"ROUND(D183*E183,2)","v":1419.44}]
[]
["3.15","PINTURA",null,null,null,{"$f":"SUBTOTAL(9,F186:F190)","v":50967.69}]
["3.15.1","APLICAÇÃO DE FUNDO SELADOR ACRÍLICO EM PAREDES, UMA DEMÃO. AF_06/2014","M2",525.96,2.06,{"$f":"ROUND(D186*E186,2)","v":1083.48}]
["3.15.2","APLICAÇÃO E LIXAMENTO DE MASSA LÁTEX EM PAREDES, DUAS DEMÃOS. AF_06/2014","M2",875.71000000000015,14.96,13100.62]
["3.15.3","APLICAÇÃO MANUAL DE PINTURA COM TINTA LÁTEX ACRÍLICA EM PAREDES, DUAS DEMÃOS. AF_06/2014","M2",875.71000000000015,15,{"$f":"ROUND(D188*E188,2)","v":13135.65}]
["3.15.4","TEXTURA ACRÍLICA, APLICAÇÃO MANUAL EM PAREDE, UMA DEMÃO. AF_09/2016","M2",752.64,15.6,11741.18]
["3.15.5","APLICAÇÃO MANUAL DE TINTA LÁTEX ACRÍLICA EM PAREDE EXTERNAS, DUAS DEMÃOS.","M2",752.64,15.82,11906.76]
[]
["3.16","CALÇAMENTO, PÁTIOS E PASSARELAS",null,null,null,{"$f":"SUBTOTAL(9,F193)","v":0}]
[]
["3.17","SERVIÇOS COMPLEMENTARES",null,null,null,{"$f":"SUBTOTAL(9,F195:F200)","v":77327.66}]
["3.17.1","ESPELHO  CRISTAL E=4MM, FORNECIMENTO E INSTALAÇÃO","M2",13.98,549.79999999999995,{"$f":"ROUND(D195*E195,2)","v":7686.2}]
["3.17.2","FORNECIMENTO E INSTALAÇÃO DE QUADRO/LOUSA EM VIDRO TEMPERADO LEITOSO 6MM ADESIVADAS COM PELICULA DE SEGURANÇA BRANCA, INCLUSIVE APARADOR PARA CANETA PILOTO 30X10CM, COM BOTOES DE CABECA DE LATAO CROMADO","M2",22.68,379.21,8600.48]
["3.17.3","FORNECIMENTO E INSTALAÇÃO DE PERGOLADO EM MADEIRA, DIM: 9,20M X 3,20M, COM VIGAS EMPARELHADAS 6X16 E PILARES EMPARELHADOS 20X20, MATERIAL EM 1ª CATEGORIA.","CONJ",1,3373.56,{"$f":"ROUND(D197*E197,2)","v":3373.56}]
["3.17.4","FORNECIMENTO E INSTALAÇÃO CORRIMÃO DUPLO, H=0,92M E H=0,70M, DIÂMETRO EXTERNO = 1 1/2\", EM AÇO INOX, FIXADO EM PISO.","M",28.51,515.79999999999995,14705.46]
["3.17.5","FORNECIMENTO E INSTALAÇÃO DE GUARDA CORPO H=1,30M, COLUNAS DIÂM. 1 1/2\" A CADA 1M, TUBO HORIZONTAL SUPERIOR E INFERIOR DE DIÂM 1 1/2\", TUBOS VERTICAIS 3/4\" A CADA 11CM E COM CORRIMÃO DUPLO DE Ø 1 1/2\" COM H=0,92CM/H=0,70CM, EM AÇO INÓX - CONFORME PROJETO E MEMORIAL DE ACESSIBILIDADE","M",40.15,998.08,40072.910000000003]
["3.17.6","FORNECIMENTO FABRICAÇÃO E INSTALAÇÃO DE GUARDA-CORPOS INOX, COM AS SEGUINTES CARACTERÍSTICAS: \r\n• COM 1,30M DE ALTURA TOTAL\r\n• COLUNAS - EM TUBOS DE AÇO INÓX, Ø= 1.1/2\"  - CHAPA #16  CADA  1,00M (NO MÁXIMO) CHUMBADAS NO CONCRETO;\r\n• BARRAS VERTICAIS INTERMEDIÁRIAS DE FECHAMENTO - Ø= 3/4\" - CHAPA #16 A CADA 11CM, TOTALIZANDO 07 LINHAS CONTÍNUAS;\r\n• BARRA HORIZONTAL DE ACABAMENTO SUPERIOR - EM TUBOS DE AÇO INÓX, D= 1.1/2\" - CHAPA #16.\r\n• BARRA HORIZONTAL DE ACABAMENTO INFERIOR - EM TUBOS DE AÇO INÓX, D= 1.1/2\" - CHAPA #16.\n• CANOPLA EM AÇO INÓX DE ACABAMENTO NA BASE DAS COLUNAS CHAPA #16.","M",3.13,923.02,2889.05]
[]
["3.18","INSTALAÇÕES DE SPDA",null,null,null,{"$f":"SUBTOTAL(9,F203)","v":0}]
[]
["3.19","INSTALAÇÃO DE COMBATE A INCÊNDIO",null,null,null,{"$f":"SUBTOTAL(9,F205)","v":0}]
[]
["3.20","INSTALAÇÕES ELÉTRICA",null,null,null,{"$f":"SUBTOTAL(9,F207:F446)","v":204896.97999999992}]
["3.20.1","INSTALAÇÕES ELÉTRICA BAIXA TENSÃO",null,null,null,{"$f":"SUBTOTAL(9,F208:F308)","v":137857.66000000003}]
["3.20.1.1","ACESSÓRIOS P/ELETRODUTO E USO GERAL",null,null,null,{"$f":"SUBTOTAL(9,F209:F234)","v":23452.220000000005}]
["3.20.1.1.1","FORNECIMENTO E INSTALAÇÃO DE ABRAÇADEIRA DE AÇO, TIPO D, 3/4\", COM CUNHA","UN",250,6.59,{"$f":"ROUND(D209*E209,2)","v":1647.5}]
["3.20.1.1.2","FORNECIMENTO E INSTALAÇÃO DE ABRAÇADEIRA DE AÇO, TIPO D, 1\", COM CUNHA","UN",333,6.75,2247.75]
["3.20.1.1.3","FORNECIMENTO E INSTALAÇÃO DE BUCHA E ARRUELA ALUMÍNIO FUNDIDO PARA ELETRODUTO (ZAMAK) 3/4\"","UN",284,2.0299999999999998,576.52]
["3.20.1.1.4","FORNECIMENTO E INSTALAÇÃO DE BUCHA E ARRUELA ALUMÍNIO FUNDIDO PARA ELETRODUTO (ZAMAK) 1\"","UN",61,2.41,147.01]
["3.20.1.1.5","FORNECIMENTO E INSTALAÇÃO DE BOX RETO PARA ELETRODUTO 3/4\"","UN",284,5.68,1613.12]
["3.20.1.1.6","FORNECIMENTO E INSTALAÇÃO DE BOX RETO PARA ELETRODUTO 1\"","UN",61,8.0399999999999991,490.44]
["3.20.1.1.7","CONDULETE DE ALUMÍNIO, TIPO X, PARA ELETRODUTO DE AÇO GALVANIZADO DN 20 MM (3/4''), APARENTE - FORNECIMENTO E INSTALAÇÃO. AF_11/2016_P","UN",2,38.119999999999997,76.239999999999995]
["3.20.1.1.8","FORNECIMENTO E INSTALAÇÃO DE PRENSA CABO 1/2\"","UN",10,30.33,303.3]
["3.20.1.1.9","CAIXA OCTOGONAL 4\" X 4\" PVC - FORNECIMENTO E INSTALAÇÃO. ","UN",138,11.42,1575.96]
["3.20.1.1.10","CAIXA RETANGULAR 4\" X 2\" PVC - FORNECIMENTO E INSTALAÇÃO. ","UN",138,8.9600000000000009,1236.48]
["3.20.1.1.11","CAIXA RETANGULAR 4\" X 4\"  PVC  - FORNECIMENTO E INSTALAÇÃO. AF_12/2015","UN",1,12,12]
["3.20.1.1.12","FORNECIMENTO E INSTALAÇÃO DE CAIXA ALUMÍNIO 4X4\" DE PISO C/ TAMPA - EMBUTIR","UN",2,62.03,124.06]
["3.20.1.1.13","FORNECIMENTO E INSTALAÇÃO DE PLACA CEGA PVC 4X2\"","UN",5,4.82,24.1]
["3.20.1.1.14","FORNECIMENTO E INSTALAÇÃO DE PLACA CEGA PVC 4X4\"","UN",1,8.23,8.23]
["3.20.1.1.15","FORNECIMENTO E INSTALAÇÃO DE SAÍDA LATERAL ELETROCALHA P/ ELETRODUTO 3/4\"","UN",28,10.29,288.12]
["3.20.1.1.16","FORNECIMENTO E INSTALAÇÃO DE SAÍDA ELETROCALHA P/ ELETRODUTO 1\" ","UN",16,15.54,248.64]
["3.20.1.1.17","FORNECIMENTO E INSTALAÇÃO DE SAÍDA LATERAL PERFILADO P/ ELETRODUTO 3/4\"","UN",4,18.510000000000002,74.040000000000006]
["3.20.1.1.18","FORNECIMENTO E INSTALAÇÃO DE ARAME AÇO GALVANIZADO 18 BWG, 1,24MM (0,009 KG/M)","M",550,0.77,423.5]
["3.20.1.1.19","FORNECIMENTO E INSTALAÇÃO DE ARRUELA LISA GALVANIZADA 1/4\"","UN",504,0.59,297.36]
["3.20.1.1.20","FORNECIMENTO E INSTALAÇÃO DE BUCHA / PARAFUSO S8","UN",1875,4.4400000000000004,8325]
["3.20.1.1.21","FORNECIMENTO E INSTALAÇÃO DE BUCHA / PARAFUSO S10","UN",15,4.75,71.25]
["3.20.1.1.22","FORNECIMENTO E INSTALAÇÃO DE CHUMBADOR PARABOLT AÇO 1/4\" X 3\"","UN",56,13.59,761.04]
["3.20.1.1.23","FORNECIMENTO E INSTALAÇÃO DE PARAFUSO GALVAN. CABEÇA LENTILHA 1/4X5/8\"","UN",328,4.93,1617.04]
["3.20.1.1.24","FORNECIMENTO E INSTALAÇÃO DE PARAFUSO GALVAN. CABEÇA LOSANGULAR 1/4\"X1\" - AUTO TRAVANTE PERFILADO","UN",8,6.88,55.04]
["3.20.1.1.25","FORNECIMENTO E INSTALAÇÃO DE PORCA SEXTAVADA GALVAN. 1/4\"","UN",504,0.42,211.68]
["3.20.1.1.26","FORNECIMENTO E INSTALAÇÃO DE VERGALHÃO GALVANIZADO ROSCA TOTAL 1/4\"","M",56,17.8,996.8]
[null,""]
["3.20.1.2","CABOS",null,null,null,{"$f":"SUBTOTAL(9,F237:F242)","v":46335.619999999995}]
["3.20.1.2.1","FORNECIMENTO E INSTALAÇÃO DE CABO DE COBRE FLEXÍVEL ISOL. TERMOPLASTICO ATOX 750V - 2,5 MM² (TP SINTENAX PIRELLI OU SIMILAR)","M",6300,4.83,{"$f":"ROUND(D237*E237,2)","v":30429}]
["3.20.1.2.2","FORNECIMENTO E INSTALAÇÃO DE CABO DE COBRE FLEXÍVEL ISOL. TERMOPLASTICO ATOX 750V - 4 MM² (TP SINTENAX PIRELLI OU SIMILAR)","M",320,7.06,2259.1999999999998]
["3.20.1.2.3","FORNECIMENTO E INSTALAÇÃO DE CABO DE COBRE FLEXÍVEL ISOL. TERMOPLASTICO ATOX 750V - 6 MM² (TP SINTENAX PIRELLI OU SIMILAR)","M",170,10.199999999999999,1734]
["3.20.1.2.4","FORNECIMENTO E INSTALAÇÃO DE  CABO DE COBRE FLEXÍVEL ISOLADO, 35 MM², ANTI-CHAMA 0,6/1,0 KV - ATOX","M",23,43.02,989.46]
["3.20.1.2.5","FORNECIMENTO E INSTALAÇÃO DE  CABO DE COBRE FLEXÍVEL ISOLADO, 70 MM², ANTI-CHAMA 0,6/1,0 KV - ATOX","M",92,117.68,10826.56]
["3.20.1.2.6","FORNECIMENTO E INSTALAÇÃO DE CABO DE COBRE PP 3X2,5MM² - ISOL. TERMOPLASTICO ATOX 750V","M",20,4.87,97.4]
[null,""]
["3.20.1.3","DISPOSITIVO ELÉTRICO EMBUTIDO",null,null,null,{"$f":"SUBTOTAL(9,F245:F251)","v":4196.26}]
["3.20.1.3.1","INTERRUPTOR SIMPLES (1 MÓDULO), 10A/250V, INCLUINDO SUPORTE E PLACA - FORNECIMENTO E INSTALAÇÃO. AF_12/2015","UN",15,24.35,{"$f":"ROUND(D245*E245,2)","v":365.25}]
["3.20.1.3.2","INTERRUPTOR SIMPLES (2 MÓDULOS), 10A/250V, INCLUINDO SUPORTE E PLACA - FORNECIMENTO E INSTALAÇÃO. AF_12/2015","UN",7,38.520000000000003,269.64]
["3.20.1.3.3","INTERRUPTOR PARALELO (1 MÓDULO), 10A/250V, INCLUINDO SUPORTE E PLACA - FORNECIMENTO E INSTALAÇÃO. AF_12/2015","UN",4,30.09,120.36]
["3.20.1.3.4","INTERRUPTOR SIMPLES (1 MÓDULO) COM 1 TOMADA DE EMBUTIR 2P+T 10 A,  INCLUINDO SUPORTE E PLACA - FORNECIMENTO E INSTALAÇÃO. AF_12/2015","UN",1,43.09,43.09]
["3.20.1.3.5","TOMADA DE EMBUTIR (1 MÓDULO), 2P+T 10 A, INCLUINDO SUPORTE E PLACA - FORNECIMENTO E INSTALAÇÃO. AF_12/2015","UN",43,25.73,1106.3900000000001]
["3.20.1.3.6","TOMADA DE EMBUTIR (1 MÓDULO), 2P+T 20 A, INCLUINDO SUPORTE E PLACA - FORNECIMENTO E INSTALAÇÃO. AF_12/2015","UN",23,27.91,641.92999999999995]
["3.20.1.3.7","TOMADA DE EMBUTIR (2 MÓDULOS), 2P+T 10 A, INCLUINDO SUPORTE E PLACA - FORNECIMENTO E INSTALAÇÃO. AF_12/2015","UN",40,41.24,1649.6]
[null,""]
["3.20.1.4","DISPOSITIVO ELÉTRICO SOBREPOR",null,null,null,{"$f":"SUBTOTAL(9,F254:F256)","v":2368.25}]
["3.20.1.4.1","FORNECIMENTO E INSTALAÇÃO DE MODULO DE TOMADA ELETRICA 2P+T - 20A","UN",12,22.83,{"$f":"ROUND(D254*E254,2)","v":273.95999999999998}]
["3.20.1.4.2","FORNECIMENTO E INSTALAÇÃO DE TOMADA INDUSTRIAL BLINDADA DE SOBREPOR, 3P+T, 16A","UN",2,78.67,157.34]
["3.20.1.4.3","FORNECIMENTO E INSTALAÇÃO DE TOTEM DE TOMADA METÁLICO COM 8 POSTOS DE TOMADAS, 60 CM DE ALTURA, CORPO EM ALUMÍNIO COM PINTURA ELETROSTÁTICA BRANCA, COM TAMPA, SAPATA DE FIXAÇÃO E ACESSÓRIOS. (REF.: DUTOTEC STANDART OU SIMILAR)","M",3,645.65,1936.95]
[null,""]
["3.20.1.5","DISPOSITIVO DE PROTEÇÃO",null,null,null,{"$f":"SUBTOTAL(9,F259:F268)","v":8148.5600000000013}]
["3.20.1.5.1","DISJUNTOR MONOPOLAR TIPO DIN, CORRENTE NOMINAL DE 10A - FORNECIMENTO E INSTALAÇÃO. AF_10/2020","UN",8,13.15,{"$f":"ROUND(D259*E259,2)","v":105.2}]
["3.20.1.5.2","DISJUNTOR MONOPOLAR TIPO DIN, CORRENTE NOMINAL DE 16A - FORNECIMENTO E INSTALAÇÃO. AF_10/2020","UN",32,13.72,439.04]
["3.20.1.5.3","DISJUNTOR MONOPOLAR TIPO DIN, CORRENTE NOMINAL DE 25A - FORNECIMENTO E INSTALAÇÃO. AF_10/2020","UN",4,14.83,59.32]
["3.20.1.5.4","DISJUNTOR BIPOLAR TIPO DIN, CORRENTE NOMINAL DE 16A - FORNECIMENTO E INSTALAÇÃO. AF_10/2020","UN",4,67.28,269.12]
["3.20.1.5.5","DISJUNTOR TRIPOLAR TIPO DIN, CORRENTE NOMINAL DE 16A - FORNECIMENTO E INSTALAÇÃO. AF_10/2020","UN",2,84.1,168.2]
["3.20.1.5.6","FORNECIMENTO E INSTALAÇÃO DE DISJUNTOR TIPO DIN/IEC, TRIPOLAR 100 A  (REF.: MARCA SIEMENS, WEG OU SIMILAR)","UN",1,254.67,254.67]
["3.20.1.5.7","FORNECIMENTO E INSTALAÇÃO DE DISJUNTOR TRIPOLAR TERMOMAGNÉTICO EM CAIXA MOLDADA - 175A  (REF.: MARCA SIEMENS, WEG OU SIMILAR)","UN",4,661.22,2644.88]
["3.20.1.5.8","FORNECIMENTO E INSTALAÇÃO DE DISJUNTOR TRIPOLAR TERMOMAGNÉTICO EM CAIXA MOLDADA - 450A  (REF.: MARCA SIEMENS, WEG OU SIMILAR)","UN",1,2613.86,2613.86]
["3.20.1.5.9","FORNECIMENTO E INSTALAÇÃO DE DISPOSITIVO DR, 2 POLOS, SENSIBILIDADE DE 30 MA, CORRENTE DE 40 A, TIPO AC","UN",3,189.45,568.35]
["3.20.1.5.10","FORNECIMENTO E INSTALAÇÃO DE DISPOSITIVO DPS, 1 POLO, 175 V, 45 KA","UN",8,128.24,1025.92]
[null,""]
["3.20.1.6","ELETROCALHAS / PERFILADOS",null,null,null,{"$f":"SUBTOTAL(9,F271:F280)","v":15096.09}]
["3.20.1.6.1","FORNECIMENTO E INSTALAÇÃO DE CURVA DE INVERSÃO 150X100 MM CHAPA 20","UN",1,64.41,{"$f":"ROUND(D271*E271,2)","v":64.41}]
["3.20.1.6.2","FORNECIMENTO E INSTALAÇÃO DE TÊ HORIZONTAL 90° 150X100 MM, COM TAMPA","UN",2,121.03,242.06]
["3.20.1.6.3","FORNECIMENTO E INSTALAÇÃO DE ELETROCALHA PERFURADA TIPO U 150X100 MM, CHAPA 20, COM TAMPA","M",66,183.19,12090.54]
["3.20.1.6.4","FORNECIMENTO E INSTALAÇÃO DE FLANGE 150X100 MM CHAPA 20","UN",2,30.16,60.32]
["3.20.1.6.5","FORNECIMENTO E INSTALAÇÃO DE SUPORTE VERTICAL P/ ELETROCALHA METÁLICA 150X100MM","UN",44,30.38,1336.72]
["3.20.1.6.6","FORNECIMENTO E INSTALAÇÃO DE TALA PLANA PERFURADA - 100MM","UN",60,8.31,498.6]
["3.20.1.6.7","FORNECIMENTO E INSTALAÇÃO DESAÍDA LATERAL DE ELETROCALHA P/PERFILADO 38X38MM","UN",1,17.02,17.02]
["3.20.1.6.8","FORNECIMENTO E INSTALAÇÃO DE EMENDA INTERNA TIPO \"I\" P/ PERFILADO METÁLICO 38X38MM - CHAPA 18","UN",2,20.399999999999999,40.799999999999997]
["3.20.1.6.9","FORNECIMENTO E INSTALAÇÃO DE PERFILADO PERFURADO METÁLICO 38X38MM, COM TAMPA - CHAPA 18","M",18,30.59,550.62]
["3.20.1.6.10","FORNECIMENTO E INSTALAÇÃO DE SUPORTE CURTO P/ PERFILADO METÁLICO 38X38MM","UN",12,16.25,195]
[null,""]
["3.20.1.7","EXTENSÃO DOS EQUIPAMENTOS",null,null,null,{"$f":"SUBTOTAL(9,F283)","v":55.94}]
["3.20.1.7.1","FORNECIMENTO E INSTALAÇÃO DE PLUGUE MACHO  2P+T - 10A","UN",2,27.97,{"$f":"ROUND(D283*E283,2)","v":55.94}]
[null,""]
["3.20.1.8","ELETRODUTOS",null,null,null,{"$f":"SUBTOTAL(9,F286:F287)","v":4807.7199999999993}]
["3.20.1.8.1","ELETRODUTO FLEXÍVEL CORRUGADO, PVC, DN 25 MM (3/4\") - FORNECIMENTO E INSTALAÇÃO. ","M",760,6.19,{"$f":"ROUND(D286*E286,2)","v":4704.3999999999996}]
["3.20.1.8.2","ELETRODUTO RÍGIDO ROSCÁVEL, PVC, DN 25 MM (3/4\") - FORNECIMENTO E INSTALAÇÃO. ","M",12,8.61,103.32]
[null,""]
["3.20.1.9","LUMINÁRIAS E ACESSÓRIOS",null,null,null,{"$f":"SUBTOTAL(9,F290:F291)","v":19561.599999999999}]
["3.20.1.9.1","FORNECIMENTO E INSTALAÇÃO DE LUMINÁRIA QUADRADA ALETAS REFLEXIVAS DE EMBUTIR, MODULAR 60X60CM, COM 4 LÂMPADAS TUBULARES LED T8 9W, TEMPERATURA DE COR 6.000K, TOTAL DE FLUXO LUMINOSO ENTRE 3.200 A 4.000 LUMENS, COM CORPO EM CHAPA METÁLICA PINTADA ELETROSTATICAMENTE, INCLUSIVE SOQUETES T8 E ACESSÓRIOS DE FIXAÇÃO (EXCLUSIVE LUMINÁRIA, FORNECIDA PELO SESI MT)","UN",146,127.1,{"$f":"ROUND(D290*E290,2)","v":18556.599999999999}]
["3.20.1.9.2","FORNECIMENTO E INSTALAÇÃO DE LUMINÁRIA QUADRADA ALETAS REFLEXIVAS DE SOBREPOR, MODULAR 60X60CM, COM 4 LÂMPADAS TUBULARES LED T8 9W, TEMPERATURA DE COR 6.000K, TOTAL DE FLUXO LUMINOSO ENTRE 3.200 A 4.000 LUMENS, COM CORPO EM CHAPA METÁLICA PINTADA ELETROST","UN",2,502.5,1005]
[null,""]
["3.20.1.10","QUADRO DE DISTRIBUIÇÃO",null,null,null,{"$f":"SUBTOTAL(9,F294:F296)","v":11899.800000000001}]
["3.20.1.10.1","FORNECIMENTO E INSTALAÇÃO DE QUADRO MONTADO DE SOBREPOR, EM CHAPA PINTADA, COM BARRAMENTO TRIFÁSICO DE 500A, CAPACIDADE PARA: 02 DISJ. DE 150A A 225A CAIXA MOLDADA  + 02 DISJ. DE 80A A 125A CAIXA MOLDADA + 80 MÓDULOS TIPO DIN, INCLUSIVE BARRAMENTO NEUTRO ","UN",1,9709.5400000000009,{"$f":"ROUND(D294*E294,2)","v":9709.5400000000009}]
["3.20.1.10.2","FORNECIMENTO E INSTALAÇÃO DE QUADRO DISTRIBUIÇÃO DE EMBUTIR, EM CHAPA PINTADA, COM BARRAMENTO TRIFÁSICO DE 225A, CAPACIDADE PARA: 56 DISJUNTORES UNIPOLARES TIPO DIN, INCLUSIVE BARRAMENTO NEUTRO E TERRA, COMPLETO, COM ACESSÓRIOS DE MONTAGEM, ISOLAÇÃO E PRO","UN",1,1904.88,1904.88]
["3.20.1.10.3","FORNECIMENTO E INSTALAÇÃO DE QUADRO DISTRIBUIÇÃO DE EMBUTIR, EM PVC BRANCO, SEM BARRAMENTO, CAPACIDADE PARA: 24 DISJUNTORES UNIPOLARES TIPO DIN, SEM BARRAMENTO NEUTRO E TERRA, PARA INSTALAÇÃO DE DISPOSITIVOS RESIDUAIS, EXCETO DISJUNTORES.","UN",1,285.38,285.38]
[null,""]
["3.20.1.11","TERMINAIS",null,null,null,{"$f":"SUBTOTAL(9,F299:F308)","v":1935.5999999999997}]
["3.20.1.11.1","FORNECIMENTO E INSTALAÇÃO DE TERMINAL DE COMPRESSÃO 1,5 - 2,5MM²","UN",216,4.49,{"$f":"ROUND(D299*E299,2)","v":969.84}]
["3.20.1.11.2","FORNECIMENTO E INSTALAÇÃO DE TERMINAL DE COMPRESSÃO 4 - 6MM²","UN",21,7.88,165.48]
["3.20.1.11.3","FORNECIMENTO E INSTALAÇÃO DE TERMINAL DE COMPRESSÃO 16MM²","UN",2,8.5299999999999994,17.059999999999999]
["3.20.1.11.4","FORNECIMENTO E INSTALAÇÃO DE TERMINAL DE COMPRESSÃO 25MM²","UN",5,9.26,46.3]
["3.20.1.11.5","FORNECIMENTO E INSTALAÇÃO DE TERMINAL DE COMPRESSÃO 35MM²","UN",4,9.59,38.36]
["3.20.1.11.6","FORNECIMENTO E INSTALAÇÃO DE TERMINAL DE COMPRESSÃO 70MM²","UN",16,13.02,208.32]
["3.20.1.11.7","FORNECIMENTO E INSTALAÇÃO DE TERMINAL DE COMPRESSÃO 120MM²","UN",12,19.91,238.92]
["3.20.1.11.8","FORNECIMENTO E INSTALAÇÃO DE ABRAÇADEIRA NYLON 3,5X300MM","UN",200,0.33,66]
["3.20.1.11.9","FORNECIMENTO E INSTALAÇÃO DE FITA ISOLANTE DE BORRACHA AUTO-FUSÃO","UN",3,2.04,6.12]
["3.20.1.11.10","FORNECIMENTO E INSTALAÇÃO DE FITA ISOLANTE 19MMX20M","UN",10,17.920000000000002,179.2]
[null,""]
["3.20.2","ELÉTRICA ILUMINAÇÃO EXTERNA - BLOCO B",null,null,null,{"$f":"SUBTOTAL(9,F311:F346)","v":4018.6099999999997}]
["3.20.2.1","ACESSÓRIOS P/ELETRODUTO E USO GERAL",null,null,null,{"$f":"SUBTOTAL(9,F312:F321)","v":356.36999999999995}]
["3.20.2.1.1","FORNECIMENTO E INSTALAÇÃO DE ABRAÇADEIRA DE AÇO, TIPO D, 3/4\", COM CUNHA","UN",4,6.59,{"$f":"ROUND(D312*E312,2)","v":26.36}]
["3.20.2.1.2","FORNECIMENTO E INSTALAÇÃO DE BUCHA E ARRUELA ALUMÍNIO FUNDIDO PARA ELETRODUTO (ZAMAK) 3/4\"","UN",2,2.0299999999999998,4.0599999999999996]
["3.20.2.1.3","FORNECIMENTO E INSTALAÇÃO DE BOX RETO PARA ELETRODUTO 3/4\"","UN",2,5.68,11.36]
["3.20.2.1.4","FORNECIMENTO E INSTALAÇÃO DE PRENSA CABO 1/2\"","UN",5,30.33,151.65]
["3.20.2.1.5","CAIXA RETANGULAR 4\" X 2\" PVC - FORNECIMENTO E INSTALAÇÃO. ","UN",2,8.9600000000000009,17.920000000000002]
["3.20.2.1.6","FORNECIMENTO E INSTALAÇÃO DE SAÍDA LATERAL ELETROCALHA P/ ELETRODUTO 3/4\"","UN",2,10.29,20.58]
["3.20.2.1.7","FORNECIMENTO E INSTALAÇÃO DE ARRUELA LISA GALVANIZADA 1/4\"","UN",6,0.59,3.54]
["3.20.2.1.8","FORNECIMENTO E INSTALAÇÃO DE BUCHA / PARAFUSO S8","UN",20,4.4400000000000004,88.8]
["3.20.2.1.9","FORNECIMENTO E INSTALAÇÃO DE PARAFUSO GALVAN. CABEÇA LENTILHA 1/4X5/8\"","UN",6,4.93,29.58]
["3.20.2.1.10","FORNECIMENTO E INSTALAÇÃO DE PORCA SEXTAVADA GALVAN. 1/4\"","UN",6,0.42,2.52]
[null,""]
["3.20.2.2","CABOS",null,null,null,{"$f":"SUBTOTAL(9,F324:F325)","v":2592.1999999999998}]
["3.20.2.2.1","FORNECIMENTO E INSTALAÇÃO DE CABO DE COBRE FLEXÍVEL ISOL. TERMOPLASTICO ATOX 750V - 2,5 MM² (TP SINTENAX PIRELLI OU SIMILAR)","M",270,4.83,{"$f":"ROUND(D324*E324,2)","v":1304.0999999999999}]
["3.20.2.2.2","FORNECIMENTO E INSTALAÇÃO DE CABO DE COBRE PP 4 X 2,5 MM²","M",55,23.42,1288.0999999999999]
[null,""]
["3.20.2.3","DISPOSITIVO ELÉTRICO EMBUTIDO",null,null,null,{"$f":"SUBTOTAL(9,F328:F329)","v":91.22}]
["3.20.2.3.1","INTERRUPTOR SIMPLES (2 MÓDULOS), 10A/250V, INCLUINDO SUPORTE E PLACA - FORNECIMENTO E INSTALAÇÃO. AF_12/2015","UN",1,38.520000000000003,{"$f":"ROUND(D328*E328,2)","v":38.520000000000003}]
["3.20.2.3.2","INTERRUPTOR SIMPLES (3 MÓDULOS), 10A/250V, INCLUINDO SUPORTE E PLACA - FORNECIMENTO E INSTALAÇÃO. AF_12/2015","UN",1,52.7,52.7]
[null,""]
["3.20.2.4","DISPOSITIVO ELÉTRICO SOBREPOR",null,null,null,{"$f":"SUBTOTAL(9,F332)","v":521.95000000000005}]
["3.20.2.4.1","SENSOR DE PRESENÇA PARA ILUMINAÇÃO, 100W, 127V, COM ÂNGULO DE DETECÇÃO DE 180º, FUNÇÃO FOTOCÉLULA AJUSTÁVEL, FUNÇÃO TEMPORIZADOR AJUSTÁVEL, DISTÂNCIA DE DETECÇÃO 12 METROS, SOBREPOR - FORNECIMENTO E INSTALAÇÃO. ","UN",5,104.39,521.95000000000005]
[null,""]
["3.20.2.5","DISPOSITIVO DE PROTEÇÃO",null,null,null,{"$f":"SUBTOTAL(9,F335:F335)","v":13.15}]
["3.20.2.5.1","DISJUNTOR MONOPOLAR TIPO DIN, CORRENTE NOMINAL DE 10A - FORNECIMENTO E INSTALAÇÃO. AF_10/2020","UN",1,13.15,{"$f":"ROUND(D335*E335,2)","v":13.15}]
[null,""]
["3.20.2.6","ELETRODUTOS",null,null,null,{"$f":"SUBTOTAL(9,F338:F338)","v":37.14}]
["3.20.2.6.1","ELETRODUTO FLEXÍVEL CORRUGADO, PVC, DN 25 MM (3/4\") - FORNECIMENTO E INSTALAÇÃO. ","M",6,6.19,{"$f":"ROUND(D338*E338,2)","v":37.14}]
[null,""]
["3.20.2.7","LUMINÁRIAS E ACESSÓRIOS",null,null,null,{"$f":"SUBTOTAL(9,F341:F342)","v":366.21000000000004}]
["3.20.2.7.1","FORNECIMENTO E INSTALAÇÃO DE REFLETOR HOLOFOTE LED 30W, IP 66, ÂNGULO DE ABERTURA DE 120°, TEMPERATURA DE COR 6000K (REF.: ILUMINIM RSPM-30WBF OU SIMILAR)","UN",1,68.849999999999994,{"$f":"ROUND(D341*E341,2)","v":68.849999999999994}]
["3.20.2.7.2","FORNECIMENTO E INSTALAÇÃO DE REFLETOR HOLOFOTE LED 50W, IP 66, ÂNGULO DE ABERTURA DE 120°, TEMPERATURA DE COR 6000K (REF.: ILUMINIM RSPM-50WBF OU SIMILAR)","UN",4,74.34,297.36]
[null,""]
["3.20.2.8","TERMINAIS",null,null,null,{"$f":"SUBTOTAL(9,F345:F346)","v":40.370000000000005}]
["3.20.2.8.1","FORNECIMENTO E INSTALAÇÃO DE TERMINAL DE COMPRESSÃO 1,5 - 2,5MM²","UN",5,4.49,{"$f":"ROUND(D345*E345,2)","v":22.45}]
["3.20.2.8.2","FORNECIMENTO E INSTALAÇÃO DE FITA ISOLANTE 19MMX20M","UN",1,17.920000000000002,17.920000000000002]
[null,""]
["3.20.3","ELÉTRICA ILUMINAÇÃO EMERGÊNCIA - BLOCO B",null,null,null,{"$f":"SUBTOTAL(9,F349:F376)","v":8598.4500000000007}]
["3.20.3.1","ACESSÓRIOS P/ELETRODUTO E USO GERAL",null,null,null,{"$f":"SUBTOTAL(9,F350:F360)","v":4034.3100000000004}]
["3.20.3.1.1","FORNECIMENTO E INSTALAÇÃO DE ABRAÇADEIRA DE AÇO, TIPO D, 3/4\", COM CUNHA","UN",280,6.59,{"$f":"ROUND(D350*E350,2)","v":1845.2}]
["3.20.3.1.2","FORNECIMENTO E INSTALAÇÃO DE BUCHA E ARRUELA ALUMÍNIO FUNDIDO PARA ELETRODUTO (ZAMAK) 3/4\"","UN",22,2.0299999999999998,44.66]
["3.20.3.1.3","FORNECIMENTO E INSTALAÇÃO DE BOX RETO PARA ELETRODUTO 3/4\"","UN",22,5.68,124.96]
["3.20.3.1.4","CAIXA RETANGULAR 4\" X 2\" PVC - FORNECIMENTO E INSTALAÇÃO. ","UN",26,8.9600000000000009,232.96]
["3.20.3.1.5","FORNECIMENTO E INSTALAÇÃO DE SAÍDA LATERAL ELETROCALHA P/ ELETRODUTO 3/4\"","UN",11,10.29,113.19]
["3.20.3.1.6","FORNECIMENTO E INSTALAÇÃO DE SAÍDA LATERAL PERFILADO P/ ELETRODUTO 3/4\"","UN",2,18.510000000000002,37.020000000000003]
["3.20.3.1.7","FORNECIMENTO E INSTALAÇÃO DE ARRUELA LISA GALVANIZADA 1/4\"","UN",26,0.59,15.34]
["3.20.3.1.8","FORNECIMENTO E INSTALAÇÃO DE BUCHA / PARAFUSO S8","UN",332,4.4400000000000004,1474.08]
["3.20.3.1.9","FORNECIMENTO E INSTALAÇÃO DE PARAFUSO GALVAN. CABEÇA LENTILHA 1/4X5/8\"","UN",22,4.93,108.46]
["3.20.3.1.10","FORNECIMENTO E INSTALAÇÃO DE PARAFUSO GALVAN. CABEÇA LOSANGULAR 1/4\"X1\" - AUTO TRAVANTE PERFILADO","UN",4,6.88,27.52]
["3.20.3.1.11","FORNECIMENTO E INSTALAÇÃO DE PORCA SEXTAVADA GALVAN. 1/4\"","UN",26,0.42,10.92]
[null,""]
["3.20.3.2","CABOS",null,null,null,{"$f":"SUBTOTAL(9,F363:F363)","v":3381}]
["3.20.3.2.1","FORNECIMENTO E INSTALAÇÃO DE CABO DE COBRE FLEXÍVEL ISOL. TERMOPLASTICO ATOX 750V - 2,5 MM² (TP SINTENAX PIRELLI OU SIMILAR)","M",700,4.83,{"$f":"ROUND(D363*E363,2)","v":3381}]
[null,""]
["3.20.3.3","DISPOSITIVO ELÉTRICO EMBUTIDO",null,null,null,{"$f":"SUBTOTAL(9,F366:F366)","v":668.98}]
["3.20.3.3.1","TOMADA DE EMBUTIR (1 MÓDULO), 2P+T 10 A, INCLUINDO SUPORTE E PLACA - FORNECIMENTO E INSTALAÇÃO. AF_12/2015","UN",26,25.73,{"$f":"ROUND(D366*E366,2)","v":668.98}]
[null,""]
["3.20.3.4","DISPOSITIVO DE PROTEÇÃO",null,null,null,{"$f":"SUBTOTAL(9,F369:F369)","v":13.15}]
["3.20.3.4.1","DISJUNTOR MONOPOLAR TIPO DIN, CORRENTE NOMINAL DE 10A - FORNECIMENTO E INSTALAÇÃO. AF_10/2020","UN",1,13.15,{"$f":"ROUND(D369*E369,2)","v":13.15}]
[null,""]
["3.20.3.5","ELETRODUTOS",null,null,null,{"$f":"SUBTOTAL(9,F372:F372)","v":402.35}]
["3.20.3.5.1","ELETRODUTO FLEXÍVEL CORRUGADO, PVC, DN 25 MM (3/4\") - FORNECIMENTO E INSTALAÇÃO. ","M",65,6.19,{"$f":"ROUND(D372*E372,2)","v":402.35}]
[null,""]
["3.20.3.6","TERMINAIS",null,null,null,{"$f":"SUBTOTAL(9,F375:F376)","v":98.66}]
["3.20.3.6.1","FORNECIMENTO E INSTALAÇÃO DE TERMINAL DE COMPRESSÃO 1,5 - 2,5MM²","UN",10,4.49,{"$f":"ROUND(D375*E375,2)","v":44.9}]
["3.20.3.6.2","FORNECIMENTO E INSTALAÇÃO DE FITA ISOLANTE 19MMX20M","UN",3,17.920000000000002,53.76]
[null,""]
["3.20.4","ELÉTRICA AR CONDICONADO - BLOCO B",null,null,null,{"$f":"SUBTOTAL(9,F379:F446)","v":54422.260000000009}]
["3.20.4.1","ACESSÓRIOS P/ELETRODUTO E USO GERAL",null,null,null,{"$f":"SUBTOTAL(9,F380:F394)","v":6327.9800000000005}]
["3.20.4.1.1","FORNECIMENTO E INSTALAÇÃO DE ABRAÇADEIRA DE AÇO, TIPO D, 3/4\", COM CUNHA","UN",125,6.59,{"$f":"ROUND(D380*E380,2)","v":823.75}]
["3.20.4.1.2","FORNECIMENTO E INSTALAÇÃO DE BUCHA E ARRUELA ALUMÍNIO FUNDIDO PARA ELETRODUTO (ZAMAK) 3/4\"","UN",80,2.0299999999999998,162.4]
["3.20.4.1.3","FORNECIMENTO E INSTALAÇÃO DE BOX RETO PARA ELETRODUTO 3/4\"","UN",80,5.68,454.4]
["3.20.4.1.4","CAIXA RETANGULAR 4\" X 2\" PVC - FORNECIMENTO E INSTALAÇÃO. ","UN",49,8.9600000000000009,439.04]
["3.20.4.1.5","FORNECIMENTO E INSTALAÇÃO DE PLACA CEGA PVC 4X2\"","UN",1,4.82,4.82]
["3.20.4.1.6","FORNECIMENTO E INSTALAÇÃO DE SAÍDA LATERAL ELETROCALHA P/ ELETRODUTO 3/4\"","UN",9,10.29,92.61]
["3.20.4.1.7","FORNECIMENTO E INSTALAÇÃO DE SAÍDA LATERAL PERFILADO P/ ELETRODUTO 3/4\"","UN",2,18.510000000000002,37.020000000000003]
["3.20.4.1.8","FORNECIMENTO E INSTALAÇÃO DE ARRUELA LISA GALVANIZADA 1/4\"","UN",178,0.59,105.02]
["3.20.4.1.9","FORNECIMENTO E INSTALAÇÃO DE BUCHA / PARAFUSO S8","UN",193,4.4400000000000004,856.92]
["3.20.4.1.10","FORNECIMENTO E INSTALAÇÃO DE BUCHA / PARAFUSO S10","UN",12,4.75,57]
["3.20.4.1.11","FORNECIMENTO E INSTALAÇÃO DE CHUMBADOR PARABOLT AÇO 1/4\" X 3\"","UN",12,13.59,163.08000000000001]
["3.20.4.1.12","FORNECIMENTO E INSTALAÇÃO DE PARAFUSO GALVAN. CABEÇA LENTILHA 1/4X5/8\"","UN",138,4.93,680.34]
["3.20.4.1.13","FORNECIMENTO E INSTALAÇÃO DE PARAFUSO GALVAN. CABEÇA LOSANGULAR 1/4\"X1\" - AUTO TRAVANTE PERFILADO","UN",4,6.88,27.52]
["3.20.4.1.14","FORNECIMENTO E INSTALAÇÃO DE CHUMBADOR PARABOLT AÇO 1/4\" X 3\"","UN",178,13.59,2419.02]
["3.20.4.1.15","FORNECIMENTO E INSTALAÇÃO DE PORCA SEXTAVADA GALVAN. 1/4\"","UN",12,0.42,5.04]
[null,""]
["3.20.4.2","CABOS",null,null,null,{"$f":"SUBTOTAL(9,F397:F403)","v":31425.800000000003}]
["3.20.4.2.1","FORNECIMENTO E INSTALAÇÃO DE CABO DE COBRE FLEXÍVEL ISOL. TERMOPLASTICO ATOX 750V - 2,5 MM² (TP SINTENAX PIRELLI OU SIMILAR)","M",2000,4.83,{"$f":"ROUND(D397*E397,2)","v":9660}]
["3.20.4.2.2","FORNECIMENTO E INSTALAÇÃO DE CABO DE COBRE FLEXÍVEL ISOL. TERMOPLASTICO ATOX 750V - 4 MM² (TP SINTENAX PIRELLI OU SIMILAR)","M",100,7.06,706]
["3.20.4.2.3","FORNECIMENTO E INSTALAÇÃO DE  CABO DE COBRE FLEXÍVEL ISOLADO, 10 MM², ANTI-CHAMA 0,6/1,0 KV - ATOX","M",57,12.54,714.78]
["3.20.4.2.4","FORNECIMENTO E INSTALAÇÃO DE  CABO DE COBRE FLEXÍVEL ISOLADO, 16 MM², ANTI-CHAMA 0,6/1,0 KV - ATOX","M",56,19.010000000000002,1064.56]
["3.20.4.2.5","FORNECIMENTO E INSTALAÇÃO DE  CABO DE COBRE FLEXÍVEL ISOLADO, 25 MM², ANTI-CHAMA 0,6/1,0 KV - ATOX","M",174,31.14,5418.36]
["3.20.4.2.6","FORNECIMENTO E INSTALAÇÃO DE  CABO DE COBRE FLEXÍVEL ISOLADO, 35 MM², ANTI-CHAMA 0,6/1,0 KV - ATOX","M",35,43.02,1505.7]
["3.20.4.2.7","FORNECIMENTO E INSTALAÇÃO DE  CABO DE COBRE FLEXÍVEL ISOLADO, 70 MM², ANTI-CHAMA 0,6/1,0 KV - ATOX","M",105,117.68,12356.4]
[null,""]
["3.20.4.3","DISPOSITIVO ELÉTRICO EMBUTIDO",null,null,null,{"$f":"SUBTOTAL(9,F406:F407)","v":1470.8000000000002}]
["3.20.4.3.1","INTERRUPTOR BIPOLAR (1 MÓDULO), 10A/250V, INCLUINDO SUPORTE E PLACA - FORNECIMENTO E INSTALAÇÃO. AF_09/2017","UN",14,42.57,{"$f":"ROUND(D406*E406,2)","v":595.98}]
["3.20.4.3.2","TOMADA DE EMBUTIR (1 MÓDULO), 2P+T 10 A, INCLUINDO SUPORTE E PLACA - FORNECIMENTO E INSTALAÇÃO. AF_12/2015","UN",34,25.73,874.82]
[null,""]
["3.20.4.4","DISPOSITIVO DE PROTEÇÃO",null,null,null,{"$f":"SUBTOTAL(9,F410:F416)","v":2706.8}]
["3.20.4.4.1","DISJUNTOR BIPOLAR TIPO DIN, CORRENTE NOMINAL DE 16A - FORNECIMENTO E INSTALAÇÃO. AF_10/2020","UN",7,67.28,{"$f":"ROUND(D410*E410,2)","v":470.96}]
["3.20.4.4.2","DISJUNTOR BIPOLAR TIPO DIN, CORRENTE NOMINAL DE 25A - FORNECIMENTO E INSTALAÇÃO. AF_10/2020","UN",1,69.510000000000005,69.510000000000005]
["3.20.4.4.3","DISJUNTOR TRIPOLAR TIPO DIN, CORRENTE NOMINAL DE 40A - FORNECIMENTO E INSTALAÇÃO. AF_10/2020","UN",2,97.7,195.4]
["3.20.4.4.4","FORNECIMENTO E INSTALAÇÃO DE DISJUNTOR TIPO DIN/IEC, TRIPOLAR 80 A  (REF.: MARCA SIEMENS, WEG OU SIMILAR)","UN",2,271.04000000000002,542.08000000000004]
["3.20.4.4.5","FORNECIMENTO E INSTALAÇÃO DE DISJUNTOR TIPO DIN/IEC, TRIPOLAR 100 A  (REF.: MARCA SIEMENS, WEG OU SIMILAR)","UN",1,254.67,254.67]
["3.20.4.4.6","FORNECIMENTO E INSTALAÇÃO DE DISJUNTOR TRIPOLAR TERMOMAGNÉTICO EM CAIXA MOLDADA - 175A  (REF.: MARCA SIEMENS, WEG OU SIMILAR)","UN",1,661.22,661.22]
["3.20.4.4.7","FORNECIMENTO E INSTALAÇÃO DE DISPOSITIVO DPS, 1 POLO, 175 V, 45 KA","UN",4,128.24,512.96]
[null,""]
["3.20.4.5","ELETROCALHAS / PERFILADOS",null,null,null,{"$f":"SUBTOTAL(9,F419:F423)","v":2854.58}]
["3.20.4.5.1","FORNECIMENTO E INSTALAÇÃO DE CURVA HORIZONTAL 90º - 100X100MM CHAPA 20, COM TAMPA","UN",2,69.84,{"$f":"ROUND(D419*E419,2)","v":139.68}]
["3.20.4.5.2","FORNECIMENTO E INSTALAÇÃO DE ELETROCALHA PERFURADA TIPO U 100X100 MM, CHAPA 20, COM TAMPA","M",15,143.97999999999999,2159.6999999999998]
["3.20.4.5.3","FORNECIMENTO E INSTALAÇÃO DE REDUÇÃO CONCÊNTRICA - 150X100 P/ 100X100MM COM TAMPA","UN",2,71.89,143.78]
["3.20.4.5.4","FORNECIMENTO E INSTALAÇÃO DE SUPORTE VERTICAL P/ ELETROCALHA METÁLICA 100X100MM","UN",12,16.28,195.36]
["3.20.4.5.5","FORNECIMENTO E INSTALAÇÃO DE TALA PLANA PERFURADA - 100MM","UN",26,8.31,216.06]
[null,""]
["3.20.4.6","EXTENSÃO DOS EQUIPAMENTOS",null,null,null,{"$f":"SUBTOTAL(9,F426:F427)","v":1199.3499999999999}]
["3.20.4.6.1","FORNECIMENTO E INSTALAÇÃO DE PLUGUE MACHO  2P+T - 10A","UN",34,27.97,{"$f":"ROUND(D426*E426,2)","v":950.98}]
["3.20.4.6.2","FORNECIMENTO E INSTALAÇÃO DE CABO DE COBRE PP 3X2,5MM² - ISOL. TERMOPLASTICO ATOX 750V","M",51,4.87,248.37]
[null,""]
["3.20.4.7","ELETRODUTOS",null,null,null,{"$f":"SUBTOTAL(9,F430:F431)","v":1364.75}]
["3.20.4.7.1","ELETRODUTO FLEXÍVEL CORRUGADO, PVC, DN 25 MM (3/4\") - FORNECIMENTO E INSTALAÇÃO. ","M",125,6.19,{"$f":"ROUND(D430*E430,2)","v":773.75}]
["3.20.4.7.2","ELETRODUTO FLEXÍVEL CORRUGADO, PEAD, DN 63 (2\")  - FORNECIMENTO E INSTALAÇÃO. AF_04/2016","M",50,11.82,591]
[null,""]
["3.20.4.8","QUADRO DE DISTRIBUIÇÃO",null,null,null,{"$f":"SUBTOTAL(9,F434:F435)","v":6536.47}]
["3.20.4.8.1","FORNECIMENTO E INSTALAÇÃO DE QUADRO MONTADO DE SOBREPOR, EM CHAPA PINTADA, GRAU DE PROTEÇÃO IP65, COM BARRAMENTO TRIFÁSICO DE 300A, CAPACIDADE PARA: 04 DISJUNTORES CAIXA MOLDADA DE 80A A 125A + 16 DISJUNTORES UNIPOLARES TIPO DIN, INCLUSIVE BARRAMENTO TERR","UN",1,3106.96,{"$f":"ROUND(D434*E434,2)","v":3106.96}]
["3.20.4.8.2","FORNECIMENTO E INSTALAÇÃO DE QUADRO MONTADO DE SOBREPOR, EM CHAPA PINTADA, GRAU DE PROTEÇÃO IP65, COM BARRAMENTO TRIFÁSICO DE 300A, CAPACIDADE PARA:  32 MÓDULOS TIPO DIN, INCLUSIVE BARRAMENTO TERRA, COMPLETO, COM ACESSÓRIOS DE MONTAGEM, ISOLAÇÃO E PROTEÇÃ","UN",1,3429.51,3429.51]
[null,""]
["3.20.4.9","TERMINAIS",null,null,null,{"$f":"SUBTOTAL(9,F438:F446)","v":535.73}]
["3.20.4.9.1","FORNECIMENTO E INSTALAÇÃO DE TERMINAL DE COMPRESSÃO 1,5 - 2,5MM²","UN",32,4.49,{"$f":"ROUND(D438*E438,2)","v":143.68}]
["3.20.4.9.2","FORNECIMENTO E INSTALAÇÃO DE TERMINAL DE COMPRESSÃO 10MM²","UN",10,8.23,82.3]
["3.20.4.9.3","FORNECIMENTO E INSTALAÇÃO DE TERMINAL DE COMPRESSÃO 16MM²","UN",5,8.5299999999999994,42.65]
["3.20.4.9.4","FORNECIMENTO E INSTALAÇÃO DE TERMINAL DE COMPRESSÃO 25MM²","UN",10,9.26,92.6]
["3.20.4.9.5","FORNECIMENTO E INSTALAÇÃO DE TERMINAL DE COMPRESSÃO 35MM²","UN",2,9.59,19.18]
["3.20.4.9.6","FORNECIMENTO E INSTALAÇÃO DE TERMINAL DE COMPRESSÃO 70MM²","UN",5,13.02,65.099999999999994]
["3.20.4.9.7","FORNECIMENTO E INSTALAÇÃO DE ABRAÇADEIRA NYLON 3,5X300MM","UN",50,0.33,16.5]
["3.20.4.9.8","FORNECIMENTO E INSTALAÇÃO DE FITA ISOLANTE DE BORRACHA AUTO-FUSÃO","UN",1,2.04,2.04]
["3.20.4.9.9","FORNECIMENTO E INSTALAÇÃO DE FITA ISOLANTE 19MMX20M","UN",4,17.920000000000002,71.680000000000007]
[]
["3.21","LOGICA E TELEFONICA",null,null,null,{"$f":"SUBTOTAL(9,F449:F536)","v":70842.259999999995}]
["3.21.1","ACESSÓRIOS P/ELETRODUTO E USO GERAL",null,null,null,{"$f":"SUBTOTAL(9,F450:F465)","v":10078.5}]
["3.21.1.1","FORNECIMENTO E INSTALAÇÃO DE ABRAÇADEIRA DE AÇO, TIPO D, 3/4\", COM CUNHA","UN",154,6.59,{"$f":"ROUND(D450*E450,2)","v":1014.86}]
["3.21.1.2","FORNECIMENTO E INSTALAÇÃO DE ABRAÇADEIRA DE AÇO, TIPO D, 1\", COM CUNHA","UN",2,6.75,13.5]
["3.21.1.3","FORNECIMENTO E INSTALAÇÃO DE BUCHA E ARRUELA ALUMÍNIO FUNDIDO PARA ELETRODUTO (ZAMAK) 3/4\"","UN",76,2.0299999999999998,154.28]
["3.21.1.4","FORNECIMENTO E INSTALAÇÃO DE BUCHA E ARRUELA ALUMÍNIO FUNDIDO PARA ELETRODUTO (ZAMAK) 1\"","UN",2,2.41,4.82]
["3.21.1.5","FORNECIMENTO E INSTALAÇÃO DE BOX RETO PARA ELETRODUTO 3/4\"","UN",76,5.68,431.68]
["3.21.1.6","FORNECIMENTO E INSTALAÇÃO DE BOX RETO PARA ELETRODUTO 1\"","UN",2,8.0399999999999991,16.079999999999998]
["3.21.1.7","CAIXA RETANGULAR 4\" X 2\" PVC - FORNECIMENTO E INSTALAÇÃO. ","UN",53,8.9600000000000009,474.88]
["3.21.1.8","CAIXA RETANGULAR 4\" X 4\"  PVC  - FORNECIMENTO E INSTALAÇÃO. AF_12/2015","UN",1,12,12]
["3.21.1.9","CONDULETE DE ALUMÍNIO, TIPO X, PARA ELETRODUTO DE AÇO GALVANIZADO DN 20 MM (3/4''), APARENTE - FORNECIMENTO E INSTALAÇÃO. AF_11/2016_P","UN",12,38.119999999999997,457.44]
["3.21.1.10","FORNECIMENTO E INSTALAÇÃO DE PLACA CEGA DE ALUMÍNIO  P/ CONDULETE","UN",12,32.700000000000003,392.4]
["3.21.1.11","FORNECIMENTO E INSTALAÇÃO DE ARAME AÇO GALVANIZADO 18 BWG, 1,24MM (0,009 KG/M)","M",111,0.77,85.47]
["3.21.1.12","FORNECIMENTO E INSTALAÇÃO DE ARRUELA LISA GALVANIZADA 1/4\"","UN",1101,0.59,649.59]
["3.21.1.13","FORNECIMENTO E INSTALAÇÃO DE BUCHA / PARAFUSO S8","UN",186,4.4400000000000004,825.84]
["3.21.1.14","FORNECIMENTO E INSTALAÇÃO DE PORCA SEXTAVADA GALVAN. 1/4\"","UN",24,0.42,10.08]
["3.21.1.15","FORNECIMENTO E INSTALAÇÃO DE VERGALHÃO GALVANIZADO ROSCA TOTAL 1/4\"","M",193,17.8,3435.4]
["3.21.1.16","FORNECIMENTO E INSTALAÇÃO DE PARAFUSO GALVAN. CABEÇA LENTILHA 1/4X5/8\"","UN",426,4.93,2100.1799999999998]
[null,""]
["3.21.2","CABOS",null,null,null,{"$f":"SUBTOTAL(9,F468:F468)","v":8772}]
["3.21.2.1","CABO ELETRÔNICO CATEGORIA 6, ATOX LSZH, INSTALADO EM EDIFICAÇÃO INSTITUCIONAL - FORNECIMENTO E INSTALAÇÃO. AF_11/2019","M",3400,2.58,{"$f":"ROUND(D468*E468,2)","v":8772}]
[null,""]
["3.21.3","DISPOSITIVO CABEAMENTO EMBUTIR",null,null,null,{"$f":"SUBTOTAL(9,F471:F475)","v":3983.62}]
["3.21.3.1","FORNECIMENTO E INSTALAÇÃO DE PLACA 4X2\" - BRANCA, 1 MÓDULO P/ RJ45","UN",16,7.93,{"$f":"ROUND(D471*E471,2)","v":126.88}]
["3.21.3.2","FORNECIMENTO E INSTALAÇÃO DE PLACA 4X2\" - BRANCA, 2 MÓDULOS P/ RJ45","UN",37,11.84,438.08]
["3.21.3.3","FORNECIMENTO E INSTALAÇÃO DE MÓDULO P/TOMADA KEYSTONE","UN",102,6.59,672.18]
["3.21.3.4","FORNECIMENTO E INSTALAÇÃO DE TOMADA KEYSTONE RJ45 - CAT.6","UN",102,26.79,2732.58]
["3.21.3.5","FORNECIMENTO E INSTALAÇÃO DE CONECTOR MACHO RJ45 - CAT.6","UN",2,6.95,13.9]
[null,""]
["3.21.4","DISPOSITIVO CABEAMENTO - SOBREPOR",null,null,null,{"$f":"SUBTOTAL(9,F478:F478)","v":71.040000000000006}]
["3.21.4.1","FORNECIMENTO E INSTALAÇÃO DE PLACA 4X2\" - BRANCA, 2 MÓDULOS P/ RJ45","UN",6,11.84,{"$f":"ROUND(D478*E478,2)","v":71.040000000000006}]
[null,""]
["3.21.5","ELETROCALHAS / PERFILADOS",null,null,null,{"$f":"SUBTOTAL(9,F481:F502)","v":24463.89}]
["3.21.5.1","FORNECIMENTO E INSTALAÇÃO DE CURVA HORIZONTAL 90º - 100X50MM CHAPA 20, COM TAMPA","UN",1,73.02,{"$f":"ROUND(D481*E481,2)","v":73.02}]
["3.21.5.2","FORNECIMENTO E INSTALAÇÃO DE CURVA HORIZONTAL 90º - 150X50MM CHAPA 20, COM TAMPA","UN",2,67.7,135.4]
["3.21.5.3","FORNECIMENTO E INSTALAÇÃO DE CURVA DE INVERSÃO 150X50 MM CHAPA 20","UN",2,87.39,174.78]
["3.21.5.4","FORNECIMENTO E INSTALAÇÃO DE CURVA HORIZONTAL 90º - 150X100MM CHAPA 20, COM TAMPA","UN",2,26.99,53.98]
["3.21.5.5","FORNECIMENTO E INSTALAÇÃO DE TÊ HORIZONTAL 90° 150X50 MM, COM TAMPA","UN",3,103.09,309.27]
["3.21.5.6","FORNECIMENTO E INSTALAÇÃO DE TÊ HORIZONTAL 90° 150X100 MM, COM TAMPA","UN",1,121.03,121.03]
["3.21.5.7","FORNECIMENTO E INSTALAÇÃO DE ELETROCALHA PERFURADA TIPO U 100X50 MM - CHAPA 20, COM TAMPA","M",48,133.36000000000001,6401.28]
["3.21.5.8","FORNECIMENTO E INSTALAÇÃO DE ELETROCALHA PERFURADA TIPO U 150X50 MM - CHAPA 20, COM TAMPA","M",36,162.02000000000001,5832.72]
["3.21.5.9","FORNECIMENTO E INSTALAÇÃO DE ELETROCALHA PERFURADA TIPO U 150X100 MM, CHAPA 20, COM TAMPA","M",15,183.19,2747.85]
["3.21.5.10","FORNECIMENTO E INSTALAÇÃO DE REDUÇÃO CONCÊNTRICA - 150X100 P/ 100X50MM COM TAMPA","UN",3,61.49,184.47]
["3.21.5.11","FORNECIMENTO E INSTALAÇÃO DE FLANGE 150X50 MM CHAPA 20","UN",2,18.93,37.86]
["3.21.5.12","FORNECIMENTO E INSTALAÇÃO DE FLANGE 150X100 MM CHAPA 20","UN",4,30.16,120.64]
["3.21.5.13","FORNECIMENTO E INSTALAÇÃO DE SUPORTE VERTICAL P/ ELETROCALHA METÁLICA 100X50MM","UN",40,16.93,677.2]
["3.21.5.14","FORNECIMENTO E INSTALAÇÃO DE SUPORTE VERTICAL P/ ELETROCALHA METÁLICA 150X50MM ","UN",30,20.3,609]
["3.21.5.15","FORNECIMENTO E INSTALAÇÃO DE SUPORTE VERTICAL P/ ELETROCALHA METÁLICA 150X100MM","UN",53,30.38,1610.14]
["3.21.5.16","FORNECIMENTO E INSTALAÇÃO DE TALA PLANA PERFURADA - 50MM","UN",42,6.86,288.12]
["3.21.5.17","FORNECIMENTO E INSTALAÇÃO DE TALA PLANA PERFURADA - 100MM","UN",22,8.31,182.82]
["3.21.5.18","FORNECIMENTO E INSTALAÇÃO DESAÍDA LATERAL DE ELETROCALHA P/PERFILADO 38X38MM","UN",7,17.02,119.14]
["3.21.5.19","FORNECIMENTO E INSTALAÇÃO DE EMENDA INTERNA TIPO \"I\" P/ PERFILADO METÁLICO 38X38MM - CHAPA 18","UN",18,20.399999999999999,367.2]
["3.21.5.20","FORNECIMENTO E INSTALAÇÃO DE EMENDA INTERNA TIPO \"L\" P/ PERFILADO METÁLICO 38X38MM  - CHAPA 18","UN",3,22.84,68.52]
["3.21.5.21","FORNECIMENTO E INSTALAÇÃO DE PERFILADO PERFURADO METÁLICO 38X38MM, COM TAMPA - CHAPA 18","M",105,30.59,3211.95]
["3.21.5.22","FORNECIMENTO E INSTALAÇÃO DE SUPORTE CURTO P/ PERFILADO METÁLICO 38X38MM","UN",70,16.25,1137.5]
[null,""]
["3.21.6","EXTENSÃO EM MOBILIARIO",null,null,null,{"$f":"SUBTOTAL(9,F505:F508)","v":688.09999999999991}]
["3.21.6.1","FORNECIMENTO E INSTALAÇÃO DE MÓDULO P/TOMADA KEYSTONE","UN",30,6.59,{"$f":"ROUND(D505*E505,2)","v":197.7}]
["3.21.6.2","FORNECIMENTO E INSTALAÇÃO DE CONECTOR MACHO RJ45 - CAT.6","UN",30,6.95,208.5]
["3.21.6.3","CABO ELETRÔNICO CATEGORIA 6, ATOX LSZH, INSTALADO EM EDIFICAÇÃO INSTITUCIONAL - FORNECIMENTO E INSTALAÇÃO. AF_11/2019","M",105,2.58,270.89999999999998]
["3.21.6.4","FORNECIMENTO E INSTALAÇÃO DE ANEL ORGANIZADOR DE CABOS TIPO ABRAÇADEIRA VELCRO","UN",5,2.2000000000000002,11]
[null,""]
["3.21.7","ELETRODUTOS",null,null,null,{"$f":"SUBTOTAL(9,F511:F514)","v":1853.5700000000002}]
["3.21.7.1","INSTALAÇÃO DE ELETRODUTO FLEXÍVEL CORRUGADO, PVC, DN 25 MM (3/4\") - (MATERIAL FORNECIDO PELO SESI)","UN",380,3.9,{"$f":"ROUND(D511*E511,2)","v":1482}]
["3.21.7.2","ELETRODUTO FLEXÍVEL CORRUGADO, PVC, DN 32 MM (1\") - FORNECIMENTO E INSTALAÇÃO. ","M",12,8.7200000000000006,{"$f":"ROUND(D512*E512,2)","v":104.64}]
["3.21.7.3","ELETRODUTO RÍGIDO ROSCÁVEL, PVC, DN 25 MM (3/4\") - FORNECIMENTO E INSTALAÇÃO. ","M",21,8.61,180.81]
["3.21.7.4","FORNECIMENTO E INSTALAÇÃO DE ELETRODUTO METÁLICO FLEXIVEL, COM PROTEÇÃO EM PVC PRETO (SEALTUBO) - 3/4\"","M",4,21.53,86.12]
[null,""]
["3.21.8","RACK E ACESSÓRIOS",null,null,null,{"$f":"SUBTOTAL(9,F517:F528)","v":14685.68}]
["3.21.8.1","FORNECIMENTO E INSTALAÇÃO DE RACK CAIXA PADRÃO 19\" - PORTA ACRÍLICO FUMÊ 16U X 470 MM","UN",2,1293.03,{"$f":"ROUND(D517*E517,2)","v":2586.06}]
["3.21.8.2","FORNECIMENTO E INSTALAÇÃO DE REGUA PARA 10 TOMADAS 2P+T 20A - 1U","UN",2,150.4,300.8]
["3.21.8.3","FORNECIMENTO E INSTALAÇÃO DE KIT DE VENTILAÇÃO COM 2 COOLERS","UN",2,306.91000000000003,613.82000000000005]
["3.21.8.4","PATCH PANEL 24 PORTAS, CATEGORIA 6 - FORNECIMENTO E INSTALAÇÃO. AF_11/2019","UN",5,698.58,3492.9]
["3.21.8.5","FORNECIMENTO E INSTALAÇÃO DE VOICE PANEL 30 PORTAS RJ45","UN",2,652.1,1304.2]
["3.21.8.6","FORNECIMENTO E INSTALAÇÃO DE GUIA DE CABOS FECHADO HORIZONTAL - 1U","UN",12,34.69,416.28]
["3.21.8.7","FORNECIMENTO E INSTALAÇÃO DE BANDEJA PARA RACK 19\", FIXA HORIZONTAL 1U.","UN",2,97.67,195.34]
["3.21.8.8","FORNECIMENTO E INSTALAÇÃO DE ANEL ORGANIZADOR DE CABOS TIPO ABRAÇADEIRA VELCRO","UN",4,2.2000000000000002,8.8000000000000007]
["3.21.8.9","FORNECIMENTO E INSTALAÇÃO DE ANILHA DE IDENTIFICACAO PARA CABOS DE 0 A 9 (KIT 100 PECAS)","UN",2,69.38,138.76]
["3.21.8.10","FORNECIMENTO E INSTALAÇÃO DE FITA ROTULADORA 12MM PRETO SOBRE BRANCO 8M","UN",2,104.85,209.7]
["3.21.8.11","FORNECIMENTO E INSTALAÇÃO DE PATCH CORD CERTIFICADO CAT.6 - CONEXÃO RJ45 X RJ45 - COMP. 1,5M - LSZH","UN",109,8.86,965.74]
["3.21.8.12","FORNECIMENTO DE SERVIÇO DE CERTIFICAÇÃO DE CABO DE REDE CAT-6, COM CERTIFICADO DE AFERIÇÃO DO APARELHO","UN",104,42.82,4453.28]
[null,""]
["3.21.9","FIBRA ÓPTICA E ACESSÓRIOS",null,null,null,{"$f":"SUBTOTAL(9,F531:F536)","v":6245.86}]
["3.21.9.1","FORNECIMENTO E INSTALAÇÃO DE DISTRIBUIDOR OPTICO INTERNO PARA 12 FO - 1U PARA RACK.","UN",2,518.47,{"$f":"ROUND(D531*E531,2)","v":1036.94}]
["3.21.9.2","FORNECIMENTO E INSTALAÇÃO DE EXTENSÃO PIGTAIL MULTIMODO P/ DIO - CONECTOR SC","UN",24,32.04,768.96]
["3.21.9.3","FORNECIMENTO E INSTALAÇÃO DE CORDÃO ÓPTICO MULTIMODO - 2 FO CONECTOR SC/SC - 2,50 M","UN",4,101.69,406.76]
["3.21.9.4","FORNECIMENTO E INSTALAÇÃO DE CONVERSOR DE MÍDIA PARA FIBRA ÓTICA MM E SM 10/100 2FO RJ45","UN",4,281.52,1126.08]
["3.21.9.5","FORNECIMENTO DE SERVIÇO DE CERTIFICACAO DE CABEAMENTO DE FIBRA OPTICA","UN",24,34.26,822.24]
["3.21.9.6","FORNECIMENTO DE SERVIÇO DE FUSÃO FIBRA ÓTICA COM EXTENSÃO PIGTAIL COM CERTIFICAÇÃO DE AFERIÇÃO DO APARELHO","UN",24,86.87,2084.88]
[]
["3.22","CLIMATIZAÇÃO - AR CONDICIONADO",null,null,null,{"$f":"SUBTOTAL(9,F539:F606)","v":197064.70000000007}]
["3.22.1","INSTALAÇÕES HIDRÁULICAS",null,null,null,{"$f":"SUBTOTAL(9,F540:F545)","v":5187.4799999999996}]
["3.22.1.1","TUBO, PVC, SOLDÁVEL, DN 32MM, INSTALADO EM DRENO DE AR-CONDICIONADO – FORNECIMENTO E INSTALAÇÃO","M",180,16.309999999999999,{"$f":"ROUND(D540*E540,2)","v":2935.8}]
["3.22.1.2","JOELHO 45 GRAUS, PVC, SOLDÁVEL, DN 32MM, INSTALADO EM DRENO DE AR-CONDICIONADO - FORNECIMENTO E INSTALAÇÃO","UND",28,9.36,262.08]
["3.22.1.3","CURVA 90 GRAUS, PVC, SOLDÁVEL, DN 32MM, INSTALADO EM DRENO DE AR-CONDICIONADO - FORNECIMENTO E INSTALAÇÃO","UND",28,12.56,351.68]
["3.22.1.4","TE, PVC, SOLDÁVEL, DN 32MM, INSTALADO EM DRENO DE AR-CONDICIONADO - FORNECIMENTO E INSTALAÇÃO","UND",28,11.97,335.16]
["3.22.1.5","LUVA, PVC, SOLDÁVEL, DN 32MM, INSTALADO EM DRENO DE AR-CONDICIONADO - FORNECIMENTO E INSTALAÇÃO","UND",28,5.32,148.96]
["3.22.1.6","TUBO DE ESPUMA DE POLIETILENO EXPANDIDO FLEXIVEL PARA ISOLAMENTO TERMICO DE TUBULACAO DE AR CONDICIONADO, AGUA QUENTE,  DN 1 1/2\", E= 10 MM","M     ",180,6.41,1153.8]
[]
["3.22.2","INSTALAÇÕES DE CLIMATIZAÇÃO",null,null,null,{"$f":"SUBTOTAL(9,F548:F581)","v":119711.90000000002}]
["3.22.2.1","TUBO DE COBRE FLEXIVEL, D = 1/4 \", E = 0,79 MM, PARA AR-CONDICIONADO/ INSTALACOES GAS RESIDENCIAIS E COMERCIAIS","M     ",38,32.1,{"$f":"ROUND(D548*E548,2)","v":1219.8}]
["3.22.2.2","TUBO DE COBRE FLEXIVEL, D = 3/8 \", E = 0,79 MM, PARA AR-CONDICIONADO/ INSTALACOES GAS RESIDENCIAIS E COMERCIAIS","M     ",131,49.37,6467.47]
["3.22.2.3","TUBO DE COBRE FLEXIVEL, D = 1/2 \", E = 0,79 MM, PARA AR-CONDICIONADO/ INSTALACOES GAS RESIDENCIAIS E COMERCIAIS","M     ",39,66.98,2612.2199999999998]
["3.22.2.4","TUBO DE COBRE FLEXIVEL, D = 5/8 \", E = 0,79 MM, PARA AR-CONDICIONADO/ INSTALACOES GAS RESIDENCIAIS E COMERCIAIS","M     ",127,83.3,10579.1]
["3.22.2.5","TUBO EM COBRE FLEXÍVEL, DN (3/4\"x1,00mm), COM ISOLAMENTO, INSTALADO EM RAMAL DE ALIMENTAÇÃO DE AR CONDICIONADO COM CONDENSADORA CENTRAL FORNECIMENTO E INSTALAÇÃO","M",35,195.61,6846.35]
["3.22.2.6","TUBO EM COBRE FLEXÍVEL, DN (7/8\" x 1,60mm), COM ISOLAMENTO, INSTALADO EM RAMAL DE ALIMENTAÇÃO DE AR CONDICIONADO COM CONDENSADORA CENTRAL FORNECIMENTO E INSTALAÇÃO","M",13,267.18,3473.34]
["3.22.2.7","TUBO EM COBRE FLEXÍVEL, DN (1.1/8\" x 1,60mm), COM ISOLAMENTO, INSTALADO EM RAMAL DE ALIMENTAÇÃO DE AR CONDICIONADO COM CONDENSADORA CENTRAL FORNECIMENTO E INSTALAÇÃO","M",29,323.95,9394.5499999999993]
["3.22.2.8","TUBO EM COBRE FLEXÍVEL, DN (1.3/8\" x 1,60mm), COM ISOLAMENTO, INSTALADO EM RAMAL DE ALIMENTAÇÃO DE AR CONDICIONADO COM CONDENSADORA CENTRAL FORNECIMENTO E INSTALAÇÃO","M",33,389.47,12852.51]
["3.22.2.9","REVESTIMENTO DE TUBULAÇÃO FRIGORÍGENA EXTERNA COM FITA PVC BRANCA ","M",50,18.14,907]
["3.22.2.10","FORNECIMENTO DE GÁS NITROGÊNIO","M3",45,71.94,3237.3]
["3.22.2.11","FORNECIMENTO DE GÁS REFRIGERANTE R-410A","KG",27,79.16,2137.3200000000002]
["3.22.2.12","FORNECIMENTO E INSTALAÇÃO DE VÁLVULAS DE BLOQUEIO ESFERA PARA CONEXÃO ENTRE REDE FRIGORÍGENA E EVAPORADORA LL: Ø1/4\" E LS: Ø1/2\" - REF. GBC \"FULL PORT\"","UN",4,353,1412]
["3.22.2.13","FORNECIMENTO E INSTALAÇÃO DE VÁLVULAS DE BLOQUEIO ESFERA PARA CONEXÃO ENTRE REDE FRIGORÍGENA E EVAPORADORA LL: Ø3/8\" E LS: Ø5/8\" - REF. GBC \"FULL PORT\"","UN",21,370.42,7778.82]
["3.22.2.14","INSTALAÇÃO DE DERIVADOR EM \"Y\" ISOLADO TERMICAMENTE PARA REDE FRIGORÍGENA DO SISTEMA VRF - REF. LG ARBLN01621","UN",6,2.86,17.16]
["3.22.2.15","FORNECIMENTO E INSTALAÇÃO DE DERIVADOR EM \"Y\" ISOLADO TERMICAMENTE PARA REDE FRIGORÍGENA DO SISTEMA VRF - REF. LG ARBLN03321","UN",2,1091.77,2183.54]
["3.22.2.16","INSTALAÇÃO DE DERIVADOR EM \"Y\" ISOLADO TERMICAMENTE PARA REDE FRIGORÍGENA DO SISTEMA VRF - REF. LG ARBLN03321","UN",5,2.86,14.3]
["3.22.2.17","FORNECIMENTO E INSTALAÇÃO DE DERIVADOR EM \"Y\" ISOLADO TERMICAMENTE PARA REDE FRIGORÍGENA DO SISTEMA VRF - REF. LG ARBLN07121","UN",1,1201.8900000000001,1201.8900000000001]
["3.22.2.18","INSTALAÇÃO DE DERIVADOR EM \"Y\" ISOLADO TERMICAMENTE PARA REDE FRIGORÍGENA DO SISTEMA VRF - REF. LG ARBLN07121","UN",6,2.86,17.16]
["3.22.2.19","INSTALAÇÃO DE DERIVADOR EM \"Y\" ISOLADO TERMICAMENTE PARA REDE FRIGORÍGENA DO SISTEMA VRF - REF. LG ARBLN14521","UN",3,2.86,8.58]
["3.22.2.20","FORNECIMENTO E INSTALAÇÃO DE DERIVADOR EM \"Y\" ISOLADO TERMICAMENTE PARA REDE FRIGORÍGENA DO SISTEMA VRF - REF. LG ARCNN21","UN",1,1458.82,{"$f":"ROUND(D567*E567,2)","v":1458.82}]
["3.22.2.21","INSTALAÇÃO DE DERIVADOR EM \"Y\" ISOLADO TERMICAMENTE PARA REDE FRIGORÍGENA DO SISTEMA VRF - REF. LG ARCNN21","UN",1,2.86,2.86]
["3.22.2.22","FORNECIMENTO E INSTALAÇÃO DE GRELHA DE VENTILAÇÃO, 225x125mm - REF. TROX AT-AG","UN",5,213.64,1068.2]
["3.22.2.23","FORNECIMENTO E INSTALAÇÃO DE GRELHA DE VENTILAÇÃO, 225x165mm - REF. TROX AT-AG","UN",1,225.63,225.63]
["3.22.2.24","FORNECIMENTO E INSTALAÇÃO DE GRELHA DE VENTILAÇÃO, 225x225mm - REF. TROX AT-AG","UN",15,247.9,3718.5]
["3.22.2.25","FORNECIMENTO E INSTALAÇÃO DE GRELHA DE VENTILAÇÃO, 325x225mm - REF. TROX AT-AG","UN",6,299.29000000000002,1795.74]
["3.22.2.26","FORNECIMENTO E INSTALAÇÃO DE VENEZIANA DE CAPTAÇÃO DE AR, 385x330mm - REF. TROX AWG","UN",11,426.04,4686.4399999999996]
["3.22.2.27","FORNECIMENTO E INSTALAÇÃO DE GRELHA DE EXAUSTÃO, 325x165mm - REF. TROX AR-AG","UN",1,271.88,271.88]
["3.22.2.28","INSTALAÇÃO DE DUTO EM CHAPA DE AÇO GALVANIZADO - #26 (4,00 KG/M2), INCLUSIVE ELEMENTOS DE FIXAÇÃO E SUPORTES","M2",95,148.5,14107.5]
["3.22.2.29","FORNECIMENTO E INSTALAÇÃO DE DUTO EM CHAPA DE AÇO GALVANIZADO - #26 (4,00 KG/M2), INCLUSIVE ELEMENTOS DE FIXAÇÃO E SUPORTES","M2",35,275.33999999999997,9636.9]
["3.22.2.30","FORNECIMENTO E INSTALAÇÃO DE DUTO FLEXÍVEL CIRCULAR, SEM ISOLAMENTO TÉRMICO, DIÂMETRO DE 04\" COM COLARINHO - REF.: MULTIVAC ALUDEC 60","M",12,92.8,1113.5999999999999]
["3.22.2.31","FORNECIMENTO E INSTALAÇÃO DE DUTO FLEXÍVEL CIRCULAR, SEM ISOLAMENTO TÉRMICO, DIÂMETRO DE 05\" COM COLARINHO - REF.: MULTIVAC ALUDEC 60","M",4,101.98,407.92]
["3.22.2.32","FORNECIMENTO E INSTALAÇÃO DE DUTO FLEXÍVEL CIRCULAR,  SEM ISOLAMENTO TÉRMICO, DIÂMETRO DE 06\" COM COLARINHO - REF.: MULTIVAC ALUDEC 60","M",30,112.51,3375.3]
["3.22.2.33","FORNECIMENTO E INSTALAÇÃO DE DUTO FLEXÍVEL CIRCULAR, SEM ISOLAMENTO TÉRMICO, DIÂMETRO DE 07\" COM COLARINHO - REF.: MULTIVAC ALUDEC 60","M",40,123.51,4940.3999999999996]
["3.22.2.34","FORNECIMENTO E INSTALAÇÃO DE DUTO FLEXÍVEL CIRCULAR,  SEM ISOLAMENTO TÉRMICO, DIÂMETRO DE 08\" COM COLARINHO - REF.: MULTIVAC ALUDEC 60","M",4,135.44999999999999,541.79999999999995]
[]
["3.22.3","INSTALAÇÕES ELÉTRICAS",null,null,null,{"$f":"SUBTOTAL(9,F584:F588)","v":11255.5}]
["3.22.3.1","ELETRODUTO DE AÇO GALVANIZADO, CLASSE LEVE, DN 20 MM (3/4\u0092\u0092), APARENTE, INSTALADO EM PAREDE - FORNECIMENTO E INSTALAÇÃO. AF_11/2016_P","M",120,28.04,{"$f":"ROUND(D584*E584,2)","v":3364.8}]
["3.22.3.2","FORNECIMENTO E INSTALAÇÃO DE CABO SHIELDADO 3x1,00mm² - 70°C-500V","M",250,12.69,3172.5]
["3.22.3.3","FORNECIMENTO E INSTALAÇÃO DE CABO PP FLEXÍVEL 3x1,5mm²","M",150,12.19,1828.5]
["3.22.3.4","FORNECIMENTO E INSTALAÇÃO DE CABO PP FLEXÍVEL 5x2,5mm²","M",10,19.95,{"$f":"ROUND(D587*E587,2)","v":199.5}]
["3.22.3.5","VARIADOR DE VELOCIDADE PARA UNIDADE VENTILADORA, INCLUINDO SUPORTE E PLACA - FORNECIMENTO E INSTALAÇÃO","UN",10,269.02,2690.2]
[]
["3.22.4","EQUIPAMENTOS",null,null,null,{"$f":"SUBTOTAL(9,F591:F605)","v":60909.819999999992}]
["3.22.4.1","INSTALAÇÃO DE EQUIPAMENTO DO SISTEMA VRF, UNIDADE EVAPORADORA, CONFIGURAÇÃO DE PAREDE, CAPACIDADE DE 12.300 BTU/H, INCLUIDO CONTROLE REMOTO - REF. LG CRNU12GSJN4","UN",3,614.44000000000005,{"$f":"ROUND(D591*E591,2)","v":1843.32}]
["3.22.4.2","INSTALAÇÃO DE EQUIPAMENTO DO SISTEMA VRF, UNIDADE EVAPORADORA, CONFIGURAÇÃO DE PAREDE, CAPACIDADE DE 15.400 BTU/H, INCLUIDO CONTROLE REMOTO - REF. LG CRNU15GSJN4","UN",1,614.44000000000005,614.44000000000005]
["3.22.4.3","INSTALAÇÃO DE EQUIPAMENTO DO SISTEMA VRF, UNIDADE EVAPORADORA, CONFIGURAÇÃO CASSETE 4 VIAS, CAPACIDADE DE 24.200 BTU/H, INCLUIDO PAINEL EXTERNO E CONTROLE REMOTO - REF. LG CRNU24GTPA4","UN",2,937.66,1875.32]
["3.22.4.4","INSTALAÇÃO DE EQUIPAMENTO DO SISTEMA VRF, UNIDADE EVAPORADORA, CONFIGURAÇÃO CASSETE 4 VIAS, CAPACIDADE DE 28.000 BTU/H, INCLUIDO PAINEL EXTERNO E CONTROLE REMOTO - REF. LG CRNU28GTPA4","UN",14,1085.1300000000001,15191.82]
["3.22.4.5","INSTALAÇÃO DE EQUIPAMENTO DO SISTEMA VRF, UNIDADE EVAPORADORA, CONFIGURAÇÃO CASSETE 4 VIAS, CAPACIDADE DE 42.000 BTU/H, INCLUIDO PAINEL EXTERNO E CONTROLE REMOTO - REF. LG CRNU42GTMA4","UN",4,1183.44,4733.76]
["3.22.4.6","INSTALAÇÃO DE EQUIPAMENTO DO SISTEMA VRF, UNIDADE EVAPORADORA, CONFIGURAÇÃO CASSETE 4 VIAS, CAPACIDADE DE 48.100 BTU/H, INCLUIDO PAINEL EXTERNO E CONTROLE REMOTO - REF. LG CRNU48GTMA4","UN",1,1183.44,1183.44]
["3.22.4.7","INSTALAÇÃO DE EQUIPAMENTO DO SISTEMA VRF, UNIDADE CONDENSADORA MODULAR, CONFIGURAÇÃO VERTICAL, CAPACIDADE DE 324.800 BTU/H, INCLUIDO CALÇO AMORTECEDOR - REF. LG CRUN340BTE5 - MÓDULOS CRUN200BTE5 E CRUN140BTE5","UN",2,5911.23,11822.46]
["3.22.4.8","FORNECIMENTO E INSTALAÇÃO DE EQUIPAMENTO SPLIT INVERTER, CONFIGURAÇÃO DE PAREDE E CONDENSADORA DE DESCARGA HORIZONTAL, CAPACIDADE DE 18.000 BTU/H - REF. LG S4NQ18KL31A/S4UQ18KL31A","UN",1,6433.68,6433.68]
["3.22.4.9","INSTALAÇÃO DE VENTILADOR TIPO \"IN LINE\", VAZÃO MÁXIMA DE 188 M3/H, PRESSÃO ESTÁTICA DE 28mmca  E FILTRO G4 - REF. SICFLUX ACI 100","UN",2,1381.35,2762.7]
["3.22.4.10","INSTALAÇÃO DE VENTILADOR TIPO \"IN LINE\", VAZÃO MÁXIMA DE 268 M3/H, PRESSÃO ESTÁTICA DE 30mmca  E FILTRO G4 - REF. SICFLUX ACI 125","UN",1,1387.61,{"$f":"ROUND(D600*E600,2)","v":1387.61}]
["3.22.4.11","INSTALAÇÃO DE VENTILADOR TIPO \"IN LINE\", VAZÃO MÁXIMA DE 453 M3/H, PRESSÃO ESTÁTICA DE 30mmca  E FILTRO G4 - REF. SICFLUX ACI 150","UN",1,1636.85,1636.85]
["3.22.4.12","INSTALAÇÃO DE VENTILADOR TIPO \"IN LINE\", VAZÃO MÁXIMA DE 753 M3/H, PRESSÃO ESTÁTICA DE 39mmca  E FILTRO G4 - REF. SICFLUX ACI 200","UN",2,1655.69,3311.38]
["3.22.4.13","INSTALAÇÃO DE VENTILADOR TIPO \"IN LINE\", VAZÃO MÁXIMA DE 905 M3/H, PRESSÃO ESTÁTICA DE 43mmca  E FILTRO G4 - REF. SICFLUX ACI 250","UN",3,1762.52,5287.56]
["3.22.4.14","INSTALAÇÃO DE VENTILADOR TIPO \"IN LINE\", VAZÃO MÁXIMA DE 1200 M3/H, PRESSÃO ESTÁTICA DE 55mmca  E FILTRO G4 - REF. SICFLUX ACI 315","UN",1,2124.83,2124.83]
["3.22.4.15","INSTALAÇÃO DE VENTILADOR TIPO \"IN LINE\", VAZÃO MÁXIMA DE 275 M3/H, PRESSÃO ESTÁTICA DE 34mmca - REF. SICFLUX ACI 100","UN",1,700.65,700.65]
[]
["3.23","INFRAESTRUTURA PARA INSTALAÇÃO DE AUDIO E VÍDEO",null,null,null,{"$f":"SUBTOTAL(9,F608:F648)","v":41778.240000000005}]
["3.23.1","ACESSÓRIOS P/ELETRODUTO E USO GERAL",null,null,null,{"$f":"SUBTOTAL(9,F609:F627)","v":9982.81}]
["3.23.1.1","FORNECIMENTO E INSTALAÇÃO DE ABRAÇADEIRA DE AÇO, TIPO D, 3/4\", COM CUNHA","UN",115,6.59,{"$f":"ROUND(D609*E609,2)","v":757.85}]
["3.23.1.2","FORNECIMENTO E INSTALAÇÃO DE ABRAÇADEIRA DE AÇO, TIPO D, 1\", COM CUNHA","UN",35,6.75,236.25]
["3.23.1.3","FORNECIMENTO E INSTALAÇÃO DE BUCHA E ARRUELA ALUMÍNIO FUNDIDO PARA ELETRODUTO (ZAMAK) 3/4\"","UN",94,2.0299999999999998,190.82]
["3.23.1.4","FORNECIMENTO E INSTALAÇÃO DE BUCHA E ARRUELA ALUMÍNIO FUNDIDO PARA ELETRODUTO (ZAMAK) 1\"","UN",7,2.41,16.87]
["3.23.1.5","FORNECIMENTO E INSTALAÇÃO DE BOX RETO PARA ELETRODUTO 3/4\"","UN",7,5.68,39.76]
["3.23.1.6","FORNECIMENTO E INSTALAÇÃO DE BOX RETO PARA ELETRODUTO 1\"","UN",7,8.0399999999999991,56.28]
["3.23.1.7","FORNECIMENTO E INSTALAÇÃO DE CONECTOR RETO DE ALUMÍNIO P/ ELETRODUTO 3/4\"","UN",94,3.38,317.72000000000003]
["3.23.1.8","FORNECIMENTO E INSTALAÇÃO DE CONECTOR RETO DE ALUMÍNIO P/ ELETRODUTO 1\"","UN",7,4.93,34.51]
["3.23.1.9","CONDULETE DE ALUMÍNIO, TIPO X, PARA ELETRODUTO DE AÇO GALVANIZADO DN 20 MM (3/4''), APARENTE - FORNECIMENTO E INSTALAÇÃO. AF_11/2016_P","UN",47,38.119999999999997,1791.64]
["3.23.1.10","CONDULETE DE ALUMÍNIO, TIPO X, PARA ELETRODUTO DE AÇO GALVANIZADO DN 25 MM (1''), APARENTE - FORNECIMENTO E INSTALAÇÃO. AF_11/2016_P","UN",7,42.58,298.06]
["3.23.1.11","CAIXA RETANGULAR 4\" X 2\" PVC - FORNECIMENTO E INSTALAÇÃO. ","UN",14,8.9600000000000009,125.44]
["3.23.1.12","FORNECIMENTO E INSTALAÇÃO DE PLACA CEGA PVC 4X2\"","UN",7,4.82,33.74]
["3.23.1.13","FORNECIMENTO E INSTALAÇÃO DE ARAME AÇO GALVANIZADO 18 BWG, 1,24MM (0,009 KG/M)","M",111,0.77,85.47]
["3.23.1.14","FORNECIMENTO E INSTALAÇÃO DE ARRUELA LISA GALVANIZADA 1/4\"","UN",345,0.59,203.55]
["3.23.1.15","FORNECIMENTO E INSTALAÇÃO DE BUCHA / PARAFUSO S8","UN",234,4.4400000000000004,1038.96]
["3.23.1.16","FORNECIMENTO E INSTALAÇÃO DE CHUMBADOR PARABOLT AÇO 1/4\" X 3\"","UN",143,13.59,1943.37]
["3.23.1.17","FORNECIMENTO E INSTALAÇÃO DE PORCA SEXTAVADA GALVAN. 1/4\"","UN",345,0.42,144.9]
["3.23.1.18","FORNECIMENTO E INSTALAÇÃO DE VERGALHÃO GALVANIZADO ROSCA TOTAL 1/4\"","M",115,17.8,2047]
["3.23.1.19","SUPORTE MÃO FRANCESA EM AÇO, ABAS IGUAIS 30 CM, CAPACIDADE MINIMA 60 KG, BRANCO - FORNECIMENTO E INSTALAÇÃO. AF_01/2020","UN",14,44.33,620.62]
[null,""]
["3.23.2","CABOS",null,null,null,{"$f":"SUBTOTAL(9,F630:F633)","v":3568.87}]
["3.23.2.1","FORNECIMENTO E INSTALAÇÃO DE CABO POLARIZADO, PARA SONORIZAÇÃO 2X1,5MM² - BICOLOR","M",240,5.98,{"$f":"ROUND(D630*E630,2)","v":1435.2}]
["3.23.2.2","FORNECIMENTO E INSTALÇÃO DE CABO HDMI 4K ULTRA HD BLINDADO COM FILTRO 1,5M","UN",7,68.599999999999994,480.2]
["3.23.2.3","FORNECIMENTO E INSTALÇÃO DE CABO HDMI 4K ULTRA HD BLINDADO COM FILTRO 15M","UN",7,224,1568]
["3.23.2.4","FORNECIMENTO E INSTALAÇÃO DE CABO DE ÁUDIO BALANCEADO CONECTORES: P2 MACHO X P2 MACHO - 2 METROS","UN",7,12.21,85.47]
[null,""]
["3.23.3","DISPOSITIVO MULTIMIDIA",null,null,null,{"$f":"SUBTOTAL(9,F636:F638)","v":3768.1}]
["3.23.3.1","FORNECIMENTO E INSTALAÇÃO DE RACK METÁLICO 2U, COM TAMPA E CHAVE","UN",7,336.95,{"$f":"ROUND(D636*E636,2)","v":2358.65}]
["3.23.3.2","FORNECIMENTO E INSTALAÇÃO DE SUPORTE UNIVERSAL PARA PROJETOR - PROLONGADOR","UN",7,153.18,1072.26]
["3.23.3.3","FORNECIMENTO E INSTALAÇÃO DE CONECTOR KEYSTONE HDMI FÊMEA X FÊMEA, EM MÓDULO PVC BRANCO","UN",7,48.17,337.19]
[null,""]
["3.23.4","ELETRODUTOS",null,null,null,{"$f":"SUBTOTAL(9,F641:F643)","v":1868.19}]
["3.23.4.1","ELETRODUTO FLEXÍVEL CORRUGADO, PVC, DN 25 MM (3/4\") - FORNECIMENTO E INSTALAÇÃO. ","M",21,6.19,{"$f":"ROUND(D641*E641,2)","v":129.99}]
["3.23.4.2","ELETRODUTO FLEXÍVEL CORRUGADO, PVC, DN 32 MM (1\") - FORNECIMENTO E INSTALAÇÃO. ","M",69,8.7200000000000006,{"$f":"ROUND(D642*E642,2)","v":601.67999999999995}]
["3.23.4.3","ELETRODUTO RÍGIDO ROSCÁVEL, PVC, DN 25 MM (3/4\") - FORNECIMENTO E INSTALAÇÃO. ","M",132,8.61,{"$f":"ROUND(D643*E643,2)","v":1136.52}]
[null,""]
["3.23.5","EQUIPAMENTOS E ACESSÓRIOS",null,null,null,{"$f":"SUBTOTAL(9,F646:F648)","v":22590.27}]
["3.23.5.1","FORNECIMENTO E INSTALAÇÃO DE MODULO AMPLIFICADOR COM POTÊNCIA DE 30 WRMS, COM ENTRADA DE MICROFONE E AUXILIAR COM CONTROLES DE VOLUMES INDEPENDENTES, CONTROLE DE GRAVE E AGUDO (REF.: SLIM 1000 OU SIMILAR)","UN",5,921.43,{"$f":"ROUND(D646*E646,2)","v":4607.1499999999996}]
["3.23.5.2","FORNECIMENTO E INSTALAÇÃO DE MODULO AMPLIFICADOR COM POTÊNCIA DE 200 WRMS, COM ENTRADA DE MICROFONE E AUXILIAR COM CONTROLES DE VOLUMES INDEPENDENTES, CONTROLE DE GRAVE E AGUDO (REF.: SLIM 3000 OU SIMILAR)","UN",2,1618.94,{"$f":"ROUND(D647*E647,2)","v":3237.88}]
["3.23.5.3","FORNECIMENTO E INSTALAÇÃO DE SONOFLETOR CIRCULAR 6\" DE EMBUTIR EM FORRO, COM TELA, COR BRANCA, SENSIBILIDADE MÍNIMA DE 89DB, POTÊNCIA DE 30W OU SUPERIOR, RESP. FREQUENCIA 50HZ A 20KHZ (JBL SELENIUM 6CO2R OU SIMILAR)","UN",36,409.59,{"$f":"ROUND(D648*E648,2)","v":14745.24}]
[]
["3.24","INSTALAÇÕES HIDRAULICAS ",null,null,null,{"$f":"SUBTOTAL(9,F651:F651)","v":0}]
[]
["3.25","ÁGUAS PLUVIAIS DE COBERTURA",null,null,null,{"$f":"SUBTOTAL(9,F653:F670)","v":67570.51999999999}]
["3.25.1","CALHA EM CHAPA DE AÇO GALVANIZADO NÚMERO 24, DESENVOLVIMENTO DE 50 CM, INCLUSO TRANSPORTE VERTICAL. AF_07/2019","M",137,95.08,{"$f":"ROUND(D653*E653,2)","v":13025.96}]
["3.25.2","RUFO C/ PINGADEIRA BLOCO A LADO C/ CALHA - CHAPA EM AÇO GALVANIZADO 0,50MM, CORTE 80 CM PARA FECHAMENTO INTERNO E TOPO DE PLATIBANDA, incluso acessórios para fixação e vedação -  ACESSO BLOCO B ao C.","M",31.49,113.19,{"$f":"ROUND(D654*E654,2)","v":3564.35}]
["3.25.3","REDUÇÃO EXCÊNTRICA, PVC, SERIE R, ÁGUA PLUVIAL, DN 150 X 100 MM, JUNTA ELÁSTICA, FORNECIDO E INSTALADO EM CONDUTORES VERTICAIS DE ÁGUAS PLUVIAIS. AF_12/2014","UN",19,91.29,1734.51]
["3.25.4","CURVA 87 GRAUS E 30 MINUTOS, PVC, SERIE R, ÁGUA PLUVIAL, DN 150 MM, JUNTA ELÁSTICA, FORNECIDO E INSTALADO EM CONDUTORES VERTICAIS DE ÁGUAS PLUVIAIS. AF_12/2014","UN",26,202.27,5259.02]
["3.25.5","CURVAR 45 GRAUS, PVC, SERIE R, ÁGUA PLUVIAL, DN 100 MM, JUNTA ELÁSTICA, FORNECIDO E INSTALADO EM RAMAL DE ENCAMINHAMENTO. AF_12/2014","UN",9,42.54,382.86]
["3.25.6","CURVA LONGA PVC, PB, JE, 45 GRAUS, DN 150 MM, PARA REDE COLETORA ESGOTO (NBR 10569)","UN    ",3,242.37,727.11]
["3.25.7","JOELHO 90 GRAUS, PVC, SERIE R, ÁGUA PLUVIAL, DN 100 MM, JUNTA ELÁSTICA, FORNECIDO E INSTALADO EM RAMAL DE ENCAMINHAMENTO. AF_12/2014","UN",11,49.03,539.33000000000004]
["3.25.8","JOELHO 90 GRAUS, PVC, SERIE R, ÁGUA PLUVIAL, DN 150 MM, JUNTA ELÁSTICA, FORNECIDO E INSTALADO EM CONDUTORES VERTICAIS DE ÁGUAS PLUVIAIS. AF_12/2014","UN",3,153.1,459.3]
["3.25.9","JUNÇÃO SIMPLES, PVC, SERIE R, ÁGUA PLUVIAL, DN 150 X 150 MM, JUNTA ELÁSTICA, FORNECIDO E INSTALADO EM CONDUTORES VERTICAIS DE ÁGUAS PLUVIAIS. AF_12/2014","UN",2,266.33999999999997,532.67999999999995]
["3.25.10","JUNÇÃO SIMPLES, PVC, SERIE R, ÁGUA PLUVIAL, DN 150 X 100 MM, JUNTA ELÁSTICA, FORNECIDO E INSTALADO EM CONDUTORES VERTICAIS DE ÁGUAS PLUVIAIS. AF_12/2014","UN",1,222.88,222.88]
["3.25.11","LUVA SIMPLES, PVC, SERIE R, ÁGUA PLUVIAL, DN 100 MM, JUNTA ELÁSTICA, FORNECIDO E INSTALADO EM RAMAL DE ENCAMINHAMENTO. AF_12/2014","UN",64,28.59,1829.76]
["3.25.12","LUVA SIMPLES, PVC, SERIE R, ÁGUA PLUVIAL, DN 150 MM, JUNTA ELÁSTICA, FORNECIDO E INSTALADO EM CONDUTORES VERTICAIS DE ÁGUAS PLUVIAIS. AF_12/2014","UN",33,83.34,2750.22]
["3.25.13","TUBO PVC, SÉRIE R, ÁGUA PLUVIAL, DN 100 MM, FORNECIDO E INSTALADO EM RAMAL DE ENCAMINHAMENTO. AF_12/2014","M",160.52000000000001,71.709999999999994,11510.89]
["3.25.14","TUBO PVC, SÉRIE R, ÁGUA PLUVIAL, DN 150 MM, FORNECIDO E INSTALADO EM CONDUTORES VERTICAIS DE ÁGUAS PLUVIAIS. AF_12/2014","M",87,94.31,8204.9699999999993]
["3.25.15","TUBO DE CONCRETO PARA REDES COLETORAS DE ÁGUAS PLUVIAIS, DIÂMETRO DE 400 MM, JUNTA RÍGIDA, INSTALADO EM LOCAL COM BAIXO NÍVEL DE INTERFERÊNCIAS - ASSENTAMENTO (MATERIAL FORNECIDO PELO SESI)","M",30,45.87,1376.1]
["3.25.16","POÇO DE VISITA EM ANEL DE CONCRETO,BALÃO DE 0,60 M (DI), PROFUNDIDADE ATÉ 1,20 M, INCLUSIVE TAMPÃO TD-600","UND",1,1731.56,1731.56]
["3.25.17","IMPERMEABILIZAÇÃO DE SUPERFÍCIE COM EMULSÃO ASFÁLTICA, 2 DEMÃOS - NAS CALHAS DE CONCRETO EXISTENTE","M2",200,58.1,11620]
["3.25.18","TUBO DRENO, CORRUGADO, ESPIRALADO, FLEXIVEL, PERFURADO, EM POLIETILENO DE ALTA DENSIDADE (PEAD), DN 100 MM, (4\") PARA DRENAGEM ","M",58,36.19,2099.02]
[]
["3.26","INSTALAÇÕES SANITÁRIAS",null,null,null,{"$f":"SUBTOTAL(9,F673:F673)","v":0}]
[]
["3.27","LOUÇAS E METÁIS",null,null,null,{"$f":"SUBTOTAL(9,F675:F686)","v":14769.019999999999}]
["3.27.1","CABIDEIRO 20160 EVIDENCE CROMADO (MARCA DECA, DOCOL OU SIMILAR)- FORNECIMENTO E INSTALAÇÃO","UN",9,33.299999999999997,{"$f":"ROUND(D675*E675,2)","v":299.7}]
["3.27.2","CUBA DE EMBUTIR OVAL EM LOUÇA BRANCA, 35 X 50CM OU EQUIVALENTE - FORNECIMENTO E INSTALAÇÃO. AF_01/2020","UN",12,176.04,{"$f":"ROUND(D676*E676,2)","v":2112.48}]
["3.27.3","VÁLVULA EM METAL CROMADO 1.1/2\u0094 X 1.1/2\u0094 PARA TANQUE OU LAVATÓRIO, COM OU SEM LADRÃO - FORNECIMENTO E INSTALAÇÃO. AF_01/2020","UN",12,34.36,{"$f":"ROUND(D677*E677,2)","v":412.32}]
["3.27.4","ENGATE FLEXÍVEL EM PLÁSTICO BRANCO, 1/2\u0094 X 40CM - FORNECIMENTO E INSTALAÇÃO. AF_01/2020","UN",12,12.97,155.63999999999999]
["3.27.5","SIFÃO DO TIPO GARRAFA EM METAL CROMADO 1 X 1.1/2\u0094 - FORNECIMENTO E INSTALAÇÃO. AF_01/2020","UN",12,191.93,2303.16]
["3.27.6","TORNEIRA DE MESA PRESMATIC ECO CROMADA COD 1173, MARCA DECA, DOCOL OU SIMILAR, FORNECIMENTO E INSTALAÇÃO.","UN",12,215.45,2585.4]
["3.27.7","VASO SANITÁRIO INFANTIL LOUÇA BRANCA - FORNECIMENTO E INSTALACAO. AF_01/2020","UN",2,505.75,1011.5]
["3.27.8","VASO SANITARIO SIFONADO CONVENCIONAL COM LOUÇA BRANCA, INCLUSO CONJUNTO DE LIGAÇÃO PARA BACIA SANITÁRIA AJUSTÁVEL - FORNECIMENTO E INSTALAÇÃO. AF_10/2016","UN",8,269.99,2159.92]
["3.27.9","VÁLVULA DE DESCARGA METÁLICA, BASE 1 1/2 \", ACABAMENTO METALICO CROMADO REF. DOCOL OU SIMILAR- FORNECIMENTO E INSTALAÇÃO (VÁLVULA FORNECIDA PELO SESI)","UN",10,132.33000000000001,1323.3]
["3.27.10","ASSENTO SANITÁRIO CONVENCIONAL - FORNECIMENTO E INSTALACAO. AF_01/2020","UN",10,48.02,480.2]
["3.27.11","DUCHA HIGIÊNICA CROMADO REF:  LINK DECA 1984.C.ACT.LNK.CRL, MARCA DECA, DOCOL OU SIMILAR, FORNECIMENTO E INSTALAÇÃO.","UN",5,325.5,1627.5]
["3.27.12","CHUVEIRO ELÉTRICO COMUM CORPO PLÁSTICO, TIPO DUCHA \u0096 FORNECIMENTO E INSTALAÇÃO. AF_01/2020","UN",3,99.3,297.89999999999998]
[]
["3.28","SISTEMA DE TRATAMENTO DE ESGOTO",null,null,null,{"$f":"SUBTOTAL(9,F689)","v":0}]
[]
["3.29","LIMPEZA CONTÍNUA DA OBRA",null,null,null,{"$f":"SUBTOTAL(9,F691)","v":0}]
[]
["3.30","LIMPEZA FINAL PARA ENTREGA",null,null,null,{"$f":"SUBTOTAL(9,F693)","v":3014.16}]
["3.31.1","LIMPEZA FINAL PARA ENTREGA","M2",988.25,3.05,{"$f":"ROUND(D693*E693,2)","v":3014.16}]
[]
["VALOR TOTAL",null,null,null,null,{"$f":"SUBTOTAL(9,F14:F694)","v":1844776.0800000003}]

{"sheet":"4_BLOCO C","index":5,"n_rows":571,"n_cols":6,"rows_kept":571,"cut":false,"hidden":true,"merged":[[10,0,10,5],[0,0,3,2],[0,3,1,5],[2,3,3,3],[2,4,3,4],[2,5,3,5],[4,0,4,5],[5,0,5,5],[6,0,6,5],[7,0,7,5],[8,0,8,5],[9,0,9,5]]}
["                                 PLANILHA ORÇAMENTARIA   ",null,null,"SPN-FF-003"]
[]
[null,null,null,"Folha:              1 de 1","Revisão:      \n02","Data: \n07/10/19"]
[]
["SESI - SERVIÇO SOCIAL DA INDUSTRIA - DR/MT"]
["OBRA: CONTRATAÇÃO DE EMPRESA ESPECIALIZADA PARA CONTINUIDADE DA EXECUÇÃO DA OBRA DE REFORMA E AMPLIAÇÃO DA UNIDADE DO SESI ESCOLA VÁRZEA GRANDE/MT."]
["UNIDADE OPERACIONAL: SESI ESCOLA VÁRZEA GRANDE"]
["ENDEREÇO: AV. DOM ORLANDO CHAVES, N.º 1.086, PONTE NOVA - CRISTO REI         CIDADE: VÁRZEA GRANDE/MT"]
["CONSTRUTORA:"]
["RESPONSÁVEL TÉCNICO:"]
["BASE SINAPI UTILIZADA: 06/2021"]
["ITEM","DESCRIÇÃO","UNID.","QUANT.","Valor UNIT. (R$)","Valor Total (R$)"]
[]
[4,"BLOCO C"]
[]
["4.0","DEMOLIÇÕES E RETIRADAS",null,null,null,{"$f":"SUBTOTAL(9,F17:F35)","v":47451.540000000008}]
["4.0.1","DEMOLIÇÃO",null,null,null,{"$f":"SUBTOTAL(9,F18:F35)","v":47451.540000000008}]
["4.0.1.1","DEMOLIÇÃO DE ALVENARIA DE BLOCO FURADO, DE FORMA MANUAL, SEM REAPROVEITAMENTO. AF_12/2017","M3",5.3,49.97,{"$f":"ROUND(D18*E18,2)","v":264.83999999999997}]
["4.0.1.2","REMOÇÃO DE PINTURA LÁTEX OU TEXTURA (RASPAGEM E/OU LIXAMENTO E/OU ESCOVAÇÃO","M2",936.94999999999993,7.66,7177.04]
["4.0.1.3","REMOÇÃO DE LOUÇAS, DE FORMA MANUAL, SEM REAPROVEITAMENTO, ARMAZENAMENTO EM LOCAL INDICADO PELA FISCALIZAÇÃO","UN",10,10.86,108.6]
["4.0.1.4","REMOÇÃO DE PORTAS, DE FORMA MANUAL, SEM REAPROVEITAMENTO, ARMAZENAMENTO EM LOCAL INDICADO PELA FISCALIZAÇÃO","M2",6.3000000000000007,8.14,51.28]
["4.0.1.5","REMOÇÃO DE JANELAS, DE FORMA MANUAL, SEM REAPROVEITAMENTO, ARMAZENAMENTO EM LOCAL INDICADO PELA FISCALIZAÇÃO","M2",3,30.15,90.45]
["4.0.1.6","REMOÇÃO DE FORROS DE DRYWALL, PVC E FIBROMINERAL, DE FORMA MANUAL, SEM REAPROVEITAMENTO. AF_12/2017","M2",107.32,1.41,151.32]
["4.0.1.7","DEMOLIÇÃO MANUAL DE PISO EM CONCRETO SIMPLES INCLUSIVE LASTRO DE CONCRETO","M2",25.89,34.07,882.07]
["4.0.1.8","DEMOLIÇÃO DE PISO REVESTIDO COM GRANILITE E CONTRAPISO EM CONCRETO, DE FORMA MECANIZADA COM MARTELETE, SEM REAPROVEITAMENTO.","M2",116.92,34.07,3983.46]
["4.0.1.9","DEMOLIÇÃO DE PAVIMENTO INTERTRAVADO, DE FORMA MANUAL, COM REAPROVEITAMENTO. AF_12/2017","M2",828.31000000000006,14,11596.34]
["4.0.1.10","DEMOLIÇÃO DE PILARES E VIGAS EM CONCRETO ARMADO, DE FORMA MECANIZADA COM MARTELETE, SEM REAPROVEITAMENTO. AF_12/2017","M3",27.800000000000004,243.62,{"$f":"ROUND(D27*E27,2)","v":6772.64}]
["4.0.1.11","DEMOLIÇÃO DE LAJES, DE FORMA MECANIZADA COM MARTELETE, SEM REAPROVEITAMENTO. AF_12/2017","M3",8.19,106.24,870.11]
["4.0.1.12","REMOÇÃO DE TELHAS, DE FIBROCIMENTO, METÁLICA E CERÂMICA, DE FORMA MANUAL, SEM REAPROVEITAMENTO. AF_12/2017","M2",107.32,3.12,334.84]
["4.0.1.13","RETIRADA GUARDA-CORPO E CORRIMÃO SEM REAPROVEITAMENTO","M",30.36,8.67,263.22000000000003]
["4.0.1.14","DEMOLIÇÃO DE PISO, SOLEIRAS, BANCADAS EM REVESTIDO DE GRANITO","M2",25.89,20.84,539.54999999999995]
["4.0.1.15","DEMOLIÇÃO DE ARGAMASSAS, DE FORMA MANUAL, SEM REAPROVEITAMENTO. AF_12/2017","M2",160.69999999999999,2.91,467.64]
["4.0.1.16","REMOÇÃO DE TRAMA METÁLICA PARA COBERTURA, DE FORMA MANUAL, SEM REAPROVEITAMENTO. AF_12/2017","M2",107.32,21.25,2280.5500000000002]
["4.0.1.17","REMOÇÃO DE CHAPAS E PERFIS DE DRYWALL, DE FORMA MANUAL, SEM REAPROVEITAMENTO. AF_12/2017","M2",79,6.51,514.29]
["4.0.1.18","BOTA FORA DE MATERIAL DESCARTADO, D.M.T. = 10 km - (CARGA, TRANSPORTE E DESCARGA MECÂNICA)","M3",189.24999999999997,58.67,11103.3]
[]
["4.1","INSTALAÇÕES DE CANTEIRO",null,null,null,{"$f":"SUBTOTAL(9,F38)","v":0}]
[]
["4.2","ADMINISTRAÇÃO",null,null,null,{"$f":"SUBTOTAL(9,F40)","v":0}]
[]
["4.3","TERRAPLENAGEM",null,null,null,{"$f":"SUBTOTAL(9,F42)","v":0}]
[]
["4.4","FUNDAÇÃO",null,null,null,{"$f":"SUBTOTAL(9,F44:F65)","v":63486.260000000017}]
["4.4.1","FUNDAÇÃO - ESCADA E RAMPA ENTRE OS BLOCOS C / D (DUAS ESCADAS E 01 RAMPA)",null,null,null,{"$f":"SUBTOTAL(9,F45:F53)","v":41469.270000000004}]
["4.4.1.1","ESCAVAÇÃO MECANIZADA PARA BLOCO DE COROAMENTO OU SAPATA, SEM PREVISÃO DE FÔRMA, COM RETROESCAVADEIRA. AF_06/2017","M3",2.4,91.26,{"$f":"ROUND(D45*E45,2)","v":219.02}]
["4.4.1.2","BOTA FORA DE MATERIAL DESCARTADO, D.M.T. = 10 km - (CARGA, TRANSPORTE E DESCARGA MECÂNICA)","M3",3.4,58.67,199.48]
["4.4.1.3","LASTRO COM MATERIAL GRANULAR (PEDRA BRITADA N.1 E PEDRA BRITADA N.2), APLICADO EM PISOS OU LAJES SOBRE SOLO, ESPESSURA DE *10 CM*. AF_07/2019","M3",2.4,142.05000000000001,340.92]
["4.4.1.4","FABRICAÇÃO DE FÔRMA PARA VIGAS, EM CHAPA DE MADEIRA COMPENSADA PLASTIFICADA, E = 18 MM. AF_09/2020","M2",20,129.29,{"$f":"ROUND(D48*E48,2)","v":2585.8000000000002}]
["4.4.1.5","ARMAÇÃO DE BLOCO, VIGA BALDRAME E SAPATA UTILIZANDO AÇO CA-60 DE 5 MM - MONTAGEM. AF_06/2017","KG",255,25.68,6548.4]
["4.4.1.6","ARMAÇÃO DE BLOCO, VIGA BALDRAME OU SAPATA UTILIZANDO AÇO CA-50 DE 6,3 MM - MONTAGEM. AF_06/2017","KG",244,25.13,6131.72]
["4.4.1.7","EPS - BLOCOS PARA ENCHIMENTO","M³",14.5,564.16,8180.32]
["4.4.1.8","CONCRETAGEM DE PILARES, FCK = 25 MPA, COM USO DE BOMBA EM EDIFICAÇÃO COM SEÇÃO MÉDIA DE PILARES MAIOR QUE 0,25 M² - LANÇAMENTO, ADENSAMENTO E ACABAMENTO. AF_12/2015","M3",26.2,656.15,17191.13]
["4.4.1.9","LONA PLASTICA EXTRA FORTE PRETA, E = 200 MICRA PARA IMPERMEABILIZAÇÃO","M2    ",24,3.02,72.48]
[]
["4.4.2","FUNDAÇÃO - ACESSO ENTRE OS  BLOCOS C / D",null,null,null,{"$f":"SUBTOTAL(9,F56:F65)","v":22016.989999999998}]
["4.4.2.1","ESCAVAÇÃO MECANIZADA PARA BLOCO DE COROAMENTO OU SAPATA, SEM PREVISÃO DE FÔRMA, COM RETROESCAVADEIRA. AF_06/2017","M3",5.41,91.26,{"$f":"ROUND(D56*E56,2)","v":493.72}]
["4.4.2.2","BOTA FORA DE MATERIAL DESCARTADO, D.M.T. = 10 km - (CARGA, TRANSPORTE E DESCARGA MECÂNICA)","M3",3.88,58.67,{"$f":"ROUND(D57*E57,2)","v":227.64}]
["4.4.2.3","REATERRO MANUAL DE VALAS COM COMPACTAÇÃO MECANIZADA. AF_04/2016","M3",0.27,27.04,{"$f":"ROUND(D58*E58,2)","v":7.3}]
["4.4.2.4","ESTACAS - ESTACAS RAIZ DE Ø31cm EM SOLO INCLUSIVE A  INJENÇÃO DE ARGAMASSA FCK>20 MPA, INCLUSIVE LANÇAMENTO DE ARMAÇÃO / CONSUMO MÍNIMO DE CIMENTO - 600 kg/m³.","M",32,474.01,{"$f":"ROUND(D59*E59,2)","v":15168.32}]
["4.4.2.5","ESTACAS - ARMAÇÃO DE BLOCO, VIGA BALDRAME E SAPATA UTILIZANDO AÇO CA-60 DE 5 MM - MONTAGEM. AF_06/2017","KG",23,25.68,590.64]
["4.4.2.6","ESTACAS - ARMAÇÃO DE BLOCO, VIGA BALDRAME OU SAPATA UTILIZANDO AÇO CA-50 DE 10 MM - MONTAGEM. AF_06/2017","KG",59,21.99,1297.4100000000001]
["4.4.2.7","BLOCOS - LASTRO COM MATERIAL GRANULAR (PEDRA BRITADA N.1 E PEDRA BRITADA N.2), APLICADO EM PISOS OU LAJES SOBRE SOLO, ESPESSURA DE *10 CM*. AF_07/2019","M3",0.2,142.05000000000001,28.41]
["4.4.2.8","BLOCOS - FABRICAÇÃO, MONTAGEM E DESMONTAGEM DE FÔRMA PARA BLOCO DE COROAMENTO, EM MADEIRA SERRADA, E=25 MM, 1 UTILIZAÇÃO. AF_06/2017","M2",7.84,165.28,1295.8]
["4.4.2.9","BLOCOS - ARMAÇÃO DE BLOCO, VIGA BALDRAME OU SAPATA UTILIZANDO AÇO CA-50 DE 10 MM - MONTAGEM. AF_06/2017","KG",89,21.99,1957.11]
["4.4.2.10","BLOCOS - CONCRETAGEM DE BLOCOS DE COROAMENTO E VIGAS BALDRAMES, FCK 30 MPA, COM USO DE BOMBA \u0096 LANÇAMENTO, ADENSAMENTO E ACABAMENTO. AF_06/2017","M3",1.37,693.9,950.64]
[]
["4.5","IMPERMEABILIZAÇÃO",null,null,null,{"$f":"SUBTOTAL(9,F68)","v":1617.5}]
["4.5.1","IMPERMEABILIZAÇÃO DE SUPERFÍCIE COM EMULSÃO ASFÁLTICA, 2 DEMÃOS AF_06/2018","M2",27.84,58.1,1617.5]
[]
["4.6","ESTRUTURAS DE CONCRETO ARMADO",null,null,null,{"$f":"SUBTOTAL(9,F71:F77)","v":9909.2000000000007}]
["4.6.1","ESTRUTURAS DE CONCRETO ARMADO - ACESSO ENTRE OS  BLOCOS C / D",null,null,null,{"$f":"SUBTOTAL(9,F72:F77)","v":9909.2000000000007}]
["4.6.1.1","PILARES - MONTAGEM E DESMONTAGEM DE FÔRMA DE PILARES RETANGULARES E ESTRUTURAS SIMILARES, PÉ-DIREITO SIMPLES, EM MADEIRA SERRADA, 1 UTILIZAÇÃO. AF_09/2020","M2",10.4,238.53,{"$f":"ROUND(D72*E72,2)","v":2480.71}]
["4.6.1.2","PILARES - ARMAÇÃO DE PILAR OU VIGA DE UMA ESTRUTURA CONVENCIONAL DE CONCRETO ARMADO EM UMA EDIFICAÇÃO TÉRREA UTILIZANDO AÇO CA-60 DE 5,0 MM - MONTAGEM. AF_12/2015","KG",35,25.71,899.85]
["4.6.1.3","PILARES - ARMAÇÃO DE PILAR OU VIGA DE UMA ESTRUTURA CONVENCIONAL DE CONCRETO ARMADO EM UMA EDIFICAÇÃO TÉRREA UTILIZANDO AÇO CA-50 DE 8,0 MM - MONTAGEM. AF_12/2015","KG",5,24.24,121.2]
["4.6.1.4","PILARES - ARMAÇÃO DE PILAR OU VIGA DE UMA ESTRUTURA CONVENCIONAL DE CONCRETO ARMADO EM UMA EDIFICAÇÃO TÉRREA UTILIZANDO AÇO CA-50 DE 10,0 MM - MONTAGEM. AF_12/2015","KG",171,21.93,3750.03]
["4.6.1.5","PILARES - CONCRETAGEM DE PILARES, FCK = 25 MPA, COM USO DE BOMBA EM EDIFICAÇÃO COM SEÇÃO MÉDIA DE PILARES MAIOR QUE 0,25 M² - LANÇAMENTO, ADENSAMENTO E ACABAMENTO. AF_12/2015","M3",4.05,656.15,2657.41]
[]
["4.7","ALVENARIAS E PAINÉIS",null,null,null,{"$f":"SUBTOTAL(9,F79:F83)","v":17471.310000000001}]
["4.7.1","ALVENARIA DE VEDAÇÃO DE BLOCOS CERÂMICOS FURADOS NA HORIZONTAL DE 9X19X19CM (ESPESSURA 9CM) DE PAREDES COM ÁREA LÍQUIDA MAIOR OU IGUAL A 6M² COM VÃOS E ARGAMASSA DE ASSENTAMENTO COM PREPARO EM BETONEIRA. AF_06/2014","M2",115.22,89.93,{"$f":"ROUND(D79*E79,2)","v":10361.73}]
["4.7.2","FORNECIMENTO E INSTALAÇÃO DE PAREDE DE GESSO ACARTONADO ESP. 10CM, FACE DUPLA, COM ISOLAMENTO TERMO-ACÚSTICO DE LÃ DE ROCHA 50MM (CONSUMO CONF. TCPO 04840.8.5.1, MONTANTE M75-0,62kg/m, GUIA 75 )","M2",27.810000000000002,172.28,4791.1099999999997]
["4.7.3","VERGA MOLDADA IN LOCO EM CONCRETO PARA JANELAS COM MAIS DE 1,5 M DE VÃO. AF_03/2016","M",11.2,91.19,1021.33]
["4.7.4","CONTRAVERGA MOLDADA IN LOCO EM CONCRETO PARA VÃOS DE MAIS DE 1,5 M DE COMPRIMENTO. AF_03/2016","M",11.2,82.78,927.14]
["4.7.5","VERGA MOLDADA IN LOCO EM CONCRETO PARA PORTAS COM MAIS DE 1,5 M DE VÃO. AF_03/2016","M",4,92.5,370]
[]
["4.8","ESTRUTURA METALICA",null,null,null,{"$f":"SUBTOTAL(9,F86:F90)","v":33100.51}]
["4.8.1","ESTRUTURA MTÁLICA - DO ACESSO ENTRE OS BLOCOS C / D",null,null,null,{"$f":"SUBTOTAL(9,F87:F89)","v":33100.51}]
["4.8.1.1","ESTRUTURA METALICA DA COBERTURA CONFORME PROJETO EM AÇO ESTRUTURAL","KG",1517.2,18.63,{"$f":"ROUND(D87*E87,2)","v":28265.439999999999}]
["4.8.1.2","PINTURA COM TINTA ALQUÍDICA DE FUNDO (TIPO ZARCÃO) PULVERIZADA SOBRE SUPERFÍCIES METÁLICAS (EXCETO PERFIL) EXECUTADO EM OBRA (POR DEMÃO). AF_01/2020_P","M2",121.21,21.31,2582.9899999999998]
["4.8.1.3","PINTURA COM TINTA ACRÍLICA DE ACABAMENTO PULVERIZADA SOBRE SUPERFÍCIES METÁLICAS (EXCETO PERFIL) EXECUTADO EM OBRA (02 DEMÃOS). AF_01/2020_P","M2",121.21,18.579999999999998,2252.08]
[]
["4.9","COBERTURA",null,null,null,{"$f":"SUBTOTAL(9,F92:F94)","v":30605.32}]
["4.9.1","CUMEEIRA METÁLICA AÇO GALVALUME TRAPEZOIDAL 40 40X60CM - FORNECIMENTO E INSTALAÇÃO","M",56.08,84.19,{"$f":"ROUND(D92*E92,2)","v":4721.38}]
["4.9.2","FORNECIMENTO E INSTALAÇÃO DE TELHA ISOLANTE COM NUCLEO EM POLIESTIRENO (EPS), E = 50 MM, COM PRE-PINTURA NAS DUAS FACES, FACE SUPERIOR EM TELHA DE AÇO TRAPEZOIDAL E=0,50MM E FACE INFERIOR EM CHAPA PLANA E=0,50MM, INCLUSIVE PARAFUSOS E CALAFETAÇÃO COM SELANTE","M2",66.34,297.14,19712.27]
["4.9.3","PLATIBANDA EM CHAPA DE AÇO ESPESSURA 2,00mm, H=870mm, DOBRA CARTOLA: 30X20X970mm, COM METALON DIM. 50X20X0,97mm NA FACE INFERIOR PARA ARREMATE COM O FORRO, FUNDO ANTICORROSIVO EM PRIMER EPÓXI NAS DUAS FACES","M2",24.930000000000003,247.56,6171.67]
[]
["4.10","ESQUADRIAS",null,null,null,{"$f":"SUBTOTAL(9,F97:F108)","v":67363.8}]
["4.10.1","P1, P3 E P5 - PORTA EM ALUMÍNIO DE ABRIR TIPO VENEZIANA COM GUARNIÇÃO, FIXAÇÃO COM PARAFUSOS - FORNECIMENTO E INSTALAÇÃO","M2",18.419999999999998,679.02,{"$f":"ROUND(D97*E97,2)","v":12507.55}]
["4.10.2","P19 - INSTALAÇÃO DE PORTA EM ALUMÍNIO, COM VISOR DE VIDRO, DE ABRIR TIPO VENEZIANA COM GUARNIÇÃO, FIXAÇÃO COM PARAFUSOS.","M2",20.790000000000003,76.38,1587.94]
["4.10.3","P3 - INSTALACAO DE PORTA VENEZIANA DE ABRIR UMA FOLHA EM ALUMÍNIO ANODIZADO NATURAL FOSCO, DIM. 0,80 X 2,10m","M2",13.860000000000001,86.89,1204.3]
["4.10.4","P39 - PORTA DE VIDRO TEMPERADO DE DUAS FOLHAS DE ABRIR 2,20X2,10M INCOLOR  ESP.10MM,  COM MOLA HIDRÁULICA NAS 02 FOLHAS, FERRAGENS CROMADAS E FIXAÇÕES EM PAREDES, PISOS E FORROS CONFORME NORMAS DO FABRICANTE PARA PERFEITO USO E FUNCIONAMENTO, INCLUSO BARRA ANTIPÂNICO DUPLA.","UN",1,4991.97,4991.97]
["4.10.5","BANDEIRAS FIXAS P39 - PAINÉIS (BANDEIRAS) FIXOS EM VIDRO TEMPERADO INCOLOR ESP. 10MM, FERRAGENS CROMADAS E FIXAÇÕES EM PAREDES, PISOS E FORROS CONFORME NORMAS DO FABRICANTE PARA PERFEITO USO E FUNCIONAMENTO","M2",1.9800000000000002,561.64,1112.05]
["4.10.6","V5 - VISOR EM VIDRO TEMPERADO INCOLOR ESPESSURA=8MM COM REQUADRO DE ALUMÍNIO NA COR NATURAL, DIMENSÕES 500X110CM (REF. SINAPI 72119)","UN",11,2367.35,26040.85]
["4.10.7","V4 - VISOR EM VIDRO TEMPERADO INCOLOR ESPESSURA=8MM COM REQUADRO DE ALUMÍNIO NA COR NATURAL, DIMENSÕES 300X100CM","UN",1,1303.98,1303.98]
["4.10.8","J9 - JANELA MAXIM-AR COM ESTRUTURA DE ALUMÍNIO ANODIZADO NATURAL E VIDRO TEMPERADO INCOLOR 6 mm - DIM. 1,00X0,50M, COMPLETA,  INCLUSIVE FERRAGENS, FECHADURA, PUXADORES E  VEDAÇÕES - BANDEIRAS CONFORME PROJETO","UN",4,519.78,2079.12]
["4.10.9","J6 - JANELA MAXIM-AR COM ESTRUTURA DE ALUMÍNIO ANODIZADO NATURAL E VIDRO TEMPERADO INCOLOR 6 mm - DIM. 2,80X2,30M, COMPLETA,  INCLUSIVE FERRAGENS, FECHADURA, PUXADORES E  VEDAÇÕES - BANDEIRAS CONFORME PROJETO","UN",1,4669.5200000000004,4669.5200000000004]
["4.10.10","J15 - JANELA MAXIM-AR COM ESTRUTURA DE ALUMÍNIO ANODIZADO NATURAL E VIDRO ARAMADO INCOLOR 6 mm - DIM. 0,80X0,60M, COMPLETA,  INCLUSIVE FERRAGENS, FECHADURA, PUXADORES E  VEDAÇÕES - BANDEIRAS CONFORME PROJETO","UN",2,558.72,1117.44]
["4.10.11","J2 - JANELA MAXIM-AR COM ESTRUTURA DE ALUMÍNIO ANODIZADO NATURAL E VIDRO TEMPERADO INCOLOR 6 mm - DIM. 2,00X1,50M, COMPLETA,  INCLUSIVE FERRAGENS, FECHADURA, PUXADORES E  VEDAÇÕES - BANDEIRAS CONFORME PROJETO","UN",2,2899.06,5798.12]
["4.10.12","FECHO / FECHADURA COM PUXADOR CONCHA, COM TRANCA TIPO TRAVA, PARA JANELA / PORTA DE CORRER (INCLUI TESTA, FECHADURA, PUXADOR) - COMPLETA - A SEREM INSTALADAS NAS JANELAS EXISTENTES","CJ    ",42,117.88,{"$f":"ROUND(D108*E108,2)","v":4950.96}]
[]
["4.11","PISOS",null,null,null,{"$f":"SUBTOTAL(9,F111:F116)","v":94837}]
["4.11.1","CONTRAPISO DE CONCRETO, ESPESSURA 7CM, PREPARO MECANICO (INCLUSO PISOS EXTERNOS)","M2",70.86,42.03,{"$f":"ROUND(D111*E111,2)","v":2978.25}]
["4.11.2","REVESTIMENTO CERÂMICO PARA PISO COM PLACAS TIPO PORCELANATO DE DIMENSÕES 90X90 CM APLICADA EM AMBIENTES INTERNOS - MODELO ELIANE MUNARI BRANCO AC OU SIMILAR (MATERIAL FORNECIDO PELO SESI)","M2",178.89,40.47,7239.68]
["4.11.3","PISO EM GRANITO APLICADO EM AMBIENTES INTERNOS, FRISADO/ANTIDERRAPANTE - ESCADA E RAMPA ENTRE BLOCO C / D","M2",33.799999999999997,366.52,12388.38]
["4.11.4","RODAPÉ EM GRANITO, ALTURA 10 CM - ESCADA E RAMPA ENTRE BLOCO C / D","M",15.25,66.400000000000006,1012.6]
["4.11.5","EXECUÇÃO DE PASSEIO EM PISO INTERTRAVADO, COM BLOCO RETANGULAR COR NATURAL DE 20 X 10 CM, ESPESSURA 6 CM. AF_12/2015","M2",828.31,85.98,71218.09]
[]
["4.12","REVESTIMENTOS",null,null,null,{"$f":"SUBTOTAL(9,F118:F123)","v":175149.28000000003}]
["4.12.1","CHAPISCO APLICADO EM ALVENARIAS E ESTRUTURAS DE CONCRETO INTERNAS, COM ROLO PARA TEXTURA ACRÍLICA.  ARGAMASSA TRAÇO 1:4 E EMULSÃO POLIMÉRICA (ADESIVO) COM PREPARO EM BETONEIRA 400L. AF_06/2014","M2",341.98,8.59,{"$f":"ROUND(D118*E118,2)","v":2937.61}]
["4.12.2","EMBOÇO OU MASSA ÚNICA EM ARGAMASSA TRAÇO 1:2:8, PREPARO MECÂNICO COM BETONEIRA 400 L, APLICADA MANUALMENTE EM PANOS DE FACHADA COM PRESENÇA DE VÃOS, ESPESSURA DE 25 MM. AF_06/2014","M2",341.98,55.05,18826]
["4.12.3","REVESTIMENTO CERÂMICO PARA PAREDES COM PLACAS TIPO PORCELANATO DE DIMENSÕES 90X90 CM APLICADA EM AMBIENTES INTERNOS - MODELO ELIANE LIMESTONE AREIA POL OU SIMILAR","M2",516.97,197.45,102075.73]
["4.12.4","REVESTIMENTO CERÂMICO PARA PAREDES COM PLACAS TIPO PORCELANATO DE DIMENSÕES 14,5X90 CM APLICADA EM AMBIENTES INTERNOS - MODELO ELIANE LIMESTONE AREIA POL OU SIMILAR","M2",94.277550000000005,409.33,38590.629999999997]
["4.12.5","REVESTIMENTO CERAMICO PORTOBELLO GLACIE WHITE 30X60CM, INCLUSO E REJUNTE - FORNECIMENTO E INSTALAÇÃO (AZULEJO FORNECIDO PELO SESI)","M2",109.35,84.59,9249.92]
["4.12.6","REVESTIMENTO CERÂMICO PARA PAREDES EXTERNAS EM PASTILHAS JATOBÁ DE PORCELANA 5 X 5 CM (PLACAS DE 30 X 30 CM), ALINHADAS A PRUMO, JD. 4102 - PÉROLA OCEANO (JATOBÁ OU SIMILAR)","M2",17.11,202.77,3469.39]
[]
["4.13","GRANITO",null,null,null,{"$f":"SUBTOTAL(9,F126:F129)","v":7848.41}]
["4.13.1","BANCADA DE GRANITO CINZA ANDORINHA, SOBRE MÃOS-FRANCESAS METÁLICAS, ESP=2cm COM FRONTÃO 20cm, SAIA COM ACAB. DE MEIA ESQUADRIA E REFORÇO INFERIOR DE BORDA E CORTE PARA INST. DE CUBAS DE LOUÇA OVAL DE EMBUTIR LOCAL","M2",2.88,782.35,{"$f":"ROUND(D126*E126,2)","v":2253.17}]
["4.13.2","PEITORIL LINEAR EM GRANITO OU MÁRMORE, L = 20CM, COMPRIMENTO DE ATÉ 2M, ASSENTADO COM ARGAMASSA 1:6 COM ADITIVO. AF_11/2020","M",10.6,132.84,1408.1]
["4.13.3","DIVISORIAS SANITARIAS DE BOXES E MICTÓRIOS DE GRANITO CINZA ANDORINHA E=3 CM ASSENTADA C/ ARGAMASSA, NO TRACO 1:4, INCLUSIVE MASSA PLÁSTICA E FERRAGENS","M2",6,672.62,4035.72]
["4.13.4","SOLEIRA EM GRANITO, LARGURA 15 CM, ESPESSURA 2,0 CM. AF_09/2020","M",1.6,94.64,151.41999999999999]
[]
["4.14","FORRO",null,null,null,{"$f":"SUBTOTAL(9,F132:F133)","v":48908.640000000007}]
["4.14.1","FORRO ACÚSTICO DE FIBRA MINERAL 625 MM X 625 MM TEGULAR,  INSTALADOS EM PERFIL \"T\", SUPENSO POR PENDURAIS EM ARRAME GALVANIZADO A CADA 1250X1250MM (PLACAS DE FORRO FORNECIDO PELO SESI)","M2",1227.07,38.880000000000003,{"$f":"ROUND(D132*E132,2)","v":47708.480000000003}]
["4.14.2","FORRO DE PVC, LISO, PARA AMBIENTES COMERCIAIS, INCLUSIVE ESTRUTURA DE FIXAÇÃO. AF_05/2017_P","M2",13.190000000000001,90.99,1200.1600000000001]
[]
["4.15","PINTURA",null,null,null,{"$f":"SUBTOTAL(9,F136:F141)","v":70375.400000000009}]
["4.15.1","APLICAÇÃO DE FUNDO SELADOR ACRÍLICO EM PAREDES, UMA DEMÃO. AF_06/2014","M2",1354.62,2.06,{"$f":"ROUND(D136*E136,2)","v":2790.52}]
["4.15.2","APLICAÇÃO E LIXAMENTO DE MASSA LÁTEX EM PAREDES, DUAS DEMÃOS. AF_06/2014","M2",335.8,14.96,5023.57]
["4.15.3","APLICAÇÃO MANUAL DE PINTURA COM TINTA LÁTEX ACRÍLICA EM PAREDES, DUAS DEMÃOS. AF_06/2014","M2",1354.62,15,{"$f":"ROUND(D138*E138,2)","v":20319.3}]
["4.15.4","TEXTURA ACRÍLICA, APLICAÇÃO MANUAL EM PAREDE, UMA DEMÃO. AF_09/2016","M2",961.87999999999988,15.6,15005.33]
["4.15.5","APLICAÇÃO MANUAL DE TINTA LÁTEX ACRÍLICA EM PAREDE EXTERNAS, DUAS DEMÃOS.","M2",961.87999999999988,15.82,15216.94]
["4.15.6","APLICAÇÃO E LIXAMENTO DE MASSA LÁTEX EM PAREDES, UMA DEMÃO. AF_06/2014","M2",1107.81,10.85,12019.74]
[]
["4.16","CALÇAMENTO, PÁTIOS E PASSARELAS",null,null,null,{"$f":"SUBTOTAL(9,F144)","v":0}]
[]
["4.17","SERVIÇOS COMPLEMENTARES",null,null,null,{"$f":"SUBTOTAL(9,F146:F149)","v":66388.81}]
["4.17.1","ESPELHO  CRISTAL E=4MM, FORNECIMENTO E INSTALAÇÃO","M2",15.57,549.79999999999995,{"$f":"ROUND(D146*E146,2)","v":8560.39}]
["4.17.2","FORNECIMENTO E INSTALAÇÃO DE QUADRO/LOUSA EM VIDRO TEMPERADO LEITOSO 6MM ADESIVADAS COM PELICULA DE SEGURANÇA BRANCA, INCLUSIVE APARADOR PARA CANETA PILOTO 30X10CM, COM BOTOES DE CABECA DE LATAO CROMADO","M2",65.56,379.21,24861.01]
["4.17.3","FORNECIMENTO E INSTALAÇÃO DE GUARDA CORPO H=1,30M, COLUNAS DIÂM. 1 1/2\" A CADA 1M, TUBO HORIZONTAL SUPERIOR E INFERIOR DE DIÂM 1 1/2\", TUBOS VERTICAIS 3/4\" A CADA 11CM E COM CORRIMÃO DUPLO DE Ø 1 1/2\" COM H=0,92CM/H=0,70CM, EM AÇO INÓX - CONFORME PROJETO E MEMORIAL DE ACESSIBILIDADE","M",29.62,998.08,29563.13]
["4.17.4","FORNECIMENTO E INSTALAÇÃO CORRIMÃO DUPLO, H=0,92M E H=0,70M, DIÂMETRO EXTERNO = 1 1/2\", EM AÇO INOX, FIXADO EM PISO.","M",6.6000000000000005,515.79999999999995,3404.28]
[]
["4.18","INSTALAÇÕES DE SPDA",null,null,null,{"$f":"SUBTOTAL(9,F152)","v":0}]
[]
["4.19","INSTALAÇÃO DE COMBATE A INCÊNDIO",null,null,null,{"$f":"SUBTOTAL(9,F154)","v":0}]
[]
["4.20","INSTALAÇÕES ELÉTRICA",null,null,null,{"$f":"SUBTOTAL(9,F156:F377)","v":186041.82999999993}]
["4.20.1","INSTALAÇÕES ELÉTRICA BAIXA TENSÃO",null,null,null,{"$f":"SUBTOTAL(9,F157:F244)","v":125665.38999999998}]
["4.20.1.1","ACESSÓRIOS P/ELETRODUTO E USO GERAL",null,null,null,{"$f":"SUBTOTAL(9,F158:F179)","v":3453.6700000000005}]
["4.20.1.1.1","FORNECIMENTO E INSTALAÇÃO DE ABRAÇADEIRA DE AÇO, TIPO D, 3/4\", COM CUNHA","UN",105,6.59,{"$f":"ROUND(D158*E158,2)","v":691.95}]
["4.20.1.1.2","FORNECIMENTO E INSTALAÇÃO DE ABRAÇADEIRA DE AÇO, TIPO D, 1\", COM CUNHA","UN",50,6.75,337.5]
["4.20.1.1.3","FORNECIMENTO E INSTALAÇÃO DE BUCHA E ARRUELA ALUMÍNIO FUNDIDO PARA ELETRODUTO (ZAMAK) 3/4\"","UN",50,2.0299999999999998,101.5]
["4.20.1.1.4","FORNECIMENTO E INSTALAÇÃO DE BUCHA E ARRUELA ALUMÍNIO FUNDIDO PARA ELETRODUTO (ZAMAK) 1\"","UN",25,2.41,60.25]
["4.20.1.1.5","FORNECIMENTO E INSTALAÇÃO DE BOX RETO PARA ELETRODUTO 3/4\"","UN",10,5.68,56.8]
["4.20.1.1.6","FORNECIMENTO E INSTALAÇÃO DE BOX RETO PARA ELETRODUTO 1\"","UN",10,8.0399999999999991,80.400000000000006]
["4.20.1.1.7","CONDULETE DE ALUMÍNIO, TIPO X, PARA ELETRODUTO DE AÇO GALVANIZADO DN 20 MM (3/4''), APARENTE - FORNECIMENTO E INSTALAÇÃO. AF_11/2016_P","UN",0,38.119999999999997,0]
["4.20.1.1.8","FORNECIMENTO E INSTALAÇÃO DE PRENSA CABO 1/2\"","UN",5,30.33,151.65]
["4.20.1.1.9","CAIXA OCTOGONAL 4\" X 4\" PVC - FORNECIMENTO E INSTALAÇÃO. ","UN",20,11.42,228.4]
["4.20.1.1.10","CAIXA RETANGULAR 4\" X 2\" PVC - FORNECIMENTO E INSTALAÇÃO. ","UN",12,8.9600000000000009,107.52]
["4.20.1.1.11","FORNECIMENTO E INSTALAÇÃO DE PLACA CEGA PVC 4X2\"","UN",2,4.82,9.64]
["4.20.1.1.12","FORNECIMENTO E INSTALAÇÃO DE SAÍDA LATERAL PERFILADO P/ ELETRODUTO 3/4\"","UN",5,18.510000000000002,92.55]
["4.20.1.1.13","FORNECIMENTO E INSTALAÇÃO DE SAÍDA LATERAL PERFILADO P/ ELETRODUTO 1\"","UN",1,14.87,14.87]
["4.20.1.1.14","FORNECIMENTO E INSTALAÇÃO DE ARAME AÇO GALVANIZADO 18 BWG, 1,24MM (0,009 KG/M)","M",111,0.77,85.47]
["4.20.1.1.15","FORNECIMENTO E INSTALAÇÃO DE ARRUELA LISA GALVANIZADA 1/4\"","UN",55,0.59,32.450000000000003]
["4.20.1.1.16","FORNECIMENTO E INSTALAÇÃO DE BUCHA / PARAFUSO S8","UN",110,4.4400000000000004,488.4]
["4.20.1.1.17","FORNECIMENTO E INSTALAÇÃO DE BUCHA / PARAFUSO S10","UN",2,4.75,9.5]
["4.20.1.1.18","FORNECIMENTO E INSTALAÇÃO DE CHUMBADOR PARABOLT AÇO 1/4\" X 3\"","UN",12,13.59,163.08000000000001]
["4.20.1.1.19","FORNECIMENTO E INSTALAÇÃO DE PARAFUSO GALVAN. CABEÇA LENTILHA 1/4X5/8\"","UN",110,4.93,542.29999999999995]
["4.20.1.1.20","FORNECIMENTO E INSTALAÇÃO DE PARAFUSO GALVAN. CABEÇA LOSANGULAR 1/4\"X1\" - AUTO TRAVANTE PERFILADO","UN",12,6.88,82.56]
["4.20.1.1.21","FORNECIMENTO E INSTALAÇÃO DE PORCA SEXTAVADA GALVAN. 1/4\"","UN",24,0.42,10.08]
["4.20.1.1.22","FORNECIMENTO E INSTALAÇÃO DE VERGALHÃO GALVANIZADO ROSCA TOTAL 1/4\"","M",6,17.8,106.8]
[]
["4.20.1.2","CABOS",null,null,null,{"$f":"SUBTOTAL(9,F182:F186)","v":64284.959999999999}]
["4.20.1.2.1","FORNECIMENTO E INSTALAÇÃO DE CABO DE COBRE FLEXÍVEL ISOL. TERMOPLASTICO ATOX 750V - 2,5 MM² (TP SINTENAX PIRELLI OU SIMILAR)","M",6500,4.83,{"$f":"ROUND(D182*E182,2)","v":31395}]
["4.20.1.2.2","FORNECIMENTO E INSTALAÇÃO DE CABO DE COBRE FLEXÍVEL ISOL. TERMOPLASTICO ATOX 750V - 4 MM² (TP SINTENAX PIRELLI OU SIMILAR)","M",1800,7.06,12708]
["4.20.1.2.3","FORNECIMENTO E INSTALAÇÃO DE  CABO DE COBRE FLEXÍVEL ISOLADO, 35 MM², ANTI-CHAMA 0,6/1,0 KV - ATOX","M",39,43.02,1677.78]
["4.20.1.2.4","FORNECIMENTO E INSTALAÇÃO DE  CABO DE COBRE FLEXÍVEL ISOLADO, 70 MM², ANTI-CHAMA 0,6/1,0 KV - ATOX","M",156,117.68,18358.080000000002]
["4.20.1.2.5","FORNECIMENTO E INSTALAÇÃO DE CABO DE COBRE PP 3X2,5MM² - ISOL. TERMOPLASTICO ATOX 750V","M",30,4.87,146.1]
[]
["4.20.1.3","DISPOSITIVO ELÉTRICO EMBUTIDO",null,null,null,{"$f":"SUBTOTAL(9,F189:F198)","v":5656.7199999999993}]
["4.20.1.3.1","CAMPAINHA CIGARRA (1 MÓDULO), 10A/250V, INCLUINDO SUPORTE E PLACA - FORNECIMENTO E INSTALAÇÃO. AF_09/2017","UN",2,41.45,{"$f":"ROUND(D189*E189,2)","v":82.9}]
["4.20.1.3.2","INTERRUPTOR PULSADOR CAMPAINHA (1 MÓDULO), 10A/250V, INCLUINDO SUPORTE E PLACA - FORNECIMENTO E INSTALAÇÃO. AF_09/2017","UN",2,23.23,46.46]
["4.20.1.3.3","INTERRUPTOR SIMPLES (1 MÓDULO), 10A/250V, INCLUINDO SUPORTE E PLACA - FORNECIMENTO E INSTALAÇÃO. AF_12/2015","UN",22,24.35,535.70000000000005]
["4.20.1.3.4","INTERRUPTOR SIMPLES (2 MÓDULOS), 10A/250V, INCLUINDO SUPORTE E PLACA - FORNECIMENTO E INSTALAÇÃO. AF_12/2015","UN",12,38.520000000000003,462.24]
["4.20.1.3.5","INTERRUPTOR PARALELO (1 MÓDULO), 10A/250V, INCLUINDO SUPORTE E PLACA - FORNECIMENTO E INSTALAÇÃO. AF_12/2015","UN",2,30.09,60.18]
["4.20.1.3.6","INTERRUPTOR PARALELO (2 MÓDULOS), 10A/250V, INCLUINDO SUPORTE E PLACA - FORNECIMENTO E INSTALAÇÃO. AF_12/2015","UN",2,49.97,99.94]
["4.20.1.3.7","INTERRUPTOR SIMPLES (1 MÓDULO) COM 1 TOMADA DE EMBUTIR 2P+T 10 A,  INCLUINDO SUPORTE E PLACA - FORNECIMENTO E INSTALAÇÃO. AF_12/2015","UN",4,43.09,172.36]
["4.20.1.3.8","TOMADA DE EMBUTIR (1 MÓDULO), 2P+T 10 A, INCLUINDO SUPORTE E PLACA - FORNECIMENTO E INSTALAÇÃO. AF_12/2015","UN",94,25.73,2418.62]
["4.20.1.3.9","TOMADA DE EMBUTIR (1 MÓDULO), 2P+T 20 A, INCLUINDO SUPORTE E PLACA - FORNECIMENTO E INSTALAÇÃO. AF_12/2015","UN",12,27.91,334.92]
["4.20.1.3.10","TOMADA DE EMBUTIR (2 MÓDULOS), 2P+T 10 A, INCLUINDO SUPORTE E PLACA - FORNECIMENTO E INSTALAÇÃO. AF_12/2015","UN",35,41.24,1443.4]
[]
["4.20.1.4","DISPOSITIVO DE PROTEÇÃO",null,null,null,{"$f":"SUBTOTAL(9,F201:F209)","v":7770.51}]
["4.20.1.4.1","DISJUNTOR MONOPOLAR TIPO DIN, CORRENTE NOMINAL DE 10A - FORNECIMENTO E INSTALAÇÃO. AF_10/2020","UN",11,13.15,{"$f":"ROUND(D201*E201,2)","v":144.65}]
["4.20.1.4.2","DISJUNTOR MONOPOLAR TIPO DIN, CORRENTE NOMINAL DE 16A - FORNECIMENTO E INSTALAÇÃO. AF_10/2020","UN",25,13.72,343]
["4.20.1.4.3","DISJUNTOR BIPOLAR TIPO DIN, CORRENTE NOMINAL DE 16A - FORNECIMENTO E INSTALAÇÃO. AF_10/2020","UN",4,67.28,269.12]
["4.20.1.4.4","FORNECIMENTO E INSTALAÇÃO DE DISJUNTOR TIPO DIN/IEC, TRIPOLAR 100 A  (REF.: MARCA SIEMENS, WEG OU SIMILAR)","UN",1,254.67,254.67]
["4.20.1.4.5","FORNECIMENTO E INSTALAÇÃO DE DISJUNTOR TRIPOLAR TERMOMAGNÉTICO EM CAIXA MOLDADA - 175A  (REF.: MARCA SIEMENS, WEG OU SIMILAR)","UN",2,661.22,1322.44]
["4.20.1.4.6","DISJUNTOR TERMOMAGNÉTICO TRIPOLAR , CORRENTE NOMINAL DE 200A - FORNECIMENTO E INSTALAÇÃO. AF_10/2020","UN",1,733.23,733.23]
["4.20.1.4.7","DISJUNTOR TERMOMAGNÉTICO TRIPOLAR , CORRENTE NOMINAL DE 600A - FORNECIMENTO E INSTALAÇÃO. AF_10/2020","UN",1,2558.36,2558.36]
["4.20.1.4.8","FORNECIMENTO E INSTALAÇÃO DE DISPOSITIVO DR, 2 POLOS, SENSIBILIDADE DE 30 MA, CORRENTE DE 25 A, TIPO AC","UN",6,186.52,1119.1199999999999]
["4.20.1.4.9","FORNECIMENTO E INSTALAÇÃO DE DISPOSITIVO DPS, 1 POLO, 175 V, 45 KA","UN",8,128.24,1025.92]
[]
["4.20.1.5","ELETROCALHAS / PERFILADOS",null,null,null,{"$f":"SUBTOTAL(9,F212:F216)","v":783.26}]
["4.20.1.5.1","FORNECIMENTO E INSTALAÇÃO DESAÍDA LATERAL DE ELETROCALHA P/PERFILADO 38X38MM","UN",1,17.02,{"$f":"ROUND(D212*E212,2)","v":17.02}]
["4.20.1.5.2","FORNECIMENTO E INSTALAÇÃO DE EMENDA INTERNA TIPO \"I\" P/ PERFILADO METÁLICO 38X38MM - CHAPA 18","UN",2,20.399999999999999,40.799999999999997]
["4.20.1.5.3","FORNECIMENTO E INSTALAÇÃO DE EMENDA INTERNA TIPO \"L\" P/ PERFILADO METÁLICO 38X38MM  - CHAPA 18","UN",1,22.84,22.84]
["4.20.1.5.4","FORNECIMENTO E INSTALAÇÃO DE PERFILADO PERFURADO METÁLICO 38X38MM, COM TAMPA - CHAPA 18","M",15,30.59,458.85]
["4.20.1.5.5","FORNECIMENTO E INSTALAÇÃO DE SUPORTE CURTO P/ PERFILADO METÁLICO 38X38MM","UN",15,16.25,243.75]
[]
["4.20.1.6","ELETRODUTOS",null,null,null,{"$f":"SUBTOTAL(9,F219:F221)","v":754.81}]
["4.20.1.6.1","ELETRODUTO FLEXÍVEL CORRUGADO, PVC, DN 25 MM (3/4\") - FORNECIMENTO E INSTALAÇÃO. ","M",100,6.19,{"$f":"ROUND(D219*E219,2)","v":619}]
["4.20.1.6.2","ELETRODUTO FLEXÍVEL CORRUGADO, PEAD, DN 50 (1 ½\u0094)  - FORNECIMENTO E INSTALAÇÃO. AF_04/2016","M",12,7.73,92.76]
["4.20.1.6.3","ELETRODUTO RÍGIDO ROSCÁVEL, PVC, DN 25 MM (3/4\") - FORNECIMENTO E INSTALAÇÃO. ","M",5,8.61,43.05]
[]
["4.20.1.7","LUMINÁRIAS E ACESSÓRIOS",null,null,null,{"$f":"SUBTOTAL(9,F224:F225)","v":27811.3}]
["4.20.1.7.1","FORNECIMENTO E INSTALAÇÃO DE LUMINÁRIA QUADRADA ALETAS REFLEXIVAS DE EMBUTIR, MODULAR 60X60CM, COM 4 LÂMPADAS TUBULARES LED T8 9W, TEMPERATURA DE COR 6.000K, TOTAL DE FLUXO LUMINOSO ENTRE 3.200 A 4.000 LUMENS, COM CORPO EM CHAPA METÁLICA PINTADA ELETROSTATICAMENTE, INCLUSIVE SOQUETES T8 E ACESSÓRIOS DE FIXAÇÃO (EXCLUSIVE LUMINÁRIA, FORNECIDA PELO SESI MT)","UN",203,127.1,{"$f":"ROUND(D224*E224,2)","v":25801.3}]
["4.20.1.7.2","FORNECIMENTO E INSTALAÇÃO DE LUMINÁRIA QUADRADA ALETAS REFLEXIVAS DE SOBREPOR, MODULAR 60X60CM, COM 4 LÂMPADAS TUBULARES LED T8 9W, TEMPERATURA DE COR 6.000K, TOTAL DE FLUXO LUMINOSO ENTRE 3.200 A 4.000 LUMENS, COM CORPO EM CHAPA METÁLICA PINTADA ELETROST","UN",4,502.5,2010]
[]
["4.20.1.8","QUADRO DE DISTRIBUIÇÃO",null,null,null,{"$f":"SUBTOTAL(9,F228:F230)","v":13496.269999999999}]
["4.20.1.8.1","FORNECIMENTO E INSTALAÇÃO DE QUADRO MONTADO DE SOBREPOR, EM CHAPA PINTADA, COM BARRAMENTO TRIFÁSICO DE 800A, CAPACIDADE PARA: 04 DISJ. DE 150A A 225A CAIXA MOLDADA  + 04 DISJ. DE 80A A 125A CAIXA MOLDADA + 80 MÓDULOS TIPO DIN, INCLUSIVE BARRAMENTO NEUTRO ","UN",1,11306.01,{"$f":"ROUND(D228*E228,2)","v":11306.01}]
["4.20.1.8.2","FORNECIMENTO E INSTALAÇÃO DE QUADRO DISTRIBUIÇÃO DE EMBUTIR, EM CHAPA PINTADA, COM BARRAMENTO TRIFÁSICO DE 225A, CAPACIDADE PARA: 56 DISJUNTORES UNIPOLARES TIPO DIN, INCLUSIVE BARRAMENTO NEUTRO E TERRA, COMPLETO, COM ACESSÓRIOS DE MONTAGEM, ISOLAÇÃO E PRO","UN",1,1904.88,1904.88]
["4.20.1.8.3","FORNECIMENTO E INSTALAÇÃO DE QUADRO DISTRIBUIÇÃO DE EMBUTIR, EM PVC BRANCO, SEM BARRAMENTO, CAPACIDADE PARA: 24 DISJUNTORES UNIPOLARES TIPO DIN, SEM BARRAMENTO NEUTRO E TERRA, PARA INSTALAÇÃO DE DISPOSITIVOS RESIDUAIS, EXCETO DISJUNTORES.","UN",1,285.38,285.38]
[]
["4.20.1.9","TERMINAIS",null,null,null,{"$f":"SUBTOTAL(9,F233:F244)","v":1653.89}]
["4.20.1.9.1","FORNECIMENTO E INSTALAÇÃO DE TERMINAL DE COMPRESSÃO 1,5 - 2,5MM²","UN",94,4.49,{"$f":"ROUND(D233*E233,2)","v":422.06}]
["4.20.1.9.2","FORNECIMENTO E INSTALAÇÃO DE TERMINAL DE COMPRESSÃO 4 - 6MM²","UN",30,7.88,236.4]
["4.20.1.9.3","FORNECIMENTO E INSTALAÇÃO DE TERMINAL DE COMPRESSÃO 16MM²","UN",2,8.5299999999999994,17.059999999999999]
["4.20.1.9.4","FORNECIMENTO E INSTALAÇÃO DE TERMINAL DE COMPRESSÃO 25MM²","UN",8,9.26,74.08]
["4.20.1.9.5","FORNECIMENTO E INSTALAÇÃO DE TERMINAL DE COMPRESSÃO 35MM²","UN",3,9.59,28.77]
["4.20.1.9.6","FORNECIMENTO E INSTALAÇÃO DE TERMINAL DE COMPRESSÃO 70MM²","UN",10,13.02,130.19999999999999]
["4.20.1.9.7","FORNECIMENTO E INSTALAÇÃO DE TERMINAL DE COMPRESSÃO 95MM²","UN",5,14.5,72.5]
["4.20.1.9.8","FORNECIMENTO E INSTALAÇÃO DE TERMINAL DE COMPRESSÃO 120MM²","UN",2,19.91,39.82]
["4.20.1.9.9","FORNECIMENTO E INSTALAÇÃO DE TERMINAL DE COMPRESSÃO 185MM²","UN",10,36.03,360.3]
["4.20.1.9.10","FORNECIMENTO E INSTALAÇÃO DE ABRAÇADEIRA NYLON 3,5X300MM","UN",150,0.33,49.5]
["4.20.1.9.11","FORNECIMENTO E INSTALAÇÃO DE FITA ISOLANTE DE BORRACHA AUTO-FUSÃO","UN",4,2.04,8.16]
["4.20.1.9.12","FORNECIMENTO E INSTALAÇÃO DE FITA ISOLANTE 19MMX20M","UN",12,17.920000000000002,215.04]
[]
["4.20.2","ELÉTRICA ILUMINAÇÃO EXTERNA - BLOCO C",null,null,null,{"$f":"SUBTOTAL(9,F247:F282)","v":5118.6799999999994}]
["4.20.2.1","ACESSÓRIOS P/ELETRODUTO E USO GERAL",null,null,null,{"$f":"SUBTOTAL(9,F248:F257)","v":386.7}]
["4.20.2.1.1","FORNECIMENTO E INSTALAÇÃO DE ABRAÇADEIRA DE AÇO, TIPO D, 3/4\", COM CUNHA","UN",4,6.59,{"$f":"ROUND(D248*E248,2)","v":26.36}]
["4.20.2.1.2","FORNECIMENTO E INSTALAÇÃO DE BUCHA E ARRUELA ALUMÍNIO FUNDIDO PARA ELETRODUTO (ZAMAK) 3/4\"","UN",2,2.0299999999999998,4.0599999999999996]
["4.20.2.1.3","FORNECIMENTO E INSTALAÇÃO DE BOX RETO PARA ELETRODUTO 3/4\"","UN",2,5.68,11.36]
["4.20.2.1.4","FORNECIMENTO E INSTALAÇÃO DE PRENSA CABO 1/2\"","UN",6,30.33,181.98]
["4.20.2.1.5","CAIXA RETANGULAR 4\" X 2\" PVC - FORNECIMENTO E INSTALAÇÃO. ","UN",2,8.9600000000000009,17.920000000000002]
["4.20.2.1.6","FORNECIMENTO E INSTALAÇÃO DE SAÍDA LATERAL ELETROCALHA P/ ELETRODUTO 3/4\"","UN",2,10.29,20.58]
["4.20.2.1.7","FORNECIMENTO E INSTALAÇÃO DE ARRUELA LISA GALVANIZADA 1/4\"","UN",6,0.59,3.54]
["4.20.2.1.8","FORNECIMENTO E INSTALAÇÃO DE BUCHA / PARAFUSO S8","UN",20,4.4400000000000004,88.8]
["4.20.2.1.9","FORNECIMENTO E INSTALAÇÃO DE PARAFUSO GALVAN. CABEÇA LENTILHA 1/4X5/8\"","UN",6,4.93,29.58]
["4.20.2.1.10","FORNECIMENTO E INSTALAÇÃO DE PORCA SEXTAVADA GALVAN. 1/4\"","UN",6,0.42,2.52]
[]
["4.20.2.2","CABOS",null,null,null,{"$f":"SUBTOTAL(9,F260:F261)","v":3489.4}]
["4.20.2.2.1","FORNECIMENTO E INSTALAÇÃO DE CABO DE COBRE FLEXÍVEL ISOL. TERMOPLASTICO ATOX 750V - 2,5 MM² (TP SINTENAX PIRELLI OU SIMILAR)","M",480,4.83,{"$f":"ROUND(D260*E260,2)","v":2318.4}]
["4.20.2.2.2","FORNECIMENTO E INSTALAÇÃO DE CABO DE COBRE PP 4 X 2,5 MM²","M",50,23.42,1171]
[]
["4.20.2.3","DISPOSITIVO ELÉTRICO EMBUTIDO",null,null,null,{"$f":"SUBTOTAL(9,F264:F265)","v":91.22}]
["4.20.2.3.1","INTERRUPTOR SIMPLES (2 MÓDULOS), 10A/250V, INCLUINDO SUPORTE E PLACA - FORNECIMENTO E INSTALAÇÃO. AF_12/2015","UN",1,38.520000000000003,{"$f":"ROUND(D264*E264,2)","v":38.520000000000003}]
["4.20.2.3.2","INTERRUPTOR SIMPLES (3 MÓDULOS), 10A/250V, INCLUINDO SUPORTE E PLACA - FORNECIMENTO E INSTALAÇÃO. AF_12/2015","UN",1,52.7,52.7]
[]
["4.20.2.4","DISPOSITIVO ELÉTRICO SOBREPOR",null,null,null,{"$f":"SUBTOTAL(9,F268:F268)","v":626.34}]
["4.20.2.4.1","SENSOR DE PRESENÇA PARA ILUMINAÇÃO, 100W, 127V, COM ÂNGULO DE DETECÇÃO DE 180º, FUNÇÃO FOTOCÉLULA AJUSTÁVEL, FUNÇÃO TEMPORIZADOR AJUSTÁVEL, DISTÂNCIA DE DETECÇÃO 12 METROS, SOBREPOR - FORNECIMENTO E INSTALAÇÃO. ","UN",6,104.39,626.34]
[]
["4.20.2.5","DISPOSITIVO DE PROTEÇÃO",null,null,null,{"$f":"SUBTOTAL(9,F271:F271)","v":13.15}]
["4.20.2.5.1","DISJUNTOR MONOPOLAR TIPO DIN, CORRENTE NOMINAL DE 10A - FORNECIMENTO E INSTALAÇÃO. AF_10/2020","UN",1,13.15,{"$f":"ROUND(D271*E271,2)","v":13.15}]
[]
["4.20.2.6","ELETRODUTOS",null,null,null,{"$f":"SUBTOTAL(9,F274:F274)","v":30.95}]
["4.20.2.6.1","ELETRODUTO FLEXÍVEL CORRUGADO, PVC, DN 25 MM (3/4\") - FORNECIMENTO E INSTALAÇÃO. ","M",5,6.19,{"$f":"ROUND(D274*E274,2)","v":30.95}]
[]
["4.20.2.7","LUMINÁRIAS E ACESSÓRIOS",null,null,null,{"$f":"SUBTOTAL(9,F277:F278)","v":440.54999999999995}]
["4.20.2.7.1","FORNECIMENTO E INSTALAÇÃO DE REFLETOR HOLOFOTE LED 30W, IP 66, ÂNGULO DE ABERTURA DE 120°, TEMPERATURA DE COR 6000K (REF.: ILUMINIM RSPM-30WBF OU SIMILAR)","UN",1,68.849999999999994,{"$f":"ROUND(D277*E277,2)","v":68.849999999999994}]
["4.20.2.7.2","FORNECIMENTO E INSTALAÇÃO DE REFLETOR HOLOFOTE LED 50W, IP 66, ÂNGULO DE ABERTURA DE 120°, TEMPERATURA DE COR 6000K (REF.: ILUMINIM RSPM-50WBF OU SIMILAR)","UN",5,74.34,371.7]
[]
["4.20.2.8","TERMINAIS",null,null,null,{"$f":"SUBTOTAL(9,F281:F282)","v":40.370000000000005}]
["4.20.2.8.1","FORNECIMENTO E INSTALAÇÃO DE TERMINAL DE COMPRESSÃO 1,5 - 2,5MM²","UN",5,4.49,{"$f":"ROUND(D281*E281,2)","v":22.45}]
["4.20.2.8.2","FORNECIMENTO E INSTALAÇÃO DE FITA ISOLANTE 19MMX20M","UN",1,17.920000000000002,17.920000000000002]
[]
["4.20.3","ELÉTRICA ILUMINAÇÃO EMERGÊNCIA - BLOCO C",null,null,null,{"$f":"SUBTOTAL(9,F285:F310)","v":5693.43}]
["4.20.3.1","ACESSÓRIOS P/ELETRODUTO E USO GERAL",null,null,null,{"$f":"SUBTOTAL(9,F286:F294)","v":355.17}]
["4.20.3.1.1","FORNECIMENTO E INSTALAÇÃO DE ABRAÇADEIRA DE AÇO, TIPO D, 3/4\", COM CUNHA","UN",12,6.59,{"$f":"ROUND(D286*E286,2)","v":79.08}]
["4.20.3.1.2","FORNECIMENTO E INSTALAÇÃO DE BUCHA E ARRUELA ALUMÍNIO FUNDIDO PARA ELETRODUTO (ZAMAK) 3/4\"","UN",7,2.0299999999999998,14.21]
["4.20.3.1.3","FORNECIMENTO E INSTALAÇÃO DE BOX RETO PARA ELETRODUTO 3/4\"","UN",7,5.68,39.76]
["4.20.3.1.4","CAIXA RETANGULAR 4\" X 2\" PVC - FORNECIMENTO E INSTALAÇÃO. ","UN",4,8.9600000000000009,35.840000000000003]
["4.20.3.1.5","FORNECIMENTO E INSTALAÇÃO DE SAÍDA LATERAL PERFILADO P/ ELETRODUTO 3/4\"","UN",4,18.510000000000002,74.040000000000006]
["4.20.3.1.6","FORNECIMENTO E INSTALAÇÃO DE ARRUELA LISA GALVANIZADA 1/4\"","UN",16,0.59,9.44]
["4.20.3.1.7","FORNECIMENTO E INSTALAÇÃO DE BUCHA / PARAFUSO S8","UN",10,4.4400000000000004,44.4]
["4.20.3.1.8","FORNECIMENTO E INSTALAÇÃO DE PARAFUSO GALVAN. CABEÇA LOSANGULAR 1/4\"X1\" - AUTO TRAVANTE PERFILADO","UN",8,6.88,55.04]
["4.20.3.1.9","FORNECIMENTO E INSTALAÇÃO DE PORCA SEXTAVADA GALVAN. 1/4\"","UN",8,0.42,3.36]
[null,""]
["4.20.3.2","CABOS",null,null,null,{"$f":"SUBTOTAL(9,F297:F297)","v":4202.1000000000004}]
["4.20.3.2.1","FORNECIMENTO E INSTALAÇÃO DE CABO DE COBRE FLEXÍVEL ISOL. TERMOPLASTICO ATOX 750V - 2,5 MM² (TP SINTENAX PIRELLI OU SIMILAR)","M",870,4.83,{"$f":"ROUND(D297*E297,2)","v":4202.1000000000004}]
[null,""]
["4.20.3.3","DISPOSITIVO ELÉTRICO EMBUTIDO",null,null,null,{"$f":"SUBTOTAL(9,F300:F300)","v":900.55}]
["4.20.3.3.1","TOMADA DE EMBUTIR (1 MÓDULO), 2P+T 10 A, INCLUINDO SUPORTE E PLACA - FORNECIMENTO E INSTALAÇÃO. AF_12/2015","UN",35,25.73,{"$f":"ROUND(D300*E300,2)","v":900.55}]
[null,""]
["4.20.3.4","DISPOSITIVO DE PROTEÇÃO",null,null,null,{"$f":"SUBTOTAL(9,F303:F303)","v":13.15}]
["4.20.3.4.1","DISJUNTOR MONOPOLAR TIPO DIN, CORRENTE NOMINAL DE 10A - FORNECIMENTO E INSTALAÇÃO. AF_10/2020","UN",1,13.15,{"$f":"ROUND(D303*E303,2)","v":13.15}]
[null,""]
["4.20.3.5","ELETRODUTOS",null,null,null,{"$f":"SUBTOTAL(9,F306:F306)","v":123.8}]
["4.20.3.5.1","ELETRODUTO FLEXÍVEL CORRUGADO, PVC, DN 25 MM (3/4\") - FORNECIMENTO E INSTALAÇÃO. ","M",20,6.19,{"$f":"ROUND(D306*E306,2)","v":123.8}]
[null,""]
["4.20.3.6","TERMINAIS",null,null,null,{"$f":"SUBTOTAL(9,F309:F310)","v":98.66}]
["4.20.3.6.1","FORNECIMENTO E INSTALAÇÃO DE TERMINAL DE COMPRESSÃO 1,5 - 2,5MM²","UN",10,4.49,{"$f":"ROUND(D309*E309,2)","v":44.9}]
["4.20.3.6.2","FORNECIMENTO E INSTALAÇÃO DE FITA ISOLANTE 19MMX20M","UN",3,17.920000000000002,53.76]
[null,""]
["4.20.4","ELÉTRICA AR CONDICONADO - BLOCO C",null,null,null,{"$f":"SUBTOTAL(9,F313:F377)","v":49564.330000000009}]
["4.20.4.1","ACESSÓRIOS P/ELETRODUTO E USO GERAL",null,null,null,{"$f":"SUBTOTAL(9,F314:F328)","v":5136.0199999999995}]
["4.20.4.1.1","FORNECIMENTO E INSTALAÇÃO DE ABRAÇADEIRA DE AÇO, TIPO D, 3/4\", COM CUNHA","UN",130,6.59,{"$f":"ROUND(D314*E314,2)","v":856.7}]
["4.20.4.1.2","FORNECIMENTO E INSTALAÇÃO DE BUCHA E ARRUELA ALUMÍNIO FUNDIDO PARA ELETRODUTO (ZAMAK) 3/4\"","UN",78,2.0299999999999998,158.34]
["4.20.4.1.3","FORNECIMENTO E INSTALAÇÃO DE BOX RETO PARA ELETRODUTO 3/4\"","UN",78,5.68,443.04]
["4.20.4.1.4","CAIXA RETANGULAR 4\" X 2\" PVC - FORNECIMENTO E INSTALAÇÃO. ","UN",49,8.9600000000000009,439.04]
["4.20.4.1.5","CAIXA DE PASSAGEM 15X15X10CM (EMBUTIR), FORNECIMENTO E INSTALACAO. AF_11/2019","UN",5,44.78,223.9]
["4.20.4.1.6","FORNECIMENTO E INSTALAÇÃO DE SAÍDA LATERAL ELETROCALHA P/ ELETRODUTO 3/4\"","UN",3,10.29,30.87]
["4.20.4.1.7","FORNECIMENTO E INSTALAÇÃO DE SAÍDA LATERAL PERFILADO P/ ELETRODUTO 3/4\"","UN",3,18.510000000000002,55.53]
["4.20.4.1.8","FORNECIMENTO E INSTALAÇÃO DE ARRUELA LISA GALVANIZADA 1/4\"","UN",106,0.59,62.54]
["4.20.4.1.9","FORNECIMENTO E INSTALAÇÃO DE BUCHA / PARAFUSO S8","UN",190,4.4400000000000004,843.6]
["4.20.4.1.10","FORNECIMENTO E INSTALAÇÃO DE BUCHA / PARAFUSO S10","UN",12,4.75,57]
["4.20.4.1.11","FORNECIMENTO E INSTALAÇÃO DE CHUMBADOR PARABOLT AÇO 1/4\" X 3\"","UN",12,13.59,163.08000000000001]
["4.20.4.1.12","FORNECIMENTO E INSTALAÇÃO DE PARAFUSO GALVAN. CABEÇA LENTILHA 1/4X5/8\"","UN",64,4.93,315.52]
["4.20.4.1.13","FORNECIMENTO E INSTALAÇÃO DE PARAFUSO GALVAN. CABEÇA LOSANGULAR 1/4\"X1\" - AUTO TRAVANTE PERFILADO","UN",6,6.88,41.28]
["4.20.4.1.14","FORNECIMENTO E INSTALAÇÃO DE CHUMBADOR PARABOLT AÇO 1/4\" X 3\"","UN",106,13.59,1440.54]
["4.20.4.1.15","FORNECIMENTO E INSTALAÇÃO DE PORCA SEXTAVADA GALVAN. 1/4\"","UN",12,0.42,5.04]
[null,""]
["4.20.4.2","CABOS",null,null,null,{"$f":"SUBTOTAL(9,F331:F335)","v":32262.019999999997}]
["4.20.4.2.1","FORNECIMENTO E INSTALAÇÃO DE CABO DE COBRE FLEXÍVEL ISOL. TERMOPLASTICO ATOX 750V - 2,5 MM² (TP SINTENAX PIRELLI OU SIMILAR)","M",2200,4.83,{"$f":"ROUND(D331*E331,2)","v":10626}]
["4.20.4.2.2","FORNECIMENTO E INSTALAÇÃO DE  CABO DE COBRE FLEXÍVEL ISOLADO, 16 MM², ANTI-CHAMA 0,6/1,0 KV - ATOX","M",91,19.010000000000002,1729.91]
["4.20.4.2.3","FORNECIMENTO E INSTALAÇÃO DE  CABO DE COBRE FLEXÍVEL ISOLADO, 25 MM², ANTI-CHAMA 0,6/1,0 KV - ATOX","M",273,31.14,8501.2199999999993]
["4.20.4.2.4","FORNECIMENTO E INSTALAÇÃO DE  CABO DE COBRE FLEXÍVEL ISOLADO, 50 MM², ANTI-CHAMA 0,6/1,0 KV - ATOX","M",21,75.989999999999995,1595.79]
["4.20.4.2.5","FORNECIMENTO E INSTALAÇÃO DE  CABO DE COBRE FLEXÍVEL ISOLADO, 95 MM², ANTI-CHAMA 0,6/1,0 KV - ATOX","M",63,155.69999999999999,9809.1]
[null,""]
["4.20.4.3","DISPOSITIVO ELÉTRICO EMBUTIDO",null,null,null,{"$f":"SUBTOTAL(9,F338:F339)","v":1580.73}]
["4.20.4.3.1","INTERRUPTOR BIPOLAR (1 MÓDULO), 10A/250V, INCLUINDO SUPORTE E PLACA - FORNECIMENTO E INSTALAÇÃO. AF_09/2017","UN",19,42.57,{"$f":"ROUND(D338*E338,2)","v":808.83}]
["4.20.4.3.2","TOMADA DE EMBUTIR (1 MÓDULO), 2P+T 10 A, INCLUINDO SUPORTE E PLACA - FORNECIMENTO E INSTALAÇÃO. AF_12/2015","UN",30,25.73,771.9]
[null,""]
["4.20.4.4","DISPOSITIVO DE PROTEÇÃO",null,null,null,{"$f":"SUBTOTAL(9,F342:F346)","v":3245.1800000000003}]
["4.20.4.4.1","DISJUNTOR BIPOLAR TIPO DIN, CORRENTE NOMINAL DE 16A - FORNECIMENTO E INSTALAÇÃO. AF_10/2020","UN",6,67.28,{"$f":"ROUND(D342*E342,2)","v":403.68}]
["4.20.4.4.2","FORNECIMENTO E INSTALAÇÃO DE DISJUNTOR TIPO DIN/IEC, TRIPOLAR 80 A  (REF.: MARCA SIEMENS, WEG OU SIMILAR)","UN",4,271.04000000000002,1084.1600000000001]
["4.20.4.4.3","FORNECIMENTO E INSTALAÇÃO DE DISJUNTOR TIPO DIN/IEC, TRIPOLAR 100 A  (REF.: MARCA SIEMENS, WEG OU SIMILAR)","UN",1,254.67,254.67]
["4.20.4.4.4","DISJUNTOR TERMOMAGNÉTICO TRIPOLAR , CORRENTE NOMINAL DE 200A - FORNECIMENTO E INSTALAÇÃO. AF_10/2020","UN",1,733.23,733.23]
["4.20.4.4.5","FORNECIMENTO E INSTALAÇÃO DE DISPOSITIVO DPS, 1 POLO, 175 V, 45 KA","UN",6,128.24,769.44]
[null,""]
["4.20.4.5","ELETROCALHAS / PERFILADOS",null,null,null,{"$f":"SUBTOTAL(9,F349:F354)","v":521.62}]
["4.20.4.5.1","FORNECIMENTO E INSTALAÇÃO DE CURVA HORIZONTAL 90º - 100X100MM CHAPA 20, COM TAMPA","UN",1,69.84,{"$f":"ROUND(D349*E349,2)","v":69.84}]
["4.20.4.5.2","FORNECIMENTO E INSTALAÇÃO DE TALA PLANA PERFURADA - 100MM","UN",5,8.31,41.55]
["4.20.4.5.3","FORNECIMENTO E INSTALAÇÃO DESAÍDA LATERAL DE ELETROCALHA P/PERFILADO 38X38MM","UN",1,17.02,17.02]
["4.20.4.5.4","FORNECIMENTO E INSTALAÇÃO DE EMENDA INTERNA TIPO \"I\" P/ PERFILADO METÁLICO 38X38MM - CHAPA 18","UN",1,20.399999999999999,20.399999999999999]
["4.20.4.5.5","FORNECIMENTO E INSTALAÇÃO DE PERFILADO PERFURADO METÁLICO 38X38MM, COM TAMPA - CHAPA 18","M",9,30.59,275.31]
["4.20.4.5.6","FORNECIMENTO E INSTALAÇÃO DE SUPORTE CURTO P/ PERFILADO METÁLICO 38X38MM","UN",6,16.25,97.5]
[null,""]
["4.20.4.6","EXTENSÃO DOS EQUIPAMENTOS",null,null,null,{"$f":"SUBTOTAL(9,F357:F358)","v":1375.73}]
["4.20.4.6.1","FORNECIMENTO E INSTALAÇÃO DE PLUGUE MACHO  2P+T - 10A","UN",39,27.97,{"$f":"ROUND(D357*E357,2)","v":1090.83}]
["4.20.4.6.2","FORNECIMENTO E INSTALAÇÃO DE CABO DE COBRE PP 3X2,5MM² - ISOL. TERMOPLASTICO ATOX 750V","M",58.5,4.87,284.89999999999998]
[null,""]
["4.20.4.7","ELETRODUTOS",null,null,null,{"$f":"SUBTOTAL(9,F361:F363)","v":1121.05}]
["4.20.4.7.1","ELETRODUTO FLEXÍVEL CORRUGADO, PVC, DN 25 MM (3/4\") - FORNECIMENTO E INSTALAÇÃO. ","M",130,6.19,{"$f":"ROUND(D361*E361,2)","v":804.7}]
["4.20.4.7.2","INSTALAÇÃO DE ELETRODUTO FLEXÍVEL CORRUGADO, PEAD, DN 63 (2\")  - (MATERIAL FORNECIDO PELO SESI)","UN",40,4.6500000000000004,186]
["4.20.4.7.3","INSTALAÇÃO DE ELETRODUTO FLEXÍVEL CORRUGADO, PEAD, DN 90 (3\u0094)   - (MATERIAL FORNECIDO PELO SESI)","UN",15,8.69,130.35]
[null,""]
["4.20.4.8","QUADRO DE DISTRIBUIÇÃO",null,null,null,{"$f":"SUBTOTAL(9,F366:F367)","v":3782.08}]
["4.20.4.8.1","FORNECIMENTO E INSTALAÇÃO DE QUADRO MONTADO DE SOBREPOR, EM CHAPA PINTADA, GRAU DE PROTEÇÃO IP65, COM BARRAMENTO TRIFÁSICO DE 300A, CAPACIDADE PARA: 04 DISJUNTORES CAIXA MOLDADA DE 80A A 125A + 16 DISJUNTORES UNIPOLARES TIPO DIN, INCLUSIVE BARRAMENTO TERR","UN",1,3106.96,{"$f":"ROUND(D366*E366,2)","v":3106.96}]
["4.20.4.8.2","QUADRO DE DISTRIBUIÇÃO DE ENERGIA EM CHAPA DE AÇO GALVANIZADO, DE SOBREPOR, COM BARRAMENTO TRIFÁSICO, PARA 18 DISJUNTORES DIN 150A - FORNECIMENTO E INSTALAÇÃO. AF_10/2020","UN",1,675.12,675.12]
[null,""]
["4.20.4.9","TERMINAIS",null,null,null,{"$f":"SUBTOTAL(9,F370:F377)","v":539.9}]
["4.20.4.9.1","FORNECIMENTO E INSTALAÇÃO DE TERMINAL DE COMPRESSÃO 1,5 - 2,5MM²","UN",30,4.49,{"$f":"ROUND(D370*E370,2)","v":134.69999999999999}]
["4.20.4.9.2","FORNECIMENTO E INSTALAÇÃO DE TERMINAL DE COMPRESSÃO 16MM²","UN",10,8.5299999999999994,85.3]
["4.20.4.9.3","FORNECIMENTO E INSTALAÇÃO DE TERMINAL DE COMPRESSÃO 25MM²","UN",16,9.26,148.16]
["4.20.4.9.4","FORNECIMENTO E INSTALAÇÃO DE TERMINAL DE COMPRESSÃO 50MM²","UN",2,11.76,23.52]
["4.20.4.9.5","FORNECIMENTO E INSTALAÇÃO DE TERMINAL DE COMPRESSÃO 95MM²","UN",4,14.5,58]
["4.20.4.9.6","FORNECIMENTO E INSTALAÇÃO DE ABRAÇADEIRA NYLON 3,5X300MM","UN",50,0.33,16.5]
["4.20.4.9.7","FORNECIMENTO E INSTALAÇÃO DE FITA ISOLANTE DE BORRACHA AUTO-FUSÃO","UN",1,2.04,2.04]
["4.20.4.9.8","FORNECIMENTO E INSTALAÇÃO DE FITA ISOLANTE 19MMX20M","UN",4,17.920000000000002,71.680000000000007]
[]
["4.21","LOGICA E TELEFONICA",null,null,null,{"$f":"SUBTOTAL(9,F380:F447)","v":45754.950000000012}]
["4.21.1","ACESSÓRIOS P/ELETRODUTO E USO GERAL",null,null,null,{"$f":"SUBTOTAL(9,F381:F397)","v":1954.6899999999998}]
["4.21.1.1","FORNECIMENTO E INSTALAÇÃO DE ABRAÇADEIRA DE AÇO, TIPO D, 3/4\", COM CUNHA","UN",35,6.59,{"$f":"ROUND(D381*E381,2)","v":230.65}]
["4.21.1.2","FORNECIMENTO E INSTALAÇÃO DE BUCHA E ARRUELA ALUMÍNIO FUNDIDO PARA ELETRODUTO (ZAMAK) 3/4\"","UN",15,2.0299999999999998,30.45]
["4.21.1.3","FORNECIMENTO E INSTALAÇÃO DE BOX RETO PARA ELETRODUTO 3/4\"","UN",10,5.68,56.8]
["4.21.1.4","CAIXA RETANGULAR 4\" X 2\" PVC - FORNECIMENTO E INSTALAÇÃO. ","UN",13,8.9600000000000009,116.48]
["4.21.1.5","CAIXA RETANGULAR 4\" X 4\"  PVC  - FORNECIMENTO E INSTALAÇÃO. AF_12/2015","UN",2,12,24]
["4.21.1.6","CONDULETE DE ALUMÍNIO, TIPO X, PARA ELETRODUTO DE AÇO GALVANIZADO DN 20 MM (3/4''), APARENTE - FORNECIMENTO E INSTALAÇÃO. AF_11/2016_P","UN",5,38.119999999999997,190.6]
["4.21.1.7","FORNECIMENTO E INSTALAÇÃO DE PLACA CEGA DE ALUMÍNIO  P/ CONDULETE","UN",5,32.700000000000003,163.5]
["4.21.1.8","FORNECIMENTO E INSTALAÇÃO DE SAÍDA LATERAL PERFILADO P/ ELETRODUTO 3/4\"","UN",6,18.510000000000002,111.06]
["4.21.1.9","FORNECIMENTO E INSTALAÇÃO DE ARAME AÇO GALVANIZADO 18 BWG, 1,24MM (0,009 KG/M)","M",50,0.77,38.5]
["4.21.1.10","FORNECIMENTO E INSTALAÇÃO DE ARRUELA LISA GALVANIZADA 1/4\"","UN",100,0.59,59]
["4.21.1.11","FORNECIMENTO E INSTALAÇÃO DE BUCHA / PARAFUSO S8","UN",15,4.4400000000000004,66.599999999999994]
["4.21.1.12","FORNECIMENTO E INSTALAÇÃO DE BUCHA / PARAFUSO S10","UN",3,4.75,14.25]
["4.21.1.13","FORNECIMENTO E INSTALAÇÃO DE CHUMBADOR PARABOLT AÇO 1/4\" X 3\"","UN",15,13.59,203.85]
["4.21.1.14","FORNECIMENTO E INSTALAÇÃO DE PARAFUSO GALVAN. CABEÇA LENTILHA 1/4X5/8\"","UN",55,4.93,271.14999999999998]
["4.21.1.15","FORNECIMENTO E INSTALAÇÃO DE PARAFUSO GALVAN. CABEÇA LOSANGULAR 1/4\"X1\" - AUTO TRAVANTE PERFILADO","UN",10,6.88,68.8]
["4.21.1.16","FORNECIMENTO E INSTALAÇÃO DE PORCA SEXTAVADA GALVAN. 1/4\"","UN",100,0.42,42]
["4.21.1.17","FORNECIMENTO E INSTALAÇÃO DE VERGALHÃO GALVANIZADO ROSCA TOTAL 1/4\"","M",15,17.8,267]
[null,""]
["4.21.2","CABOS",null,null,null,{"$f":"SUBTOTAL(9,F400:F400)","v":7353}]
["4.21.2.1","CABO ELETRÔNICO CATEGORIA 6, ATOX LSZH, INSTALADO EM EDIFICAÇÃO INSTITUCIONAL - FORNECIMENTO E INSTALAÇÃO. AF_11/2019","M",2850,2.58,{"$f":"ROUND(D400*E400,2)","v":7353}]
[null,""]
["4.21.3","DISPOSITIVO CABEAMENTO EMBUTIR",null,null,null,{"$f":"SUBTOTAL(9,F403:F407)","v":5522.83}]
["4.21.3.1","FORNECIMENTO E INSTALAÇÃO DE PLACA 4X2\" - BRANCA, 1 MÓDULO P/ RJ45","UN",23,7.93,{"$f":"ROUND(D403*E403,2)","v":182.39}]
["4.21.3.2","FORNECIMENTO E INSTALAÇÃO DE PLACA 4X2\" - BRANCA, 2 MÓDULOS P/ RJ45","UN",58,11.84,686.72]
["4.21.3.3","FORNECIMENTO E INSTALAÇÃO DE MÓDULO P/TOMADA KEYSTONE","UN",139,6.59,916.01]
["4.21.3.4","FORNECIMENTO E INSTALAÇÃO DE TOMADA KEYSTONE RJ45 - CAT.6","UN",139,26.79,3723.81]
["4.21.3.5","FORNECIMENTO E INSTALAÇÃO DE CONECTOR MACHO RJ45 - CAT.6","UN",2,6.95,13.9]
[null,""]
["4.21.4","ELETROCALHAS / PERFILADOS",null,null,null,{"$f":"SUBTOTAL(9,F410:F419)","v":3559.47}]
["4.21.4.1","FORNECIMENTO E INSTALAÇÃO DE CURVA DE INVERSÃO 100X50 MM CHAPA 20","UN",1,63.19,{"$f":"ROUND(D410*E410,2)","v":63.19}]
["4.21.4.2","FORNECIMENTO E INSTALAÇÃO DE TÊ HORIZONTAL 90° 100X50 MM, COM TAMPA","UN",2,72.28,144.56]
["4.21.4.3","FORNECIMENTO E INSTALAÇÃO DE ELETROCALHA PERFURADA TIPO U 100X50 MM - CHAPA 20, COM TAMPA","M",20,133.36000000000001,2667.2]
["4.21.4.4","FORNECIMENTO E INSTALAÇÃO DE FLANGE 100X50 MM CHAPA 20","UN",1,12.87,12.87]
["4.21.4.5","FORNECIMENTO E INSTALAÇÃO DE TALA PLANA PERFURADA - 50MM","UN",5,6.86,34.299999999999997]
["4.21.4.6","FORNECIMENTO E INSTALAÇÃO DE SUPORTE VERTICAL P/ ELETROCALHA METÁLICA 100X50MM","UN",10,16.93,169.3]
["4.21.4.7","FORNECIMENTO E INSTALAÇÃO DESAÍDA LATERAL DE ELETROCALHA P/PERFILADO 38X38MM","UN",2,17.02,34.04]
["4.21.4.8","FORNECIMENTO E INSTALAÇÃO DE EMENDA INTERNA TIPO \"I\" P/ PERFILADO METÁLICO 38X38MM - CHAPA 18","UN",3,20.399999999999999,61.2]
["4.21.4.9","FORNECIMENTO E INSTALAÇÃO DE PERFILADO PERFURADO METÁLICO 38X38MM, COM TAMPA - CHAPA 18","M",9,30.59,275.31]
["4.21.4.10","FORNECIMENTO E INSTALAÇÃO DE SUPORTE CURTO P/ PERFILADO METÁLICO 38X38MM","UN",6,16.25,97.5]
[null,""]
["4.21.5","ELETRODUTOS",null,null,null,{"$f":"SUBTOTAL(9,F422:F424)","v":426.79999999999995}]
["4.21.5.1","ELETRODUTO FLEXÍVEL CORRUGADO, PVC, DN 25 MM (3/4\") - FORNECIMENTO E INSTALAÇÃO. ","M",30,6.19,{"$f":"ROUND(D422*E422,2)","v":185.7}]
["4.21.5.2","ELETRODUTO RÍGIDO ROSCÁVEL, PVC, DN 25 MM (3/4\") - FORNECIMENTO E INSTALAÇÃO. ","M",18,8.61,154.97999999999999]
["4.21.5.3","FORNECIMENTO E INSTALAÇÃO DE ELETRODUTO METÁLICO FLEXIVEL, COM PROTEÇÃO EM PVC PRETO (SEALTUBO) - 3/4\"","M",4,21.53,86.12]
[null,""]
["4.21.6","RACK E ACESSÓRIOS",null,null,null,{"$f":"SUBTOTAL(9,F427:F439)","v":18335.79}]
["4.21.6.1","FORNECIMENTO E INSTALAÇÃO DE RACK CAIXA PADRÃO 19\" - PORTA ACRÍLICO FUMÊ 12U X 470 MM","UN",2,777.62,{"$f":"ROUND(D427*E427,2)","v":1555.24}]
["4.21.6.2","FORNECIMENTO E INSTALAÇÃO DE RACK CAIXA PADRÃO 19\" - PORTA ACRÍLICO FUMÊ 16U X 470 MM","UN",1,1293.03,1293.03]
["4.21.6.3","FORNECIMENTO E INSTALAÇÃO DE REGUA PARA 10 TOMADAS 2P+T 20A - 1U","UN",3,150.4,451.2]
["4.21.6.4","FORNECIMENTO E INSTALAÇÃO DE KIT DE VENTILAÇÃO COM 2 COOLERS","UN",3,306.91000000000003,920.73]
["4.21.6.5","PATCH PANEL 24 PORTAS, CATEGORIA 6 - FORNECIMENTO E INSTALAÇÃO. AF_11/2019","UN",6,698.58,4191.4799999999996]
["4.21.6.6","FORNECIMENTO E INSTALAÇÃO DE VOICE PANEL 30 PORTAS RJ45","UN",2,652.1,1304.2]
["4.21.6.7","FORNECIMENTO E INSTALAÇÃO DE GUIA DE CABOS FECHADO HORIZONTAL - 1U","UN",13,34.69,450.97]
["4.21.6.8","FORNECIMENTO E INSTALAÇÃO DE BANDEJA PARA RACK 19\", FIXA HORIZONTAL 1U.","UN",3,97.67,293.01]
["4.21.6.9","FORNECIMENTO E INSTALAÇÃO DE ANEL ORGANIZADOR DE CABOS TIPO ABRAÇADEIRA VELCRO","UN",6,2.2000000000000002,13.2]
["4.21.6.10","FORNECIMENTO E INSTALAÇÃO DE ANILHA DE IDENTIFICACAO PARA CABOS DE 0 A 9 (KIT 100 PECAS)","UN",3,69.38,208.14]
["4.21.6.11","FORNECIMENTO E INSTALAÇÃO DE FITA ROTULADORA 12MM PRETO SOBRE BRANCO 8M","UN",3,104.85,314.55]
["4.21.6.12","FORNECIMENTO E INSTALAÇÃO DE PATCH CORD CERTIFICADO CAT.6 - CONEXÃO RJ45 X RJ45 - COMP. 1,5M - LSZH","UN",147,8.86,1302.42]
["4.21.6.13","FORNECIMENTO DE SERVIÇO DE CERTIFICAÇÃO DE CABO DE REDE CAT-6, COM CERTIFICADO DE AFERIÇÃO DO APARELHO","UN",141,42.82,6037.62]
[null,""]
["4.21.7","FIBRA ÓPTICA E ACESSÓRIOS",null,null,null,{"$f":"SUBTOTAL(9,F442:F447)","v":8602.3700000000008}]
["4.21.7.1","FORNECIMENTO E INSTALAÇÃO DE DISTRIBUIDOR OPTICO INTERNO PARA 12 FO - 1U PARA RACK.","UN",3,518.47,{"$f":"ROUND(D442*E442,2)","v":1555.41}]
["4.21.7.2","FORNECIMENTO E INSTALAÇÃO DE EXTENSÃO PIGTAIL MULTIMODO P/ DIO - CONECTOR SC","UN",36,32.04,1153.44]
["4.21.7.3","FORNECIMENTO E INSTALAÇÃO DE CORDÃO ÓPTICO MULTIMODO - 2 FO CONECTOR SC/SC - 2,50 M","UN",4,101.69,406.76]
["4.21.7.4","FORNECIMENTO E INSTALAÇÃO DE CONVERSOR DE MÍDIA PARA FIBRA ÓTICA MM E SM 10/100 2FO RJ45","UN",4,281.52,1126.08]
["4.21.7.5","FORNECIMENTO DE SERVIÇO DE CERTIFICACAO DE CABEAMENTO DE FIBRA OPTICA","UN",36,34.26,1233.3599999999999]
["4.21.7.6","FORNECIMENTO DE SERVIÇO DE FUSÃO FIBRA ÓTICA COM EXTENSÃO PIGTAIL COM CERTIFICAÇÃO DE AFERIÇÃO DO APARELHO","UN",36,86.87,3127.32]
[]
["4.22","CLIMATIZAÇÃO - AR CONDICIONADO",null,null,null,{"$f":"SUBTOTAL(9,F450:F509)","v":187636.71000000002}]
["4.22.1","INSTALAÇÕES HIDRÁULICAS",null,null,null,{"$f":"SUBTOTAL(9,F451:F456)","v":4042.2200000000003}]
["4.22.1.1","TUBO, PVC, SOLDÁVEL, DN 32MM, INSTALADO EM DRENO DE AR-CONDICIONADO – FORNECIMENTO E INSTALAÇÃO","M",130,16.309999999999999,{"$f":"ROUND(D451*E451,2)","v":2120.3000000000002}]
["4.22.1.2","JOELHO 45 GRAUS, PVC, SOLDÁVEL, DN 32MM, INSTALADO EM DRENO DE AR-CONDICIONADO - FORNECIMENTO E INSTALAÇÃO","UND",26,9.36,243.36]
["4.22.1.3","CURVA 90 GRAUS, PVC, SOLDÁVEL, DN 32MM, INSTALADO EM DRENO DE AR-CONDICIONADO - FORNECIMENTO E INSTALAÇÃO","UND",26,12.56,326.56]
["4.22.1.4","TE, PVC, SOLDÁVEL, DN 32MM, INSTALADO EM DRENO DE AR-CONDICIONADO - FORNECIMENTO E INSTALAÇÃO","UND",30,11.97,359.1]
["4.22.1.5","LUVA, PVC, SOLDÁVEL, DN 32MM, INSTALADO EM DRENO DE AR-CONDICIONADO - FORNECIMENTO E INSTALAÇÃO","UND",30,5.32,159.6]
["4.22.1.6","TUBO DE ESPUMA DE POLIETILENO EXPANDIDO FLEXIVEL PARA ISOLAMENTO TERMICO DE TUBULACAO DE AR CONDICIONADO, AGUA QUENTE,  DN 1 1/2\", E= 10 MM","M     ",130,6.41,833.3]
[]
["4.22.2","INSTALAÇÕES DE CLIMATIZAÇÃO",null,null,null,{"$f":"SUBTOTAL(9,F459:F489)","v":104335.06000000003}]
["4.22.2.1","TUBO DE COBRE FLEXIVEL, D = 1/4 \", E = 0,79 MM, PARA AR-CONDICIONADO/ INSTALACOES GAS RESIDENCIAIS E COMERCIAIS","M     ",15,32.1,{"$f":"ROUND(D459*E459,2)","v":481.5}]
["4.22.2.2","TUBO DE COBRE FLEXIVEL, D = 3/8 \", E = 0,79 MM, PARA AR-CONDICIONADO/ INSTALACOES GAS RESIDENCIAIS E COMERCIAIS","M     ",80,49.37,3949.6]
["4.22.2.3","TUBO DE COBRE FLEXIVEL, D = 1/2 \", E = 0,79 MM, PARA AR-CONDICIONADO/ INSTALACOES GAS RESIDENCIAIS E COMERCIAIS","M     ",18,66.98,1205.6400000000001]
["4.22.2.4","TUBO DE COBRE FLEXIVEL, D = 5/8 \", E = 0,79 MM, PARA AR-CONDICIONADO/ INSTALACOES GAS RESIDENCIAIS E COMERCIAIS","M     ",84,83.3,6997.2]
["4.22.2.5","TUBO EM COBRE FLEXÍVEL, DN (3/4\"x1,00mm), COM ISOLAMENTO, INSTALADO EM RAMAL DE ALIMENTAÇÃO DE AR CONDICIONADO COM CONDENSADORA CENTRAL FORNECIMENTO E INSTALAÇÃO","M",12,195.61,2347.3200000000002]
["4.22.2.6","TUBO EM COBRE FLEXÍVEL, DN (7/8\" x 1,60mm), COM ISOLAMENTO, INSTALADO EM RAMAL DE ALIMENTAÇÃO DE AR CONDICIONADO COM CONDENSADORA CENTRAL FORNECIMENTO E INSTALAÇÃO","M",12,267.18,3206.16]
["4.22.2.7","TUBO EM COBRE FLEXÍVEL, DN (1.1/8\" x 1,60mm), COM ISOLAMENTO, INSTALADO EM RAMAL DE ALIMENTAÇÃO DE AR CONDICIONADO COM CONDENSADORA CENTRAL FORNECIMENTO E INSTALAÇÃO","M",12,323.95,3887.4]
["4.22.2.8","TUBO EM COBRE FLEXÍVEL, DN (1.5/8\" x 1,60mm), COM ISOLAMENTO, INSTALADO EM RAMAL DE ALIMENTAÇÃO DE AR CONDICIONADO COM CONDENSADORA CENTRAL FORNECIMENTO E INSTALAÇÃO","M",9,468.98,4220.82]
["4.22.2.9","TUBO EM COBRE FLEXÍVEL, DN  (2.1/8\" x 1,60mm), COM ISOLAMENTO, INSTALADO EM RAMAL DE ALIMENTAÇÃO DE AR CONDICIONADO COM CONDENSADORA CENTRAL FORNECIMENTO E INSTALAÇÃO","M",9,542.27,4880.43]
["4.22.2.10","REVESTIMENTO DE TUBULAÇÃO FRIGORÍGENA EXTERNA COM FITA PVC BRANCA ","M",65,18.14,1179.0999999999999]
["4.22.2.11","FORNECIMENTO DE GÁS NITROGÊNIO","M3",60,71.94,4316.3999999999996]
["4.22.2.12","FORNECIMENTO DE GÁS REFRIGERANTE R-410A","KG",37,79.16,2928.92]
["4.22.2.13","FORNECIMENTO E INSTALAÇÃO DE VÁLVULAS DE BLOQUEIO ESFERA PARA CONEXÃO ENTRE REDE FRIGORÍGENA E EVAPORADORA LL: Ø1/4\" E LS: Ø1/2\" - REF. GBC \"FULL PORT\"","UN",3,353,1059]
["4.22.2.14","FORNECIMENTO E INSTALAÇÃO DE VÁLVULAS DE BLOQUEIO ESFERA PARA CONEXÃO ENTRE REDE FRIGORÍGENA E EVAPORADORA LL: Ø3/8\" E LS: Ø5/8\" - REF. GBC \"FULL PORT\"","UN",4,370.42,1481.68]
["4.22.2.15","INSTALAÇÃO DE DERIVADOR EM \"Y\" ISOLADO TERMICAMENTE PARA REDE FRIGORÍGENA DO SISTEMA VRF - REF. LG ARBLN01621","UN",3,2.86,8.58]
["4.22.2.16","INSTALAÇÃO DE DERIVADOR EM \"Y\" ISOLADO TERMICAMENTE PARA REDE FRIGORÍGENA DO SISTEMA VRF - REF. LG ARBLN03321","UN",2,2.86,5.72]
["4.22.2.17","INSTALAÇÃO DE DERIVADOR EM \"Y\" ISOLADO TERMICAMENTE PARA REDE FRIGORÍGENA DO SISTEMA VRF - REF. LG ARBLN07121","UN",1,2.86,2.86]
["4.22.2.18","FORNECIMENTO E INSTALAÇÃO DE DERIVADOR EM \"Y\" ISOLADO TERMICAMENTE PARA REDE FRIGORÍGENA DO SISTEMA VRF - REF. LG ARCNN31","UN",1,1703.52,1703.52]
["4.22.2.19","INSTALAÇÃO DE DERIVADOR EM \"Y\" ISOLADO TERMICAMENTE PARA REDE FRIGORÍGENA DO SISTEMA VRF - REF. LG ARCNN41","UN",1,2.86,2.86]
["4.22.2.20","FORNECIMENTO E INSTALAÇÃO DE GRELHA DE VENTILAÇÃO, 225x125mm - REF. TROX AT-AG","UN",3,213.64,640.91999999999996]
["4.22.2.21","FORNECIMENTO E INSTALAÇÃO DE GRELHA DE VENTILAÇÃO, 225x225mm - REF. TROX AT-AG","UN",13,247.9,3222.7]
["4.22.2.22","FORNECIMENTO E INSTALAÇÃO DE GRELHA DE VENTILAÇÃO, 325x225mm - REF. TROX AT-AG","UN",21,299.29000000000002,6285.09]
["4.22.2.23","FORNECIMENTO E INSTALAÇÃO DE VENEZIANA DE CAPTAÇÃO DE AR, 385x330mm - REF. TROX AWG","UN",13,426.04,5538.52]
["4.22.2.24","FORNECIMENTO E INSTALAÇÃO DE GRELHA DE EXAUSTÃO, 325x165mm - REF. TROX AR-AG","UN",2,271.88,543.76]
["4.22.2.25","INSTALAÇÃO DE DUTO EM CHAPA DE AÇO GALVANIZADO - #26 (4,00 KG/M2), INCLUSIVE ELEMENTOS DE FIXAÇÃO E SUPORTES","M2",150,148.5,22275]
["4.22.2.26","FORNECIMENTO E INSTALAÇÃO DE DUTO EM CHAPA DE AÇO GALVANIZADO - #26 (4,00 KG/M2), INCLUSIVE ELEMENTOS DE FIXAÇÃO E SUPORTES","M2",40,275.33999999999997,11013.6]
["4.22.2.27","FORNECIMENTO E INSTALAÇÃO DE DUTO FLEXÍVEL CIRCULAR, SEM ISOLAMENTO TÉRMICO, DIÂMETRO DE 04\" COM COLARINHO - REF.: MULTIVAC ALUDEC 60","M",12,92.8,1113.5999999999999]
["4.22.2.28","FORNECIMENTO E INSTALAÇÃO DE DUTO FLEXÍVEL CIRCULAR, SEM ISOLAMENTO TÉRMICO, DIÂMETRO DE 05\" COM COLARINHO - REF.: MULTIVAC ALUDEC 60","M",3,101.98,305.94]
["4.22.2.29","FORNECIMENTO E INSTALAÇÃO DE DUTO FLEXÍVEL CIRCULAR,  SEM ISOLAMENTO TÉRMICO, DIÂMETRO DE 06\" COM COLARINHO - REF.: MULTIVAC ALUDEC 60","M",10,112.51,1125.0999999999999]
["4.22.2.30","FORNECIMENTO E INSTALAÇÃO DE DUTO FLEXÍVEL CIRCULAR, SEM ISOLAMENTO TÉRMICO, DIÂMETRO DE 07\" COM COLARINHO - REF.: MULTIVAC ALUDEC 60","M",22,123.51,2717.22]
["4.22.2.31","FORNECIMENTO E INSTALAÇÃO DE DUTO FLEXÍVEL CIRCULAR,  SEM ISOLAMENTO TÉRMICO, DIÂMETRO DE 08\" COM COLARINHO - REF.: MULTIVAC ALUDEC 60","M",42,135.44999999999999,5688.9]
[]
["4.22.3","INSTALAÇÕES ELÉTRICAS",null,null,null,{"$f":"SUBTOTAL(9,F492:F495)","v":10081.24}]
["4.22.3.1","ELETRODUTO DE AÇO GALVANIZADO, CLASSE LEVE, DN 20 MM (3/4\u0092\u0092), APARENTE, INSTALADO EM PAREDE - FORNECIMENTO E INSTALAÇÃO. AF_11/2016_P","M",120,28.04,{"$f":"ROUND(D492*E492,2)","v":3364.8}]
["4.22.3.2","FORNECIMENTO E INSTALAÇÃO DE CABO SHIELDADO 3x1,00mm² - 70°C-500V","M",150,12.69,1903.5]
["4.22.3.3","FORNECIMENTO E INSTALAÇÃO DE CABO PP FLEXÍVEL 3x1,5mm²","M",130,12.19,1584.7]
["4.22.3.4","VARIADOR DE VELOCIDADE PARA UNIDADE VENTILADORA, INCLUINDO SUPORTE E PLACA - FORNECIMENTO E INSTALAÇÃO","UN",12,269.02,3228.24]
[]
["4.22.4","EQUIPAMENTOS",null,null,null,{"$f":"SUBTOTAL(9,F498:F508)","v":69178.19}]
["4.22.4.1","INSTALAÇÃO DE EQUIPAMENTO DO SISTEMA VRF, UNIDADE EVAPORADORA, CONFIGURAÇÃO DE PAREDE, CAPACIDADE DE 7.500 BTU/H, INCLUIDO CONTROLE REMOTO - REF. LG CRNU07GSJN4","UN",1,602.16,{"$f":"ROUND(D498*E498,2)","v":602.16}]
["4.22.4.2","INSTALAÇÃO DE EQUIPAMENTO DO SISTEMA VRF, UNIDADE EVAPORADORA, CONFIGURAÇÃO DE PAREDE, CAPACIDADE DE 12.300 BTU/H, INCLUIDO CONTROLE REMOTO - REF. LG CRNU12GSJN4","UN",2,614.44000000000005,1228.8800000000001]
["4.22.4.3","INSTALAÇÃO DE EQUIPAMENTO DO SISTEMA VRF, UNIDADE EVAPORADORA, CONFIGURAÇÃO CASSETE 4 VIAS, CAPACIDADE DE 28.000 BTU/H, INCLUIDO PAINEL EXTERNO E CONTROLE REMOTO - REF. LG CRNU28GTPA4","UN",2,1085.1300000000001,2170.2600000000002]
["4.22.4.4","INSTALAÇÃO DE EQUIPAMENTO DO SISTEMA VRF, UNIDADE EVAPORADORA, CONFIGURAÇÃO CASSETE 4 VIAS, CAPACIDADE DE 42.000 BTU/H, INCLUIDO PAINEL EXTERNO E CONTROLE REMOTO - REF. LG CRNU42GTMA4","UN",7,1183.44,8284.08]
["4.22.4.5","INSTALAÇÃO DE EQUIPAMENTO DO SISTEMA VRF, UNIDADE EVAPORADORA, CONFIGURAÇÃO CASSETE 4 VIAS, CAPACIDADE DE 48.100 BTU/H, INCLUIDO PAINEL EXTERNO E CONTROLE REMOTO - REF. LG CRNU48GTMA4","UN",14,1183.44,16568.16]
["4.22.4.6","INSTALAÇÃO DE EQUIPAMENTO DO SISTEMA VRF, UNIDADE CONDENSADORA MODULAR, CONFIGURAÇÃO VERTICAL, CAPACIDADE DE 191.000 BTU/H, INCLUIDO CALÇO AMORTECEDOR - REF. LG CRUN200BTE5 - MÓDULO ÚNICO","UN",1,3313.25,3313.25]
["4.22.4.7","FORNECIMENTO E INSTALAÇÃO DE EQUIPAMENTO DO SISTEMA VRF, UNIDADE CONDENSADORA MODULAR, CONFIGURAÇÃO VERTICAL, CAPACIDADE DE 745.200 BTU/H, INCLUIDO CALÇO AMORTECEDOR - REF. LG CRUN780BTE5 - MÓDULOS CRUN260BTE5 CRUN260BTE5 E CRUN260BTE5","UN",1,12274.63,12274.63]
["4.22.4.8","INSTALAÇÃO DE VENTILADOR TIPO \"IN LINE\", VAZÃO MÁXIMA DE 268 M3/H, PRESSÃO ESTÁTICA DE 30mmca  E FILTRO G4 - REF. SICFLUX ACI 125","UN",1,1387.61,1387.61]
["4.22.4.9","INSTALAÇÃO DE VENTILADOR TIPO \"IN LINE\", VAZÃO MÁXIMA DE 905 M3/H, PRESSÃO ESTÁTICA DE 43mmca  E FILTRO G4 - REF. SICFLUX ACI 250","UN",2,1762.52,3525.04]
["4.22.4.10","INSTALAÇÃO DE VENTILADOR TIPO \"IN LINE\", VAZÃO MÁXIMA DE 1200 M3/H, PRESSÃO ESTÁTICA DE 55mmca  E FILTRO G4 - REF. SICFLUX ACI 315","UN",9,2124.83,19123.47]
["4.22.4.11","INSTALAÇÃO DE VENTILADOR TIPO \"IN LINE\", VAZÃO MÁXIMA DE 275 M3/H, PRESSÃO ESTÁTICA DE 34mmca - REF. SICFLUX ACI 100","UN",1,700.65,700.65]
[]
["4.23","INFRAESTRUTURA PARA INSTALAÇÃO DE AUDIO E VÍDEO",null,null,null,{"$f":"SUBTOTAL(9,F511:F529)","v":45075.270000000004}]
["4.23.1","ACESSÓRIOS P/ELETRODUTO E USO GERAL - JÁ EXECUTADO",null,null,null,{"$f":"SUBTOTAL(9,F512)","v":0}]
[null,""]
["4.23.2","CABOS",null,null,null,{"$f":"SUBTOTAL(9,F514:F517)","v":3939.4599999999996}]
["4.23.2.1","FORNECIMENTO E INSTALAÇÃO DE CABO POLARIZADO, PARA SONORIZAÇÃO 2X1,5MM² - BICOLOR","M",251,5.98,{"$f":"ROUND(D514*E514,2)","v":1500.98}]
["4.23.2.2","FORNECIMENTO E INSTALÇÃO DE CABO HDMI 4K ULTRA HD BLINDADO COM FILTRO 1,5M","UN",8,68.599999999999994,548.79999999999995]
["4.23.2.3","FORNECIMENTO E INSTALÇÃO DE CABO HDMI 4K ULTRA HD BLINDADO COM FILTRO 15M","UN",8,224,1792]
["4.23.2.4","FORNECIMENTO E INSTALAÇÃO DE CABO DE ÁUDIO BALANCEADO CONECTORES: P2 MACHO X P2 MACHO - 2 METROS","UN",8,12.21,97.68]
[null,""]
["4.23.3","DISPOSITIVO MULTIMIDIA",null,null,null,{"$f":"SUBTOTAL(9,F520:F522)","v":4306.3999999999996}]
["4.23.3.1","FORNECIMENTO E INSTALAÇÃO DE RACK METÁLICO 2U, COM TAMPA E CHAVE","UN",8,336.95,{"$f":"ROUND(D520*E520,2)","v":2695.6}]
["4.23.3.2","FORNECIMENTO E INSTALAÇÃO DE SUPORTE UNIVERSAL PARA PROJETOR - PROLONGADOR","UN",8,153.18,1225.44]
["4.23.3.3","FORNECIMENTO E INSTALAÇÃO DE CONECTOR KEYSTONE HDMI FÊMEA X FÊMEA, EM MÓDULO PVC BRANCO","UN",8,48.17,385.36]
[null,""]
["4.23.4","ELETRODUTOS - JÁ EXECUTADO",null,null,null,{"$f":"SUBTOTAL(9,F525)","v":0}]
[null,""]
["4.23.5","EQUIPAMENTOS E ACESSÓRIOS",null,null,null,{"$f":"SUBTOTAL(9,F527:F529)","v":36829.410000000003}]
["4.23.5.1","FORNECIMENTO E INSTALAÇÃO DE MODULO AMPLIFICADOR COM POTÊNCIA DE 30 WRMS, COM ENTRADA DE MICROFONE E AUXILIAR COM CONTROLES DE VOLUMES INDEPENDENTES, CONTROLE DE GRAVE E AGUDO (REF.: SLIM 1000 OU SIMILAR)","UN",1,921.43,{"$f":"ROUND(D527*E527,2)","v":921.43}]
["4.23.5.2","FORNECIMENTO E INSTALAÇÃO DE MODULO AMPLIFICADOR COM POTÊNCIA DE 200 WRMS, COM ENTRADA DE MICROFONE E AUXILIAR COM CONTROLES DE VOLUMES INDEPENDENTES, CONTROLE DE GRAVE E AGUDO (REF.: SLIM 3000 OU SIMILAR)","UN",7,1618.94,{"$f":"ROUND(D528*E528,2)","v":11332.58}]
["4.23.5.3","FORNECIMENTO E INSTALAÇÃO DE SONOFLETOR CIRCULAR 6\" DE EMBUTIR EM FORRO, COM TELA, COR BRANCA, SENSIBILIDADE MÍNIMA DE 89DB, POTÊNCIA DE 30W OU SUPERIOR, RESP. FREQUENCIA 50HZ A 20KHZ (JBL SELENIUM 6CO2R OU SIMILAR)","UN",60,409.59,{"$f":"ROUND(D529*E529,2)","v":24575.4}]
[]
["4.24","INSTALAÇÕES HIDRAULICAS ",null,null,null,{"$f":"SUBTOTAL(9,F532:F532)","v":0}]
[]
["4.25","ÁGUAS PLUVIAIS DE COBERTURA",null,null,null,{"$f":"SUBTOTAL(9,F534:F541)","v":27422.83}]
["4.25.1","CALHA EM CHAPA DE AÇO GALVANIZADO NÚMERO 24, DESENVOLVIMENTO DE 50 CM, INCLUSO TRANSPORTE VERTICAL. AF_07/2019 - ACESSO BLOCO C / D.","M",15.6,95.08,{"$f":"ROUND(D534*E534,2)","v":1483.25}]
["4.25.2","RUFO C/ PINGADEIRA BLOCO A LADO C/ CALHA - CHAPA EM AÇO GALVANIZADO 0,50MM, CORTE 80 CM PARA FECHAMENTO INTERNO E TOPO DE PLATIBANDA, incluso acessórios para fixação e vedação -  ACESSO BLOCO C / D.","M",15.6,113.19,1765.76]
["4.25.3","JOELHO 90 GRAUS, PVC, SERIE R, ÁGUA PLUVIAL, DN 100 MM, JUNTA ELÁSTICA, FORNECIDO E INSTALADO EM RAMAL DE ENCAMINHAMENTO. AF_12/2014","UN",35,49.03,1716.05]
["4.25.4","TUBO PVC, SÉRIE R, ÁGUA PLUVIAL, DN 100 MM, FORNECIDO E INSTALADO EM RAMAL DE ENCAMINHAMENTO. AF_12/2014","M",12,71.709999999999994,860.52]
["4.25.5","TUBO PVC, SÉRIE R, ÁGUA PLUVIAL, DN 150 MM, FORNECIDO E INSTALADO EM CONDUTORES VERTICAIS DE ÁGUAS PLUVIAIS. AF_12/2014","M",21,94.31,1980.51]
["4.25.6","IMPERMEABILIZAÇÃO DE SUPERFÍCIE COM EMULSÃO ASFÁLTICA, 2 DEMÃOS AF_06/2018 - DAS CALHAS DE CONCRETO EXISTENTES","M2",300,58.1,17430]
["4.25.7","POÇO DE VISITA EM ANEL DE CONCRETO,BALÃO DE 0,60 M (DI), PROFUNDIDADE ATÉ 1,20 M, INCLUSIVE TAMPÃO TD-600","UN",1,1731.56,1731.56]
["4.25.8","TAMPA PARA CAIXA TIPO R1, EM FERRO FUNDIDO, DIMENSÕES INTERNAS: 0,40 X 0,60 M - FORNECIMENTO E INSTALAÇÃO. AF_12/2020","UN",1,455.18,455.18]
[]
["4.26","INSTALAÇÕES SANITÁRIAS",null,null,null,{"$f":"SUBTOTAL(9,F544:F544)","v":0}]
[]
["4.27","LOUÇAS E METÁIS",null,null,null,{"$f":"SUBTOTAL(9,F546:F562)","v":24823.920000000002}]
["4.27.1","CABIDEIRO 20160 EVIDENCE CROMADO (MARCA DECA, DOCOL OU SIMILAR)- FORNECIMENTO E INSTALAÇÃO","UN",12,33.299999999999997,{"$f":"ROUND(D546*E546,2)","v":399.6}]
["4.27.2","CUBA DE EMBUTIR OVAL EM LOUÇA BRANCA, 35 X 50CM OU EQUIVALENTE - FORNECIMENTO E INSTALAÇÃO. AF_01/2020","UN",8,176.04,{"$f":"ROUND(D547*E547,2)","v":1408.32}]
["4.27.3","LAVATÓRIO MASTER DE CANTO COR BRANCO GELO, COD 76, (MARCA DECA OU SIMILAR), INCLUSO SIFÃO TIPO COPO, PARA LAVATÓRIO 1680, CROMADO, 1\" - 1.1/2\", VALVULA DE METAL CROMADO 1\", PARA LAVATÓRIO, SEM LADRÃO. - FORNECIMENTO E INSTALAÇÃO","UN",2,1564.49,{"$f":"ROUND(D548*E548,2)","v":3128.98}]
["4.27.4","VÁLVULA EM METAL CROMADO 1.1/2\u0094 X 1.1/2\u0094 PARA TANQUE OU LAVATÓRIO, COM OU SEM LADRÃO - FORNECIMENTO E INSTALAÇÃO. AF_01/2020","UN",10,34.36,343.6]
["4.27.5","ENGATE FLEXÍVEL EM PLÁSTICO BRANCO, 1/2\u0094 X 40CM - FORNECIMENTO E INSTALAÇÃO. AF_01/2020","UN",10,12.97,129.69999999999999]
["4.27.6","SIFÃO DO TIPO GARRAFA EM METAL CROMADO 1 X 1.1/2\u0094 - FORNECIMENTO E INSTALAÇÃO. AF_01/2020","UN",10,191.93,1919.3]
["4.27.7","TORNEIRA DE MESA PRESMATIC ECO CROMADA COD 1173, MARCA DECA, DOCOL OU SIMILAR, FORNECIMENTO E INSTALAÇÃO.","UN",10,215.45,2154.5]
["4.27.8","VASO SANITARIO SIFONADO CONVENCIONAL COM LOUÇA BRANCA, INCLUSO CONJUNTO DE LIGAÇÃO PARA BACIA SANITÁRIA AJUSTÁVEL - FORNECIMENTO E INSTALAÇÃO. AF_10/2016","UN",10,269.99,2699.9]
["4.27.9","VASO SANITARIO SIFONADO CONVENCIONAL PARA PCD SEM FURO FRONTAL COM LOUÇA BRANCA SEM ASSENTO, INCLUSO CONJUNTO DE LIGAÇÃO PARA BACIA SANITÁRIA AJUSTÁVEL - FORNECIMENTO E INSTALAÇÃO. AF_01/2020","UN",2,1069.02,{"$f":"ROUND(D554*E554,2)","v":2138.04}]
["4.27.10","VÁLVULA DE DESCARGA METÁLICA, BASE 1 1/2 \", ACABAMENTO METALICO CROMADO REF. DOCOL OU SIMILAR- FORNECIMENTO E INSTALAÇÃO","UN",10,333.54,3335.4]
["4.27.11","VÁLVULA DE DESCARGA  1.1/2\" COM ACABAMENTO PARA VÁLVULA BENEFIT CROMADO (ALAVANCA PARA PCD)- DOCOL OU SIMILAR","UN",2,1030.6600000000001,{"$f":"ROUND(D556*E556,2)","v":2061.3200000000002}]
["4.27.12","ASSENTO SANITÁRIO CONVENCIONAL - FORNECIMENTO E INSTALACAO. AF_01/2020","UN",12,48.02,576.24]
["4.27.13","DUCHA HIGIÊNICA CROMADO REF:  LINK DECA 1984.C.ACT.LNK.CRL, MARCA DECA, DOCOL OU SIMILAR, FORNECIMENTO E INSTALAÇÃO.","UN",2,325.5,651]
["4.27.14","BARRA DE APOIO INOX RETA 400mm PARA PORTA DOS BANHEIROS PCD E/OU ACESSÓRIO PARA BANHEIRO PNE  (NORMA 9050/2015). - DESCRIÇÃO DO MATERIAL: • AÇO INOX 304 POLIDO., • DIÂMETRO DE 1” ½ , • ESPESSURA DE 1,2 MILÍMETROS, • SUPORTE COM TRÊS PONTOS DE FIXAÇÃO, • CANOPLA DE ACABAMENTO COM Ø DE 85MM, • BUCHA NYLON S10, • PARAFUSO SEXTAVADO S10 - FORNECIMENTO E INSTALAÇÃO","UN",6,251.8,1510.8]
["4.27.15","BARRA DE APOIO RETA, EM ACO INOX POLIDO, COMPRIMENTO 70 CM,  FIXADA NA PAREDE - FORNECIMENTO E INSTALAÇÃO. AF_01/2020","UN",2,377.71,755.42]
["4.27.16","BARRA DE APOIO RETA, EM ACO INOX POLIDO, COMPRIMENTO 80 CM,  FIXADA NA PAREDE - FORNECIMENTO E INSTALAÇÃO. AF_01/2020","UN",2,395.95,791.9]
["4.27.17","BARRA DE APOIO RETA, EM ACO INOX POLIDO, COMPRIMENTO 90 CM,  FIXADA NA PAREDE - FORNECIMENTO E INSTALAÇÃO. AF_01/2020","UN",2,409.95,819.9]
[]
["4.28","SISTEMA DE TRATAMENTO DE ESGOTO",null,null,null,{"$f":"SUBTOTAL(9,F565)","v":0}]
[]
["4.29","LIMPEZA CONTÍNUA DA OBRA",null,null,null,{"$f":"SUBTOTAL(9,F567)","v":0}]
[]
["4.30","LIMPEZA FINAL PARA ENTREGA",null,null,null,{"$f":"SUBTOTAL(9,F569)","v":4409.87}]
["4.30.1","LIMPEZA FINAL PARA ENTREGA","M2",1445.86,3.05,{"$f":"ROUND(D569*E569,2)","v":4409.87}]
[]
["VALOR TOTAL",null,null,null,null,{"$f":"SUBTOTAL(9,F14:F570)","v":1255678.3600000006}]

{"sheet":"5_BLOCO D","index":6,"n_rows":749,"n_cols":6,"rows_kept":749,"cut":false,"hidden":true,"merged":[[10,0,10,5],[0,0,3,2],[0,3,1,5],[2,3,3,3],[2,4,3,4],[2,5,3,5],[4,0,4,5],[5,0,5,5],[6,0,6,5],[7,0,7,5],[8,0,8,5],[9,0,9,5]]}
["                                 PLANILHA ORÇAMENTARIA   ",null,null,"SPN-FF-003"]
[]
[null,null,null,"Folha:              1 de 1","Revisão:      \n02","Data: \n07/10/19"]
[]
["SESI - SERVIÇO SOCIAL DA INDUSTRIA - DR/MT"]
["OBRA: CONTRATAÇÃO DE EMPRESA ESPECIALIZADA PARA CONTINUIDADE DA EXECUÇÃO DA OBRA DE REFORMA E AMPLIAÇÃO DA UNIDADE DO SESI ESCOLA VÁRZEA GRANDE/MT."]
["UNIDADE OPERACIONAL: SESI ESCOLA VÁRZEA GRANDE"]
["ENDEREÇO: AV. DOM ORLANDO CHAVES, N.º 1.086, PONTE NOVA - CRISTO REI         CIDADE: VÁRZEA GRANDE/MT"]
["CONSTRUTORA:"]
["RESPONSÁVEL TÉCNICO:"]
["BASE SINAPI UTILIZADA: 06/2021"]
["ITEM","DESCRIÇÃO","UNID.","QUANT.","Valor UNIT. (R$)","Valor Total (R$)"]
[]
[5,"BLOCO D"]
[]
["5.0","DEMOLIÇÕES E RETIRADAS",null,null,null,{"$f":"SUBTOTAL(9,F17:F28)","v":27795.949999999997}]
["5.0.1","DEMOLIÇÃO",null,null,null,{"$f":"SUBTOTAL(9,F18:F28)","v":27795.949999999997}]
["5.0.1.1","DEMOLIÇÃO DE ALVENARIA DE BLOCO FURADO, DE FORMA MANUAL, SEM REAPROVEITAMENTO. AF_12/2017","M3",24.53,49.97,{"$f":"ROUND(D18*E18,2)","v":1225.76}]
["5.0.1.2","REMOÇÃO DE PINTURA LÁTEX OU TEXTURA (RASPAGEM E/OU LIXAMENTO E/OU ESCOVAÇÃO","M2",264.23,7.66,2024]
["5.0.1.3","DEMOLIÇÃO MANUAL DE PISO EM CONCRETO SIMPLES INCLUSIVE LASTRO DE CONCRETO","M2",90.53,34.07,3084.36]
["5.0.1.4","REMOÇÃO DE PORTAS, DE FORMA MANUAL, SEM REAPROVEITAMENTO, ARMAZENAMENTO EM LOCAL INDICADO PELA FISCALIZAÇÃO","M2",6.3,8.14,51.28]
["5.0.1.5","REMOÇÃO DE JANELAS, DE FORMA MANUAL, SEM REAPROVEITAMENTO, ARMAZENAMENTO EM LOCAL INDICADO PELA FISCALIZAÇÃO","M2",10.8,30.15,325.62]
["5.0.1.6","DEMOLIÇÃO DE PAVIMENTO INTERTRAVADO, DE FORMA MANUAL, COM REAPROVEITAMENTO. AF_12/2017","M2",457.66,14,6407.24]
["5.0.1.7","DEMOLIÇÃO DE PILARES E VIGAS EM CONCRETO ARMADO, DE FORMA MECANIZADA COM MARTELETE, SEM REAPROVEITAMENTO. AF_12/2017","M3",9.66,243.62,{"$f":"ROUND(D24*E24,2)","v":2353.37}]
["5.0.1.8","DEMOLIÇÃO DE LAJES, DE FORMA MECANIZADA COM MARTELETE, SEM REAPROVEITAMENTO. AF_12/2017","M3",20.736499999999999,106.24,2203.0500000000002]
["5.0.1.9","DEMOLIÇÃO DE PISO, SOLEIRAS, BANCADAS EM REVESTIDO DE GRANITO","M2",27.2,20.84,566.85]
["5.0.1.10","DEMOLIÇÃO DE ARGAMASSAS, DE FORMA MANUAL, SEM REAPROVEITAMENTO. AF_12/2017","M2",296.58,2.91,863.05]
["5.0.1.11","BOTA FORA DE MATERIAL DESCARTADO, D.M.T. = 10 km - (CARGA, TRANSPORTE E DESCARGA MECÂNICA)","M3",148.13999999999999,58.67,8691.3700000000008]
[]
["5.1","INSTALAÇÕES DE CANTEIRO",null,null,null,{"$f":"SUBTOTAL(9,F31)","v":0}]
[]
["5.2","ADMINISTRAÇÃO",null,null,null,{"$f":"SUBTOTAL(9,F33)","v":0}]
[]
["5.3","TERRAPLENAGEM",null,null,null,{"$f":"SUBTOTAL(9,F35)","v":0}]
[]
["5.4","FUNDAÇÃO",null,null,null,{"$f":"SUBTOTAL(9,F37:F90)","v":188371.93}]
["5.4.1","FUNDAÇÃO - AMPLIAÇÃO SALA DE AULA 18",null,null,null,{"$f":"SUBTOTAL(9,F38:F53)","v":46482.329999999994}]
["5.4.1.1","ESCAVAÇÃO MECANIZADA PARA BLOCO DE COROAMENTO OU SAPATA, SEM PREVISÃO DE FÔRMA, COM RETROESCAVADEIRA. AF_06/2017","M3",9.4699999999999989,91.26,{"$f":"ROUND(D38*E38,2)","v":864.23}]
["5.4.1.2","BOTA FORA DE MATERIAL DESCARTADO, D.M.T. = 10 km - (CARGA, TRANSPORTE E DESCARGA MECÂNICA)","M3",6.7924999999999995,58.67,{"$f":"ROUND(D39*E39,2)","v":398.52}]
["5.4.1.3","REATERRO MANUAL DE VALAS COM COMPACTAÇÃO MECANIZADA. AF_04/2016","M3",0.47250000000000003,27.04,{"$f":"ROUND(D40*E40,2)","v":12.78}]
["5.4.1.4","ESTACAS - ESTACAS RAIZ DE Ø31cm EM SOLO INCLUSIVE A  INJENÇÃO DE ARGAMASSA FCK>20 MPA, INCLUSIVE LANÇAMENTO DE ARMAÇÃO / CONSUMO MÍNIMO DE CIMENTO - 600 kg/m³.","M",56,474.01,{"$f":"ROUND(D41*E41,2)","v":26544.560000000001}]
["5.4.1.5","ESTACAS - ARMAÇÃO DE BLOCO, VIGA BALDRAME E SAPATA UTILIZANDO AÇO CA-60 DE 5 MM - MONTAGEM. AF_06/2017","KG",40,25.68,1027.2]
["5.4.1.6","ESTACAS - ARMAÇÃO DE BLOCO, VIGA BALDRAME OU SAPATA UTILIZANDO AÇO CA-50 DE 10 MM - MONTAGEM. AF_06/2017","KG",104,21.99,2286.96]
["5.4.1.7","BLOCOS - LASTRO COM MATERIAL GRANULAR (PEDRA BRITADA N.1 E PEDRA BRITADA N.2), APLICADO EM PISOS OU LAJES SOBRE SOLO, ESPESSURA DE *10 CM*. AF_07/2019","M3",0.35000000000000003,142.05000000000001,49.72]
["5.4.1.8","BLOCOS - FABRICAÇÃO, MONTAGEM E DESMONTAGEM DE FÔRMA PARA BLOCO DE COROAMENTO, EM MADEIRA SERRADA, E=25 MM, 1 UTILIZAÇÃO. AF_06/2017","M2",13.72,165.28,2267.64]
["5.4.1.9","BLOCOS - ARMAÇÃO DE BLOCO, VIGA BALDRAME OU SAPATA UTILIZANDO AÇO CA-50 DE 10 MM - MONTAGEM. AF_06/2017","KG",157,21.99,3452.43]
["5.4.1.10","BLOCOS - CONCRETAGEM DE BLOCOS DE COROAMENTO E VIGAS BALDRAMES, FCK 30 MPA, COM USO DE BOMBA \u0096 LANÇAMENTO, ADENSAMENTO E ACABAMENTO. AF_06/2017","M3",2.4,693.9,1665.36]
["5.4.1.11","VIGA BALDRAME - LASTRO COM MATERIAL GRANULAR (PEDRA BRITADA N.1 E PEDRA BRITADA N.2), APLICADO EM PISOS OU LAJES SOBRE SOLO, ESPESSURA DE *10 CM*. AF_07/2019","M3",0.67290000000000005,142.05000000000001,{"$f":"ROUND(D48*E48,2)","v":95.59}]
["5.4.1.12","VIGA BALDRAME - FABRICAÇÃO, MONTAGEM E DESMONTAGEM DE FÔRMA PARA VIGA BALDRAME, EM MADEIRA SERRADA, E=25 MM, 1 UTILIZAÇÃO. AF_06/2017","M2",23.55,148.03,3486.11]
["5.4.1.13","VIGA BALDRAME - ARMAÇÃO DE BLOCO, VIGA BALDRAME E SAPATA UTILIZANDO AÇO CA-60 DE 5 MM - MONTAGEM. AF_06/2017","KG",31,25.68,796.08]
["5.4.1.14","VIGA BALDRAME - ARMAÇÃO DE BLOCO, VIGA BALDRAME OU SAPATA UTILIZANDO AÇO CA-50 DE 10 MM - MONTAGEM. AF_06/2017","KG",39,21.99,857.61]
["5.4.1.15","VIGA BALDRAME - ARMAÇÃO DE BLOCO, VIGA BALDRAME OU SAPATA UTILIZANDO AÇO CA-50 DE 12,5 MM - MONTAGEM. AF_06/2017","KG",60,18.72,1123.2]
["5.4.1.16","VIGA BALDRAME - CONCRETAGEM DE BLOCOS DE COROAMENTO E VIGAS BALDRAMES, FCK 30 MPA, COM USO DE BOMBA \u0096 LANÇAMENTO, ADENSAMENTO E ACABAMENTO. AF_06/2017","M3",2.2400000000000002,693.9,1554.34]
[]
["5.4.2","FUNDAÇÃO - REFORÇO DO AUDITÓRIO",null,null,null,{"$f":"SUBTOTAL(9,F56:F66)","v":64767.61}]
["5.4.2.1","ESCAVAÇÃO MECANIZADA PARA BLOCO DE COROAMENTO OU SAPATA, SEM PREVISÃO DE FÔRMA, COM RETROESCAVADEIRA. AF_06/2017","M3",5.62,91.26,{"$f":"ROUND(D56*E56,2)","v":512.88}]
["5.4.2.2","BOTA FORA DE MATERIAL DESCARTADO, D.M.T. = 10 km - (CARGA, TRANSPORTE E DESCARGA MECÂNICA)","M3",4.8,58.67,{"$f":"ROUND(D57*E57,2)","v":281.62}]
["5.4.2.3","REATERRO MANUAL DE VALAS COM COMPACTAÇÃO MECANIZADA. AF_04/2016","M3",0.84,27.04,{"$f":"ROUND(D58*E58,2)","v":22.71}]
["5.4.2.4","ESTACAS - ESTACAS RAIZ DE Ø31cm EM SOLO INCLUSIVE A  INJENÇÃO DE ARGAMASSA FCK>20 MPA, INCLUSIVE LANÇAMENTO DE ARMAÇÃO / CONSUMO MÍNIMO DE CIMENTO - 600 kg/m³.","M",96,474.01,{"$f":"ROUND(D59*E59,2)","v":45504.959999999999}]
["5.4.2.5","ESTACA - ARMAÇÃO DE BLOCO, VIGA BALDRAME OU SAPATA UTILIZANDO AÇO CA-50 DE 6,3 MM - MONTAGEM. AF_06/2017","KG",385,25.13,9675.0499999999993]
["5.4.2.6","ESTACA - ARMAÇÃO DE BLOCO, VIGA BALDRAME OU SAPATA UTILIZANDO AÇO CA-50 DE 12,5 MM - MONTAGEM. AF_06/2017","KG",130,18.72,2433.6]
["5.4.2.7","BLOCOS - LASTRO COM MATERIAL GRANULAR (PEDRA BRITADA N.1 E PEDRA BRITADA N.2), APLICADO EM PISOS OU LAJES SOBRE SOLO, ESPESSURA DE *10 CM*. AF_07/2019","M3",0.05,142.05000000000001,7.1]
["5.4.2.8","BLOCOS - FABRICAÇÃO, MONTAGEM E DESMONTAGEM DE FÔRMA PARA BLOCO DE COROAMENTO, EM MADEIRA SERRADA, E=25 MM, 1 UTILIZAÇÃO. AF_06/2017","M2",20.159999999999997,165.28,3332.04]
["5.4.2.9","BLOCOS - ARMAÇÃO DE BLOCO, VIGA BALDRAME OU SAPATA UTILIZANDO AÇO CA-50 DE 6,3 MM - MONTAGEM. AF_06/2017 (ARMAÇÃO DOS BLOCOS JÁ ESTÃO MONTADAS)","KG",0,25.13,{"$f":"ROUND(D64*E64,2)","v":0}]
["5.4.2.10","BLOCOS - ARMAÇÃO DE BLOCO, VIGA BALDRAME OU SAPATA UTILIZANDO AÇO CA-50 DE 10 MM - MONTAGEM. AF_06/2017 (ARMAÇÃO DOS BLOCOS JÁ ESTÃO MONTADAS)","KG",0,21.99,0]
["5.4.2.11","BLOCOS - CONCRETAGEM DE BLOCOS DE COROAMENTO E VIGAS BALDRAMES, FCK 30 MPA, COM USO DE BOMBA \u0096 LANÇAMENTO, ADENSAMENTO E ACABAMENTO. AF_06/2017","M3",4.32,693.9,2997.65]
[]
["5.4.3","FUNDAÇÃO - AMPLIAÇÃO SALA DE MATEMATICA",null,null,null,{"$f":"SUBTOTAL(9,F69:F78)","v":33064.519999999997}]
["5.4.3.1","ESCAVAÇÃO MECANIZADA PARA BLOCO DE COROAMENTO OU SAPATA, SEM PREVISÃO DE FÔRMA, COM RETROESCAVADEIRA. AF_06/2017","M3",8.120000000000001,91.26,{"$f":"ROUND(D69*E69,2)","v":741.03}]
["5.4.3.2","BOTA FORA DE MATERIAL DESCARTADO, D.M.T. = 10 km - (CARGA, TRANSPORTE E DESCARGA MECÂNICA)","M3",5.8249999999999993,58.67,{"$f":"ROUND(D70*E70,2)","v":341.75}]
["5.4.3.3","REATERRO MANUAL DE VALAS COM COMPACTAÇÃO MECANIZADA. AF_04/2016","M3",0.40500000000000003,27.04,{"$f":"ROUND(D71*E71,2)","v":10.95}]
["5.4.3.4","ESTACAS - ESTACAS RAIZ DE Ø31cm EM SOLO INCLUSIVE A  INJENÇÃO DE ARGAMASSA FCK>20 MPA, INCLUSIVE LANÇAMENTO DE ARMAÇÃO / CONSUMO MÍNIMO DE CIMENTO - 600 kg/m³.","M",48,474.01,{"$f":"ROUND(D72*E72,2)","v":22752.48}]
["5.4.3.5","ESTACAS - ARMAÇÃO DE BLOCO, VIGA BALDRAME E SAPATA UTILIZANDO AÇO CA-60 DE 5 MM - MONTAGEM. AF_06/2017","KG",35,25.68,898.8]
["5.4.3.6","ESTACAS - ARMAÇÃO DE BLOCO, VIGA BALDRAME OU SAPATA UTILIZANDO AÇO CA-50 DE 10 MM - MONTAGEM. AF_06/2017","KG",89,21.99,1957.11]
["5.4.3.7","BLOCOS - LASTRO COM MATERIAL GRANULAR (PEDRA BRITADA N.1 E PEDRA BRITADA N.2), APLICADO EM PISOS OU LAJES SOBRE SOLO, ESPESSURA DE *10 CM*. AF_07/2019","M3",0.30000000000000004,142.05000000000001,42.62]
["5.4.3.8","BLOCOS - FABRICAÇÃO, MONTAGEM E DESMONTAGEM DE FÔRMA PARA BLOCO DE COROAMENTO, EM MADEIRA SERRADA, E=25 MM, 1 UTILIZAÇÃO. AF_06/2017","M2",11.76,165.28,1943.69]
["5.4.3.9","BLOCOS - ARMAÇÃO DE BLOCO, VIGA BALDRAME OU SAPATA UTILIZANDO AÇO CA-50 DE 10 MM - MONTAGEM. AF_06/2017","KG",134,21.99,2946.66]
["5.4.3.10","BLOCOS - CONCRETAGEM DE BLOCOS DE COROAMENTO E VIGAS BALDRAMES, FCK 30 MPA, COM USO DE BOMBA \u0096 LANÇAMENTO, ADENSAMENTO E ACABAMENTO. AF_06/2017","M3",2.06,693.9,1429.43]
[]
["5.4.4","FUNDAÇÃO - AMPLIAÇÃO LAB. DE CIÊNCIAS E ROBÓTICA",null,null,null,{"$f":"SUBTOTAL(9,F81:F90)","v":44057.47}]
["5.4.4.1","ESCAVAÇÃO MECANIZADA PARA BLOCO DE COROAMENTO OU SAPATA, SEM PREVISÃO DE FÔRMA, COM RETROESCAVADEIRA. AF_06/2017","M3",10.83,91.26,{"$f":"ROUND(D81*E81,2)","v":988.35}]
["5.4.4.2","BOTA FORA DE MATERIAL DESCARTADO, D.M.T. = 10 km - (CARGA, TRANSPORTE E DESCARGA MECÂNICA)","M3",7.77,58.67,{"$f":"ROUND(D82*E82,2)","v":455.87}]
["5.4.4.3","REATERRO MANUAL DE VALAS COM COMPACTAÇÃO MECANIZADA. AF_04/2016","M3",0.54,27.04,{"$f":"ROUND(D83*E83,2)","v":14.6}]
["5.4.4.4","ESTACAS - ESTACAS RAIZ DE Ø31cm EM SOLO INCLUSIVE A  INJENÇÃO DE ARGAMASSA FCK>20 MPA, INCLUSIVE LANÇAMENTO DE ARMAÇÃO / CONSUMO MÍNIMO DE CIMENTO - 600 kg/m³.","M",64,474.01,{"$f":"ROUND(D84*E84,2)","v":30336.639999999999}]
["5.4.4.5","ESTACAS - ARMAÇÃO DE BLOCO, VIGA BALDRAME E SAPATA UTILIZANDO AÇO CA-60 DE 5 MM - MONTAGEM. AF_06/2017","KG",46,25.68,1181.28]
["5.4.4.6","ESTACAS - ARMAÇÃO DE BLOCO, VIGA BALDRAME OU SAPATA UTILIZANDO AÇO CA-50 DE 10 MM - MONTAGEM. AF_06/2017","KG",118,21.99,2594.8200000000002]
["5.4.4.7","BLOCOS - LASTRO COM MATERIAL GRANULAR (PEDRA BRITADA N.1 E PEDRA BRITADA N.2), APLICADO EM PISOS OU LAJES SOBRE SOLO, ESPESSURA DE *10 CM*. AF_07/2019","M3",0.4,142.05000000000001,56.82]
["5.4.4.8","BLOCOS - FABRICAÇÃO, MONTAGEM E DESMONTAGEM DE FÔRMA PARA BLOCO DE COROAMENTO, EM MADEIRA SERRADA, E=25 MM, 1 UTILIZAÇÃO. AF_06/2017","M2",15.68,165.28,2591.59]
["5.4.4.9","BLOCOS - ARMAÇÃO DE BLOCO, VIGA BALDRAME OU SAPATA UTILIZANDO AÇO CA-50 DE 10 MM - MONTAGEM. AF_06/2017","KG",179,21.99,3936.21]
["5.4.4.10","BLOCOS - CONCRETAGEM DE BLOCOS DE COROAMENTO E VIGAS BALDRAMES, FCK 30 MPA, COM USO DE BOMBA \u0096 LANÇAMENTO, ADENSAMENTO E ACABAMENTO. AF_06/2017","M3",2.74,693.9,1901.29]
[]
["5.5","IMPERMEABILIZAÇÃO",null,null,null,{"$f":"SUBTOTAL(9,F93)","v":7277.03}]
["5.5.1","IMPERMEABILIZAÇÃO DE SUPERFÍCIE COM EMULSÃO ASFÁLTICA, 2 DEMÃOS AF_06/2018","M2",125.24999999999999,58.1,{"$f":"ROUND(D93*E93,2)","v":7277.03}]
[]
["5.6","ESTRUTURAS DE CONCRETO ARMADO",null,null,null,{"$f":"SUBTOTAL(9,F96:F144)","v":95889.900000000023}]
["5.6.1","ESTRUTURAS DE CONCRETO ARMADO - RAMPA ACESSO CARGA E DESCARGA",null,null,null,{"$f":"SUBTOTAL(9,F97:F99)","v":8711.130000000001}]
["5.6.1.1","ALVENARIA DE BLOCOS DE CONCRETO ESTRUTURAL 14X19X39 CM, (ESPESSURA 14 CM), FBK = 4,5 MPA, PARA PAREDES COM ÁREA LÍQUIDA MAIOR OU IGUAL A 6M², SEM VÃOS, UTILIZANDO PALHETA. AF_12/2014 - CONSIDERANDO BLOCO ENTERRADO 50CM","M2",24.330000000000002,78.12,{"$f":"ROUND(D97*E97,2)","v":1900.66}]
["5.6.1.2","ARMAÇÃO DE BLOCO, VIGA BALDRAME OU SAPATA UTILIZANDO AÇO CA-50 DE 12,5 MM - MONTAGEM. AF_06/2017 - CONSIDERANDO COMPRIM. DE 25,15M C/ FERRO A CADA 40CM ENTERRADO 2,00M","KG",167.3672,18.72,{"$f":"ROUND(D98*E98,2)","v":3133.11}]
["5.6.1.3","CONCRETAGEM DE BLOCOS DE COROAMENTO E VIGAS BALDRAMES, FCK 30 MPA, COM USO DE BOMBA \u0096 LANÇAMENTO, ADENSAMENTO E ACABAMENTO. AF_06/2017","M3",5.2995600000000014,693.9,{"$f":"ROUND(D99*E99,2)","v":3677.36}]
[]
["5.6.2","ESTRUTURAS DE CONCRETO ARMADO - AMPLIAÇÃO SALA DE AULA 18",null,null,null,{"$f":"SUBTOTAL(9,F102:F106)","v":2944.95}]
["5.6.2.1","PILARES - MONTAGEM E DESMONTAGEM DE FÔRMA DE PILARES RETANGULARES E ESTRUTURAS SIMILARES, PÉ-DIREITO SIMPLES, EM MADEIRA SERRADA, 1 UTILIZAÇÃO. AF_09/2020","M2",4.4800000000000004,238.53,{"$f":"ROUND(D102*E102,2)","v":1068.6099999999999}]
["5.6.2.2","PILARES - ARMAÇÃO DE PILAR OU VIGA DE UMA ESTRUTURA CONVENCIONAL DE CONCRETO ARMADO EM UMA EDIFICAÇÃO TÉRREA UTILIZANDO AÇO CA-60 DE 5,0 MM - MONTAGEM. AF_12/2015","KG",20,25.71,514.20000000000005]
["5.6.2.3","PILARES - ARMAÇÃO DE PILAR OU VIGA DE UMA ESTRUTURA CONVENCIONAL DE CONCRETO ARMADO EM UMA EDIFICAÇÃO TÉRREA UTILIZANDO AÇO CA-50 DE 8,0 MM - MONTAGEM. AF_12/2015","KG",9,24.24,218.16]
["5.6.2.4","PILARES - ARMAÇÃO DE PILAR OU VIGA DE UMA ESTRUTURA CONVENCIONAL DE CONCRETO ARMADO EM UMA EDIFICAÇÃO TÉRREA UTILIZANDO AÇO CA-50 DE 10,0 MM - MONTAGEM. AF_12/2015","KG",39,21.93,855.27]
["5.6.2.5","PILARES - CONCRETAGEM DE PILARES, FCK = 25 MPA, COM USO DE BOMBA EM EDIFICAÇÃO COM SEÇÃO MÉDIA DE PILARES MAIOR QUE 0,25 M² - LANÇAMENTO, ADENSAMENTO E ACABAMENTO. AF_12/2015","M3",0.44,656.15,288.70999999999998]
[]
["5.6.3","ESTRUTURAS DE CONCRETO ARMADO - REFORÇO DO AUDITÓRIO",null,null,null,{"$f":"SUBTOTAL(9,F109:F119)","v":42065.57}]
["5.6.3.1","PILARES - MONTAGEM E DESMONTAGEM DE FÔRMA DE PILARES RETANGULARES E ESTRUTURAS SIMILARES, PÉ-DIREITO SIMPLES, EM MADEIRA SERRADA, 1 UTILIZAÇÃO. AF_09/2020","M2",34,238.53,{"$f":"ROUND(D109*E109,2)","v":8110.02}]
["5.6.3.2","PILARES E VIGAS - ARMAÇÃO DE PILAR OU VIGA DE UMA ESTRUTURA CONVENCIONAL DE CONCRETO ARMADO EM UMA EDIFICAÇÃO TÉRREA UTILIZANDO AÇO CA-60 DE 5,0 MM - MONTAGEM. AF_12/2015 (ARMAÇÕES JÁ ESTÃO MONTADAS)","KG",0,25.71,0]
["5.6.3.3","PILARES E VIGAS - ARMAÇÃO DE PILAR OU VIGA DE UMA ESTRUTURA CONVENCIONAL DE CONCRETO ARMADO EM UM EDIFÍCIO DE MÚLTIPLOS PAVIMENTOS UTILIZANDO AÇO CA-50 DE 6,3 MM - MONTAGEM. AF_12/2015 (ARMAÇÕES JÁ ESTÃO MONTADAS)","KG",0,23.11,{"$f":"ROUND(D111*E111,2)","v":0}]
["5.6.3.4","PILARES E VIGAS - ARMAÇÃO DE PILAR OU VIGA DE UMA ESTRUTURA CONVENCIONAL DE CONCRETO ARMADO EM UMA EDIFICAÇÃO TÉRREA UTILIZANDO AÇO CA-50 DE 8,0 MM - MONTAGEM. AF_12/2015 (ARMAÇÕES JÁ ESTÃO MONTADAS)","KG",0,24.24,0]
["5.6.3.5","PILARES E VIGAS - ARMAÇÃO DE PILAR OU VIGA DE UMA ESTRUTURA CONVENCIONAL DE CONCRETO ARMADO EM UMA EDIFICAÇÃO TÉRREA UTILIZANDO AÇO CA-50 DE 10,0 MM - MONTAGEM. AF_12/2015 (ARMAÇÕES JÁ ESTÃO MONTADAS)","KG",0,21.93,0]
["5.6.3.6","PILARES E VIGAS- ARMAÇÃO DE PILAR OU VIGA DE UMA ESTRUTURA CONVENCIONAL DE CONCRETO ARMADO EM UM EDIFÍCIO DE MÚLTIPLOS PAVIMENTOS UTILIZANDO AÇO CA-50 DE 12,5 MM - MONTAGEM. AF_12/2015 (ARMAÇÕES JÁ ESTÃO MONTADAS)","KG",0,17.739999999999998,{"$f":"ROUND(D114*E114,2)","v":0}]
["5.6.3.7","PILARES E VIGAS - ARMAÇÃO DE PILAR OU VIGA DE UMA ESTRUTURA CONVENCIONAL DE CONCRETO ARMADO EM UM EDIFÍCIO DE MÚLTIPLOS PAVIMENTOS UTILIZANDO AÇO CA-50 DE 16,0 MM - MONTAGEM. AF_12/2015 (ARMAÇÕES JÁ ESTÃO MONTADAS)","KG",0,17.28,{"$f":"ROUND(D115*E115,2)","v":0}]
["5.6.3.8","PILARES E VIGAS - ARMAÇÃO DE PILAR OU VIGA DE UMA ESTRUTURA CONVENCIONAL DE CONCRETO ARMADO EM UM EDIFÍCIO DE MÚLTIPLOS PAVIMENTOS UTILIZANDO AÇO CA-50 DE 20,0 MM - MONTAGEM. AF_12/2015 (ARMAÇÕES JÁ ESTÃO MONTADAS)","KG",0,19.88,{"$f":"ROUND(D116*E116,2)","v":0}]
["5.6.3.9","PILARES - CONCRETAGEM DE PILARES, FCK = 25 MPA, COM USO DE BOMBA EM EDIFICAÇÃO COM SEÇÃO MÉDIA DE PILARES MAIOR QUE 0,25 M² - LANÇAMENTO, ADENSAMENTO E ACABAMENTO. AF_12/2015","M3",10.63,656.15,6974.87]
["5.6.3.10","VIGA RESPALDO - MONTAGEM E DESMONTAGEM DE FÔRMA DE VIGA, ESCORAMENTO METÁLICO, PÉ-DIREITO DUPLO, EM CHAPA DE MADEIRA RESINADA, 2 UTILIZAÇÕES. AF_09/2020","M2",88.6,303.12,26856.43]
["5.6.3.11","DEMOLIÇÃO DE PILARES E VIGAS EM CONCRETO ARMADO, DE FORMA MECANIZADA COM MARTELETE, SEM REAPROVEITAMENTO. AF_12/2017","M3",0.51,243.62,124.25]
[]
["5.6.4","ESTRUTURAS DE CONCRETO ARMADO - AMPLIAÇÃO SALA DE MATEMATICA",null,null,null,{"$f":"SUBTOTAL(9,F122:F131)","v":18580.789999999997}]
["5.6.4.1","PILARES - MONTAGEM E DESMONTAGEM DE FÔRMA DE PILARES RETANGULARES E ESTRUTURAS SIMILARES, PÉ-DIREITO SIMPLES, EM MADEIRA SERRADA, 1 UTILIZAÇÃO. AF_09/2020","M2",21.06,238.53,{"$f":"ROUND(D122*E122,2)","v":5023.4399999999996}]
["5.6.4.2","PILARES - ARMAÇÃO DE PILAR OU VIGA DE UMA ESTRUTURA CONVENCIONAL DE CONCRETO ARMADO EM UMA EDIFICAÇÃO TÉRREA UTILIZANDO AÇO CA-60 DE 5,0 MM - MONTAGEM. AF_12/2015","KG",28,25.71,719.88]
["5.6.4.3","PILARES - ARMAÇÃO DE PILAR OU VIGA DE UMA ESTRUTURA CONVENCIONAL DE CONCRETO ARMADO EM UMA EDIFICAÇÃO TÉRREA UTILIZANDO AÇO CA-50 DE 8,0 MM - MONTAGEM. AF_12/2015","KG",4,24.24,96.96]
["5.6.4.4","PILARES - ARMAÇÃO DE PILAR OU VIGA DE UMA ESTRUTURA CONVENCIONAL DE CONCRETO ARMADO EM UMA EDIFICAÇÃO TÉRREA UTILIZANDO AÇO CA-50 DE 10,0 MM - MONTAGEM. AF_12/2015","KG",74,21.93,1622.82]
["5.6.4.5","PILARES - CONCRETAGEM DE PILARES, FCK = 25 MPA, COM USO DE BOMBA EM EDIFICAÇÃO COM SEÇÃO MÉDIA DE PILARES MAIOR QUE 0,25 M² - LANÇAMENTO, ADENSAMENTO E ACABAMENTO. AF_12/2015","M3",1.05,656.15,688.96]
["5.6.4.6","VIGAS  - LASTRO COM MATERIAL GRANULAR (PEDRA BRITADA N.1 E PEDRA BRITADA N.2), APLICADO EM PISOS OU LAJES SOBRE SOLO, ESPESSURA DE *10 CM*. AF_07/2019","M3",0.58679999999999999,142.05000000000001,83.35]
["5.6.4.7","VIGAS - FABRICAÇÃO, MONTAGEM E DESMONTAGEM DE FÔRMA PARA VIGA BALDRAME, EM MADEIRA SERRADA, E=25 MM, 1 UTILIZAÇÃO. AF_06/2017","M2",37.1,148.03,5491.91]
["5.6.4.8","VIGAS - ARMAÇÃO DE BLOCO, VIGA BALDRAME E SAPATA UTILIZANDO AÇO CA-60 DE 5 MM - MONTAGEM. AF_06/2017","KG",35,25.68,898.8]
["5.6.4.9","VIGAS - ARMAÇÃO DE BLOCO, VIGA BALDRAME OU SAPATA UTILIZANDO AÇO CA-50 DE 10 MM - MONTAGEM. AF_06/2017","KG",106,21.99,2330.94]
["5.6.4.10","VIGAS - CONCRETAGEM DE BLOCOS DE COROAMENTO E VIGAS BALDRAMES, FCK 30 MPA, COM USO DE BOMBA \u0096 LANÇAMENTO, ADENSAMENTO E ACABAMENTO. AF_06/2017","M3",2.34,693.9,{"$f":"ROUND(D131*E131,2)","v":1623.73}]
[]
["5.6.5","ESTRUTURAS DE CONCRETO ARMADO - AMPLIAÇÃO LAB. DE CIÊNCIAS E ROBÓTICA",null,null,null,{"$f":"SUBTOTAL(9,F134:F144)","v":23587.460000000003}]
["5.6.5.1","PILARES - MONTAGEM E DESMONTAGEM DE FÔRMA DE PILARES RETANGULARES E ESTRUTURAS SIMILARES, PÉ-DIREITO SIMPLES, EM MADEIRA SERRADA, 1 UTILIZAÇÃO. AF_09/2020","M2",28.08,238.53,{"$f":"ROUND(D134*E134,2)","v":6697.92}]
["5.6.5.2","PILARES - ARMAÇÃO DE PILAR OU VIGA DE UMA ESTRUTURA CONVENCIONAL DE CONCRETO ARMADO EM UMA EDIFICAÇÃO TÉRREA UTILIZANDO AÇO CA-60 DE 5,0 MM - MONTAGEM. AF_12/2015","KG",38,25.71,976.98]
["5.6.5.3","PILARES - ARMAÇÃO DE PILAR OU VIGA DE UMA ESTRUTURA CONVENCIONAL DE CONCRETO ARMADO EM UMA EDIFICAÇÃO TÉRREA UTILIZANDO AÇO CA-50 DE 8,0 MM - MONTAGEM. AF_12/2015","KG",6,24.24,145.44]
["5.6.5.4","PILARES - ARMAÇÃO DE PILAR OU VIGA DE UMA ESTRUTURA CONVENCIONAL DE CONCRETO ARMADO EM UMA EDIFICAÇÃO TÉRREA UTILIZANDO AÇO CA-50 DE 10,0 MM - MONTAGEM. AF_12/2015","KG",99,21.93,2171.0700000000002]
["5.6.5.5","PILARES - CONCRETAGEM DE PILARES, FCK = 25 MPA, COM USO DE BOMBA EM EDIFICAÇÃO COM SEÇÃO MÉDIA DE PILARES MAIOR QUE 0,25 M² - LANÇAMENTO, ADENSAMENTO E ACABAMENTO. AF_12/2015","M3",1.4,656.15,918.61]
["5.6.5.6","VIGAS  - LASTRO COM MATERIAL GRANULAR (PEDRA BRITADA N.1 E PEDRA BRITADA N.2), APLICADO EM PISOS OU LAJES SOBRE SOLO, ESPESSURA DE *10 CM*. AF_07/2019","M3",0.59130000000000005,142.05000000000001,83.99]
["5.6.5.7","VIGAS - FABRICAÇÃO, MONTAGEM E DESMONTAGEM DE FÔRMA PARA VIGA BALDRAME, EM MADEIRA SERRADA, E=25 MM, 1 UTILIZAÇÃO. AF_06/2017","M2",43.66,148.03,6462.99]
["5.6.5.8","VIGAS - ARMAÇÃO DE BLOCO, VIGA BALDRAME E SAPATA UTILIZANDO AÇO CA-60 DE 5 MM - MONTAGEM. AF_06/2017","KG",37,25.68,950.16]
["5.6.5.9","VIGAS - ARMAÇÃO DE BLOCO, VIGA BALDRAME OU SAPATA UTILIZANDO AÇO CA-50 DE 10 MM - MONTAGEM. AF_06/2017","KG",94,21.99,2067.06]
["5.6.5.10","VIGAS - ARMAÇÃO DE BLOCO, VIGA BALDRAME OU SAPATA UTILIZANDO AÇO CA-50 DE 12,5 MM - MONTAGEM. AF_06/2017","KG",64,18.72,{"$f":"ROUND(D143*E143,2)","v":1198.08}]
["5.6.5.11","VIGAS - CONCRETAGEM DE BLOCOS DE COROAMENTO E VIGAS BALDRAMES, FCK 30 MPA, COM USO DE BOMBA \u0096 LANÇAMENTO, ADENSAMENTO E ACABAMENTO. AF_06/2017","M3",2.76,693.9,1915.16]
[]
["5.7","ALVENARIAS E PAINÉIS",null,null,null,{"$f":"SUBTOTAL(9,F147:F152)","v":69251.63}]
["5.7.1","ALVENARIA DE VEDAÇÃO DE BLOCOS CERÂMICOS FURADOS NA HORIZONTAL DE 9X19X19CM (ESPESSURA 9CM) DE PAREDES COM ÁREA LÍQUIDA MAIOR OU IGUAL A 6M² COM VÃOS E ARGAMASSA DE ASSENTAMENTO COM PREPARO EM BETONEIRA. AF_06/2014","M2",597.00999999999988,89.93,{"$f":"ROUND(D147*E147,2)","v":53689.11}]
["5.7.2","FORNECIMENTO E INSTALAÇÃO DE PAREDE DE GESSO ACARTONADO ESP. 10CM,UMA FACE, COM ISOLAMENTO TERMO-ACÚSTICO DE LÃ DE ROCHA 50MM (CONSUMO CONF. TCPO 04840.8.5.1, MONTANTE M75-0,62kg/m, GUIA 75 )","M2",45.72,128.69,5883.71]
["5.7.3","FORNECIMENTO E INSTALAÇÃO DE PAREDE DE GESSO ACARTONADO ESP. 10CM, FACE DUPLA, COM ISOLAMENTO TERMO-ACÚSTICO DE LÃ DE ROCHA 50MM (CONSUMO CONF. TCPO 04840.8.5.1, MONTANTE M75-0,62kg/m, GUIA 75 )","M2",30.42,172.28,5240.76]
["5.7.4","VERGA MOLDADA IN LOCO EM CONCRETO PARA JANELAS COM MAIS DE 1,5 M DE VÃO. AF_03/2016","M",23.3,91.19,2124.73]
["5.7.5","CONTRAVERGA MOLDADA IN LOCO EM CONCRETO PARA VÃOS DE MAIS DE 1,5 M DE COMPRIMENTO. AF_03/2016","M",19.900000000000002,82.78,1647.32]
["5.7.6","VERGA MOLDADA IN LOCO EM CONCRETO PARA PORTAS COM MAIS DE 1,5 M DE VÃO. AF_03/2016","M",7.2,92.5,666]
[]
["5.8","ESTRUTURA METALICA",null,null,null,{"$f":"SUBTOTAL(9,F155:F168)","v":93000.150000000009}]
["5.8.1","ESTRUTURA MTÁLICA - AMPLIAÇÃO SALA DE AULA 18",null,null,null,{"$f":"SUBTOTAL(9,F156:F158)","v":46720.78}]
["5.8.1.1","ESTRUTURA METALICA DA COBERTURA CONFORME PROJETO EM AÇO ESTRUTURAL","KG",2127.81,18.63,{"$f":"ROUND(D156*E156,2)","v":39641.1}]
["5.8.1.2","PINTURA COM TINTA ALQUÍDICA DE FUNDO (TIPO ZARCÃO) PULVERIZADA SOBRE SUPERFÍCIES METÁLICAS (EXCETO PERFIL) EXECUTADO EM OBRA (POR DEMÃO). AF_01/2020_P","M2",177.48,21.31,3782.1]
["5.8.1.3","PINTURA COM TINTA ACRÍLICA DE ACABAMENTO PULVERIZADA SOBRE SUPERFÍCIES METÁLICAS (EXCETO PERFIL) EXECUTADO EM OBRA (02 DEMÃOS). AF_01/2020_P","M2",177.48,18.579999999999998,3297.58]
[]
["5.8.2","ESTRUTURA MTÁLICA - AMPLIAÇÃO SALA DE MATEMATICA",null,null,null,{"$f":"SUBTOTAL(9,F161:F163)","v":17664.16}]
["5.8.2.1","ESTRUTURA METALICA DA COBERTURA CONFORME PROJETO EM AÇO ESTRUTURAL","KG",788.34,18.63,{"$f":"ROUND(D161*E161,2)","v":14686.77}]
["5.8.2.2","PINTURA COM TINTA ALQUÍDICA DE FUNDO (TIPO ZARCÃO) PULVERIZADA SOBRE SUPERFÍCIES METÁLICAS (EXCETO PERFIL) EXECUTADO EM OBRA (POR DEMÃO). AF_01/2020_P","M2",74.64,21.31,1590.58]
["5.8.2.3","PINTURA COM TINTA ACRÍLICA DE ACABAMENTO PULVERIZADA SOBRE SUPERFÍCIES METÁLICAS (EXCETO PERFIL) EXECUTADO EM OBRA (02 DEMÃOS). AF_01/2020_P","M2",74.64,18.579999999999998,1386.81]
[]
["5.8.3","ESTRUTURA MTÁLICA - AMPLIAÇÃO LAB. DE CIÊNCIAS E ROBÓTICA",null,null,null,{"$f":"SUBTOTAL(9,F166:F168)","v":28615.21}]
["5.8.3.1","ESTRUTURA METALICA DA COBERTURA CONFORME PROJETO EM AÇO ESTRUTURAL","KG",1278.82,18.63,{"$f":"ROUND(D166*E166,2)","v":23824.42}]
["5.8.3.2","PINTURA COM TINTA ALQUÍDICA DE FUNDO (TIPO ZARCÃO) PULVERIZADA SOBRE SUPERFÍCIES METÁLICAS (EXCETO PERFIL) EXECUTADO EM OBRA (POR DEMÃO). AF_01/2020_P","M2",120.1,21.31,2559.33]
["5.8.3.3","PINTURA COM TINTA ACRÍLICA DE ACABAMENTO PULVERIZADA SOBRE SUPERFÍCIES METÁLICAS (EXCETO PERFIL) EXECUTADO EM OBRA (02 DEMÃOS). AF_01/2020_P","M2",120.1,18.579999999999998,2231.46]
[]
["5.9","COBERTURA - AMPLIAÇÕES BLOCO D",null,null,null,{"$f":"SUBTOTAL(9,F171:F173)","v":40759.61}]
["5.9.1","CUMEEIRA METÁLICA AÇO GALVALUME TRAPEZOIDAL 40 40X60CM - FORNECIMENTO E INSTALAÇÃO","M",93,84.19,{"$f":"ROUND(D171*E171,2)","v":7829.67}]
["5.9.2","TELHAMENTO COM TELHA DE AÇO/ALUMÍNIO E = 0,5 MM, COM ATÉ 2 ÁGUAS, INCLUSO IÇAMENTO. AF_07/2019","M2",171.28,105.32,{"$f":"ROUND(D172*E172,2)","v":18039.21}]
["5.9.3","PLATIBANDA EM CHAPA DE AÇO ESPESSURA 2,00mm, H=870mm, DOBRA CARTOLA: 30X20X970mm, COM METALON DIM. 50X20X0,97mm NA FACE INFERIOR PARA ARREMATE COM O FORRO, FUNDO ANTICORROSIVO EM PRIMER EPÓXI NAS DUAS FACES","M2",60.15,247.56,14890.73]
[]
["5.10","ESQUADRIAS",null,null,null,{"$f":"SUBTOTAL(9,F176:F191)","v":162554.33000000002}]
["5.10.1","P1, P2, P3, P5 E P28 - PORTA EM ALUMÍNIO DE ABRIR TIPO VENEZIANA COM GUARNIÇÃO, FIXAÇÃO COM PARAFUSOS - FORNECIMENTO E INSTALAÇÃO","M2",56.820000000000007,679.02,{"$f":"ROUND(D176*E176,2)","v":38581.919999999998}]
["5.10.2","P16 - PORTA ACUSTICA 90X2,10 METÁLICA, COM VISOR,  40DB","UN",2,7839.99,15679.98]
["5.10.3","P22 - PORTA VENEZIANA VAI E VEM, DUAS FOLHAS EM ALUMÍNIO ANODIZADO NATURAL FOSCO, DIM. 1,00 X 2,00m, INCLUSIVE FERRAGENS DE INSTALAÇÃO PARA PERFEITO USO E FUNCIONAMENTO","UN",1,1358.04,1358.04]
["5.10.4","P23 - PORTA VENEZIANA DE ABRIR DUAS FOLHAS EM ALUMÍNIO ANODIZADO NATURAL FOSCO, DIM. 1,50 X 2,10m, INCLUSIVE FERRAGENS DE INSTALAÇÃO PARA PERFEITO USO E FUNCIONAMENTO","UN",1,2138.91,2138.91]
["5.10.5","P38 - PORTA DE VIDRO TEMPERADO DE UMA FOLHA DE ABRIR 0,90X2,10M INCOLOR ESP.10MM,  COM MOLA HIDRÁULICA EM 01 FOLHA, FERRAGENS CROMADAS E FIXAÇÕES EM PAREDES, PISOS E FORROS CONFORME NORMAS DO FABRICANTE PARA PERFEITO USO E FUNCIONAMENTO","UN",1,1741.33,1741.33]
["5.10.6","P38 - PAINÉIS (BANDEIRAS) FIXOS EM VIDRO TEMPERADO FUMÊ ESP. 10MM, FERRAGENS CROMADAS E FIXAÇÕES EM PAREDES, PISOS E FORROS CONFORME NORMAS DO FABRICANTE PARA PERFEITO USO E FUNCIONAMENTO","M2",0.81,561.64,454.93]
["5.10.7","V2 - VISOR EM VIDRO TEMPERADO INCOLOR ESPESSURA=8MM COM REQUADRO DE ALUMÍNIO NA COR NATURAL, DIM. 2,00X1,00M","UN",1,789.95,{"$f":"ROUND(D182*E182,2)","v":789.95}]
["5.10.8","V6 - VISOR EM VIDRO TEMPERADO INCOLOR ESPESSURA=8MM COM REQUADRO DE ALUMÍNIO NA COR NATURAL, DIMENSÕES 100X190CM (REF. SINAPI 72119)","UN",8,832.79,6662.32]
["5.10.9","V7 - VISOR EM VIDRO TEMPERADO INCOLOR ESPESSURA=12MM COM REQUADRO DE ALUMÍNIO NA COR NATURAL, DIMENSÕES 100X190CM (REF. SINAPI 72119)","UN",2,1580.99,3161.98]
["5.10.10","J1 - JANELA MAXIM-AR COM ESTRUTURA DE ALUMÍNIO ANODIZADO NATURAL E VIDRO TEMPERADO FUMÊ 6 mm - DIM. 1,00X0,60M, COMPLETA,  INCLUSIVE FERRAGENS, FECHADURA, PUXADORES E  VEDAÇÕES - BANDEIRAS CONFORME PROJETO","UN",25,668.64,16716]
["5.10.11","J2 - JANELA MAXIM-AR COM ESTRUTURA DE ALUMÍNIO ANODIZADO NATURAL E VIDRO TEMPERADO INCOLOR 6 mm - DIM. 2,00X1,50M, COMPLETA,  INCLUSIVE FERRAGENS, FECHADURA, PUXADORES E  VEDAÇÕES - BANDEIRAS CONFORME PROJETO","UN",16,2899.06,46384.959999999999]
["5.10.12","J11 - JANELA MAXIM-AR COM ESTRUTURA DE ALUMÍNIO ANODIZADO NATURAL E VIDRO TEMPERADO INCOLOR 6 mm - DIM. 3,90X1,70M, COMPLETA,  INCLUSIVE FERRAGENS, FECHADURA, PUXADORES E  VEDAÇÕES - BANDEIRAS CONFORME PROJETO","UN",1,4718.26,4718.26]
["5.10.13","J12 - JANELA MAXIM-AR COM ESTRUTURA DE ALUMÍNIO ANODIZADO NATURAL E VIDRO TEMPERADO INCOLOR 6 mm - DIM. 2,35X1,70M, COMPLETA,  INCLUSIVE FERRAGENS, FECHADURA, PUXADORES E  VEDAÇÕES - BANDEIRAS CONFORME PROJETO","UN",3,3029.39,9088.17]
["5.10.14","J7 - JANELA MAXIM-AR COM ESTRUTURA DE ALUMÍNIO ANODIZADO NATURAL E VIDRO ARAMADO INCOLOR 6 mm - DIM. 0,80X0,60M, COMPLETA,  INCLUSIVE FERRAGENS, FECHADURA, PUXADORES E  VEDAÇÕES - BANDEIRAS CONFORME PROJETO","UN",4,558.72,2234.88]
["5.10.15","J16 - JANELA MAXIM-AR COM ESTRUTURA DE ALUMÍNIO ANODIZADO NATURAL E VIDRO LAMINADO DUPLO 6mm CADA UM e-12mm - DIM. 1,00X0,60M, COMPLETA,  INCLUSIVE FERRAGENS, FECHADURA, PUXADORES E  VEDAÇÕES ","UN",8,824.52,6596.16]
["5.10.16","J17 - JANELA DE CORRER DE VIDRO TEMPERADO E=12mm, COMPLETA,  COM TRILHOS, FERRAGENS, FECHADURA, PUXADORES E  VEDAÇÕES, 1 FOLHA DE CORRER DE 1,00M E A OUTRA FOLHAS FIXA - DIM. 2,00X1,50M","UN",2,3123.27,6246.54]
[]
["5.11","PISOS",null,null,null,{"$f":"SUBTOTAL(9,F194:F196)","v":290535.94}]
["5.11.1","CONTRAPISO DE CONCRETO, ESPESSURA 7CM, PREPARO MECANICO (INCLUSO PISOS EXTERNOS)","M2",1038.6399999999996,42.03,{"$f":"ROUND(D194*E194,2)","v":43654.04}]
["5.11.2","REVESTIMENTO CERÂMICO PARA PISO COM PLACAS TIPO PORCELANATO DE DIMENSÕES 90X90 CM APLICADA EM AMBIENTES INTERNOS - MODELO ELIANE MUNARI BRANCO AC OU SIMILAR","M2",1751.5900000000001,115.35,202045.91]
["5.11.3","EXECUÇÃO DE PASSEIO EM PISO INTERTRAVADO, COM BLOCO RETANGULAR COR NATURAL DE 20 X 10 CM, ESPESSURA 6 CM. AF_12/2015","M2",521.47,85.98,44835.99]
[]
["5.12","REVESTIMENTOS",null,null,null,{"$f":"SUBTOTAL(9,F199:F204)","v":231142.34000000003}]
["5.12.1","CHAPISCO APLICADO EM ALVENARIAS E ESTRUTURAS DE CONCRETO INTERNAS, COM ROLO PARA TEXTURA ACRÍLICA.  ARGAMASSA TRAÇO 1:4 E EMULSÃO POLIMÉRICA (ADESIVO) COM PREPARO EM BETONEIRA 400L. AF_06/2014","M2",1218.0400000000002,8.59,{"$f":"ROUND(D199*E199,2)","v":10462.959999999999}]
["5.12.2","EMBOÇO OU MASSA ÚNICA EM ARGAMASSA TRAÇO 1:2:8, PREPARO MECÂNICO COM BETONEIRA 400 L, APLICADA MANUALMENTE EM PANOS DE FACHADA COM PRESENÇA DE VÃOS, ESPESSURA DE 25 MM. AF_06/2014","M2",1218.0400000000002,55.05,67053.100000000006]
["5.12.3","REVESTIMENTO CERÂMICO PARA PAREDES COM PLACAS TIPO PORCELANATO DE DIMENSÕES 90X90 CM APLICADA EM AMBIENTES INTERNOS - MODELO ELIANE LIMESTONE AREIA POL OU SIMILAR","M2",404.63100000000009,197.45,79894.39]
["5.12.4","REVESTIMENTO CERÂMICO PARA PAREDES COM PLACAS TIPO PORCELANATO DE DIMENSÕES 14,5X90 CM APLICADA EM AMBIENTES INTERNOS - MODELO ELIANE LIMESTONE AREIA POL OU SIMILAR","M2",65.190549999999988,409.33,26684.45]
["5.12.5","REVESTIMENTO CERAMICO PORTOBELLO GLACIE WHITE 30X60CM, INCLUSO E REJUNTE - FORNECIMENTO E INSTALAÇÃO (AZULEJO FORNECIDO PELO SESI)","M2",470.51,84.59,39800.44]
["5.12.6","REVESTIMENTO CERÂMICO PARA PAREDES EXTERNAS EM PASTILHAS JATOBÁ DE PORCELANA 5 X 5 CM (PLACAS DE 30 X 30 CM), ALINHADAS A PRUMO, JD. 4102 - PÉROLA OCEANO (JATOBÁ OU SIMILAR)","M2",35.74,202.77,7247]
[]
["5.13","GRANITO",null,null,null,{"$f":"SUBTOTAL(9,F207:F210)","v":49621.49}]
["5.13.1","BANCADA DE GRANITO CINZA ANDORINHA, SOBRE MÃOS-FRANCESAS METÁLICAS, ESP=2cm COM FRONTÃO 20cm, SAIA COM ACAB. DE MEIA ESQUADRIA E REFORÇO INFERIOR DE BORDA E CORTE PARA INST. DE CUBAS DE LOUÇA OVAL DE EMBUTIR LOCAL","M2",13.116,782.35,{"$f":"ROUND(D207*E207,2)","v":10261.299999999999}]
["5.13.2","PEITORIL LINEAR EM GRANITO OU MÁRMORE, L = 20CM, COMPRIMENTO DE ATÉ 2M, ASSENTADO COM ARGAMASSA 1:6 COM ADITIVO. AF_11/2020","M",25.430000000000003,132.84,3378.12]
["5.13.3","DIVISORIAS SANITARIAS DE BOXES E MICTÓRIOS DE GRANITO CINZA ANDORINHA E=3 CM ASSENTADA C/ ARGAMASSA, NO TRACO 1:4, INCLUSIVE MASSA PLÁSTICA E FERRAGENS","M2",51.77600000000001,672.62,34825.57]
["5.13.4","SOLEIRA EM GRANITO, LARGURA 15 CM, ESPESSURA 2,0 CM. AF_09/2020","M",12.22,94.64,1156.5]
[]
["5.14","FORRO",null,null,null,{"$f":"SUBTOTAL(9,F213:F216)","v":56148.27}]
["5.14.1","FORRO ACÚSTICO DE FIBRA MINERAL 625 MM X 625 MM TEGULAR,  INSTALADOS EM PERFIL \"T\", SUPENSO POR PENDURAIS EM ARRAME GALVANIZADO A CADA 1250X1250MM (PLACAS DE FORRO FORNECIDO PELO SESI)","M2",1080.0299999999997,38.880000000000003,{"$f":"ROUND(D213*E213,2)","v":41991.57}]
["5.14.2","FORRO DE GESSO ACARTONADO FIXO, MONOLÍTICA, APARAFUSADO EM PERFIS METÁLICOS ESPAÇADOS A 0,60 M, SUSPENSOS POR PENDURAIS RÍGIDOS REGULÁVEIS, ESPAÇADOS A CADA 1,00 M, E=12,5 MM","M2",43.32,76.44,3311.38]
["5.14.3","ACABAMENTOS PARA FORRO (SANCA DE GESSO MONTADA NA OBRA). AF_05/2017_P","M2",43.32,54.91,{"$f":"ROUND(D215*E215,2)","v":2378.6999999999998}]
["5.14.4","FORRO DE PVC, LISO, PARA AMBIENTES COMERCIAIS, INCLUSIVE ESTRUTURA DE FIXAÇÃO. AF_05/2017_P","M2",93.05,90.99,8466.6200000000008]
[]
["5.15","PINTURA",null,null,null,{"$f":"SUBTOTAL(9,F219:F226)","v":81230.76999999999}]
["5.15.1","APLICAÇÃO DE FUNDO SELADOR ACRÍLICO EM PAREDES, UMA DEMÃO. AF_06/2014","M2",1316.8399999999995,2.06,{"$f":"ROUND(D219*E219,2)","v":2712.69}]
["5.15.2","APLICAÇÃO E LIXAMENTO DE MASSA LÁTEX EM PAREDES, DUAS DEMÃOS. AF_06/2014","M2",1316.8399999999995,14.96,19699.93]
["5.15.3","APLICAÇÃO MANUAL DE PINTURA COM TINTA LÁTEX ACRÍLICA EM PAREDES, DUAS DEMÃOS. AF_06/2014","M2",1316.8399999999995,15,{"$f":"ROUND(D221*E221,2)","v":19752.599999999999}]
["5.15.4","TEXTURA ACRÍLICA, APLICAÇÃO MANUAL EM PAREDE, UMA DEMÃO. AF_09/2016","M2",974.79000000000008,15.6,15206.72]
["5.15.5","APLICAÇÃO MANUAL DE TINTA LÁTEX ACRÍLICA EM PAREDE EXTERNAS, DUAS DEMÃOS.","M2",974.79000000000008,15.82,15421.18]
["5.15.6","APLICAÇÃO DE FUNDO SELADOR ACRÍLICO EM TETO, UMA DEMÃO. AF_06/2014","M2",78.209999999999994,2.46,192.4]
["5.15.7","APLICAÇÃO E LIXAMENTO DE MASSA LÁTEX EM TETO, DUAS DEMÃOS. AF_06/2014","M2",78.209999999999994,26.7,2088.21]
["5.15.8","APLICAÇÃO MANUAL DE PINTURA COM TINTA LÁTEX ACRÍLICA EM TETO, DUAS DEMÃOS. AF_06/2014","M2",365.62,16.84,6157.04]
[]
["5.16","CALÇAMENTO, PÁTIOS E PASSARELAS",null,null,null,{"$f":"SUBTOTAL(9,F229)","v":0}]
[]
["5.17","SERVIÇOS COMPLEMENTARES",null,null,null,{"$f":"SUBTOTAL(9,F232:F240)","v":125076.37}]
["5.17.1","DIVERSOS",null,null,null,{"$f":"SUBTOTAL(9,F232:F236)","v":89945.22}]
["5.17.1.1","ESPELHO  CRISTAL E=4MM, FORNECIMENTO E INSTALAÇÃO","M2",25.54,549.79999999999995,{"$f":"ROUND(D232*E232,2)","v":14041.89}]
["5.17.1.2","FORNECIMENTO E INSTALAÇÃO DE GUARDA CORPO H=1,30M, COLUNAS DIÂM. 1 1/2\" A CADA 1M, TUBO HORIZONTAL SUPERIOR E INFERIOR DE DIÂM 1 1/2\", TUBOS VERTICAIS 3/4\" A CADA 11CM E COM CORRIMÃO DUPLO DE Ø 1 1/2\" COM H=0,92CM/H=0,70CM, EM AÇO INÓX - CONFORME PROJETO E MEMORIAL DE ACESSIBILIDADE","M",46.459999999999994,998.08,46370.8]
["5.17.1.3","FORNECIMENTO E INSTALAÇÃO CORRIMÃO DUPLO, H=0,92M E H=0,70M, DIÂMETRO EXTERNO = 1 1/2\", EM AÇO INOX, FIXADO EM PISO.","M",18.600000000000001,515.79999999999995,9593.8799999999992]
["5.17.1.4","FORNECIMENTO FABRICAÇÃO E INSTALAÇÃO DE GUARDA-CORPOS INOX, COM AS SEGUINTES CARACTERÍSTICAS: \r\n• COM 1,30M DE ALTURA TOTAL\r\n• COLUNAS - EM TUBOS DE AÇO INÓX, Ø= 1.1/2\"  - CHAPA #16  CADA  1,00M (NO MÁXIMO) CHUMBADAS NO CONCRETO;\r\n• BARRAS VERTICAIS INTERMEDIÁRIAS DE FECHAMENTO - Ø= 3/4\" - CHAPA #16 A CADA 11CM, TOTALIZANDO 07 LINHAS CONTÍNUAS;\r\n• BARRA HORIZONTAL DE ACABAMENTO SUPERIOR - EM TUBOS DE AÇO INÓX, D= 1.1/2\" - CHAPA #16.\r\n• BARRA HORIZONTAL DE ACABAMENTO INFERIOR - EM TUBOS DE AÇO INÓX, D= 1.1/2\" - CHAPA #16.\n• CANOPLA EM AÇO INÓX DE ACABAMENTO NA BASE DAS COLUNAS CHAPA #16.","M",3.8,923.02,3507.48]
["5.17.1.5","FORNECIMENTO E INSTALAÇÃO DE QUADRO/LOUSA EM VIDRO TEMPERADO LEITOSO 6MM ADESIVADAS COM PELICULA DE SEGURANÇA BRANCA, INCLUSIVE APARADOR PARA CANETA PILOTO 30X10CM, COM BOTOES DE CABECA DE LATAO CROMADO","M2",43.33,379.21,16431.169999999998]
[]
["5.17.2","TRATAMENTO ACÚSTICO - AUDITÓRIO",null,null,null,{"$f":"SUBTOTAL(9,F239:F240)","v":35131.15}]
["5.17.2.1","FORNECIMENTO E INSTALAÇÃO DE PAINEL EM MDF COM SUPORTE METÁLICO, CONFORME PROJETO ","M2",11.9,329.08,{"$f":"ROUND(D239*E239,2)","v":3916.05}]
["5.17.2.2","P20 - FORNECIMENTO E INSTALAÇÃO DE PORTA ACUSTICA METALICA 40DB(A) - 1800X2100 MM FD, MARCA ISARISOLAMENTOS OU SIMILAR, CONFORME PROJETO","UN",2,15607.55,{"$f":"ROUND(D240*E240,2)","v":31215.1}]
[]
["5.18","INSTALAÇÕES DE SPDA",null,null,null,{"$f":"SUBTOTAL(9,F243)","v":0}]
[]
["5.19","INSTALAÇÃO DE COMBATE A INCÊNDIO",null,null,null,{"$f":"SUBTOTAL(9,F245)","v":0}]
[]
["5.20","INSTALAÇÕES ELÉTRICA",null,null,null,{"$f":"SUBTOTAL(9,F247:F478)","v":295114.60999999993}]
["5.20.1","INSTALAÇÕES ELÉTRICA BAIXA TENSÃO",null,null,null,{"$f":"SUBTOTAL(9,F248:F353)","v":222781.22}]
["5.20.1.1","ACESSÓRIOS P/ELETRODUTO E USO GERAL",null,null,null,{"$f":"SUBTOTAL(9,F249:F273)","v":42607.87}]
["5.20.1.1.1","FORNECIMENTO E INSTALAÇÃO DE ABRAÇADEIRA DE AÇO, TIPO D, 3/4\", COM CUNHA","UN",1583,6.59,{"$f":"ROUND(D249*E249,2)","v":10431.969999999999}]
["5.20.1.1.2","FORNECIMENTO E INSTALAÇÃO DE ABRAÇADEIRA DE AÇO, TIPO D, 1\", COM CUNHA","UN",200,6.75,1350]
["5.20.1.1.3","FORNECIMENTO E INSTALAÇÃO DE BUCHA E ARRUELA ALUMÍNIO FUNDIDO PARA ELETRODUTO (ZAMAK) 3/4\"","UN",510,2.0299999999999998,1035.3]
["5.20.1.1.4","FORNECIMENTO E INSTALAÇÃO DE BUCHA E ARRUELA ALUMÍNIO FUNDIDO PARA ELETRODUTO (ZAMAK) 1\"","UN",70,2.41,168.7]
["5.20.1.1.5","FORNECIMENTO E INSTALAÇÃO DE BOX RETO PARA ELETRODUTO 3/4\"","UN",519,5.68,2947.92]
["5.20.1.1.6","FORNECIMENTO E INSTALAÇÃO DE BOX RETO PARA ELETRODUTO 1\"","UN",70,8.0399999999999991,562.79999999999995]
["5.20.1.1.7","FORNECIMENTO E INSTALAÇÃO DE PRENSA CABO 1/2\"","UN",48,30.33,1455.84]
["5.20.1.1.8","CAIXA OCTOGONAL 4\" X 4\" PVC - FORNECIMENTO E INSTALAÇÃO. ","UN",218,11.42,2489.56]
["5.20.1.1.9","CAIXA RETANGULAR 4\" X 2\" PVC - FORNECIMENTO E INSTALAÇÃO. ","UN",268,8.9600000000000009,2401.2800000000002]
["5.20.1.1.10","CONDULETE DE ALUMÍNIO, TIPO X, PARA ELETRODUTO DE AÇO GALVANIZADO DN 20 MM (3/4''), APARENTE - FORNECIMENTO E INSTALAÇÃO. AF_11/2016_P","UN",12,38.119999999999997,457.44]
["5.20.1.1.11","FORNECIMENTO E INSTALAÇÃO DE PLACA CEGA DE ALUMÍNIO  P/ CONDULETE","UN",12,32.700000000000003,392.4]
["5.20.1.1.12","FORNECIMENTO E INSTALAÇÃO DE PLACA CEGA PVC 4X2\"","UN",9,4.82,43.38]
["5.20.1.1.13","FORNECIMENTO E INSTALAÇÃO DE SAÍDA LATERAL ELETROCALHA P/ ELETRODUTO 3/4\"","UN",45,10.29,463.05]
["5.20.1.1.14","FORNECIMENTO E INSTALAÇÃO DE SAÍDA ELETROCALHA P/ ELETRODUTO 1\" ","UN",10,15.54,155.4]
["5.20.1.1.15","FORNECIMENTO E INSTALAÇÃO DE SAÍDA LATERAL PERFILADO P/ ELETRODUTO 3/4\"","UN",17,18.510000000000002,314.67]
["5.20.1.1.16","FORNECIMENTO E INSTALAÇÃO DE SAÍDA LATERAL PERFILADO P/ ELETRODUTO 1\"","UN",4,14.87,59.48]
["5.20.1.1.17","FORNECIMENTO E INSTALAÇÃO DE ARAME AÇO GALVANIZADO 18 BWG, 1,24MM (0,009 KG/M)","M",700,0.77,539]
["5.20.1.1.18","FORNECIMENTO E INSTALAÇÃO DE ARRUELA LISA GALVANIZADA 1/4\"","UN",1200,0.59,708]
["5.20.1.1.19","FORNECIMENTO E INSTALAÇÃO DE BUCHA / PARAFUSO S8","UN",2300,4.4400000000000004,10212]
["5.20.1.1.20","FORNECIMENTO E INSTALAÇÃO DE BUCHA / PARAFUSO S10","UN",12,4.75,57]
["5.20.1.1.21","FORNECIMENTO E INSTALAÇÃO DE CHUMBADOR PARABOLT AÇO 1/4\" X 3\"","UN",100,13.59,1359]
["5.20.1.1.22","FORNECIMENTO E INSTALAÇÃO DE PARAFUSO GALVAN. CABEÇA LENTILHA 1/4X5/8\"","UN",700,4.93,3451]
["5.20.1.1.23","FORNECIMENTO E INSTALAÇÃO DE PARAFUSO GALVAN. CABEÇA LOSANGULAR 1/4\"X1\" - AUTO TRAVANTE PERFILADO","UN",36,6.88,247.68]
["5.20.1.1.24","FORNECIMENTO E INSTALAÇÃO DE PORCA SEXTAVADA GALVAN. 1/4\"","UN",1200,0.42,504]
["5.20.1.1.25","FORNECIMENTO E INSTALAÇÃO DE VERGALHÃO GALVANIZADO ROSCA TOTAL 1/4\"","M",45,17.8,801]
[null,""]
["5.20.1.2","CABOS",null,null,null,{"$f":"SUBTOTAL(9,F276:F280)","v":79968.479999999996}]
["5.20.1.2.1","FORNECIMENTO E INSTALAÇÃO DE CABO DE COBRE FLEXÍVEL ISOL. TERMOPLASTICO ATOX 750V - 2,5 MM² (TP SINTENAX PIRELLI OU SIMILAR)","M",10600,4.83,{"$f":"ROUND(D276*E276,2)","v":51198}]
["5.20.1.2.2","FORNECIMENTO E INSTALAÇÃO DE CABO DE COBRE FLEXÍVEL ISOL. TERMOPLASTICO ATOX 750V - 4 MM² (TP SINTENAX PIRELLI OU SIMILAR)","M",1650,7.06,11649]
["5.20.1.2.3","FORNECIMENTO E INSTALAÇÃO DE  CABO DE COBRE FLEXÍVEL ISOLADO, 35 MM², ANTI-CHAMA 0,6/1,0 KV - ATOX","M",32,43.02,1376.64]
["5.20.1.2.4","FORNECIMENTO E INSTALAÇÃO DE  CABO DE COBRE FLEXÍVEL ISOLADO, 70 MM², ANTI-CHAMA 0,6/1,0 KV - ATOX","M",128,117.68,15063.04]
["5.20.1.2.5","FORNECIMENTO E INSTALAÇÃO DE CABO DE COBRE PP 3X2,5MM² - ISOL. TERMOPLASTICO ATOX 750V","M",140,4.87,681.8]
[null,""]
["5.20.1.3","DISPOSITIVO ELÉTRICO EMBUTIDO",null,null,null,{"$f":"SUBTOTAL(9,F283:F294)","v":8660.73}]
["5.20.1.3.1","CAMPAINHA CIGARRA (1 MÓDULO), 10A/250V, INCLUINDO SUPORTE E PLACA - FORNECIMENTO E INSTALAÇÃO. AF_09/2017","UN",4,41.45,{"$f":"ROUND(D283*E283,2)","v":165.8}]
["5.20.1.3.2","INTERRUPTOR PULSADOR CAMPAINHA (1 MÓDULO), 10A/250V, INCLUINDO SUPORTE E PLACA - FORNECIMENTO E INSTALAÇÃO. AF_09/2017","UN",4,23.23,92.92]
["5.20.1.3.3","INTERRUPTOR SIMPLES (1 MÓDULO), 10A/250V, INCLUINDO SUPORTE E PLACA - FORNECIMENTO E INSTALAÇÃO. AF_12/2015","UN",30,24.35,730.5]
["5.20.1.3.4","INTERRUPTOR SIMPLES (2 MÓDULOS), 10A/250V, INCLUINDO SUPORTE E PLACA - FORNECIMENTO E INSTALAÇÃO. AF_12/2015","UN",10,38.520000000000003,385.2]
["5.20.1.3.5","INTERRUPTOR SIMPLES (3 MÓDULOS), 10A/250V, INCLUINDO SUPORTE E PLACA - FORNECIMENTO E INSTALAÇÃO. AF_12/2015","UN",6,52.7,316.2]
["5.20.1.3.6","INTERRUPTOR PARALELO (2 MÓDULOS), 10A/250V, INCLUINDO SUPORTE E PLACA - FORNECIMENTO E INSTALAÇÃO. AF_12/2015","UN",6,49.97,299.82]
["5.20.1.3.7","INTERRUPTOR PARALELO (3 MÓDULOS), 10A/250V, INCLUINDO SUPORTE E PLACA - FORNECIMENTO E INSTALAÇÃO. AF_12/2015","UN",2,69.84,139.68]
["5.20.1.3.8","INTERRUPTOR INTERMEDIÁRIO (1 MÓDULO), 10A/250V, INCLUINDO SUPORTE E PLACA - FORNECIMENTO E INSTALAÇÃO. AF_09/2017","UN",2,43.76,87.52]
["5.20.1.3.9","TOMADA DE EMBUTIR (1 MÓDULO), 2P+T 10 A, INCLUINDO SUPORTE E PLACA - FORNECIMENTO E INSTALAÇÃO. AF_12/2015","UN",76,25.73,1955.48]
["5.20.1.3.10","TOMADA DE EMBUTIR (1 MÓDULO), 2P+T 20 A, INCLUINDO SUPORTE E PLACA - FORNECIMENTO E INSTALAÇÃO. AF_12/2015","UN",39,27.91,1088.49]
["5.20.1.3.11","TOMADA DE EMBUTIR (2 MÓDULOS), 2P+T 10 A, INCLUINDO SUPORTE E PLACA - FORNECIMENTO E INSTALAÇÃO. AF_12/2015","UN",78,41.24,3216.72]
["5.20.1.3.12","TOMADA DE EMBUTIR (2 MÓDULOS), 2P+T 20 A, INCLUINDO SUPORTE E PLACA - FORNECIMENTO E INSTALAÇÃO. AF_12/2015","UN",4,45.6,182.4]
[null,""]
["5.20.1.4","DISPOSITIVO DE PROTEÇÃO",null,null,null,{"$f":"SUBTOTAL(9,F297:F306)","v":8873.43}]
["5.20.1.4.1","DISJUNTOR MONOPOLAR TIPO DIN, CORRENTE NOMINAL DE 10A - FORNECIMENTO E INSTALAÇÃO. AF_10/2020","UN",14,13.15,{"$f":"ROUND(D297*E297,2)","v":184.1}]
["5.20.1.4.2","DISJUNTOR MONOPOLAR TIPO DIN, CORRENTE NOMINAL DE 16A - FORNECIMENTO E INSTALAÇÃO. AF_10/2020","UN",44,13.72,603.67999999999995]
["5.20.1.4.3","DISJUNTOR MONOPOLAR TIPO DIN, CORRENTE NOMINAL DE 25A - FORNECIMENTO E INSTALAÇÃO. AF_10/2020","UN",1,14.83,14.83]
["5.20.1.4.4","DISJUNTOR BIPOLAR TIPO DIN, CORRENTE NOMINAL DE 16A - FORNECIMENTO E INSTALAÇÃO. AF_10/2020","UN",6,67.28,403.68]
["5.20.1.4.5","DISJUNTOR TRIPOLAR TIPO DIN, CORRENTE NOMINAL DE 40A - FORNECIMENTO E INSTALAÇÃO. AF_10/2020","UN",1,97.7,97.7]
["5.20.1.4.6","FORNECIMENTO E INSTALAÇÃO DE DISJUNTOR TIPO DIN/IEC, TRIPOLAR 100 A  (REF.: MARCA SIEMENS, WEG OU SIMILAR)","UN",2,254.67,509.34]
["5.20.1.4.7","FORNECIMENTO E INSTALAÇÃO DE DISJUNTOR TRIPOLAR TERMOMAGNÉTICO EM CAIXA MOLDADA - 175A  (REF.: MARCA SIEMENS, WEG OU SIMILAR)","UN",3,661.22,1983.66]
["5.20.1.4.8","DISJUNTOR TERMOMAGNÉTICO TRIPOLAR , CORRENTE NOMINAL DE 600A - FORNECIMENTO E INSTALAÇÃO. AF_10/2020","UN",1,2558.36,2558.36]
["5.20.1.4.9","FORNECIMENTO E INSTALAÇÃO DE DISPOSITIVO DR, 2 POLOS, SENSIBILIDADE DE 30 MA, CORRENTE DE 25 A, TIPO AC","UN",8,186.52,1492.16]
["5.20.1.4.10","FORNECIMENTO E INSTALAÇÃO DE DISPOSITIVO DPS, 1 POLO, 175 V, 45 KA","UN",8,128.24,1025.92]
[null,""]
["5.20.1.5","ELETROCALHAS / PERFILADOS",null,null,null,{"$f":"SUBTOTAL(9,F309:F322)","v":23056.33}]
["5.20.1.5.1","FORNECIMENTO E INSTALAÇÃO DE CURVA DE INVERSÃO 150X100 MM CHAPA 20","UN",6,64.41,{"$f":"ROUND(D309*E309,2)","v":386.46}]
["5.20.1.5.2","FORNECIMENTO E INSTALAÇÃO DE TÊ HORIZONTAL 90° 150X100 MM, COM TAMPA","UN",3,121.03,363.09]
["5.20.1.5.3","FORNECIMENTO E INSTALAÇÃO DE REDUÇÃO CONCÊNTRICA - 150X100 P/ 100X100MM COM TAMPA","UN",2,71.89,143.78]
["5.20.1.5.4","FORNECIMENTO E INSTALAÇÃO DE ELETROCALHA PERFURADA TIPO U 100X100 MM, CHAPA 20, COM TAMPA","M",27,143.97999999999999,3887.46]
["5.20.1.5.5","FORNECIMENTO E INSTALAÇÃO DE ELETROCALHA PERFURADA TIPO U 150X100 MM, CHAPA 20, COM TAMPA","M",52,183.19,9525.8799999999992]
["5.20.1.5.6","FORNECIMENTO E INSTALAÇÃO DE FLANGE 150X100 MM CHAPA 20","UN",1,30.16,30.16]
["5.20.1.5.7","FORNECIMENTO E INSTALAÇÃO DE SUPORTE VERTICAL P/ ELETROCALHA METÁLICA 100X100MM","UN",27,16.28,439.56]
["5.20.1.5.8","FORNECIMENTO E INSTALAÇÃO DE SUPORTE VERTICAL P/ ELETROCALHA METÁLICA 150X100MM","UN",60,30.38,1822.8]
["5.20.1.5.9","FORNECIMENTO E INSTALAÇÃO DE TALA PLANA PERFURADA - 100MM","UN",132,8.31,1096.92]
["5.20.1.5.10","FORNECIMENTO E INSTALAÇÃO DESAÍDA LATERAL DE ELETROCALHA P/PERFILADO 38X38MM","UN",8,17.02,136.16]
["5.20.1.5.11","FORNECIMENTO E INSTALAÇÃO DE EMENDA INTERNA TIPO \"I\" P/ PERFILADO METÁLICO 38X38MM - CHAPA 18","UN",19,20.399999999999999,387.6]
["5.20.1.5.12","FORNECIMENTO E INSTALAÇÃO DE EMENDA INTERNA TIPO \"L\" P/ PERFILADO METÁLICO 38X38MM  - CHAPA 18","UN",5,22.84,114.2]
["5.20.1.5.13","FORNECIMENTO E INSTALAÇÃO DE PERFILADO PERFURADO METÁLICO 38X38MM, COM TAMPA - CHAPA 18","M",114,30.59,3487.26]
["5.20.1.5.14","FORNECIMENTO E INSTALAÇÃO DE SUPORTE CURTO P/ PERFILADO METÁLICO 38X38MM","UN",76,16.25,1235]
[null,""]
["5.20.1.6","ELETRODUTOS",null,null,null,{"$f":"SUBTOTAL(9,F325:F329)","v":8410.9999999999982}]
["5.20.1.6.1","ELETRODUTO FLEXÍVEL CORRUGADO, PVC, DN 25 MM (3/4\") - FORNECIMENTO E INSTALAÇÃO. ","M",1020,6.19,{"$f":"ROUND(D325*E325,2)","v":6313.8}]
["5.20.1.6.2","ELETRODUTO FLEXÍVEL CORRUGADO, PVC, DN 32 MM (1\") - FORNECIMENTO E INSTALAÇÃO. ","M",180,8.7200000000000006,1569.6]
["5.20.1.6.3","ELETRODUTO FLEXÍVEL CORRUGADO, PEAD, DN 50 (1 ½\u0094)  - FORNECIMENTO E INSTALAÇÃO. AF_04/2016","M",12,7.73,{"$f":"ROUND(D327*E327,2)","v":92.76}]
["5.20.1.6.4","ELETRODUTO RÍGIDO ROSCÁVEL, PVC, DN 25 MM (3/4\") - FORNECIMENTO E INSTALAÇÃO. ","M",33,8.61,284.13]
["5.20.1.6.5","FORNECIMENTO E INSTALAÇÃO DE ELETRODUTO METÁLICO FLEXIVEL, COM PROTEÇÃO EM PVC PRETO (SEALTUBO) - 3/4\"","M",7,21.53,150.71]
[null,""]
["5.20.1.7","LUMINÁRIAS E ACESSÓRIOS",null,null,null,{"$f":"SUBTOTAL(9,F332:F333)","v":36084.6}]
["5.20.1.7.1","FORNECIMENTO E INSTALAÇÃO DE LUMINÁRIA QUADRADA ALETAS REFLEXIVAS DE EMBUTIR, MODULAR 60X60CM, COM 4 LÂMPADAS TUBULARES LED T8 9W, TEMPERATURA DE COR 6.000K, TOTAL DE FLUXO LUMINOSO ENTRE 3.200 A 4.000 LUMENS, COM CORPO EM CHAPA METÁLICA PINTADA ELETROSTATICAMENTE, INCLUSIVE SOQUETES T8 E ACESSÓRIOS DE FIXAÇÃO (EXCLUSIVE LUMINÁRIA, FORNECIDA PELO SESI MT)","UN",276,127.1,{"$f":"ROUND(D332*E332,2)","v":35079.599999999999}]
["5.20.1.7.2","FORNECIMENTO E INSTALAÇÃO DE LUMINÁRIA QUADRADA ALETAS REFLEXIVAS DE SOBREPOR, MODULAR 60X60CM, COM 4 LÂMPADAS TUBULARES LED T8 9W, TEMPERATURA DE COR 6.000K, TOTAL DE FLUXO LUMINOSO ENTRE 3.200 A 4.000 LUMENS, COM CORPO EM CHAPA METÁLICA PINTADA ELETROST","UN",2,502.5,1005]
[null,""]
["5.20.1.8","QUADRO DE DISTRIBUIÇÃO",null,null,null,{"$f":"SUBTOTAL(9,F336:F338)","v":13496.269999999999}]
["5.20.1.8.1","FORNECIMENTO E INSTALAÇÃO DE QUADRO MONTADO DE SOBREPOR, EM CHAPA PINTADA, COM BARRAMENTO TRIFÁSICO DE 800A, CAPACIDADE PARA: 04 DISJ. DE 150A A 225A CAIXA MOLDADA  + 04 DISJ. DE 80A A 125A CAIXA MOLDADA + 80 MÓDULOS TIPO DIN, INCLUSIVE BARRAMENTO NEUTRO ","UN",1,11306.01,{"$f":"ROUND(D336*E336,2)","v":11306.01}]
["5.20.1.8.2","FORNECIMENTO E INSTALAÇÃO DE QUADRO DISTRIBUIÇÃO DE EMBUTIR, EM CHAPA PINTADA, COM BARRAMENTO TRIFÁSICO DE 225A, CAPACIDADE PARA: 56 DISJUNTORES UNIPOLARES TIPO DIN, INCLUSIVE BARRAMENTO NEUTRO E TERRA, COMPLETO, COM ACESSÓRIOS DE MONTAGEM, ISOLAÇÃO E PRO","UN",1,1904.88,1904.88]
["5.20.1.8.3","FORNECIMENTO E INSTALAÇÃO DE QUADRO DISTRIBUIÇÃO DE EMBUTIR, EM PVC BRANCO, SEM BARRAMENTO, CAPACIDADE PARA: 24 DISJUNTORES UNIPOLARES TIPO DIN, SEM BARRAMENTO NEUTRO E TERRA, PARA INSTALAÇÃO DE DISPOSITIVOS RESIDUAIS, EXCETO DISJUNTORES.","UN",1,285.38,285.38]
[null,""]
["5.20.1.9","TERMINAIS",null,null,null,{"$f":"SUBTOTAL(9,F341:F353)","v":1622.51}]
["5.20.1.9.1","FORNECIMENTO E INSTALAÇÃO DE TERMINAL DE COMPRESSÃO 1,5 - 2,5MM²","UN",94,4.49,{"$f":"ROUND(D341*E341,2)","v":422.06}]
["5.20.1.9.2","FORNECIMENTO E INSTALAÇÃO DE TERMINAL DE COMPRESSÃO 4 - 6MM²","UN",30,7.88,236.4]
["5.20.1.9.3","FORNECIMENTO E INSTALAÇÃO DE TERMINAL DE COMPRESSÃO 16MM²","UN",2,8.5299999999999994,17.059999999999999]
["5.20.1.9.4","FORNECIMENTO E INSTALAÇÃO DE TERMINAL DE COMPRESSÃO 35MM²","UN",2,9.59,19.18]
["5.20.1.9.5","FORNECIMENTO E INSTALAÇÃO DE TERMINAL DE COMPRESSÃO 35MM²","UN",3,9.59,28.77]
["5.20.1.9.6","FORNECIMENTO E INSTALAÇÃO DE TERMINAL DE COMPRESSÃO 50MM²","UN",2,11.76,23.52]
["5.20.1.9.7","FORNECIMENTO E INSTALAÇÃO DE TERMINAL DE COMPRESSÃO 70MM²","UN",10,13.02,130.19999999999999]
["5.20.1.9.8","FORNECIMENTO E INSTALAÇÃO DE TERMINAL DE COMPRESSÃO 95MM²","UN",5,14.5,72.5]
["5.20.1.9.9","FORNECIMENTO E INSTALAÇÃO DE TERMINAL DE COMPRESSÃO 120MM²","UN",2,19.91,39.82]
["5.20.1.9.10","FORNECIMENTO E INSTALAÇÃO DE TERMINAL DE COMPRESSÃO 185MM²","UN",10,36.03,360.3]
["5.20.1.9.11","FORNECIMENTO E INSTALAÇÃO DE ABRAÇADEIRA NYLON 3,5X300MM","UN",150,0.33,49.5]
["5.20.1.9.12","FORNECIMENTO E INSTALAÇÃO DE FITA ISOLANTE DE BORRACHA AUTO-FUSÃO","UN",4,2.04,8.16]
["5.20.1.9.13","FORNECIMENTO E INSTALAÇÃO DE FITA ISOLANTE 19MMX20M","UN",12,17.920000000000002,215.04]
[null,""]
["5.20.2","ELÉTRICA ILUMINAÇÃO EXTERNA - BLOCO D",null,null,null,{"$f":"SUBTOTAL(9,F356:F391)","v":7226.87}]
["5.20.2.1","ACESSÓRIOS P/ELETRODUTO E USO GERAL",null,null,null,{"$f":"SUBTOTAL(9,F357:F366)","v":373.31999999999994}]
["5.20.2.1.1","FORNECIMENTO E INSTALAÇÃO DE ABRAÇADEIRA DE AÇO, TIPO D, 3/4\", COM CUNHA","UN",4,6.59,{"$f":"ROUND(D357*E357,2)","v":26.36}]
["5.20.2.1.2","FORNECIMENTO E INSTALAÇÃO DE BUCHA E ARRUELA ALUMÍNIO FUNDIDO PARA ELETRODUTO (ZAMAK) 3/4\"","UN",1,2.0299999999999998,2.0299999999999998]
["5.20.2.1.3","FORNECIMENTO E INSTALAÇÃO DE BOX RETO PARA ELETRODUTO 3/4\"","UN",1,5.68,5.68]
["5.20.2.1.4","FORNECIMENTO E INSTALAÇÃO DE PRENSA CABO 1/2\"","UN",8,30.33,242.64]
["5.20.2.1.5","CAIXA RETANGULAR 4\" X 2\" PVC - FORNECIMENTO E INSTALAÇÃO. ","UN",2,8.9600000000000009,17.920000000000002]
["5.20.2.1.6","FORNECIMENTO E INSTALAÇÃO DE SAÍDA LATERAL PERFILADO P/ ELETRODUTO 3/4\"","UN",1,18.510000000000002,18.510000000000002]
["5.20.2.1.7","FORNECIMENTO E INSTALAÇÃO DE ARRUELA LISA GALVANIZADA 1/4\"","UN",2,0.59,1.18]
["5.20.2.1.8","FORNECIMENTO E INSTALAÇÃO DE BUCHA / PARAFUSO S8","UN",10,4.4400000000000004,44.4]
["5.20.2.1.9","FORNECIMENTO E INSTALAÇÃO DE PARAFUSO GALVAN. CABEÇA LOSANGULAR 1/4\"X1\" - AUTO TRAVANTE PERFILADO","UN",2,6.88,13.76]
["5.20.2.1.10","FORNECIMENTO E INSTALAÇÃO DE PORCA SEXTAVADA GALVAN. 1/4\"","UN",2,0.42,0.84]
[null,""]
["5.20.2.2","CABOS",null,null,null,{"$f":"SUBTOTAL(9,F369:F370)","v":5254.6}]
["5.20.2.2.1","FORNECIMENTO E INSTALAÇÃO DE CABO DE COBRE FLEXÍVEL ISOL. TERMOPLASTICO ATOX 750V - 2,5 MM² (TP SINTENAX PIRELLI OU SIMILAR)","M",700,4.83,{"$f":"ROUND(D369*E369,2)","v":3381}]
["5.20.2.2.2","FORNECIMENTO E INSTALAÇÃO DE CABO DE COBRE PP 4 X 2,5 MM²","M",80,23.42,1873.6]
[null,""]
["5.20.2.3","DISPOSITIVO ELÉTRICO EMBUTIDO",null,null,null,{"$f":"SUBTOTAL(9,F373:F374)","v":77.050000000000011}]
["5.20.2.3.1","INTERRUPTOR SIMPLES (1 MÓDULO), 10A/250V, INCLUINDO SUPORTE E PLACA - FORNECIMENTO E INSTALAÇÃO. AF_12/2015","UN",1,24.35,{"$f":"ROUND(D373*E373,2)","v":24.35}]
["5.20.2.3.2","INTERRUPTOR SIMPLES (3 MÓDULOS), 10A/250V, INCLUINDO SUPORTE E PLACA - FORNECIMENTO E INSTALAÇÃO. AF_12/2015","UN",1,52.7,52.7]
[null,""]
["5.20.2.4","DISPOSITIVO ELÉTRICO SOBREPOR",null,null,null,{"$f":"SUBTOTAL(9,F377)","v":835.12}]
["5.20.2.4.1","SENSOR DE PRESENÇA PARA ILUMINAÇÃO, 100W, 127V, COM ÂNGULO DE DETECÇÃO DE 180º, FUNÇÃO FOTOCÉLULA AJUSTÁVEL, FUNÇÃO TEMPORIZADOR AJUSTÁVEL, DISTÂNCIA DE DETECÇÃO 12 METROS, SOBREPOR - FORNECIMENTO E INSTALAÇÃO. ","UN",8,104.39,835.12]
[null,""]
["5.20.2.5","DISPOSITIVO DE PROTEÇÃO",null,null,null,{"$f":"SUBTOTAL(9,F380:F380)","v":13.15}]
["5.20.2.5.1","DISJUNTOR MONOPOLAR TIPO DIN, CORRENTE NOMINAL DE 10A - FORNECIMENTO E INSTALAÇÃO. AF_10/2020","UN",1,13.15,{"$f":"ROUND(D380*E380,2)","v":13.15}]
[null,""]
["5.20.2.6","ELETRODUTOS",null,null,null,{"$f":"SUBTOTAL(9,F383:F383)","v":49.52}]
["5.20.2.6.1","ELETRODUTO FLEXÍVEL CORRUGADO, PVC, DN 25 MM (3/4\") - FORNECIMENTO E INSTALAÇÃO. ","M",8,6.19,{"$f":"ROUND(D383*E383,2)","v":49.52}]
[null,""]
["5.20.2.7","LUMINÁRIAS E ACESSÓRIOS",null,null,null,{"$f":"SUBTOTAL(9,F386:F387)","v":583.74}]
["5.20.2.7.1","FORNECIMENTO E INSTALAÇÃO DE REFLETOR HOLOFOTE LED 30W, IP 66, ÂNGULO DE ABERTURA DE 120°, TEMPERATURA DE COR 6000K (REF.: ILUMINIM RSPM-30WBF OU SIMILAR)","UN",2,68.849999999999994,{"$f":"ROUND(D386*E386,2)","v":137.69999999999999}]
["5.20.2.7.2","FORNECIMENTO E INSTALAÇÃO DE REFLETOR HOLOFOTE LED 50W, IP 66, ÂNGULO DE ABERTURA DE 120°, TEMPERATURA DE COR 6000K (REF.: ILUMINIM RSPM-50WBF OU SIMILAR)","UN",6,74.34,446.04]
[null,""]
["5.20.2.8","TERMINAIS",null,null,null,{"$f":"SUBTOTAL(9,F390:F391)","v":40.370000000000005}]
["5.20.2.8.1","FORNECIMENTO E INSTALAÇÃO DE TERMINAL DE COMPRESSÃO 1,5 - 2,5MM²","UN",5,4.49,{"$f":"ROUND(D390*E390,2)","v":22.45}]
["5.20.2.8.2","FORNECIMENTO E INSTALAÇÃO DE FITA ISOLANTE 19MMX20M","UN",1,17.920000000000002,17.920000000000002]
[null,""]
["5.20.3","ELÉTRICA ILUMINAÇÃO EMERGÊNCIA - BLOCO D",null,null,null,{"$f":"SUBTOTAL(9,F394:F421)","v":6268.1299999999992}]
["5.20.3.1","ACESSÓRIOS P/ELETRODUTO E USO GERAL",null,null,null,{"$f":"SUBTOTAL(9,F395:F405)","v":1689.4399999999998}]
["5.20.3.1.1","FORNECIMENTO E INSTALAÇÃO DE ABRAÇADEIRA DE AÇO, TIPO D, 3/4\", COM CUNHA","UN",50,6.59,{"$f":"ROUND(D395*E395,2)","v":329.5}]
["5.20.3.1.2","FORNECIMENTO E INSTALAÇÃO DE BUCHA E ARRUELA ALUMÍNIO FUNDIDO PARA ELETRODUTO (ZAMAK) 3/4\"","UN",31,2.0299999999999998,62.93]
["5.20.3.1.3","FORNECIMENTO E INSTALAÇÃO DE BOX RETO PARA ELETRODUTO 3/4\"","UN",31,5.68,176.08]
["5.20.3.1.4","CAIXA RETANGULAR 4\" X 2\" PVC - FORNECIMENTO E INSTALAÇÃO. ","UN",38,8.9600000000000009,340.48]
["5.20.3.1.5","FORNECIMENTO E INSTALAÇÃO DE SAÍDA LATERAL ELETROCALHA P/ ELETRODUTO 3/4\"","UN",17,10.29,174.93]
["5.20.3.1.6","FORNECIMENTO E INSTALAÇÃO DE SAÍDA LATERAL PERFILADO P/ ELETRODUTO 3/4\"","UN",4,18.510000000000002,74.040000000000006]
["5.20.3.1.7","FORNECIMENTO E INSTALAÇÃO DE ARRUELA LISA GALVANIZADA 1/4\"","UN",42,0.59,24.78]
["5.20.3.1.8","FORNECIMENTO E INSTALAÇÃO DE BUCHA / PARAFUSO S8","UN",60,4.4400000000000004,266.39999999999998]
["5.20.3.1.9","FORNECIMENTO E INSTALAÇÃO DE PARAFUSO GALVAN. CABEÇA LENTILHA 1/4X5/8\"","UN",34,4.93,167.62]
["5.20.3.1.10","FORNECIMENTO E INSTALAÇÃO DE PARAFUSO GALVAN. CABEÇA LOSANGULAR 1/4\"X1\" - AUTO TRAVANTE PERFILADO","UN",8,6.88,55.04]
["5.20.3.1.11","FORNECIMENTO E INSTALAÇÃO DE PORCA SEXTAVADA GALVAN. 1/4\"","UN",42,0.42,17.64]
[null,""]
["5.20.3.2","CABOS",null,null,null,{"$f":"SUBTOTAL(9,F408:F408)","v":2801.4}]
["5.20.3.2.1","FORNECIMENTO E INSTALAÇÃO DE CABO DE COBRE FLEXÍVEL ISOL. TERMOPLASTICO ATOX 750V - 2,5 MM² (TP SINTENAX PIRELLI OU SIMILAR)","M",580,4.83,{"$f":"ROUND(D408*E408,2)","v":2801.4}]
[null,""]
["5.20.3.3","DISPOSITIVO ELÉTRICO EMBUTIDO",null,null,null,{"$f":"SUBTOTAL(9,F411:F411)","v":977.74}]
["5.20.3.3.1","TOMADA DE EMBUTIR (1 MÓDULO), 2P+T 10 A, INCLUINDO SUPORTE E PLACA - FORNECIMENTO E INSTALAÇÃO. AF_12/2015","UN",38,25.73,{"$f":"ROUND(D411*E411,2)","v":977.74}]
[null,""]
["5.20.3.4","DISPOSITIVO DE PROTEÇÃO",null,null,null,{"$f":"SUBTOTAL(9,F414:F414)","v":13.15}]
["5.20.3.4.1","DISJUNTOR MONOPOLAR TIPO DIN, CORRENTE NOMINAL DE 10A - FORNECIMENTO E INSTALAÇÃO. AF_10/2020","UN",1,13.15,{"$f":"ROUND(D414*E414,2)","v":13.15}]
[null,""]
["5.20.3.5","ELETRODUTOS",null,null,null,{"$f":"SUBTOTAL(9,F417:F417)","v":705.66}]
["5.20.3.5.1","ELETRODUTO FLEXÍVEL CORRUGADO, PVC, DN 25 MM (3/4\") - FORNECIMENTO E INSTALAÇÃO. ","M",114,6.19,{"$f":"ROUND(D417*E417,2)","v":705.66}]
[null,""]
["5.20.3.6","TERMINAIS",null,null,null,{"$f":"SUBTOTAL(9,F420:F421)","v":80.740000000000009}]
["5.20.3.6.1","FORNECIMENTO E INSTALAÇÃO DE TERMINAL DE COMPRESSÃO 1,5 - 2,5MM²","UN",10,4.49,{"$f":"ROUND(D420*E420,2)","v":44.9}]
["5.20.3.6.2","FORNECIMENTO E INSTALAÇÃO DE FITA ISOLANTE 19MMX20M","UN",2,17.920000000000002,35.840000000000003]
[null,""]
["5.20.4","ELÉTRICA AR CONDICONADO - BLOCO D",null,null,null,{"$f":"SUBTOTAL(9,F424:F478)","v":58838.390000000007}]
["5.20.4.1","ACESSÓRIOS P/ELETRODUTO E USO GERAL",null,null,null,{"$f":"SUBTOTAL(9,F425:F437)","v":4194.7}]
["5.20.4.1.1","FORNECIMENTO E INSTALAÇÃO DE ABRAÇADEIRA DE AÇO, TIPO D, 3/4\", COM CUNHA","UN",160,6.59,{"$f":"ROUND(D425*E425,2)","v":1054.4000000000001}]
["5.20.4.1.2","FORNECIMENTO E INSTALAÇÃO DE BUCHA E ARRUELA ALUMÍNIO FUNDIDO PARA ELETRODUTO (ZAMAK) 3/4\"","UN",78,2.0299999999999998,158.34]
["5.20.4.1.3","FORNECIMENTO E INSTALAÇÃO DE BOX RETO PARA ELETRODUTO 3/4\"","UN",78,5.68,443.04]
["5.20.4.1.4","CAIXA RETANGULAR 4\" X 2\" PVC - FORNECIMENTO E INSTALAÇÃO. ","UN",67,8.9600000000000009,600.32000000000005]
["5.20.4.1.5","CAIXA DE PASSAGEM 15X15X10CM (EMBUTIR), FORNECIMENTO E INSTALACAO. AF_11/2019","UN",5,44.78,223.9]
["5.20.4.1.6","FORNECIMENTO E INSTALAÇÃO DE SAÍDA LATERAL ELETROCALHA P/ ELETRODUTO 3/4\"","UN",20,10.29,205.8]
["5.20.4.1.7","FORNECIMENTO E INSTALAÇÃO DE SAÍDA LATERAL PERFILADO P/ ELETRODUTO 3/4\"","UN",2,18.510000000000002,37.020000000000003]
["5.20.4.1.8","FORNECIMENTO E INSTALAÇÃO DE ARRUELA LISA GALVANIZADA 1/4\"","UN",44,0.59,25.96]
["5.20.4.1.9","FORNECIMENTO E INSTALAÇÃO DE BUCHA / PARAFUSO S8","UN",252,4.4400000000000004,1118.8800000000001]
["5.20.4.1.10","FORNECIMENTO E INSTALAÇÃO DE BUCHA / PARAFUSO S10","UN",12,4.75,57]
["5.20.4.1.11","FORNECIMENTO E INSTALAÇÃO DE PARAFUSO GALVAN. CABEÇA LENTILHA 1/4X5/8\"","UN",40,4.93,197.2]
["5.20.4.1.12","FORNECIMENTO E INSTALAÇÃO DE CHUMBADOR PARABOLT AÇO 1/4\" X 3\"","UN",4,13.59,54.36]
["5.20.4.1.13","FORNECIMENTO E INSTALAÇÃO DE PORCA SEXTAVADA GALVAN. 1/4\"","UN",44,0.42,18.48]
[null,""]
["5.20.4.2","CABOS",null,null,null,{"$f":"SUBTOTAL(9,F440:F444)","v":39909.270000000004}]
["5.20.4.2.1","FORNECIMENTO E INSTALAÇÃO DE CABO DE COBRE FLEXÍVEL ISOL. TERMOPLASTICO ATOX 750V - 2,5 MM² (TP SINTENAX PIRELLI OU SIMILAR)","M",2800,4.83,{"$f":"ROUND(D440*E440,2)","v":13524}]
["5.20.4.2.2","FORNECIMENTO E INSTALAÇÃO DE  CABO DE COBRE FLEXÍVEL ISOLADO, 16 MM², ANTI-CHAMA 0,6/1,0 KV - ATOX","M",129,19.010000000000002,2452.29]
["5.20.4.2.3","FORNECIMENTO E INSTALAÇÃO DE  CABO DE COBRE FLEXÍVEL ISOLADO, 25 MM², ANTI-CHAMA 0,6/1,0 KV - ATOX","M",387,31.14,12051.18]
["5.20.4.2.4","FORNECIMENTO E INSTALAÇÃO DE  CABO DE COBRE FLEXÍVEL ISOLADO, 35 MM², ANTI-CHAMA 0,6/1,0 KV - ATOX","M",30,43.02,1290.5999999999999]
["5.20.4.2.5","FORNECIMENTO E INSTALAÇÃO DE  CABO DE COBRE FLEXÍVEL ISOLADO, 70 MM², ANTI-CHAMA 0,6/1,0 KV - ATOX","M",90,117.68,10591.2]
[null,""]
["5.20.4.3","DISPOSITIVO ELÉTRICO EMBUTIDO",null,null,null,{"$f":"SUBTOTAL(9,F447:F448)","v":2077.5500000000002}]
["5.20.4.3.1","INTERRUPTOR BIPOLAR (1 MÓDULO), 10A/250V, INCLUINDO SUPORTE E PLACA - FORNECIMENTO E INSTALAÇÃO. AF_09/2017","UN",21,42.57,{"$f":"ROUND(D447*E447,2)","v":893.97}]
["5.20.4.3.2","TOMADA DE EMBUTIR (1 MÓDULO), 2P+T 10 A, INCLUINDO SUPORTE E PLACA - FORNECIMENTO E INSTALAÇÃO. AF_12/2015","UN",46,25.73,1183.58]
[null,""]
["5.20.4.4","DISPOSITIVO DE PROTEÇÃO",null,null,null,{"$f":"SUBTOTAL(9,F451:F456)","v":4115.32}]
["5.20.4.4.1","DISJUNTOR BIPOLAR TIPO DIN, CORRENTE NOMINAL DE 16A - FORNECIMENTO E INSTALAÇÃO. AF_10/2020","UN",8,67.28,{"$f":"ROUND(D451*E451,2)","v":538.24}]
["5.20.4.4.2","DISJUNTOR TRIPOLAR TIPO DIN, CORRENTE NOMINAL DE 16A - FORNECIMENTO E INSTALAÇÃO. AF_10/2020","UN",2,84.1,168.2]
["5.20.4.4.3","FORNECIMENTO E INSTALAÇÃO DE DISJUNTOR TIPO DIN/IEC, TRIPOLAR 80 A  (REF.: MARCA SIEMENS, WEG OU SIMILAR)","UN",4,271.04000000000002,1084.1600000000001]
["5.20.4.4.4","FORNECIMENTO E INSTALAÇÃO DE DISJUNTOR TIPO DIN/IEC, TRIPOLAR 100 A  (REF.: MARCA SIEMENS, WEG OU SIMILAR)","UN",2,254.67,509.34]
["5.20.4.4.5","FORNECIMENTO E INSTALAÇÃO DE DISJUNTOR TRIPOLAR TERMOMAGNÉTICO EM CAIXA MOLDADA - 175A  (REF.: MARCA SIEMENS, WEG OU SIMILAR)","UN",1,661.22,661.22]
["5.20.4.4.6","FORNECIMENTO E INSTALAÇÃO DE DISPOSITIVO DPS, 1 POLO, 175 V, 45 KA","UN",9,128.24,1154.1600000000001]
[null,""]
["5.20.4.5","EXTENSÃO EM MOBILIARIO",null,null,null,{"$f":"SUBTOTAL(9,F459:F460)","v":1622.6499999999999}]
["5.20.4.5.1","FORNECIMENTO E INSTALAÇÃO DE PLUGUE MACHO  2P+T - 10A","UN",46,27.97,{"$f":"ROUND(D459*E459,2)","v":1286.6199999999999}]
["5.20.4.5.2","FORNECIMENTO E INSTALAÇÃO DE CABO DE COBRE PP 3X2,5MM² - ISOL. TERMOPLASTICO ATOX 750V","M",69,4.87,336.03]
[null,""]
["5.20.4.6","ELETRODUTOS",null,null,null,{"$f":"SUBTOTAL(9,F463:F464)","v":1699.6}]
["5.20.4.6.1","ELETRODUTO FLEXÍVEL CORRUGADO, PVC, DN 25 MM (3/4\") - FORNECIMENTO E INSTALAÇÃO. ","M",160,6.19,{"$f":"ROUND(D463*E463,2)","v":990.4}]
["5.20.4.6.2","ELETRODUTO FLEXÍVEL CORRUGADO, PEAD, DN 63 (2\")  - FORNECIMENTO E INSTALAÇÃO. AF_04/2016","M",60,11.82,709.2]
[null,""]
["5.20.4.7","QUADRO DE DISTRIBUIÇÃO",null,null,null,{"$f":"SUBTOTAL(9,F467:F468)","v":4457.2}]
["5.20.4.7.1","FORNECIMENTO E INSTALAÇÃO DE QUADRO MONTADO DE SOBREPOR, EM CHAPA PINTADA, GRAU DE PROTEÇÃO IP65, COM BARRAMENTO TRIFÁSICO DE 300A, CAPACIDADE PARA: 04 DISJUNTORES CAIXA MOLDADA DE 80A A 125A + 16 DISJUNTORES UNIPOLARES TIPO DIN, INCLUSIVE BARRAMENTO TERR","UN",1,3106.96,{"$f":"ROUND(D467*E467,2)","v":3106.96}]
["5.20.4.7.2","QUADRO DE DISTRIBUIÇÃO DE ENERGIA EM CHAPA DE AÇO GALVANIZADO, DE SOBREPOR, COM BARRAMENTO TRIFÁSICO, PARA 18 DISJUNTORES DIN 150A - FORNECIMENTO E INSTALAÇÃO. AF_10/2020","UN",2,675.12,1350.24]
[null,""]
["5.20.4.8","TERMINAIS",null,null,null,{"$f":"SUBTOTAL(9,F471:F478)","v":762.09999999999991}]
["5.20.4.8.1","FORNECIMENTO E INSTALAÇÃO DE TERMINAL DE COMPRESSÃO 1,5 - 2,5MM²","UN",50,4.49,{"$f":"ROUND(D471*E471,2)","v":224.5}]
["5.20.4.8.2","FORNECIMENTO E INSTALAÇÃO DE TERMINAL DE COMPRESSÃO 16MM²","UN",10,8.5299999999999994,85.3]
["5.20.4.8.3","FORNECIMENTO E INSTALAÇÃO DE TERMINAL DE COMPRESSÃO 25MM²","UN",30,9.26,277.8]
["5.20.4.8.4","FORNECIMENTO E INSTALAÇÃO DE TERMINAL DE COMPRESSÃO 35MM²","UN",2,9.59,19.18]
["5.20.4.8.5","FORNECIMENTO E INSTALAÇÃO DE TERMINAL DE COMPRESSÃO 70MM²","UN",5,13.02,65.099999999999994]
["5.20.4.8.6","FORNECIMENTO E INSTALAÇÃO DE ABRAÇADEIRA NYLON 3,5X300MM","UN",50,0.33,16.5]
["5.20.4.8.7","FORNECIMENTO E INSTALAÇÃO DE FITA ISOLANTE DE BORRACHA AUTO-FUSÃO","UN",1,2.04,2.04]
["5.20.4.8.8","FORNECIMENTO E INSTALAÇÃO DE FITA ISOLANTE 19MMX20M","UN",4,17.920000000000002,71.680000000000007]
[]
["5.21","LOGICA E TELEFONICA",null,null,null,{"$f":"SUBTOTAL(9,F481:F559)","v":92349.169999999984}]
["5.21.1","ACESSÓRIOS P/ELETRODUTO E USO GERAL",null,null,null,{"$f":"SUBTOTAL(9,F482:F499)","v":17398.580000000002}]
["5.21.1.1","FORNECIMENTO E INSTALAÇÃO DE ABRAÇADEIRA DE AÇO, TIPO D, 3/4\", COM CUNHA","UN",160,6.59,{"$f":"ROUND(D482*E482,2)","v":1054.4000000000001}]
["5.21.1.2","FORNECIMENTO E INSTALAÇÃO DE BUCHA E ARRUELA ALUMÍNIO FUNDIDO PARA ELETRODUTO (ZAMAK) 3/4\"","UN",121,2.0299999999999998,245.63]
["5.21.1.3","FORNECIMENTO E INSTALAÇÃO DE BOX RETO PARA ELETRODUTO 3/4\"","UN",121,5.68,687.28]
["5.21.1.4","CAIXA RETANGULAR 4\" X 2\" PVC - FORNECIMENTO E INSTALAÇÃO","UN",92,8.9600000000000009,824.32]
["5.21.1.5","FORNECIMENTO E INSTALAÇÃO DE CAIXA ALUMÍNIO 4X4\" DE PISO C/ TAMPA - EMBUTIR","UN",3,62.03,186.09]
["5.21.1.6","CONDULETE DE ALUMÍNIO, TIPO X, PARA ELETRODUTO DE AÇO GALVANIZADO DN 20 MM (3/4''), APARENTE - FORNECIMENTO E INSTALAÇÃO. AF_11/2016_P","UN",13,38.119999999999997,495.56]
["5.21.1.7","FORNECIMENTO E INSTALAÇÃO DE PLACA CEGA DE ALUMÍNIO  P/ CONDULETE","UN",13,32.700000000000003,425.1]
["5.21.1.8","FORNECIMENTO E INSTALAÇÃO DE SAÍDA LATERAL ELETROCALHA P/ ELETRODUTO 3/4\"","UN",39,10.29,401.31]
["5.21.1.9","FORNECIMENTO E INSTALAÇÃO DE SAÍDA LATERAL PERFILADO P/ ELETRODUTO 3/4\"","UN",56,18.510000000000002,1036.56]
["5.21.1.10","FORNECIMENTO E INSTALAÇÃO DE ARAME AÇO GALVANIZADO 18 BWG, 1,24MM (0,009 KG/M)","M",111,0.77,85.47]
["5.21.1.11","FORNECIMENTO E INSTALAÇÃO DE ARRUELA LISA GALVANIZADA 1/4\"","UN",1300,0.59,767]
["5.21.1.12","FORNECIMENTO E INSTALAÇÃO DE BUCHA / PARAFUSO S8","UN",142,4.4400000000000004,630.48]
["5.21.1.13","FORNECIMENTO E INSTALAÇÃO DE BUCHA / PARAFUSO S10","UN",20,4.75,95]
["5.21.1.14","FORNECIMENTO E INSTALAÇÃO DE CHUMBADOR PARABOLT AÇO 1/4\" X 3\"","UN",142,13.59,1929.78]
["5.21.1.15","FORNECIMENTO E INSTALAÇÃO DE PARAFUSO GALVAN. CABEÇA LENTILHA 1/4X5/8\"","UN",700,4.93,3451]
["5.21.1.16","FORNECIMENTO E INSTALAÇÃO DE PARAFUSO GALVAN. CABEÇA LOSANGULAR 1/4\"X1\" - AUTO TRAVANTE PERFILADO","UN",80,6.88,550.4]
["5.21.1.17","FORNECIMENTO E INSTALAÇÃO DE PORCA SEXTAVADA GALVAN. 1/4\"","UN",1300,0.42,546]
["5.21.1.18","FORNECIMENTO E INSTALAÇÃO DE VERGALHÃO GALVANIZADO ROSCA TOTAL 1/4\"","M",224,17.8,3987.2]
[null,""]
["5.21.2","CABOS",null,null,null,{"$f":"SUBTOTAL(9,F502:F502)","v":8256}]
["5.21.2.1","CABO ELETRÔNICO CATEGORIA 6, ATOX LSZH, INSTALADO EM EDIFICAÇÃO INSTITUCIONAL - FORNECIMENTO E INSTALAÇÃO. AF_11/2019","M",3200,2.58,{"$f":"ROUND(D502*E502,2)","v":8256}]
[null,""]
["5.21.3","DISPOSITIVO CABEAMENTO EMBUTIR",null,null,null,{"$f":"SUBTOTAL(9,F505:F509)","v":5275.68}]
["5.21.3.1","FORNECIMENTO E INSTALAÇÃO DE PLACA 4X2\" - BRANCA, 1 MÓDULO P/ RJ45","UN",53,7.93,{"$f":"ROUND(D505*E505,2)","v":420.29}]
["5.21.3.2","FORNECIMENTO E INSTALAÇÃO DE PLACA 4X2\" - BRANCA, 2 MÓDULOS P/ RJ45","UN",39,11.84,461.76]
["5.21.3.3","FORNECIMENTO E INSTALAÇÃO DE MÓDULO P/TOMADA KEYSTONE","UN",131,6.59,863.29]
["5.21.3.4","FORNECIMENTO E INSTALAÇÃO DE TOMADA KEYSTONE RJ45 - CAT.6","UN",131,26.79,3509.49]
["5.21.3.5","FORNECIMENTO E INSTALAÇÃO DE CONECTOR MACHO RJ45 - CAT.6","UN",3,6.95,20.85]
[null,""]
["5.21.4","ELETROCALHAS / PERFILADOS",null,null,null,{"$f":"SUBTOTAL(9,F512:F531)","v":26833.469999999994}]
["5.21.4.1","FORNECIMENTO E INSTALAÇÃO DE CURVA HORIZONTAL 90º - 100X50MM CHAPA 20, COM TAMPA","UN",2,73.02,{"$f":"ROUND(D512*E512,2)","v":146.04}]
["5.21.4.2","FORNECIMENTO E INSTALAÇÃO DE CURVA HORIZONTAL 90º - 150X50MM CHAPA 20, COM TAMPA","UN",1,67.7,67.7]
["5.21.4.3","FORNECIMENTO E INSTALAÇÃO DE CURVA DE INVERSÃO 100X50 MM CHAPA 20","UN",6,63.19,379.14]
["5.21.4.4","FORNECIMENTO E INSTALAÇÃO DE CURVA DE INVERSÃO 150X50 MM CHAPA 20","UN",3,87.39,262.17]
["5.21.4.5","FORNECIMENTO E INSTALAÇÃO DE TÊ HORIZONTAL 90° 150X50 MM, COM TAMPA","UN",4,103.09,412.36]
["5.21.4.6","FORNECIMENTO E INSTALAÇÃO DE CRUZETA HORIZONTAL 90º - 150X50MM CHAPA 20, COM TAMPA","UN",1,119.07,119.07]
["5.21.4.7","FORNECIMENTO E INSTALAÇÃO DE ELETROCALHA PERFURADA TIPO U 100X50 MM - CHAPA 20, COM TAMPA","M",70,133.36000000000001,9335.2000000000007]
["5.21.4.8","FORNECIMENTO E INSTALAÇÃO DE ELETROCALHA PERFURADA TIPO U 150X50 MM - CHAPA 20, COM TAMPA","M",35,162.02000000000001,5670.7]
["5.21.4.9","FORNECIMENTO E INSTALAÇÃO DE REDUÇÃO CONCÊNTRICA - 150X100 P/ 100X50MM COM TAMPA","UN",2,61.49,122.98]
["5.21.4.10","FORNECIMENTO E INSTALAÇÃO DE FLANGE 100X50 MM CHAPA 20","UN",1,12.87,12.87]
["5.21.4.11","FORNECIMENTO E INSTALAÇÃO DE FLANGE 150X50 MM CHAPA 20","UN",4,18.93,75.72]
["5.21.4.12","FORNECIMENTO E INSTALAÇÃO DE SUPORTE VERTICAL P/ ELETROCALHA METÁLICA 100X50MM","UN",47,16.93,795.71]
["5.21.4.13","FORNECIMENTO E INSTALAÇÃO DE SUPORTE VERTICAL P/ ELETROCALHA METÁLICA 150X50MM ","UN",24,20.3,487.2]
["5.21.4.14","FORNECIMENTO E INSTALAÇÃO DE TALA PLANA PERFURADA - 50MM","UN",198,6.86,1358.28]
["5.21.4.15","FORNECIMENTO E INSTALAÇÃO DESAÍDA LATERAL DE ELETROCALHA P/PERFILADO 38X38MM","UN",13,17.02,221.26]
["5.21.4.16","FORNECIMENTO E INSTALAÇÃO DE EMENDA INTERNA TIPO \"I\" P/ PERFILADO METÁLICO 38X38MM - CHAPA 18","UN",27,20.399999999999999,550.79999999999995]
["5.21.4.17","FORNECIMENTO E INSTALAÇÃO DE EMENDA INTERNA TIPO \"L\" P/ PERFILADO METÁLICO 38X38MM  - CHAPA 18","UN",3,22.84,68.52]
["5.21.4.18","FORNECIMENTO E INSTALAÇÃO DE EMENDA INTERNA TIPO \"T\" P/ PERFILADO METÁLICO 38X38MM  - CHAPA 18","UN",1,37.17,37.17]
["5.21.4.19","FORNECIMENTO E INSTALAÇÃO DE PERFILADO PERFURADO METÁLICO 38X38MM, COM TAMPA - CHAPA 18","M",162,30.59,4955.58]
["5.21.4.20","FORNECIMENTO E INSTALAÇÃO DE SUPORTE CURTO P/ PERFILADO METÁLICO 38X38MM","UN",108,16.25,1755]
[null,""]
["5.21.5","ELETRODUTOS",null,null,null,{"$f":"SUBTOTAL(9,F534:F536)","v":2519.8200000000002}]
["5.21.5.1","ELETRODUTO RÍGIDO ROSCÁVEL, PVC, DN 25 MM (3/4\") - FORNECIMENTO E INSTALAÇÃO. ","M",24,8.61,{"$f":"ROUND(D534*E534,2)","v":206.64}]
["5.21.5.2","FORNECIMENTO E INSTALAÇÃO DE ELETRODUTO METÁLICO FLEXIVEL, COM PROTEÇÃO EM PVC PRETO (SEALTUBO) - 3/4\"","M",6,21.53,129.18]
["5.21.5.3","INSTALAÇÃO DE ELETRODUTO FLEXÍVEL CORRUGADO, PVC, DN 25 MM (3/4\") - (MATERIAL FORNECIDO PELO SESI)","UN",560,3.9,2184]
[null,""]
["5.21.6","RACK E ACESSÓRIOS",null,null,null,{"$f":"SUBTOTAL(9,F539:F551)","v":20340.320000000003}]
["5.21.6.1","FORNECIMENTO E INSTALAÇÃO DE RACK CAIXA PADRÃO 19\" - PORTA ACRÍLICO FUMÊ 12U X 470 MM","UN",3,777.62,{"$f":"ROUND(D539*E539,2)","v":2332.86}]
["5.21.6.2","FORNECIMENTO E INSTALAÇÃO DE RACK CAIXA PADRÃO 19\" - PORTA ACRÍLICO FUMÊ 16U X 470 MM","UN",1,1293.03,1293.03]
["5.21.6.3","FORNECIMENTO E INSTALAÇÃO DE REGUA PARA 10 TOMADAS 2P+T 20A - 1U","UN",4,150.4,601.6]
["5.21.6.4","FORNECIMENTO E INSTALAÇÃO DE KIT DE VENTILAÇÃO COM 2 COOLERS","UN",4,306.91000000000003,1227.6400000000001]
["5.21.6.5","PATCH PANEL 24 PORTAS, CATEGORIA 6 - FORNECIMENTO E INSTALAÇÃO. AF_11/2019","UN",7,698.58,4890.0600000000004]
["5.21.6.6","FORNECIMENTO E INSTALAÇÃO DE VOICE PANEL 30 PORTAS RJ45","UN",2,652.1,1304.2]
["5.21.6.7","FORNECIMENTO E INSTALAÇÃO DE GUIA DE CABOS FECHADO HORIZONTAL - 1U","UN",17,34.69,589.73]
["5.21.6.8","FORNECIMENTO E INSTALAÇÃO DE BANDEJA PARA RACK 19\", FIXA HORIZONTAL 1U.","UN",4,97.67,390.68]
["5.21.6.9","FORNECIMENTO E INSTALAÇÃO DE ANEL ORGANIZADOR DE CABOS TIPO ABRAÇADEIRA VELCRO","UN",8,2.2000000000000002,17.600000000000001]
["5.21.6.10","FORNECIMENTO E INSTALAÇÃO DE ANILHA DE IDENTIFICACAO PARA CABOS DE 0 A 9 (KIT 100 PECAS)","UN",4,69.38,277.52]
["5.21.6.11","FORNECIMENTO E INSTALAÇÃO DE FITA ROTULADORA 12MM PRETO SOBRE BRANCO 8M","UN",4,104.85,419.4]
["5.21.6.12","FORNECIMENTO E INSTALAÇÃO DE PATCH CORD CERTIFICADO CAT.6 - CONEXÃO RJ45 X RJ45 - COMP. 1,5M - LSZH","UN",142,8.86,1258.1199999999999]
["5.21.6.13","FORNECIMENTO DE SERVIÇO DE CERTIFICAÇÃO DE CABO DE REDE CAT-6, COM CERTIFICADO DE AFERIÇÃO DO APARELHO","UN",134,42.82,5737.88]
[null,""]
["5.21.7","FIBRA ÓPTICA E ACESSÓRIOS",null,null,null,{"$f":"SUBTOTAL(9,F554:F559)","v":11725.300000000001}]
["5.21.7.1","FORNECIMENTO E INSTALAÇÃO DE DISTRIBUIDOR OPTICO INTERNO PARA 12 FO - 1U PARA RACK.","UN",4,518.47,{"$f":"ROUND(D554*E554,2)","v":2073.88}]
["5.21.7.2","FORNECIMENTO E INSTALAÇÃO DE EXTENSÃO PIGTAIL MULTIMODO P/ DIO - CONECTOR SC","UN",48,32.04,1537.92]
["5.21.7.3","FORNECIMENTO E INSTALAÇÃO DE CORDÃO ÓPTICO MULTIMODO - 2 FO CONECTOR SC/SC - 2,50 M","UN",6,101.69,610.14]
["5.21.7.4","FORNECIMENTO E INSTALAÇÃO DE CONVERSOR DE MÍDIA PARA FIBRA ÓTICA MM E SM 10/100 2FO RJ45","UN",6,281.52,1689.12]
["5.21.7.5","FORNECIMENTO DE SERVIÇO DE CERTIFICACAO DE CABEAMENTO DE FIBRA OPTICA","UN",48,34.26,1644.48]
["5.21.7.6","FORNECIMENTO DE SERVIÇO DE FUSÃO FIBRA ÓTICA COM EXTENSÃO PIGTAIL COM CERTIFICAÇÃO DE AFERIÇÃO DO APARELHO","UN",48,86.87,4169.76]
[]
["5.22","CLIMATIZAÇÃO - AR CONDICIONADO",null,null,null,{"$f":"SUBTOTAL(9,F562:F634)","v":508572.43}]
["5.22.1","INSTALAÇÕES HIDRÁULICAS",null,null,null,{"$f":"SUBTOTAL(9,F563:F568)","v":5819.4400000000005}]
["5.22.1.1","TUBO, PVC, SOLDÁVEL, DN 32MM, INSTALADO EM DRENO DE AR-CONDICIONADO – FORNECIMENTO E INSTALAÇÃO","M",190,16.309999999999999,{"$f":"ROUND(D563*E563,2)","v":3098.9}]
["5.22.1.2","JOELHO 45 GRAUS, PVC, SOLDÁVEL, DN 32MM, INSTALADO EM DRENO DE AR-CONDICIONADO - FORNECIMENTO E INSTALAÇÃO","UND",37,9.36,346.32]
["5.22.1.3","CURVA 90 GRAUS, PVC, SOLDÁVEL, DN 32MM, INSTALADO EM DRENO DE AR-CONDICIONADO - FORNECIMENTO E INSTALAÇÃO","UND",37,12.56,464.72]
["5.22.1.4","TE, PVC, SOLDÁVEL, DN 32MM, INSTALADO EM DRENO DE AR-CONDICIONADO - FORNECIMENTO E INSTALAÇÃO","UND",40,11.97,478.8]
["5.22.1.5","LUVA, PVC, SOLDÁVEL, DN 32MM, INSTALADO EM DRENO DE AR-CONDICIONADO - FORNECIMENTO E INSTALAÇÃO","UND",40,5.32,212.8]
["5.22.1.6","TUBO DE ESPUMA DE POLIETILENO EXPANDIDO FLEXIVEL PARA ISOLAMENTO TERMICO DE TUBULACAO DE AR CONDICIONADO, AGUA QUENTE,  DN 1 1/2\", E= 10 MM","M     ",190,6.41,1217.9000000000001]
[]
["5.22.2","INSTALAÇÕES DE CLIMATIZAÇÃO",null,null,null,{"$f":"SUBTOTAL(9,F571:F604)","v":224606.99}]
["5.22.2.1","TUBO DE COBRE FLEXIVEL, D = 1/4 \", E = 0,79 MM, PARA AR-CONDICIONADO/ INSTALACOES GAS RESIDENCIAIS E COMERCIAIS","M     ",17,32.1,{"$f":"ROUND(D571*E571,2)","v":545.70000000000005}]
["5.22.2.2","TUBO DE COBRE FLEXIVEL, D = 3/8 \", E = 0,79 MM, PARA AR-CONDICIONADO/ INSTALACOES GAS RESIDENCIAIS E COMERCIAIS","M     ",168,49.37,8294.16]
["5.22.2.3","TUBO DE COBRE FLEXIVEL, D = 1/2 \", E = 0,79 MM, PARA AR-CONDICIONADO/ INSTALACOES GAS RESIDENCIAIS E COMERCIAIS","M     ",46,66.98,3081.08]
["5.22.2.4","TUBO DE COBRE FLEXIVEL, D = 5/8 \", E = 0,79 MM, PARA AR-CONDICIONADO/ INSTALACOES GAS RESIDENCIAIS E COMERCIAIS","M     ",175,83.3,14577.5]
["5.22.2.5","TUBO EM COBRE FLEXÍVEL, DN (3/4\"x1,00mm), COM ISOLAMENTO, INSTALADO EM RAMAL DE ALIMENTAÇÃO DE AR CONDICIONADO COM CONDENSADORA CENTRAL FORNECIMENTO E INSTALAÇÃO","M",36,195.61,7041.96]
["5.22.2.6","TUBO EM COBRE FLEXÍVEL, DN (7/8\" x 1,60mm), COM ISOLAMENTO, INSTALADO EM RAMAL DE ALIMENTAÇÃO DE AR CONDICIONADO COM CONDENSADORA CENTRAL FORNECIMENTO E INSTALAÇÃO","M",36,267.18,9618.48]
["5.22.2.7","TUBO EM COBRE FLEXÍVEL, DN (1.1/8\" x 1,60mm), COM ISOLAMENTO, INSTALADO EM RAMAL DE ALIMENTAÇÃO DE AR CONDICIONADO COM CONDENSADORA CENTRAL FORNECIMENTO E INSTALAÇÃO","M",53,323.95,17169.349999999999]
["5.22.2.8","TUBO EM COBRE FLEXÍVEL, DN (1.3/8\" x 1,60mm), COM ISOLAMENTO, INSTALADO EM RAMAL DE ALIMENTAÇÃO DE AR CONDICIONADO COM CONDENSADORA CENTRAL FORNECIMENTO E INSTALAÇÃO","M",22,389.47,8568.34]
["5.22.2.9","TUBO EM COBRE FLEXÍVEL, DN (1.5/8\" x 1,60mm), COM ISOLAMENTO, INSTALADO EM RAMAL DE ALIMENTAÇÃO DE AR CONDICIONADO COM CONDENSADORA CENTRAL FORNECIMENTO E INSTALAÇÃO","M",21,468.98,9848.58]
["5.22.2.10","REVESTIMENTO DE TUBULAÇÃO FRIGORÍGENA EXTERNA COM FITA PVC BRANCA ","M",80,18.14,1451.2]
["5.22.2.11","FORNECIMENTO DE GÁS NITROGÊNIO","M3",70,71.94,5035.8]
["5.22.2.12","FORNECIMENTO DE GÁS REFRIGERANTE R-410A","KG",40,79.16,3166.4]
["5.22.2.13","FORNECIMENTO E INSTALAÇÃO DE VÁLVULAS DE BLOQUEIO ESFERA PARA CONEXÃO ENTRE REDE FRIGORÍGENA E EVAPORADORA LL: Ø1/4\" E LS: Ø1/2\" - REF. GBC \"FULL PORT\"","UN",3,353,1059]
["5.22.2.14","FORNECIMENTO E INSTALAÇÃO DE VÁLVULAS DE BLOQUEIO ESFERA PARA CONEXÃO ENTRE REDE FRIGORÍGENA E EVAPORADORA LL: Ø3/8\" E LS: Ø5/8\" - REF. GBC \"FULL PORT\"","UN",34,370.42,12594.28]
["5.22.2.15","INSTALAÇÃO DE DERIVADOR EM \"Y\" ISOLADO TERMICAMENTE PARA REDE FRIGORÍGENA DO SISTEMA VRF - REF. LG ARBLN01621","UN",3,2.86,8.58]
["5.22.2.16","FORNECIMENTO E INSTALAÇÃO DE DERIVADOR EM \"Y\" ISOLADO TERMICAMENTE PARA REDE FRIGORÍGENA DO SISTEMA VRF - REF. LG ARBLN03321","UN",16,1091.77,17468.32]
["5.22.2.17","FORNECIMENTO E INSTALAÇÃO DE DERIVADOR EM \"Y\" ISOLADO TERMICAMENTE PARA REDE FRIGORÍGENA DO SISTEMA VRF - REF. LG ARBLN07121","UN",10,1201.8900000000001,12018.9]
["5.22.2.18","INSTALAÇÃO DE DERIVADOR EM \"Y\" ISOLADO TERMICAMENTE PARA REDE FRIGORÍGENA DO SISTEMA VRF - REF. LG ARBLN14521","UN",5,2.86,14.3]
["5.22.2.19","INSTALAÇÃO DE DERIVADOR EM \"Y\" ISOLADO TERMICAMENTE PARA REDE FRIGORÍGENA DO SISTEMA VRF - REF. LG ARCNN21","UN",2,2.86,5.72]
["5.22.2.20","INSTALAÇÃO DE DERIVADOR EM \"Y\" ISOLADO TERMICAMENTE PARA REDE FRIGORÍGENA DO SISTEMA VRF - REF. LG ARCNN31","UN",1,2.86,2.86]
["5.22.2.21","FORNECIMENTO E INSTALAÇÃO DE GRELHA DE VENTILAÇÃO, 225x125mm - REF. TROX AT-AG","UN",1,213.64,213.64]
["5.22.2.22","FORNECIMENTO E INSTALAÇÃO DE GRELHA DE VENTILAÇÃO, 225x165mm - REF. TROX AT-AG","UN",1,225.63,225.63]
["5.22.2.23","FORNECIMENTO E INSTALAÇÃO DE GRELHA DE VENTILAÇÃO, 225x225mm - REF. TROX AT-AG","UN",23,247.9,5701.7]
["5.22.2.24","FORNECIMENTO E INSTALAÇÃO DE GRELHA DE VENTILAÇÃO, 325x225mm - REF. TROX AT-AG","UN",15,299.29000000000002,4489.3500000000004]
["5.22.2.25","FORNECIMENTO E INSTALAÇÃO DE VENEZIANA DE CAPTAÇÃO DE AR, 385x330mm - REF. TROX AWG","UN",15,426.04,6390.6]
["5.22.2.26","FORNECIMENTO E INSTALAÇÃO DE GRELHA DE EXAUSTÃO, 325x165mm - REF. TROX AR-AG","UN",6,271.88,1631.28]
["5.22.2.27","INSTALAÇÃO DE DUTO EM CHAPA DE AÇO GALVANIZADO - #26 (4,00 KG/M2), INCLUSIVE ELEMENTOS DE FIXAÇÃO E SUPORTES","M2",150,148.5,22275]
["5.22.2.28","FORNECIMENTO E INSTALAÇÃO DE DUTO EM CHAPA DE AÇO GALVANIZADO - #26 (4,00 KG/M2), INCLUSIVE ELEMENTOS DE FIXAÇÃO E SUPORTES","M2",45,275.33999999999997,12390.3]
["5.22.2.29","FORNECIMENTO E INSTALAÇÃO DE DUTO EM CHAPA PRETA - #16 (12,00 KG/M2), ISOLADO TERMICAMENTE, INCLUSIVE ELEMENTOS DE FIXAÇÃO E SUPORTES","M2",22,1279.98,{"$f":"ROUND(D599*E599,2)","v":28159.56}]
["5.22.2.30","FORNECIMENTO E INSTALAÇÃO DE DUTO FLEXÍVEL CIRCULAR, SEM ISOLAMENTO TÉRMICO, DIÂMETRO DE 04\" COM COLARINHO - REF.: MULTIVAC ALUDEC 60","M",2,92.8,185.6]
["5.22.2.31","FORNECIMENTO E INSTALAÇÃO DE DUTO FLEXÍVEL CIRCULAR, SEM ISOLAMENTO TÉRMICO, DIÂMETRO DE 05\" COM COLARINHO - REF.: MULTIVAC ALUDEC 60","M",10,101.98,1019.8]
["5.22.2.32","FORNECIMENTO E INSTALAÇÃO DE DUTO FLEXÍVEL CIRCULAR,  SEM ISOLAMENTO TÉRMICO, DIÂMETRO DE 06\" COM COLARINHO - REF.: MULTIVAC ALUDEC 60","M",12,112.51,1350.12]
["5.22.2.33","FORNECIMENTO E INSTALAÇÃO DE DUTO FLEXÍVEL CIRCULAR, SEM ISOLAMENTO TÉRMICO, DIÂMETRO DE 07\" COM COLARINHO - REF.: MULTIVAC ALUDEC 60","M",40,123.51,4940.3999999999996]
["5.22.2.34","FORNECIMENTO E INSTALAÇÃO DE DUTO FLEXÍVEL CIRCULAR,  SEM ISOLAMENTO TÉRMICO, DIÂMETRO DE 08\" COM COLARINHO - REF.: MULTIVAC ALUDEC 60","M",30,135.44999999999999,4063.5]
[]
["5.22.3","INSTALAÇÕES ELÉTRICAS",null,null,null,{"$f":"SUBTOTAL(9,F607:F610)","v":14338.960000000001}]
["5.22.3.1","ELETRODUTO DE AÇO GALVANIZADO, CLASSE LEVE, DN 20 MM (3/4\u0092\u0092), APARENTE, INSTALADO EM PAREDE - FORNECIMENTO E INSTALAÇÃO. AF_11/2016_P","M",150,28.04,{"$f":"ROUND(D607*E607,2)","v":4206}]
["5.22.3.2","FORNECIMENTO E INSTALAÇÃO DE CABO SHIELDADO 3x1,00mm² - 70°C-500V","M",350,12.69,4441.5]
["5.22.3.3","FORNECIMENTO E INSTALAÇÃO DE CABO PP FLEXÍVEL 3x1,5mm²","M",180,12.19,2194.1999999999998]
["5.22.3.4","VARIADOR DE VELOCIDADE PARA UNIDADE VENTILADORA, INCLUINDO SUPORTE E PLACA - FORNECIMENTO E INSTALAÇÃO","UN",13,269.02,3497.26]
[]
["5.22.4","EQUIPAMENTOS",null,null,null,{"$f":"SUBTOTAL(9,F613:F633)","v":263807.04000000004}]
["5.22.4.1","INSTALAÇÃO DE EQUIPAMENTO DO SISTEMA VRF, UNIDADE EVAPORADORA, CONFIGURAÇÃO DE PAREDE, CAPACIDADE DE 7.500 BTU/H, INCLUIDO CONTROLE REMOTO - REF. LG CRNU07GSJN4","UN",1,602.16,{"$f":"ROUND(D613*E613,2)","v":602.16}]
["5.22.4.2","INSTALAÇÃO DE EQUIPAMENTO DO SISTEMA VRF, UNIDADE EVAPORADORA, CONFIGURAÇÃO DE PAREDE, CAPACIDADE DE 12.300 BTU/H, INCLUIDO CONTROLE REMOTO - REF. LG CRNU12GSJN4","UN",1,614.44000000000005,614.44000000000005]
["5.22.4.3","INSTALAÇÃO DE EQUIPAMENTO DO SISTEMA VRF, UNIDADE EVAPORADORA, CONFIGURAÇÃO CASSETE 4 VIAS, CAPACIDADE DE 19.100 BTU/H, INCLUIDO PAINEL EXTERNO E CONTROLE REMOTO - REF. LG CRNU18GTQB4","UN",1,937.66,937.66]
["5.22.4.4","INSTALAÇÃO DE EQUIPAMENTO DO SISTEMA VRF, UNIDADE EVAPORADORA, CONFIGURAÇÃO CASSETE 4 VIAS, CAPACIDADE DE 28.000 BTU/H, INCLUIDO PAINEL EXTERNO E CONTROLE REMOTO - REF. LG CRNU28GTPA4","UN",6,1085.1300000000001,6510.78]
["5.22.4.5","FORNECIMENTO E INSTALAÇÃO DE EQUIPAMENTO DO SISTEMA VRF, UNIDADE EVAPORADORA, CONFIGURAÇÃO CASSETE 4 VIAS, CAPACIDADE DE 28.000 BTU/H, INCLUIDO PAINEL EXTERNO E CONTROLE REMOTO - REF. LG CRNU28GTPA4","UN",13,9413.0400000000009,122369.52]
["5.22.4.6","INSTALAÇÃO DE EQUIPAMENTO DO SISTEMA VRF, UNIDADE EVAPORADORA, CONFIGURAÇÃO CASSETE 4 VIAS, CAPACIDADE DE 42.000 BTU/H, INCLUIDO PAINEL EXTERNO E CONTROLE REMOTO - REF. LG CRNU42GTMA4","UN",6,1183.44,7100.64]
["5.22.4.7","INSTALAÇÃO DE EQUIPAMENTO DO SISTEMA VRF, UNIDADE EVAPORADORA, CONFIGURAÇÃO CASSETE 4 VIAS, CAPACIDADE DE 48.100 BTU/H, INCLUIDO PAINEL EXTERNO E CONTROLE REMOTO - REF. LG CRNU48GTMA4","UN",9,1183.44,10650.96]
["5.22.4.8","INSTALAÇÃO DE EQUIPAMENTO DO SISTEMA VRF, UNIDADE CONDENSADORA MODULAR, CONFIGURAÇÃO VERTICAL, CAPACIDADE DE 439.500 BTU/H, INCLUIDO CALÇO AMORTECEDOR - REF. LG CRUN460BTE5 - MÓDULOS CRUN260BTE5 E CRUN200BTE5","UN",1,7210.22,7210.22]
["5.22.4.9","FORNECIMENTO E INSTALAÇÃO DE EQUIPAMENTO DO SISTEMA VRF, UNIDADE CONDENSADORA MODULAR, CONFIGURAÇÃO VERTICAL, CAPACIDADE DE 592.300 BTU/H, INCLUIDO CALÇO AMORTECEDOR - REF. LG CRUN620BTE5 - MÓDULOS CRUN260BTE5 CRUN260BTE5 E CRUN100BTE5","UN",1,49571.95,49571.95]
["5.22.4.10","INSTALAÇÃO DE EQUIPAMENTO DO SISTEMA VRF, UNIDADE CONDENSADORA MODULAR, CONFIGURAÇÃO VERTICAL, CAPACIDADE DE 191.000 BTU/H, INCLUIDO CALÇO AMORTECEDOR - REF. LG CRUN200BTE5 - MÓDULO ÚNICO","UN",1,3313.25,3313.25]
["5.22.4.11","INSTALAÇÃO DE VENTILADOR TIPO \"IN LINE\", VAZÃO MÁXIMA DE 188 M3/H, PRESSÃO ESTÁTICA DE 28mmca  E FILTRO G4 - REF. SICFLUX ACI 100","UN",1,1381.35,{"$f":"ROUND(D623*E623,2)","v":1381.35}]
["5.22.4.12","INSTALAÇÃO DE VENTILADOR TIPO \"IN LINE\", VAZÃO MÁXIMA DE 268 M3/H, PRESSÃO ESTÁTICA DE 30mmca  E FILTRO G4 - REF. SICFLUX ACI 125","UN",1,1387.61,1387.61]
["5.22.4.13","INSTALAÇÃO DE VENTILADOR TIPO \"IN LINE\", VAZÃO MÁXIMA DE 905 M3/H, PRESSÃO ESTÁTICA DE 43mmca  E FILTRO G4 - REF. SICFLUX ACI 250","UN",5,1762.52,8812.6]
["5.22.4.14","INSTALAÇÃO DE VENTILADOR TIPO \"IN LINE\", VAZÃO MÁXIMA DE 1200 M3/H, PRESSÃO ESTÁTICA DE 55mmca  E FILTRO G4 - REF. SICFLUX ACI 315","UN",4,2124.83,8499.32]
["5.22.4.15","FORNECIMENTO E INSTALAÇÃO DE VENTILADOR TIPO \"IN LINE\", VAZÃO MÁXIMA DE 1200 M3/H, PRESSÃO ESTÁTICA DE 55mmca  E FILTRO G4 - REF. SICFLUX ACI 315","UN",2,4083.11,8166.22]
["5.22.4.16","INSTALAÇÃO DE VENTILADOR TIPO \"IN LINE\", VAZÃO MÁXIMA DE 390 M3/H, PRESSÃO ESTÁTICA DE 35mmca - REF. SICFLUX ACI 125","UN",1,700.65,700.65]
["5.22.4.17","INSTALAÇÃO DE VENTILADOR TIPO \"IN LINE\", VAZÃO MÁXIMA DE 865 M3/H, PRESSÃO ESTÁTICA DE 60mmca - REF. SICFLUX ACI 200","UN",1,700.65,700.65]
["5.22.4.18","FORNECIMENTO E INSTALAÇÃO DE VENTILADOR EXAUSTOR CENTRÍFUGO, VAZÃO DE 1.980 M3/H, PRESSÃO ESTÁTICA DE 15mmca - REF. TORIN BSC 241-152","UN",1,6782.37,6782.37]
["5.22.4.19","FORNECIMENTO E INSTALAÇÃO DE VENTILADOR EXAUSTOR CENTRÍFUGO, VAZÃO DE 2.750 M3/H, PRESSÃO ESTÁTICA DE 20mmca - REF. TORIN BSC 270-152","UN",1,8254.98,8254.98]
["5.22.4.20","FORNECIMENTO E INSTALAÇÃO DE COIFA EM AÇO INOX, MODELO CONVENCIONAL SEM FILTROS, MEDIDAS DE 1.000 x 600 x 500 mm,  VAZÃO DE 1.980 M3/H, PRESSÃO ESTÁTICA DE 10mmca - REF. MELTING CONV 1.000x600x500mm","UN",1,4278.7,4278.7]
["5.22.4.21","FORNECIMENTO E INSTALAÇÃO DE COIFA EM AÇO INOX, MODELO CONVENCIONAL SEM FILTROS, MEDIDAS DE 1.100 x 1.000 x 500 mm,  VAZÃO DE 2.750 M3/H, PRESSÃO ESTÁTICA DE 10mmca - REF. MELTING CONV 1.100x1.000x500mm","UN",1,5961.01,5961.01]
[]
["5.23","INFRAESTRUTURA PARA INSTALAÇÃO DE AUDIO E VÍDEO",null,null,null,{"$f":"SUBTOTAL(9,F636:F696)","v":117610.76999999999}]
["5.23.1","ACESSÓRIOS P/ELETRODUTO E USO GERAL",null,null,null,{"$f":"SUBTOTAL(9,F637:F659)","v":19018.569999999996}]
["5.23.1.1","FORNECIMENTO E INSTALAÇÃO DE ABRAÇADEIRA DE AÇO, TIPO D, 3/4\", COM CUNHA","UN",182,6.59,{"$f":"ROUND(D637*E637,2)","v":1199.3800000000001}]
["5.23.1.2","FORNECIMENTO E INSTALAÇÃO DE ABRAÇADEIRA DE AÇO, TIPO D, 1\", COM CUNHA","UN",80,6.75,540]
["5.23.1.3","FORNECIMENTO E INSTALAÇÃO DE BUCHA E ARRUELA ALUMÍNIO FUNDIDO PARA ELETRODUTO (ZAMAK) 3/4\"","UN",176,2.0299999999999998,357.28]
["5.23.1.4","FORNECIMENTO E INSTALAÇÃO DE BUCHA E ARRUELA ALUMÍNIO FUNDIDO PARA ELETRODUTO (ZAMAK) 1\"","UN",38,2.41,91.58]
["5.23.1.5","FORNECIMENTO E INSTALAÇÃO DE BOX RETO PARA ELETRODUTO 3/4\"","UN",10,5.68,56.8]
["5.23.1.6","FORNECIMENTO E INSTALAÇÃO DE BOX RETO PARA ELETRODUTO 1\"","UN",22,8.0399999999999991,176.88]
["5.23.1.7","FORNECIMENTO E INSTALAÇÃO DE CONECTOR RETO DE ALUMÍNIO P/ ELETRODUTO 3/4\"","UN",176,3.38,594.88]
["5.23.1.8","FORNECIMENTO E INSTALAÇÃO DE CONECTOR RETO DE ALUMÍNIO P/ ELETRODUTO 1\"","UN",26,4.93,128.18]
["5.23.1.9","CONDULETE DE ALUMÍNIO, TIPO X, PARA ELETRODUTO DE AÇO GALVANIZADO DN 20 MM (3/4''), APARENTE - FORNECIMENTO E INSTALAÇÃO. AF_11/2016_P","UN",68,38.119999999999997,2592.16]
["5.23.1.10","CONDULETE DE ALUMÍNIO, TIPO X, PARA ELETRODUTO DE AÇO GALVANIZADO DN 25 MM (1''), APARENTE - FORNECIMENTO E INSTALAÇÃO. AF_11/2016_P","UN",18,42.58,766.44]
["5.23.1.11","CAIXA RETANGULAR 4\" X 2\" PVC - FORNECIMENTO E INSTALAÇÃO. ","UN",25,8.9600000000000009,224]
["5.23.1.12","CAIXA RETANGULAR 4\" X 4\"  PVC  - FORNECIMENTO E INSTALAÇÃO. AF_12/2015","UN",5,12,60]
["5.23.1.13","CAIXA DE PASSAGEM 15X15X10CM (EMBUTIR), FORNECIMENTO E INSTALACAO. AF_11/2019","UN",3,44.78,134.34]
["5.23.1.14","FORNECIMENTO E INSTALAÇÃO DE MÓDULO CEGO EM PVC, 1 FUNÇÃO MODULAR - BRANCO","UN",5,8.69,43.45]
["5.23.1.15","FORNECIMENTO E INSTALAÇÃO DE PLACA CEGA PVC 4X2\"","UN",15,4.82,72.3]
["5.23.1.16","FORNECIMENTO E INSTALAÇÃO DE PLACA CEGA PVC 4X4\"","UN",5,8.23,41.15]
["5.23.1.17","FORNECIMENTO E INSTALAÇÃO DE ARAME AÇO GALVANIZADO 18 BWG, 1,24MM (0,009 KG/M)","M",111,0.77,85.47]
["5.23.1.18","FORNECIMENTO E INSTALAÇÃO DE ARRUELA LISA GALVANIZADA 1/4\"","UN",729,0.59,430.11]
["5.23.1.19","FORNECIMENTO E INSTALAÇÃO DE BUCHA / PARAFUSO S8","UN",444,4.4400000000000004,1971.36]
["5.23.1.20","FORNECIMENTO E INSTALAÇÃO DE CHUMBADOR PARABOLT AÇO 1/4\" X 3\"","UN",283,13.59,3845.97]
["5.23.1.21","FORNECIMENTO E INSTALAÇÃO DE PORCA SEXTAVADA GALVAN. 1/4\"","UN",729,0.42,306.18]
["5.23.1.22","FORNECIMENTO E INSTALAÇÃO DE VERGALHÃO GALVANIZADO ROSCA TOTAL 1/4\"","M",243,17.8,4325.3999999999996]
["5.23.1.23","SUPORTE MÃO FRANCESA EM AÇO, ABAS IGUAIS 30 CM, CAPACIDADE MINIMA 60 KG, BRANCO - FORNECIMENTO E INSTALAÇÃO. AF_01/2020","UN",22,44.33,975.26]
[null,""]
["5.23.2","CABOS",null,null,null,{"$f":"SUBTOTAL(9,F662:F671)","v":9665.73}]
["5.23.2.1","FORNECIMENTO E INSTALAÇÃO DE CABO POLARIZADO, PARA SONORIZAÇÃO 2X1,5MM² - BICOLOR","M",516,5.98,{"$f":"ROUND(D662*E662,2)","v":3085.68}]
["5.23.2.2","FORNECIMENTO E INSTALÇÃO DE CABO HDMI 4K ULTRA HD BLINDADO COM FILTRO 1,5M","UN",11,68.599999999999994,754.6]
["5.23.2.3","FORNECIMENTO E INSTALÇÃO DE CABO HDMI 4K ULTRA HD BLINDADO COM FILTRO 15M","UN",11,224,2464]
["5.23.2.4","FORNECIMENTO E INSTALAÇÃO DE CABO DE ÁUDIO BALANCEADO CONECTORES: P2 MACHO X P2 MACHO - 2 METROS","UN",10,12.21,122.1]
["5.23.2.5","FORNECIMENTO E INSTALAÇÃO DE MULTICABO 12 VIAS - (REF.: MARCA SANTO ANGELO OU SIMILAR)","M",30,63.38,1901.4]
["5.23.2.6","FORNECIMENTO E INSTALAÇÃO DE CABO BIPOLAR AUDIO BLINDADO BALANCEADO  - (REF.: X30 SANTO ANGELO OU SIMILAR)","M",110,6.83,751.3]
["5.23.2.7","FORNECIMENTO E INSTALAÇÃO CABO DE ÁUDIO BALANCEADO CONECTOR XLR X XLR - 3 METROS","UN",4,48.1,192.4]
["5.23.2.8","FORNECIMENTO E INSTALAÇÃO CABO DE ÁUDIO BALANCEADO CONECTOR XLR X RCA - 4 METROS","UN",1,65.25,65.25]
["5.23.2.9","FORNECIMENTO E INSTALAÇÃO CABO DE ÁUDIO BALANCEADO CONECTOR XLR X P10 - 3 METROS","UN",1,200.38,200.38]
["5.23.2.10","FORNECIMENTO E INSTALAÇÃO CABO DE ÁUDIO BALANCEADO CONECTOR RCA X P10 - 3 METROS","UN",2,64.31,128.62]
[null,""]
["5.23.3","DISPOSITIVO MULTIMIDIA",null,null,null,{"$f":"SUBTOTAL(9,F674:F681)","v":7747.2300000000005}]
["5.23.3.1","FORNECIMENTO E INSTALAÇÃO DE RACK METÁLICO 2U, COM TAMPA E CHAVE","UN",11,336.95,{"$f":"ROUND(D674*E674,2)","v":3706.45}]
["5.23.3.2","FORNECIMENTO E INSTALAÇÃO DE SUPORTE UNIVERSAL PARA PROJETOR - PROLONGADOR","UN",11,153.18,1684.98]
["5.23.3.3","FORNECIMENTO E INSTALAÇÃO DE CONECTOR KEYSTONE HDMI FÊMEA X FÊMEA, EM MÓDULO PVC BRANCO","UN",11,48.17,529.87]
["5.23.3.4","FORNECIMENTO E INSTALAÇÃO DE CAIXA MEDUSA 12 MÓDULOS PARA CONECTORES DE ÁUDIO, EM CAIXA METÁLICA COM PINTURA EPÓXI PRETO FOSCO - (REF.: BSMED-12 SANTO ANGELO OU SIMILAR)","UN",2,254,508]
["5.23.3.5","FORNECIMENTO E INSTALAÇÃO DE CONECTOR DE ÁUDIO MACHO XLR P/ CABO - (REF.: MARCA SANTO ANGELO OU SIMILAR)","UN",17,36.68,623.55999999999995]
["5.23.3.6","FORNECIMENTO E INSTALAÇÃO DE CONECTOR DE ÁUDIO MACHO P10 P/ CABO - (REF.: MARCA SANTO ANGELO OU SIMILAR)","UN",12,20.63,247.56]
["5.23.3.7","FORNECIMENTO E INSTALAÇÃO DE CONECTOR DE ÁUDIO FÊMEA XLR P/ PAINEL - (REF.: MARCA SANTO ANGELO OU SIMILAR)","UN",16,13.65,218.4]
["5.23.3.8","FORNECIMENTO E INSTALAÇÃO DE CONECTOR DE ÁUDIO FÊMEA JACK P-10 P/ PAINEL - (REF.: MARCA SANTO ANGELO OU SIMILAR)","UN",13,17.57,228.41]
[null,""]
["5.23.4","ELETRODUTOS",null,null,null,{"$f":"SUBTOTAL(9,F684:F685)","v":1834.8}]
["5.23.4.1","ELETRODUTO FLEXÍVEL CORRUGADO, PVC, DN 25 MM (3/4\") - FORNECIMENTO E INSTALAÇÃO. ","M",30,6.19,{"$f":"ROUND(D684*E684,2)","v":185.7}]
["5.23.4.2","ELETRODUTO RÍGIDO ROSCÁVEL, PVC, DN 32 MM (1\") - FORNECIMENTO E INSTALAÇÃO. AF_12/2015","M",138,11.95,{"$f":"ROUND(D685*E685,2)","v":1649.1}]
[null,""]
["5.23.5","EQUIPAMENTOS E ACESSÓRIOS",null,null,null,{"$f":"SUBTOTAL(9,F688:F696)","v":79344.439999999988}]
["5.23.5.1","FORNECIMENTO E INSTALAÇÃO DE MODULO AMPLIFICADOR COM POTÊNCIA DE 30 WRMS, COM ENTRADA DE MICROFONE E AUXILIAR COM CONTROLES DE VOLUMES INDEPENDENTES, CONTROLE DE GRAVE E AGUDO (REF.: SLIM 1000 OU SIMILAR)","UN",4,921.43,{"$f":"ROUND(D688*E688,2)","v":3685.72}]
["5.23.5.2","FORNECIMENTO E INSTALAÇÃO DE MODULO AMPLIFICADOR COM POTÊNCIA DE 200 WRMS, COM ENTRADA DE MICROFONE E AUXILIAR COM CONTROLES DE VOLUMES INDEPENDENTES, CONTROLE DE GRAVE E AGUDO (REF.: SLIM 3000 OU SIMILAR)","UN",6,1618.94,{"$f":"ROUND(D689*E689,2)","v":9713.64}]
["5.23.5.3","FORNECIMENTO E INSTALAÇÃO DE SONOFLETOR CIRCULAR 6\" DE EMBUTIR EM FORRO, COM TELA, COR BRANCA, SENSIBILIDADE MÍNIMA DE 89DB, POTÊNCIA DE 30W OU SUPERIOR, RESP. FREQUENCIA 50HZ A 20KHZ (JBL SELENIUM 6CO2R OU SIMILAR)","UN",72,409.59,{"$f":"ROUND(D690*E690,2)","v":29490.48}]
["5.23.5.4","FORNECIMENTO E INSTALAÇÃO DE MESA DE SOM 16 CANAIS, SENDO 12 CANAIS XLR, COM: MIXERS ANALÓGICOS DE PEQUENO FORMATO DE 16 ENTRADAS DE ALTO DESEMPENHO COM EFEITOS INTEGRADOS, PRÉ-AMPLIFICADORES DE MICROFONES ICONIC SOUNDCRAFT® GHOST COM DESEMPENHO DE RUÍDO ","UN",1,4636.17,{"$f":"ROUND(D691*E691,2)","v":4636.17}]
["5.23.5.5","FORNECIMENTO E INSTALAÇÃO DE MODULO AMPLIFICADOR COM POTÊNCIA DE 480 WRMS (4X120W DE 4OHMS), COM 3 CANAIS DE ENTRADAS, SENDO: CANAL 1(APP, BLUETOOTH, USB, SD CARD E RÁDIO FM, ENTRADA OPTICAL), CANAL 2 (MICROFONE P10 E XLR) E CANAL 3 (AUX 2, ENTRADA ESTÉRE","UN",1,4072.84,{"$f":"ROUND(D692*E692,2)","v":4072.84}]
["5.23.5.6","FORNECIMENTO E INSTALAÇÃO DE CAIXA DE SOM ATIVA SUBGRAVE (SUBWOOFER) DE 300W RMS 12\", COR PRETO, SOBREPOSTA NO PISO, INTERLIGADA AO AMPLIFICADOR DIRETAMENTE COM CABO DE ÁUDIO BLINDADO CONECTORES RCA STÉREO (REF.: FRAHM RD SW 12\" OU SIMILAR)","UN",1,2157.63,{"$f":"ROUND(D693*E693,2)","v":2157.63}]
["5.23.5.7","FORNECIMENTO E INSTALAÇÃO DE CAIXA DE SOM ATIVA TIPO LINE ARRAY, COM POTÊNCIA DE 350W RMS, COR BRANCA, COM ENTRADA CONECTOR XLR, COMPOSTA POR 4 ALTO-FALANTES DE 5\" E 4 TWEETER NEODÍMIO 1\", SISTEMA ANTI-CLIPPING ATIVO - MAIOR RENDIMENTO COM MENOS DISTORÇÃO","UN",4,5884.78,{"$f":"ROUND(D694*E694,2)","v":23539.119999999999}]
["5.23.5.8","FORNECIMENTO E INSTALAÇÃO DE APARELHO DE MICROFONE DUPLO SEM FIO MULTIFREQUÊNCIA (REF.: LS-916 LESON OU SIMILAR).","UN",1,991.11,{"$f":"ROUND(D695*E695,2)","v":991.11}]
["5.23.5.9","FORNECIMENTO E INSTALAÇÃO DE CAIXA DE SOM ATIVA TIPO MONITOR, DE 4\" COM POTÊNCIA DE 40W RMS, COR BRANCA, INSTALADA NA BANCADA DE SOBREPOR, COM ENTRADA CONECTOR RCA INTERLIGADA A MESA DE SOM (REF.: CSR-40AB CSR OU SIMILAR).","UN",1,1057.73,{"$f":"ROUND(D696*E696,2)","v":1057.73}]
[]
["5.24","INSTALAÇÕES HIDRAULICAS ",null,null,null,{"$f":"SUBTOTAL(9,F699:F699)","v":0}]
[]
["5.25","ÁGUAS PLUVIAIS DE COBERTURA",null,null,null,{"$f":"SUBTOTAL(9,F701:F714)","v":100972.15}]
["5.25.1","CALHA EM CHAPA DE AÇO GALVANIZADO NÚMERO 24, DESENVOLVIMENTO DE 50 CM, INCLUSO TRANSPORTE VERTICAL. AF_07/2019 - DAS AMPLIAÇÕES ","M",49.15,95.08,{"$f":"ROUND(D701*E701,2)","v":4673.18}]
["5.25.2","RUFO C/ PINGADEIRA  C/ CALHA - CHAPA EM AÇO GALVANIZADO 0,50MM, CORTE 80 CM PARA FECHAMENTO INTERNO E TOPO DE PLATIBANDA, incluso acessórios para fixação e vedação -  DAS AMPLIAÇÕES ","M",69.910000000000011,113.19,7913.11]
["5.25.3","JOELHO 90 GRAUS, PVC, SERIE R, ÁGUA PLUVIAL, DN 100 MM, JUNTA ELÁSTICA, FORNECIDO E INSTALADO EM RAMAL DE ENCAMINHAMENTO. AF_12/2014","UN",35,49.03,1716.05]
["5.25.4","TUBO PVC, SÉRIE R, ÁGUA PLUVIAL, DN 100 MM, FORNECIDO E INSTALADO EM RAMAL DE ENCAMINHAMENTO. AF_12/2014","M",188.19,71.709999999999994,13495.1]
["5.25.5","TUBO PVC, SÉRIE R, ÁGUA PLUVIAL, DN 150 MM, FORNECIDO E INSTALADO EM CONDUTORES VERTICAIS DE ÁGUAS PLUVIAIS. AF_12/2014","M",33,94.31,3112.23]
["5.25.6","TUBO PVC, SÉRIE R, ÁGUA PLUVIAL, DN 200 MM, FORNECIDO E INSTALADO EM CONDUTORES VERTICAIS DE ÁGUAS PLUVIAIS. AF_12/2014","M",15,157.87,{"$f":"ROUND(D706*E706,2)","v":2368.0500000000002}]
["5.25.7","IMPERMEABILIZAÇÃO DE SUPERFÍCIE COM EMULSÃO ASFÁLTICA, 2 DEMÃOS AF_06/2018 - DAS CALHAS DE CONCRETO EXISTENTES","M2",315,58.1,18301.5]
["5.25.8","POÇO DE VISITA EM ANEL DE CONCRETO,BALÃO DE 0,60 M (DI), PROFUNDIDADE ATÉ 1,20 M, INCLUSIVE TAMPÃO TD-600","UN",1,1731.56,{"$f":"ROUND(D708*E708,2)","v":1731.56}]
["5.25.9","TAMPA PARA CAIXA TIPO R1, EM FERRO FUNDIDO, DIMENSÕES INTERNAS: 0,40 X 0,60 M - FORNECIMENTO E INSTALAÇÃO. AF_12/2020","UN",1,455.18,455.18]
["5.25.10","POÇO DE VISITA EM ANEL DE CONCRETO,BALÃO DE 0,80 M (DI), PROFUNDIDADE DE 1,21 ATÉ 1,50 M, INCLUSIVE TAMPÃO TD-600","UND",2,2483.23,4966.46]
["5.25.11","TAMPA PARA CAIXA TIPO R1, EM FERRO FUNDIDO, DIMENSÕES INTERNAS: 0,40 X 0,60 M - FORNECIMENTO E INSTALAÇÃO. AF_12/2020","UN",2,455.18,910.36]
["5.25.12","TUBO DRENO, CORRUGADO, ESPIRALADO, FLEXIVEL, PERFURADO, EM POLIETILENO DE ALTA DENSIDADE (PEAD), DN 100 MM, (4\") PARA DRENAGEM ","M",90,36.19,{"$f":"ROUND(D712*E712,2)","v":3257.1}]
["5.25.13","CANALETA/CALHA DE BLOCO DE CONCRETO - 30CM - FORNECIMENTO E INSTALAÇÃO","M",53.09,37.409999999999997,1986.1]
["5.25.14","GRELHA FF 30X90CM, 135KG, P/ CX RALO COM ASSENTAMENTO DE ARGAMASSA CIMENTO/AREIA 1:4 - FORNECIMENTO E INSTALAÇÃO","UN",59,611.63,{"$f":"ROUND(D714*E714,2)","v":36086.17}]
[]
["5.26","INSTALAÇÕES SANITÁRIAS",null,null,null,{"$f":"SUBTOTAL(9,F717:F717)","v":0}]
[]
["5.27","LOUÇAS E METÁIS",null,null,null,{"$f":"SUBTOTAL(9,F719:F740)","v":51444.600000000013}]
["5.27.1","CABIDEIRO 20160 EVIDENCE CROMADO (MARCA DECA, DOCOL OU SIMILAR)- FORNECIMENTO E INSTALAÇÃO","UN",18,33.299999999999997,{"$f":"ROUND(D719*E719,2)","v":599.4}]
["5.27.2","CUBA DE EMBUTIR OVAL EM LOUÇA BRANCA, 35 X 50CM OU EQUIVALENTE - FORNECIMENTO E INSTALAÇÃO. AF_01/2020","UN",12,176.04,{"$f":"ROUND(D720*E720,2)","v":2112.48}]
["5.27.3","LAVATÓRIO MASTER DE CANTO COR BRANCO GELO, COD 76, (MARCA DECA OU SIMILAR), INCLUSO SIFÃO TIPO COPO, PARA LAVATÓRIO 1680, CROMADO, 1\" - 1.1/2\", VALVULA DE METAL CROMADO 1\", PARA LAVATÓRIO, SEM LADRÃO. - FORNECIMENTO E INSTALAÇÃO","UN",4,1564.49,{"$f":"ROUND(D721*E721,2)","v":6257.96}]
["5.27.4","VÁLVULA EM METAL CROMADO 1.1/2\u0094 X 1.1/2\u0094 PARA TANQUE OU LAVATÓRIO, COM OU SEM LADRÃO - FORNECIMENTO E INSTALAÇÃO. AF_01/2020","UN",16,34.36,549.76]
["5.27.5","ENGATE FLEXÍVEL EM PLÁSTICO BRANCO, 1/2\u0094 X 40CM - FORNECIMENTO E INSTALAÇÃO. AF_01/2020","UN",16,12.97,207.52]
["5.27.6","SIFÃO DO TIPO GARRAFA EM METAL CROMADO 1 X 1.1/2\u0094 - FORNECIMENTO E INSTALAÇÃO. AF_01/2020","UN",16,191.93,3070.88]
["5.27.7","TORNEIRA DE MESA PRESMATIC ECO CROMADA COD 1173, MARCA DECA, DOCOL OU SIMILAR, FORNECIMENTO E INSTALAÇÃO.","UN",16,215.45,3447.2]
["5.27.8","VASO SANITÁRIO INFANTIL LOUÇA BRANCA - FORNECIMENTO E INSTALACAO. AF_01/2020","UN",2,505.75,1011.5]
["5.27.9","VASO SANITARIO SIFONADO CONVENCIONAL COM LOUÇA BRANCA, INCLUSO CONJUNTO DE LIGAÇÃO PARA BACIA SANITÁRIA AJUSTÁVEL - FORNECIMENTO E INSTALAÇÃO. AF_10/2016","UN",12,269.99,3239.88]
["5.27.10","VASO SANITARIO SIFONADO CONVENCIONAL PARA PCD SEM FURO FRONTAL COM  LOUÇA BRANCA SEM ASSENTO -  FORNECIMENTO E INSTALAÇÃO. AF_01/2020","UN",4,1059.77,{"$f":"ROUND(D728*E728,2)","v":4239.08}]
["5.27.11","VÁLVULA DE DESCARGA METÁLICA, BASE 1 1/2 \", ACABAMENTO METALICO CROMADO REF. DOCOL OU SIMILAR- FORNECIMENTO E INSTALAÇÃO","UN",14,333.54,4669.5600000000004]
["5.27.12","VÁLVULA DE DESCARGA  1.1/2\" COM ACABAMENTO PARA VÁLVULA BENEFIT CROMADO (ALAVANCA PARA PCD)- DOCOL OU SIMILAR","UN",4,1030.6600000000001,{"$f":"ROUND(D730*E730,2)","v":4122.6400000000003}]
["5.27.13","ASSENTO SANITÁRIO CONVENCIONAL - FORNECIMENTO E INSTALACAO. AF_01/2020","UN",16,48.02,768.32]
["5.27.14","ASSENTO SANITÁRIO INFANTIL - FORNECIMENTO E INSTALACAO. AF_01/2020","UN",2,96.95,{"$f":"ROUND(D732*E732,2)","v":193.9}]
["5.27.15","DUCHA HIGIÊNICA CROMADO REF:  LINK DECA 1984.C.ACT.LNK.CRL, MARCA DECA, DOCOL OU SIMILAR, FORNECIMENTO E INSTALAÇÃO.","UN",12,325.5,3906]
["5.27.16","CHUVEIRO DE PAREDE CURVO COM DESVIADOR, CROMADO - LINHA DECA OU SIMILAR - FORNECIMENTO E INSTALAÇÃO","M",2,1178.03,2356.06]
["5.27.17","BANCO ARTICULADO PARA BANHO, AÇO INOX, 70X45CM, CONFORME NBR 9050","M",2,740.22,1480.44]
["5.27.18","BARRA DE APOIO INOX RETA 400mm PARA PORTA DOS BANHEIROS PCD E/OU ACESSÓRIO PARA BANHEIRO PNE  (NORMA 9050/2015). - DESCRIÇÃO DO MATERIAL: • AÇO INOX 304 POLIDO., • DIÂMETRO DE 1” ½ , • ESPESSURA DE 1,2 MILÍMETROS, • SUPORTE COM TRÊS PONTOS DE FIXAÇÃO, • CANOPLA DE ACABAMENTO COM Ø DE 85MM, • BUCHA NYLON S10, • PARAFUSO SEXTAVADO S10 - FORNECIMENTO E INSTALAÇÃO","UN",12,251.8,3021.6]
["5.27.19","BARRA DE APOIO RETA, EM ACO INOX POLIDO, COMPRIMENTO 60CM, FIXADA NA PAREDE - FORNECIMENTO E INSTALAÇÃO. AF_01/2020","UN",2,350.28,700.56]
["5.27.20","BARRA DE APOIO RETA, EM ACO INOX POLIDO, COMPRIMENTO 70 CM,  FIXADA NA PAREDE - FORNECIMENTO E INSTALAÇÃO. AF_01/2020","UN",6,377.71,2266.2600000000002]
["5.27.21","BARRA DE APOIO RETA, EM ACO INOX POLIDO, COMPRIMENTO 80 CM,  FIXADA NA PAREDE - FORNECIMENTO E INSTALAÇÃO. AF_01/2020","UN",4,395.95,1583.8]
["5.27.22","BARRA DE APOIO RETA, EM ACO INOX POLIDO, COMPRIMENTO 90 CM,  FIXADA NA PAREDE - FORNECIMENTO E INSTALAÇÃO. AF_01/2020","UN",4,409.95,1639.8]
[]
["5.28","SISTEMA DE TRATAMENTO DE ESGOTO",null,null,null,{"$f":"SUBTOTAL(9,F743)","v":0}]
[]
["5.29","LIMPEZA CONTÍNUA DA OBRA",null,null,null,{"$f":"SUBTOTAL(9,F745)","v":0}]
[]
["5.30","LIMPEZA FINAL PARA ENTREGA",null,null,null,{"$f":"SUBTOTAL(9,F747)","v":5916.42}]
["5.30.1","LIMPEZA FINAL PARA ENTREGA","M2",1939.81,3.05,{"$f":"ROUND(D747*E747,2)","v":5916.42}]
[]
["VALOR TOTAL",null,null,null,null,{"$f":"SUBTOTAL(9,F16:F748)","v":2690635.8599999975}]

{"sheet":"6_BLOCO E","index":7,"n_rows":344,"n_cols":6,"rows_kept":344,"cut":false,"hidden":true,"merged":[[10,0,10,5],[0,0,3,2],[0,3,1,5],[2,3,3,3],[2,4,3,4],[2,5,3,5],[4,0,4,5],[5,0,5,5],[6,0,6,5],[7,0,7,5],[8,0,8,5],[9,0,9,5]]}
["                                 PLANILHA ORÇAMENTARIA   ",null,null,"SPN-FF-003"]
[]
[null,null,null,"Folha:              1 de 1","Revisão:      \n02","Data: \n07/10/19"]
[]
["SESI - SERVIÇO SOCIAL DA INDUSTRIA - DR/MT"]
["OBRA: CONTRATAÇÃO DE EMPRESA ESPECIALIZADA PARA CONTINUIDADE DA EXECUÇÃO DA OBRA DE REFORMA E AMPLIAÇÃO DA UNIDADE DO SESI ESCOLA VÁRZEA GRANDE/MT."]
["UNIDADE OPERACIONAL: SESI ESCOLA VÁRZEA GRANDE"]
["ENDEREÇO: AV. DOM ORLANDO CHAVES, N.º 1.086, PONTE NOVA - CRISTO REI         CIDADE: VÁRZEA GRANDE/MT"]
["CONSTRUTORA:"]
["RESPONSÁVEL TÉCNICO:"]
["BASE SINAPI UTILIZADA: 06/2021"]
["ITEM","DESCRIÇÃO","UNID.","QUANT.","Valor UNIT. (R$)","Valor Total (R$)"]
[]
[6,"BLOCO E"]
[]
["6.0","DEMOLIÇÕES E RETIRADAS",null,null,null,{"$f":"SUBTOTAL(9,F17:F22)","v":22786.989999999998}]
["6.0.1","DEMOLIÇÃO",null,null,null,{"$f":"SUBTOTAL(9,F18:F22)","v":22786.989999999998}]
["6.0.1.1","DEMOLIÇÃO DE ALVENARIA DE BLOCO FURADO, DE FORMA MANUAL, SEM REAPROVEITAMENTO. AF_12/2017","M3",4.93,49.97,{"$f":"ROUND(D18*E18,2)","v":246.35}]
["6.0.1.2","REMOÇÃO DE PORTAS, DE FORMA MANUAL, SEM REAPROVEITAMENTO, ARMAZENAMENTO EM LOCAL INDICADO PELA FISCALIZAÇÃO","M2",5.04,8.14,41.03]
["6.0.1.3","DEMOLIÇÃO DE REVESTIMENTO CERÂMICO, DE FORMA MECANIZADA COM MARTELETE, SEM REAPROVEITAMENTO. AF_12/2017","M2",18.3,10.45,191.24]
["6.0.1.4","DEMOLIÇÃO DE CONTRAPISO, DE FORMA MECANIZADA COM MARTELETE, SEM REAPROVEITAMENTO. AF_12/2017","M3",119.7945,106.24,12726.97]
["6.0.1.5","BOTA FORA DE MATERIAL DESCARTADO, D.M.T. = 10 km - (CARGA, TRANSPORTE E DESCARGA MECÂNICA)","M3",163.31,58.67,9581.4]
[]
["6.1","INSTALAÇÕES DE CANTEIRO",null,null,null,{"$f":"SUBTOTAL(9,F25)","v":0}]
[]
["6.2","ADMINISTRAÇÃO",null,null,null,{"$f":"SUBTOTAL(9,F27)","v":0}]
[]
["6.3","TERRAPLENAGEM",null,null,null,{"$f":"SUBTOTAL(9,F29)","v":0}]
[]
["6.4","FUNDAÇÃO",null,null,null,{"$f":"SUBTOTAL(9,F31)","v":0}]
[]
["6.5","IMPERMEABILIZAÇÃO",null,null,null,{"$f":"SUBTOTAL(9,F33:F33)","v":0}]
[]
["6.6","ESTRUTURAS DE CONCRETO ARMADO",null,null,null,{"$f":"SUBTOTAL(9,F35:F35)","v":0}]
[]
["6.7","ALVENARIAS E PAINÉIS",null,null,null,{"$f":"SUBTOTAL(9,F37:F40)","v":31087.39}]
["6.7.1","ALVENARIA DE VEDAÇÃO DE BLOCOS CERÂMICOS FURADOS NA HORIZONTAL DE 9X19X19CM (ESPESSURA 9CM) DE PAREDES COM ÁREA LÍQUIDA MAIOR OU IGUAL A 6M² COM VÃOS E ARGAMASSA DE ASSENTAMENTO COM PREPARO EM BETONEIRA. AF_06/2014","M2",259.59999999999997,89.93,{"$f":"ROUND(D37*E37,2)","v":23345.83}]
["6.7.2","VERGA MOLDADA IN LOCO EM CONCRETO PARA JANELAS COM MAIS DE 1,5 M DE VÃO. AF_03/2016","M",37.799999999999997,91.19,3446.98]
["6.7.3","CONTRAVERGA MOLDADA IN LOCO EM CONCRETO PARA VÃOS DE MAIS DE 1,5 M DE COMPRIMENTO. AF_03/2016","M",37.799999999999997,82.78,3129.08]
["6.7.4","VERGA MOLDADA IN LOCO EM CONCRETO PARA PORTAS COM MAIS DE 1,5 M DE VÃO. AF_03/2016","M",12.600000000000001,92.5,1165.5]
[]
["6.8","ESTRUTURA MTÁLICA - JÁ EXECUTADO",null,null,null,{"$f":"SUBTOTAL(9,F43)","v":0}]
[]
["6.9","COBERTURA",null,null,null,{"$f":"SUBTOTAL(9,F45:F46)","v":74093.97}]
["6.9.1","CUMEEIRA METÁLICA AÇO GALVALUME TRAPEZOIDAL 40 40X60CM - FORNECIMENTO E INSTALAÇÃO","M",68.900000000000006,84.19,{"$f":"ROUND(D45*E45,2)","v":5800.69}]
["6.9.2","TELHAMENTO COM TELHA DE AÇO/ALUMÍNIO E = 0,5 MM, COM ATÉ 2 ÁGUAS, INCLUSO IÇAMENTO. AF_07/2019","M2",648.43600000000004,105.32,68293.279999999999]
[]
["6.10","ESQUADRIAS",null,null,null,{"$f":"SUBTOTAL(9,F49:F52)","v":24009.489999999998}]
["6.10.1","P4 - PORTA EM ALUMÍNIO DE ABRIR TIPO VENEZIANA COM GUARNIÇÃO, FIXAÇÃO COM PARAFUSOS - FORNECIMENTO E INSTALAÇÃO","M2",2.52,679.02,{"$f":"ROUND(D49*E49,2)","v":1711.13}]
["6.10.2","P9 - PORTA VENEZIANA DE ABRIR UMA FOLHA EM ALUMÍNIO ANODIZADO NATURAL FOSCO, DIM. 0,90 X 2,10m, INCLUSIVE FERRAGENS DE INSTALAÇÃO PARA PERFEITO USO E FUNCIONAMENTO","UN",4,1283.3399999999999,5133.3599999999997]
["6.10.3","J1 - JANELA MAXIM-AR COM ESTRUTURA DE ALUMÍNIO ANODIZADO NATURAL E VIDRO TEMPERADO FUMÊ 6 mm - DIM. 1,00X0,60M, COMPLETA,  INCLUSIVE FERRAGENS, FECHADURA, PUXADORES E  VEDAÇÕES - BANDEIRAS CONFORME PROJETO","UN",17,668.64,11366.88]
["6.10.4","J2 - JANELA MAXIM-AR COM ESTRUTURA DE ALUMÍNIO ANODIZADO NATURAL E VIDRO TEMPERADO INCOLOR 6 mm - DIM. 2,00X1,50M, COMPLETA,  INCLUSIVE FERRAGENS, FECHADURA, PUXADORES E  VEDAÇÕES - BANDEIRAS CONFORME PROJETO","UN",2,2899.06,5798.12]
[]
["6.11","PISOS",null,null,null,{"$f":"SUBTOTAL(9,F55:F60)","v":55193.63}]
["6.11.1","CONTRAPISO DE CONCRETO, ESPESSURA 7CM, PREPARO MECANICO ","M2",205.46000000000004,42.03,{"$f":"ROUND(D55*E55,2)","v":8635.48}]
["6.11.2","EXECUÇÃO DE PISO DE CONCRETO COM CONCRETO MOLDADO IN LOCO, USINADO, ACABAMENTO CONVENCIONAL, NÃO ARMADO - ESPESSURA DE 7CM","M3",41.52,749.98,31139.17]
["6.11.3","ARMAÇÃO PARA EXECUÇÃO DE RADIER, COM USO DE TELA Q-92. AF_09/2017 - CONSIDERADO USO DE TELAS NO CONTRAPISO, 1,48KG/M².","KG",61.449600000000004,34.200000000000003,2101.58]
["6.11.4","PISO EM GRANILITE, MARMORITE OU GRANITINA EM AMBIENTES INTERNOS. AF_09/2020","M2",205.46000000000004,46.11,9473.76]
["6.11.5","RODAPÉ EM MARMORITE, ALTURA 10CM. AF_09/2020","M",180.03,21.35,3843.64]
[]
["6.12","REVESTIMENTOS",null,null,null,{"$f":"SUBTOTAL(9,F62:F64)","v":33979.07}]
["6.12.1","CHAPISCO APLICADO EM ALVENARIAS E ESTRUTURAS DE CONCRETO INTERNAS, COM ROLO PARA TEXTURA ACRÍLICA.  ARGAMASSA TRAÇO 1:4 E EMULSÃO POLIMÉRICA (ADESIVO) COM PREPARO EM BETONEIRA 400L. AF_06/2014","M2",497.39999999999992,8.59,{"$f":"ROUND(D62*E62,2)","v":4272.67}]
["6.12.2","EMBOÇO OU MASSA ÚNICA EM ARGAMASSA TRAÇO 1:2:8, PREPARO MECÂNICO COM BETONEIRA 400 L, APLICADA MANUALMENTE EM PANOS DE FACHADA COM PRESENÇA DE VÃOS, ESPESSURA DE 25 MM. AF_06/2014","M2",497.39999999999992,55.05,27381.87]
["6.12.3","REVESTIMENTO CERAMICO PORTOBELLO GLACIE WHITE 30X60CM, INCLUSO E REJUNTE - FORNECIMENTO E INSTALAÇÃO (AZULEJO FORNECIDO PELO SESI)","M2",27.48,84.59,2324.5300000000002]
[]
["6.13","GRANITO",null,null,null,{"$f":"SUBTOTAL(9,F67:F67)","v":3785.94}]
["6.13.1","PEITORIL LINEAR EM GRANITO OU MÁRMORE, L = 20CM, COMPRIMENTO DE ATÉ 2M, ASSENTADO COM ARGAMASSA 1:6 COM ADITIVO. AF_11/2020","M",28.500000000000004,132.84,{"$f":"ROUND(D67*E67,2)","v":3785.94}]
[]
["6.14","FORRO",null,null,null,{"$f":"SUBTOTAL(9,F70:F70)","v":37792.699999999997}]
["6.14.1","FORRO DE PVC, LISO, PARA AMBIENTES COMERCIAIS, INCLUSIVE ESTRUTURA DE FIXAÇÃO. AF_05/2017_P","M2",415.34999999999997,90.99,{"$f":"ROUND(D70*E70,2)","v":37792.699999999997}]
[]
["6.15","PINTURA",null,null,null,{"$f":"SUBTOTAL(9,F73:F77)","v":47153.13}]
["6.15.1","APLICAÇÃO DE FUNDO SELADOR ACRÍLICO EM PAREDES, UMA DEMÃO. AF_06/2014","M2",638.1400000000001,2.06,{"$f":"ROUND(D73*E73,2)","v":1314.57}]
["6.15.2","APLICAÇÃO E LIXAMENTO DE MASSA LÁTEX EM PAREDES, DUAS DEMÃOS. AF_06/2014","M2",638.1400000000001,14.96,9546.57]
["6.15.3","APLICAÇÃO MANUAL DE PINTURA COM TINTA LÁTEX ACRÍLICA EM PAREDES, DUAS DEMÃOS. AF_06/2014","M2",638.1400000000001,15,{"$f":"ROUND(D75*E75,2)","v":9572.1}]
["6.15.4","TEXTURA ACRÍLICA, APLICAÇÃO MANUAL EM PAREDE, UMA DEMÃO. AF_09/2016","M2",850.41,15.6,13266.4]
["6.15.5","APLICAÇÃO MANUAL DE TINTA LÁTEX ACRÍLICA EM PAREDE EXTERNAS, DUAS DEMÃOS.","M2",850.41,15.82,13453.49]
[]
["6.16","CALÇAMENTO, PÁTIOS E PASSARELAS",null,null,null,{"$f":"SUBTOTAL(9,F80)","v":0}]
[]
["6.17","SERVIÇOS COMPLEMENTARES",null,null,null,{"$f":"SUBTOTAL(9,F82)","v":0}]
[]
["6.18","INSTALAÇÕES DE SPDA",null,null,null,{"$f":"SUBTOTAL(9,F84)","v":0}]
[]
["6.19","INSTALAÇÃO DE COMBATE A INCÊNDIO",null,null,null,{"$f":"SUBTOTAL(9,F86)","v":0}]
[]
["6.20","INSTALAÇÕES ELÉTRICA",null,null,null,{"$f":"SUBTOTAL(9,F88:F211)","v":67021.219999999987}]
["6.20.1","INSTALAÇÕES ELÉTRICA BAIXA TENSÃO E AR CONDICONADO",null,null,null,{"$f":"SUBTOTAL(9,F89:F148)","v":59230.07}]
["6.20.1.1","ACESSÓRIOS P/ELETRODUTO E USO GERAL",null,null,null,{"$f":"SUBTOTAL(9,F90:F104)","v":7571.72}]
["6.20.1.1.1","FORNECIMENTO E INSTALAÇÃO DE ABRAÇADEIRA DE AÇO, TIPO D, 3/4\", COM CUNHA","UN",80,6.59,{"$f":"ROUND(D90*E90,2)","v":527.20000000000005}]
["6.20.1.1.2","FORNECIMENTO E INSTALAÇÃO DE BUCHA E ARRUELA ALUMÍNIO FUNDIDO PARA ELETRODUTO (ZAMAK) 3/4\"","UN",41,2.0299999999999998,83.23]
["6.20.1.1.3","FORNECIMENTO E INSTALAÇÃO DE BOX RETO PARA ELETRODUTO 3/4\"","UN",41,5.68,232.88]
["6.20.1.1.4","FORNECIMENTO E INSTALAÇÃO DE PRENSA CABO 1/2\"","UN",91,30.33,2760.03]
["6.20.1.1.5","CAIXA RETANGULAR 4\" X 2\" PVC - FORNECIMENTO E INSTALAÇÃO. ","UN",32,8.9600000000000009,286.72000000000003]
["6.20.1.1.6","FORNECIMENTO E INSTALAÇÃO DE PLACA CEGA PVC 4X2\"","UN",2,4.82,9.64]
["6.20.1.1.7","FORNECIMENTO E INSTALAÇÃO DE SAÍDA LATERAL PERFILADO P/ ELETRODUTO 3/4\"","UN",21,18.510000000000002,388.71]
["6.20.1.1.8","FORNECIMENTO E INSTALAÇÃO DE ARAME AÇO GALVANIZADO 18 BWG, 1,24MM (0,009 KG/M)","M",90,0.77,69.3]
["6.20.1.1.9","FORNECIMENTO E INSTALAÇÃO DE ARRUELA LISA GALVANIZADA 1/4\"","UN",232,0.59,136.88]
["6.20.1.1.10","FORNECIMENTO E INSTALAÇÃO DE BUCHA / PARAFUSO S8","UN",122,4.4400000000000004,541.67999999999995]
["6.20.1.1.11","FORNECIMENTO E INSTALAÇÃO DE BUCHA / PARAFUSO S10","UN",12,4.75,57]
["6.20.1.1.12","FORNECIMENTO E INSTALAÇÃO DE CHUMBADOR PARABOLT AÇO 1/4\" X 3\"","UN",95,13.59,1291.05]
["6.20.1.1.13","FORNECIMENTO E INSTALAÇÃO DE PARAFUSO GALVAN. CABEÇA LOSANGULAR 1/4\"X1\" - AUTO TRAVANTE PERFILADO","UN",42,6.88,288.95999999999998]
["6.20.1.1.14","FORNECIMENTO E INSTALAÇÃO DE PORCA SEXTAVADA GALVAN. 1/4\"","UN",232,0.42,97.44]
["6.20.1.1.15","FORNECIMENTO E INSTALAÇÃO DE VERGALHÃO GALVANIZADO ROSCA TOTAL 1/4\"","M",45,17.8,801]
[null,""]
["6.20.1.2","CABOS",null,null,null,{"$f":"SUBTOTAL(9,F107:F109)","v":10481.699999999999}]
["6.20.1.2.1","FORNECIMENTO E INSTALAÇÃO DE CABO DE COBRE FLEXÍVEL ISOL. TERMOPLASTICO ATOX 750V - 2,5 MM² (TP SINTENAX PIRELLI OU SIMILAR)","M",1600,4.83,{"$f":"ROUND(D107*E107,2)","v":7728}]
["6.20.1.2.2","FORNECIMENTO E INSTALAÇÃO DE CABO DE COBRE FLEXÍVEL ISOL. TERMOPLASTICO ATOX 750V - 4 MM² (TP SINTENAX PIRELLI OU SIMILAR)","M",190,7.06,1341.4]
["6.20.1.2.3","FORNECIMENTO E INSTALAÇÃO DE CABO DE COBRE PP 3X2,5MM² - ISOL. TERMOPLASTICO ATOX 750V","M",290,4.87,1412.3]
[null,""]
["6.20.1.3","DISPOSITIVO ELÉTRICO EMBUTIDO",null,null,null,{"$f":"SUBTOTAL(9,F112:F115)","v":1069.5}]
["6.20.1.3.1","INTERRUPTOR SIMPLES (1 MÓDULO), 10A/250V, INCLUINDO SUPORTE E PLACA - FORNECIMENTO E INSTALAÇÃO. AF_12/2015","UN",3,24.35,{"$f":"ROUND(D112*E112,2)","v":73.05}]
["6.20.1.3.2","INTERRUPTOR SIMPLES (2 MÓDULOS), 10A/250V, INCLUINDO SUPORTE E PLACA - FORNECIMENTO E INSTALAÇÃO. AF_12/2015","UN",7,38.520000000000003,269.64]
["6.20.1.3.3","TOMADA DE EMBUTIR (1 MÓDULO), 2P+T 10 A, INCLUINDO SUPORTE E PLACA - FORNECIMENTO E INSTALAÇÃO. AF_12/2015","UN",1,25.73,25.73]
["6.20.1.3.4","TOMADA DE EMBUTIR (2 MÓDULOS), 2P+T 10 A, INCLUINDO SUPORTE E PLACA - FORNECIMENTO E INSTALAÇÃO. AF_12/2015","UN",17,41.24,701.08]
[null,""]
["6.20.1.4","DISPOSITIVO DE PROTEÇÃO",null,null,null,{"$f":"SUBTOTAL(9,F118:F122)","v":1333.24}]
["6.20.1.4.1","DISJUNTOR MONOPOLAR TIPO DIN, CORRENTE NOMINAL DE 16A - FORNECIMENTO E INSTALAÇÃO. AF_10/2020","UN",9,13.72,{"$f":"ROUND(D118*E118,2)","v":123.48}]
["6.20.1.4.2","DISJUNTOR BIPOLAR TIPO DIN, CORRENTE NOMINAL DE 16A - FORNECIMENTO E INSTALAÇÃO. AF_10/2020","UN",1,67.28,67.28]
["6.20.1.4.3","DISJUNTOR BIPOLAR TIPO DIN, CORRENTE NOMINAL DE 25A - FORNECIMENTO E INSTALAÇÃO. AF_10/2020","UN",2,69.510000000000005,139.02000000000001]
["6.20.1.4.4","FORNECIMENTO E INSTALAÇÃO DE DISJUNTOR TRIPOLAR TERMOMAGNÉTICO EM CAIXA MOLDADA - 150A  (REF.: MARCA SIEMENS, WEG OU SIMILAR)","UN",1,490.5,490.5]
["6.20.1.4.5","FORNECIMENTO E INSTALAÇÃO DE DISPOSITIVO DPS, 1 POLO, 175 V, 45 KA","UN",4,128.24,512.96]
[null,""]
["6.20.1.5","ELETROCALHAS / PERFILADOS",null,null,null,{"$f":"SUBTOTAL(9,F125:F129)","v":5741.5}]
["6.20.1.5.1","FORNECIMENTO E INSTALAÇÃO DE EMENDA INTERNA TIPO \"I\" P/ PERFILADO METÁLICO 38X38MM - CHAPA 18","UN",19,20.399999999999999,{"$f":"ROUND(D125*E125,2)","v":387.6}]
["6.20.1.5.2","FORNECIMENTO E INSTALAÇÃO DE EMENDA INTERNA TIPO \"L\" P/ PERFILADO METÁLICO 38X38MM  - CHAPA 18","UN",6,22.84,137.04]
["6.20.1.5.3","FORNECIMENTO E INSTALAÇÃO DE EMENDA INTERNA TIPO \"T\" P/ PERFILADO METÁLICO 38X38MM  - CHAPA 18","UN",5,37.17,185.85]
["6.20.1.5.4","FORNECIMENTO E INSTALAÇÃO DE PERFILADO PERFURADO METÁLICO 38X38MM, COM TAMPA - CHAPA 18","M",114,30.59,3487.26]
["6.20.1.5.5","FORNECIMENTO E INSTALAÇÃO DE SUPORTE CURTO P/ PERFILADO METÁLICO 38X38MM","UN",95,16.25,1543.75]
[null,""]
["6.20.1.6","ELETRODUTOS",null,null,null,{"$f":"SUBTOTAL(9,F132:F132)","v":990.4}]
["6.20.1.6.1","ELETRODUTO FLEXÍVEL CORRUGADO, PVC, DN 25 MM (3/4\") - FORNECIMENTO E INSTALAÇÃO. ","M",160,6.19,{"$f":"ROUND(D132*E132,2)","v":990.4}]
[null,""]
["6.20.1.7","LUMINÁRIAS E ACESSÓRIOS",null,null,null,{"$f":"SUBTOTAL(9,F135:F136)","v":29408.260000000002}]
["6.20.1.7.1","FORNECIMENTO E INSTALAÇÃO DE LUMINÁRIA QUADRADA ALETAS REFLEXIVAS DE EMBUTIR, MODULAR 60X60CM, COM 4 LÂMPADAS TUBULARES LED T8 9W, TEMPERATURA DE COR 6.000K, TOTAL DE FLUXO LUMINOSO ENTRE 3.200 A 4.000 LUMENS, COM CORPO EM CHAPA METÁLICA PINTADA ELETROSTA","UN",52,465.33,{"$f":"ROUND(D135*E135,2)","v":24197.16}]
["6.20.1.7.2","FORNECIMENTO E INSTALAÇÃO DE LUMINÁRIA QUADRADA ALETAS REFLEXIVAS DE EMBUTIR, MODULAR 60X60CM, COM 4 LÂMPADAS TUBULARES LED T8 9W, TEMPERATURA DE COR 6.000K, TOTAL DE FLUXO LUMINOSO ENTRE 3.200 A 4.000 LUMENS, COM CORPO EM CHAPA METÁLICA PINTADA ELETROSTATICAMENTE, INCLUSIVE SOQUETES T8 E ACESSÓRIOS DE FIXAÇÃO (EXCLUSIVE LUMINÁRIA, FORNECIDA PELO SESI MT)","UN",41,127.1,{"$f":"ROUND(D136*E136,2)","v":5211.1000000000004}]
[null,""]
["6.20.1.8","QUADRO DE DISTRIBUIÇÃO",null,null,null,{"$f":"SUBTOTAL(9,F139:F139)","v":2187.25}]
["6.20.1.8.1","FORNECIMENTO E INSTALAÇÃO DE QUADRO DE DISTRIBUIÇÃO DE SOBREPOR, EM CHAPA PINTADA, COM BARRAMENTO TRIFÁSICO DE 150A, CAPACIDADE PARA: 44 DISJUNTORES UNIPOLARES TIPO DIN, INCLUSIVE BARRAMENTO NEUTRO E TERRA, COMPLETO","UN",1,2187.25,{"$f":"ROUND(D139*E139,2)","v":2187.25}]
[null,""]
["6.20.1.9","TERMINAIS",null,null,null,{"$f":"SUBTOTAL(9,F142:F148)","v":446.49999999999994}]
["6.20.1.9.1","FORNECIMENTO E INSTALAÇÃO DE TERMINAL DE COMPRESSÃO 1,5 - 2,5MM²","UN",40,4.49,{"$f":"ROUND(D142*E142,2)","v":179.6}]
["6.20.1.9.2","FORNECIMENTO E INSTALAÇÃO DE TERMINAL DE COMPRESSÃO 4 - 6MM²","UN",14,7.88,110.32]
["6.20.1.9.3","FORNECIMENTO E INSTALAÇÃO DE TERMINAL DE COMPRESSÃO 35MM²","UN",2,9.59,19.18]
["6.20.1.9.4","FORNECIMENTO E INSTALAÇÃO DE TERMINAL DE COMPRESSÃO 70MM²","UN",5,13.02,65.099999999999994]
["6.20.1.9.5","FORNECIMENTO E INSTALAÇÃO DE ABRAÇADEIRA NYLON 3,5X300MM","UN",50,0.33,16.5]
["6.20.1.9.6","FORNECIMENTO E INSTALAÇÃO DE FITA ISOLANTE DE BORRACHA AUTO-FUSÃO","UN",1,2.04,2.04]
["6.20.1.9.7","FORNECIMENTO E INSTALAÇÃO DE FITA ISOLANTE 19MMX20M","UN",3,17.920000000000002,53.76]
[null,""]
["6.20.2","ELÉTRICA ILUMINAÇÃO EXTERNA - BLOCO E",null,null,null,{"$f":"SUBTOTAL(9,F151:F183)","v":5523.51}]
["6.20.2.1","ACESSÓRIOS P/ELETRODUTO E USO GERAL",null,null,null,{"$f":"SUBTOTAL(9,F152:F160)","v":327.46999999999997}]
["6.20.2.1.1","FORNECIMENTO E INSTALAÇÃO DE ABRAÇADEIRA DE AÇO, TIPO D, 3/4\", COM CUNHA","UN",3,6.59,{"$f":"ROUND(D152*E152,2)","v":19.77}]
["6.20.2.1.2","FORNECIMENTO E INSTALAÇÃO DE BUCHA E ARRUELA ALUMÍNIO FUNDIDO PARA ELETRODUTO (ZAMAK) 3/4\"","UN",1,2.0299999999999998,2.0299999999999998]
["6.20.2.1.3","FORNECIMENTO E INSTALAÇÃO DE BOX RETO PARA ELETRODUTO 3/4\"","UN",1,5.68,5.68]
["6.20.2.1.4","FORNECIMENTO E INSTALAÇÃO DE PRENSA CABO 1/2\"","UN",6,30.33,181.98]
["6.20.2.1.5","CAIXA RETANGULAR 4\" X 2\" PVC - FORNECIMENTO E INSTALAÇÃO. ","UN",2,8.9600000000000009,17.920000000000002]
["6.20.2.1.6","FORNECIMENTO E INSTALAÇÃO DE ARRUELA LISA GALVANIZADA 1/4\"","UN",1,0.59,0.59]
["6.20.2.1.7","FORNECIMENTO E INSTALAÇÃO DE BUCHA / PARAFUSO S8","UN",20,4.4400000000000004,88.8]
["6.20.2.1.8","FORNECIMENTO E INSTALAÇÃO DE PARAFUSO GALVAN. CABEÇA LENTILHA 1/4X5/8\"","UN",2,4.93,9.86]
["6.20.2.1.9","FORNECIMENTO E INSTALAÇÃO DE PORCA SEXTAVADA GALVAN. 1/4\"","UN",2,0.42,0.84]
[null,""]
["6.20.2.2","CABOS",null,null,null,{"$f":"SUBTOTAL(9,F163:F164)","v":3812.9}]
["6.20.2.2.1","FORNECIMENTO E INSTALAÇÃO DE CABO DE COBRE FLEXÍVEL ISOL. TERMOPLASTICO ATOX 750V - 2,5 MM² (TP SINTENAX PIRELLI OU SIMILAR)","M",450,4.83,{"$f":"ROUND(D163*E163,2)","v":2173.5}]
["6.20.2.2.2","FORNECIMENTO E INSTALAÇÃO DE CABO DE COBRE PP 4 X 2,5 MM²","M",70,23.42,1639.4]
[null,""]
["6.20.2.3","DISPOSITIVO ELÉTRICO EMBUTIDO",null,null,null,{"$f":"SUBTOTAL(9,F167)","v":77.040000000000006}]
["6.20.2.3.1","INTERRUPTOR SIMPLES (2 MÓDULOS), 10A/250V, INCLUINDO SUPORTE E PLACA - FORNECIMENTO E INSTALAÇÃO. AF_12/2015","UN",2,38.520000000000003,{"$f":"ROUND(D167*E167,2)","v":77.040000000000006}]
[null,""]
["6.20.2.4","DISPOSITIVO ELÉTRICO SOBREPOR",null,null,null,{"$f":"SUBTOTAL(9,F170)","v":626.34}]
["6.20.2.4.1","SENSOR DE PRESENÇA PARA ILUMINAÇÃO, 100W, 127V, COM ÂNGULO DE DETECÇÃO DE 180º, FUNÇÃO FOTOCÉLULA AJUSTÁVEL, FUNÇÃO TEMPORIZADOR AJUSTÁVEL, DISTÂNCIA DE DETECÇÃO 12 METROS, SOBREPOR - FORNECIMENTO E INSTALAÇÃO. ","UN",6,104.39,{"$f":"ROUND(D170*E170,2)","v":626.34}]
[null,""]
["6.20.2.5","DISPOSITIVO DE PROTEÇÃO",null,null,null,{"$f":"SUBTOTAL(9,F173)","v":13.72}]
["6.20.2.5.1","DISJUNTOR MONOPOLAR TIPO DIN, CORRENTE NOMINAL DE 16A - FORNECIMENTO E INSTALAÇÃO. AF_10/2020","UN",1,13.72,{"$f":"ROUND(D173*E173,2)","v":13.72}]
[null,""]
["6.20.2.6","ELETRODUTOS",null,null,null,{"$f":"SUBTOTAL(9,F176)","v":30.95}]
["6.20.2.6.1","ELETRODUTO FLEXÍVEL CORRUGADO, PVC, DN 25 MM (3/4\") - FORNECIMENTO E INSTALAÇÃO. ","M",5,6.19,{"$f":"ROUND(D176*E176,2)","v":30.95}]
[null,""]
["6.20.2.7","LUMINÁRIAS E ACESSÓRIOS",null,null,null,{"$f":"SUBTOTAL(9,F179)","v":594.72}]
["6.20.2.7.1","FORNECIMENTO E INSTALAÇÃO DE REFLETOR HOLOFOTE LED 50W, IP 66, ÂNGULO DE ABERTURA DE 120°, TEMPERATURA DE COR 6000K (REF.: ILUMINIM RSPM-50WBF OU SIMILAR)","UN",8,74.34,{"$f":"ROUND(D179*E179,2)","v":594.72}]
[null,""]
["6.20.2.8","TERMINAIS",null,null,null,{"$f":"SUBTOTAL(9,F182:F183)","v":40.370000000000005}]
["6.20.2.8.1","FORNECIMENTO E INSTALAÇÃO DE TERMINAL DE COMPRESSÃO 1,5 - 2,5MM²","UN",5,4.49,{"$f":"ROUND(D182*E182,2)","v":22.45}]
["6.20.2.8.2","FORNECIMENTO E INSTALAÇÃO DE FITA ISOLANTE 19MMX20M","UN",1,17.920000000000002,17.920000000000002]
[null,""]
["6.20.3","ELÉTRICA ILUMINAÇÃO EMERGÊNCIA - BLOCO E",null,null,null,{"$f":"SUBTOTAL(9,F186:F211)","v":2267.64}]
["6.20.3.1","ACESSÓRIOS P/ELETRODUTO E USO GERAL",null,null,null,{"$f":"SUBTOTAL(9,F187:F195)","v":492.75000000000006}]
["6.20.3.1.1","FORNECIMENTO E INSTALAÇÃO DE ABRAÇADEIRA DE AÇO, TIPO D, 3/4\", COM CUNHA","UN",15,6.59,{"$f":"ROUND(D187*E187,2)","v":98.85}]
["6.20.3.1.2","FORNECIMENTO E INSTALAÇÃO DE BUCHA E ARRUELA ALUMÍNIO FUNDIDO PARA ELETRODUTO (ZAMAK) 3/4\"","UN",7,2.0299999999999998,14.21]
["6.20.3.1.3","FORNECIMENTO E INSTALAÇÃO DE BOX RETO PARA ELETRODUTO 3/4\"","UN",7,5.68,39.76]
["6.20.3.1.4","CAIXA RETANGULAR 4\" X 2\" PVC - FORNECIMENTO E INSTALAÇÃO. ","UN",9,8.9600000000000009,80.64]
["6.20.3.1.5","FORNECIMENTO E INSTALAÇÃO DE SAÍDA LATERAL PERFILADO P/ ELETRODUTO 3/4\"","UN",7,18.510000000000002,129.57]
["6.20.3.1.6","FORNECIMENTO E INSTALAÇÃO DE ARRUELA LISA GALVANIZADA 1/4\"","UN",8,0.59,4.72]
["6.20.3.1.7","FORNECIMENTO E INSTALAÇÃO DE BUCHA / PARAFUSO S8","UN",15,4.4400000000000004,66.599999999999994]
["6.20.3.1.8","FORNECIMENTO E INSTALAÇÃO DE PARAFUSO GALVAN. CABEÇA LOSANGULAR 1/4\"X1\" - AUTO TRAVANTE PERFILADO","UN",8,6.88,55.04]
["6.20.3.1.9","FORNECIMENTO E INSTALAÇÃO DE PORCA SEXTAVADA GALVAN. 1/4\"","UN",8,0.42,3.36]
[null,""]
["6.20.3.2","CABOS",null,null,null,{"$f":"SUBTOTAL(9,F198:F198)","v":1304.0999999999999}]
["6.20.3.2.1","FORNECIMENTO E INSTALAÇÃO DE CABO DE COBRE FLEXÍVEL ISOL. TERMOPLASTICO ATOX 750V - 2,5 MM² (TP SINTENAX PIRELLI OU SIMILAR)","M",270,4.83,{"$f":"ROUND(D198*E198,2)","v":1304.0999999999999}]
[null,""]
["6.20.3.3","DISPOSITIVO ELÉTRICO EMBUTIDO",null,null,null,{"$f":"SUBTOTAL(9,F201:F201)","v":231.57}]
["6.20.3.3.1","TOMADA DE EMBUTIR (1 MÓDULO), 2P+T 10 A, INCLUINDO SUPORTE E PLACA - FORNECIMENTO E INSTALAÇÃO. AF_12/2015","UN",9,25.73,{"$f":"ROUND(D201*E201,2)","v":231.57}]
[null,""]
["6.20.3.4","DISPOSITIVO DE PROTEÇÃO",null,null,null,{"$f":"SUBTOTAL(9,F204:F204)","v":13.15}]
["6.20.3.4.1","DISJUNTOR MONOPOLAR TIPO DIN, CORRENTE NOMINAL DE 10A - FORNECIMENTO E INSTALAÇÃO. AF_10/2020","UN",1,13.15,{"$f":"ROUND(D204*E204,2)","v":13.15}]
[null,""]
["6.20.3.5","ELETRODUTOS",null,null,null,{"$f":"SUBTOTAL(9,F207:F207)","v":185.7}]
["6.20.3.5.1","ELETRODUTO FLEXÍVEL CORRUGADO, PVC, DN 25 MM (3/4\") - FORNECIMENTO E INSTALAÇÃO. ","M",30,6.19,{"$f":"ROUND(D207*E207,2)","v":185.7}]
[null,""]
["6.20.3.6","TERMINAIS",null,null,null,{"$f":"SUBTOTAL(9,F210:F211)","v":40.370000000000005}]
["6.20.3.6.1","FORNECIMENTO E INSTALAÇÃO DE TERMINAL DE COMPRESSÃO 1,5 - 2,5MM²","UN",5,4.49,{"$f":"ROUND(D210*E210,2)","v":22.45}]
["6.20.3.6.2","FORNECIMENTO E INSTALAÇÃO DE FITA ISOLANTE 19MMX20M","UN",1,17.920000000000002,17.920000000000002]
[]
["6.21","LOGICA E TELEFONICA",null,null,null,{"$f":"SUBTOTAL(9,F214:F254)","v":8598}]
["6.21.1","ACESSÓRIOS P/ELETRODUTO E USO GERAL",null,null,null,{"$f":"SUBTOTAL(9,F215:F221)","v":777.7399999999999}]
["6.21.1.1","FORNECIMENTO E INSTALAÇÃO DE ABRAÇADEIRA DE AÇO, TIPO D, 3/4\", COM CUNHA","UN",100,6.59,{"$f":"ROUND(D215*E215,2)","v":659}]
["6.21.1.2","FORNECIMENTO E INSTALAÇÃO DE BUCHA E ARRUELA ALUMÍNIO FUNDIDO PARA ELETRODUTO (ZAMAK) 3/4\"","UN",2,2.0299999999999998,4.0599999999999996]
["6.21.1.3","FORNECIMENTO E INSTALAÇÃO DE BOX RETO PARA ELETRODUTO 3/4\"","UN",2,5.68,11.36]
["6.21.1.4","CAIXA RETANGULAR 4\" X 2\" PVC - FORNECIMENTO E INSTALAÇÃO. ","UN",3,8.9600000000000009,26.88]
["6.21.1.5","FORNECIMENTO E INSTALAÇÃO DE ARRUELA LISA GALVANIZADA 1/4\"","UN",6,0.59,3.54]
["6.21.1.6","FORNECIMENTO E INSTALAÇÃO DE BUCHA / PARAFUSO S8","UN",10,4.4400000000000004,44.4]
["6.21.1.7","FORNECIMENTO E INSTALAÇÃO DE BUCHA / PARAFUSO S10","UN",6,4.75,28.5]
[null,""]
["6.21.2","CABOS",null,null,null,{"$f":"SUBTOTAL(9,F224:F224)","v":516}]
["6.21.2.1","CABO ELETRÔNICO CATEGORIA 6, ATOX LSZH, INSTALADO EM EDIFICAÇÃO INSTITUCIONAL - FORNECIMENTO E INSTALAÇÃO. AF_11/2019","M",200,2.58,{"$f":"ROUND(D224*E224,2)","v":516}]
[null,""]
["6.21.3","DISPOSITIVO CABEAMENTO EMBUTIR",null,null,null,{"$f":"SUBTOTAL(9,F227:F229)","v":235.8}]
["6.21.3.1","FORNECIMENTO E INSTALAÇÃO DE PLACA 4X2\" - BRANCA, 2 MÓDULOS P/ RJ45","UN",3,11.84,{"$f":"ROUND(D227*E227,2)","v":35.520000000000003}]
["6.21.3.2","FORNECIMENTO E INSTALAÇÃO DE MÓDULO P/TOMADA KEYSTONE","UN",6,6.59,39.54]
["6.21.3.3","FORNECIMENTO E INSTALAÇÃO DE TOMADA KEYSTONE RJ45 - CAT.6","UN",6,26.79,160.74]
[null,""]
["6.21.4","ELETRODUTOS",null,null,null,{"$f":"SUBTOTAL(9,F232:F232)","v":92.85}]
["6.21.4.1","ELETRODUTO FLEXÍVEL CORRUGADO, PVC, DN 25 MM (3/4\") - FORNECIMENTO E INSTALAÇÃO. ","M",15,6.19,{"$f":"ROUND(D232*E232,2)","v":92.85}]
[null,""]
["6.21.5","RACK E ACESSÓRIOS",null,null,null,{"$f":"SUBTOTAL(9,F235:F246)","v":3852.68}]
["6.21.5.1","FORNECIMENTO E INSTALAÇÃO DE RACK CAIXA PADRÃO 19\" - PORTA ACRÍLICO FUMÊ 16U X 470 MM","UN",1,1293.03,{"$f":"ROUND(D235*E235,2)","v":1293.03}]
["6.21.5.2","FORNECIMENTO E INSTALAÇÃO DE REGUA PARA 10 TOMADAS 2P+T 20A - 1U","UN",1,150.4,150.4]
["6.21.5.3","FORNECIMENTO E INSTALAÇÃO DE KIT DE VENTILAÇÃO COM 2 COOLERS","UN",1,306.91000000000003,306.91000000000003]
["6.21.5.4","PATCH PANEL 24 PORTAS, CATEGORIA 6 - FORNECIMENTO E INSTALAÇÃO. AF_11/2019","UN",1,698.58,698.58]
["6.21.5.5","FORNECIMENTO E INSTALAÇÃO DE VOICE PANEL 30 PORTAS RJ45","UN",1,652.1,652.1]
["6.21.5.6","FORNECIMENTO E INSTALAÇÃO DE GUIA DE CABOS FECHADO HORIZONTAL - 1U","UN",4,34.69,138.76]
["6.21.5.7","FORNECIMENTO E INSTALAÇÃO DE BANDEJA PARA RACK 19\", FIXA HORIZONTAL 1U.","UN",1,97.67,97.67]
["6.21.5.8","FORNECIMENTO E INSTALAÇÃO DE ANEL ORGANIZADOR DE CABOS TIPO ABRAÇADEIRA VELCRO","UN",6,2.2000000000000002,13.2]
["6.21.5.9","FORNECIMENTO E INSTALAÇÃO DE ANILHA DE IDENTIFICACAO PARA CABOS DE 0 A 9 (KIT 100 PECAS)","UN",1,69.38,69.38]
["6.21.5.10","FORNECIMENTO E INSTALAÇÃO DE FITA ROTULADORA 12MM PRETO SOBRE BRANCO 8M","UN",1,104.85,104.85]
["6.21.5.11","FORNECIMENTO E INSTALAÇÃO DE PATCH CORD CERTIFICADO CAT.6 - CONEXÃO RJ45 X RJ45 - COMP. 1,5M - LSZH","UN",8,8.86,70.88]
["6.21.5.12","FORNECIMENTO DE SERVIÇO DE CERTIFICAÇÃO DE CABO DE REDE CAT-6, COM CERTIFICADO DE AFERIÇÃO DO APARELHO","UN",6,42.82,256.92]
[null,""]
["6.21.6","FIBRA ÓPTICA E ACESSÓRIOS",null,null,null,{"$f":"SUBTOTAL(9,F249:F254)","v":3122.93}]
["6.21.6.1","FORNECIMENTO E INSTALAÇÃO DE DISTRIBUIDOR OPTICO INTERNO PARA 12 FO - 1U PARA RACK.","UN",1,518.47,{"$f":"ROUND(D249*E249,2)","v":518.47}]
["6.21.6.2","FORNECIMENTO E INSTALAÇÃO DE EXTENSÃO PIGTAIL MULTIMODO P/ DIO - CONECTOR SC","UN",12,32.04,384.48]
["6.21.6.3","FORNECIMENTO E INSTALAÇÃO DE CORDÃO ÓPTICO MULTIMODO - 2 FO CONECTOR SC/SC - 2,50 M","UN",2,101.69,203.38]
["6.21.6.4","FORNECIMENTO E INSTALAÇÃO DE CONVERSOR DE MÍDIA PARA FIBRA ÓTICA MM E SM 10/100 2FO RJ45","UN",2,281.52,563.04]
["6.21.6.5","FORNECIMENTO DE SERVIÇO DE CERTIFICACAO DE CABEAMENTO DE FIBRA OPTICA","UN",12,34.26,411.12]
["6.21.6.6","FORNECIMENTO DE SERVIÇO DE FUSÃO FIBRA ÓTICA COM EXTENSÃO PIGTAIL COM CERTIFICAÇÃO DE AFERIÇÃO DO APARELHO","UN",12,86.87,1042.44]
[]
["6.22","CLIMATIZAÇÃO - AR CONDICIONADO",null,null,null,{"$f":"SUBTOTAL(9,F257:F283)","v":24016.57}]
["6.22.1","INSTALAÇÕES HIDRÁULICAS",null,null,null,{"$f":"SUBTOTAL(9,F258:F263)","v":305.62}]
["6.22.1.1","TUBO, PVC, SOLDÁVEL, DN 32MM, INSTALADO EM DRENO DE AR-CONDICIONADO – FORNECIMENTO E INSTALAÇÃO","M",10,16.309999999999999,{"$f":"ROUND(D258*E258,2)","v":163.1}]
["6.22.1.2","JOELHO 45 GRAUS, PVC, SOLDÁVEL, DN 32MM, INSTALADO EM DRENO DE AR-CONDICIONADO - FORNECIMENTO E INSTALAÇÃO","UND",2,9.36,18.72]
["6.22.1.3","CURVA 90 GRAUS, PVC, SOLDÁVEL, DN 32MM, INSTALADO EM DRENO DE AR-CONDICIONADO - FORNECIMENTO E INSTALAÇÃO","UND",2,12.56,25.12]
["6.22.1.4","TE, PVC, SOLDÁVEL, DN 32MM, INSTALADO EM DRENO DE AR-CONDICIONADO - FORNECIMENTO E INSTALAÇÃO","UND",2,11.97,23.94]
["6.22.1.5","LUVA, PVC, SOLDÁVEL, DN 32MM, INSTALADO EM DRENO DE AR-CONDICIONADO - FORNECIMENTO E INSTALAÇÃO","UND",2,5.32,10.64]
["6.22.1.6","TUBO DE ESPUMA DE POLIETILENO EXPANDIDO FLEXIVEL PARA ISOLAMENTO TERMICO DE TUBULACAO DE AR CONDICIONADO, AGUA QUENTE,  DN 1 1/2\", E= 10 MM","M     ",10,6.41,64.099999999999994]
[]
["6.22.2","INSTALAÇÕES DE CLIMATIZAÇÃO",null,null,null,{"$f":"SUBTOTAL(9,F266:F274)","v":9059.2000000000007}]
["6.22.2.1","TUBO DE COBRE FLEXIVEL, D = 3/8 \", E = 0,79 MM, PARA AR-CONDICIONADO/ INSTALACOES GAS RESIDENCIAIS E COMERCIAIS","M     ",20,49.37,{"$f":"ROUND(D266*E266,2)","v":987.4}]
["6.22.2.2","TUBO DE COBRE FLEXIVEL, D = 5/8 \", E = 0,79 MM, PARA AR-CONDICIONADO/ INSTALACOES GAS RESIDENCIAIS E COMERCIAIS","M     ",20,83.3,1666]
["6.22.2.3","REVESTIMENTO DE TUBULAÇÃO FRIGORÍGENA EXTERNA COM FITA PVC BRANCA ","M",10,18.14,181.4]
["6.22.2.4","FORNECIMENTO DE GÁS NITROGÊNIO","M3",7,71.94,503.58]
["6.22.2.5","FORNECIMENTO DE GÁS REFRIGERANTE R-410A","KG",3.5,79.16,277.06]
["6.22.2.6","FORNECIMENTO E INSTALAÇÃO DE VENEZIANA DE CAPTAÇÃO DE AR, 385x330mm - REF. TROX AWG","UN",1,426.04,426.04]
["6.22.2.7","FORNECIMENTO E INSTALAÇÃO DE GRELHA DE EXAUSTÃO, 325x225mm - REF. TROX AR-AG","UN",4,295.18,1180.72]
["6.22.2.8","FORNECIMENTO E INSTALAÇÃO DE DUTO EM CHAPA DE AÇO GALVANIZADO - #26 (4,00 KG/M2), INCLUSIVE ELEMENTOS DE FIXAÇÃO E SUPORTES","M2",10,275.33999999999997,2753.4]
["6.22.2.9","FORNECIMENTO E INSTALAÇÃO DE DUTO FLEXÍVEL CIRCULAR,  SEM ISOLAMENTO TÉRMICO, DIÂMETRO DE 08\" COM COLARINHO - REF.: MULTIVAC ALUDEC 60","M",8,135.44999999999999,1083.5999999999999]
[]
["6.22.3","INSTALAÇÕES ELÉTRICAS",null,null,null,{"$f":"SUBTOTAL(9,F277:F279)","v":1303.3499999999999}]
["6.22.3.1","ELETRODUTO DE AÇO GALVANIZADO, CLASSE LEVE, DN 20 MM (3/4\u0092\u0092), APARENTE, INSTALADO EM PAREDE - FORNECIMENTO E INSTALAÇÃO. AF_11/2016_P","M",20,28.04,{"$f":"ROUND(D277*E277,2)","v":560.79999999999995}]
["6.22.3.2","FORNECIMENTO E INSTALAÇÃO DE CABO PP FLEXÍVEL 3x1,5mm²","M",20,12.19,243.8]
["6.22.3.3","FORNECIMENTO E INSTALAÇÃO DE CABO PP FLEXÍVEL 5x2,5mm²","M",25,19.95,498.75]
[]
["6.22.4","EQUIPAMENTOS",null,null,null,{"$f":"SUBTOTAL(9,F282:F283)","v":13348.4}]
["6.22.4.1","FORNECIMENTO E INSTALAÇÃO DE EQUIPAMENTO SPLIT INVERTER, CONFIGURAÇÃO DE TETO E CONDENSADORA DE DESCARGA HORIZONTAL, CAPACIDADE DE 30.000 BTU/H - REF. LG AVNW36GM1P0/AVUW36GM1P0","UN",1,12647.75,{"$f":"ROUND(D282*E282,2)","v":12647.75}]
["6.22.4.2","INSTALAÇÃO DE VENTILADOR TIPO \"IN LINE\", VAZÃO MÁXIMA DE 1700 M3/H, PRESSÃO ESTÁTICA DE 65mmca - REF. SICFLUX ACI 315","UN",1,700.65,700.65]
[]
["6.23","INFRAESTRUTURA PARA INSTALAÇÃO DE AUDIO E VÍDEO",null,null,null,{"$f":"SUBTOTAL(9,F286)","v":0}]
[]
["6.24","INSTALAÇÕES HIDRAULICAS ",null,null,null,{"$f":"SUBTOTAL(9,F288:F296)","v":954.39999999999986}]
["6.24.1","RASGO EM ALVENARIA PARA RAMAIS/ DISTRIBUIÇÃO COM DIÂMETROS MAIORES QUE 40 MM E MENORES OU IGUAIS A 75 MM. AF_05/2015","M",20,13.16,{"$f":"ROUND(D288*E288,2)","v":263.2}]
["6.24.2","MASSA ÚNICA, PARA RECEBIMENTO DE PINTURA, EM ARGAMASSA TRAÇO 1:2:8, PREPARO MANUAL, APLICADA MANUALMENTE EM FACES INTERNAS DE PAREDES, ESPESSURA DE 10MM, COM EXECUÇÃO DE TALISCAS. AF_06/2014","M2",12,24.24,290.88]
["6.24.3","REGISTRO DE GAVETA BRUTO, LATÃO, ROSCÁVEL, 3/4\", COM ACABAMENTO E CANOPLA CROMADOS. FORNECIDO E INSTALADO EM RAMAL DE ÁGUA. AF_12/2014","UN",2,63.23,126.46]
["6.24.4","ADAPTADOR CURTO COM BOLSA E ROSCA PARA REGISTRO, PVC, SOLDÁVEL, DN 25MM X 3/4\u0094, INSTALADO EM RAMAL OU SUB-RAMAL DE ÁGUA - FORNECIMENTO E INSTALAÇÃO. AF_12/2014","UN",4,6.85,27.4]
["6.24.5","JOELHO 90 GRAUS, PVC, SOLDÁVEL, DN 25MM, INSTALADO EM RAMAL OU SUB-RAMAL DE ÁGUA - FORNECIMENTO E INSTALAÇÃO. AF_12/2014","UN",5,8.81,44.05]
["6.24.6","TUBO, PVC, SOLDÁVEL, DN 25MM, INSTALADO EM RAMAL DE DISTRIBUIÇÃO DE ÁGUA - FORNECIMENTO E INSTALAÇÃO. AF_12/2014","M",12,9.69,116.28]
["6.24.7","TE, PVC, SOLDÁVEL, DN 25MM, INSTALADO EM PRUMADA DE ÁGUA - FORNECIMENTO E INSTALAÇÃO. AF_12/2014","UN",1,7.11,7.11]
["6.24.8","JOELHO 90 GRAUS COM BUCHA DE LATÃO, PVC, SOLDÁVEL, DN 25MM, X 1/2\u0094 INSTALADO EM RAMAL OU SUB-RAMAL DE ÁGUA - FORNECIMENTO E INSTALAÇÃO. AF_12/2014","UN",2,15.32,30.64]
["6.24.9","TÊ COM BUCHA DE LATÃO NA BOLSA CENTRAL, PVC, SOLDÁVEL, DN 25MM X 3/4\u0094, INSTALADO EM RAMAL OU SUB-RAMAL DE ÁGUA - FORNECIMENTO E INSTALAÇÃO. AF_03/2015","UN",2,24.19,48.38]
[]
["6.25","ÁGUAS PLUVIAIS DE COBERTURA",null,null,null,{"$f":"SUBTOTAL(9,F299:F307)","v":23139.719999999998}]
["6.25.1","REDUÇÃO EXCÊNTRICA, PVC, SERIE R, ÁGUA PLUVIAL, DN 150 X 100 MM, JUNTA ELÁSTICA, FORNECIDO E INSTALADO EM CONDUTORES VERTICAIS DE ÁGUAS PLUVIAIS.","UN",10,91.29,{"$f":"ROUND(D299*E299,2)","v":912.9}]
["6.25.2","CURVA 87 GRAUS E 30 MINUTOS, PVC, SERIE R, ÁGUA PLUVIAL, DN 150 MM, JUNTA ELÁSTICA, FORNECIDO E INSTALADO EM CONDUTORES VERTICAIS DE ÁGUAS PLUVIAIS","UN",10,202.27,2022.7]
["6.25.3","JOELHO 90 GRAUS, PVC, SERIE R, ÁGUA PLUVIAL, DN 100 MM, JUNTA ELÁSTICA, FORNECIDO E INSTALADO EM RAMAL DE ENCAMINHAMENTO.","UN",20,49.03,980.6]
["6.25.4","LUVA SIMPLES, PVC, SERIE R, ÁGUA PLUVIAL, DN 100 MM, JUNTA ELÁSTICA, FORNECIDO E INSTALADO EM RAMAL DE ENCAMINHAMENTO.","UN",20,28.59,571.79999999999995]
["6.25.5","LUVA SIMPLES, PVC, SERIE R, ÁGUA PLUVIAL, DN 150 MM, JUNTA ELÁSTICA, FORNECIDO E INSTALADO EM CONDUTORES VERTICAIS DE ÁGUAS PLUVIAIS.","UN",10,83.34,833.4]
["6.25.6","TUBO PVC, SÉRIE R, ÁGUA PLUVIAL, DN 100 MM, FORNECIDO E INSTALADO EM RAMAL DE ENCAMINHAMENTO.","M",90,71.709999999999994,6453.9]
["6.25.7","TUBO PVC, SÉRIE R, ÁGUA PLUVIAL, DN 150 MM, FORNECIDO E INSTALADO EM CONDUTORES VERTICAIS DE ÁGUAS PLUVIAIS.","M",11.819999999999993,94.31,1114.74]
["6.25.8","DEMOLIÇÃO DE ARGAMASSAS, DE FORMA MANUAL, SEM REAPROVEITAMENTO","M2",168,2.91,488.88]
["6.25.9","IMPERMEABILIZAÇÃO DE SUPERFÍCIE COM EMULSÃO ASFÁLTICA, 2 DEMÃOS AF_06/2018 - DAS CALHAS DE CONCRETO EXISTENTES","M2",168,58.1,9760.7999999999993]
[]
["6.26","INSTALAÇÕES SANITÁRIAS",null,null,null,{"$f":"SUBTOTAL(9,F310:F326)","v":2868.0800000000004}]
["6.26.1","ESCAVAÇÃO MANUAL DE VALA COM PROFUNDIDADE MENOR OU IGUAL A 1,30 M. AF_02/2021","M3",2.6784000000000003,75.75,{"$f":"ROUND(D310*E310,2)","v":202.89}]
["6.26.2","REATERRO MANUAL APILOADO COM SOQUETE. AF_10/2017","M3",2.6784000000000003,45.92,122.99]
["6.26.3","LASTRO DE CONCRETO MAGRO, APLICADO EM BLOCOS DE COROAMENTO OU SAPATAS, ESPESSURA DE 5 CM. AF_08/2017","M2",0.22320000000000004,29.94,6.68]
["6.26.4","CAIXA ENTERRADA HIDRÁULICA RETANGULAR EM ALVENARIA COM TIJOLOS CERÂMICOS MACIÇOS, DIMENSÕES INTERNAS: 0,8X0,8X0,6 M PARA REDE DE ESGOTO. AF_12/2020","UN",1,893.33,893.33]
["6.26.5","CURVA CURTA 90 GRAUS, PVC, SERIE NORMAL, ESGOTO PREDIAL, DN 40 MM, JUNTA SOLDÁVEL, FORNECIDO E INSTALADO EM RAMAL DE DESCARGA OU RAMAL DE ESGOTO SANITÁRIO. AF_12/2014","UN",2,11.42,22.84]
["6.26.6","JOELHO 45 GRAUS, PVC, SERIE NORMAL, ESGOTO PREDIAL, DN 100 MM, JUNTA ELÁSTICA, FORNECIDO E INSTALADO EM RAMAL DE DESCARGA OU RAMAL DE ESGOTO SANITÁRIO. AF_12/2014","UN",1,28.26,28.26]
["6.26.7","CURVA CURTA 90 GRAUS, PVC, SERIE NORMAL, ESGOTO PREDIAL, DN 100 MM, JUNTA ELÁSTICA, FORNECIDO E INSTALADO EM RAMAL DE DESCARGA OU RAMAL DE ESGOTO SANITÁRIO. AF_12/2014","UN",2,43.59,87.18]
["6.26.8","JUNÇÃO SIMPLES, PVC, SERIE NORMAL, ESGOTO PREDIAL, DN 100 X 100 MM, JUNTA ELÁSTICA, FORNECIDO E INSTALADO EM RAMAL DE DESCARGA OU RAMAL DE ESGOTO SANITÁRIO. AF_12/2014","UN",2,54.95,109.9]
["6.26.9","REDUCAO EXCENTRICA PVC P/ ESG PREDIAL DN 100 X 50MM","UN    ",2,10.74,21.48]
["6.26.10","TUBO PVC, SERIE NORMAL, ESGOTO PREDIAL, DN 100 MM, FORNECIDO E INSTALADO EM RAMAL DE DESCARGA OU RAMAL DE ESGOTO SANITÁRIO. AF_12/2014","M",14.88,58.29,867.36]
["6.26.11","TUBO PVC, SERIE NORMAL, ESGOTO PREDIAL, DN 50 MM, FORNECIDO E INSTALADO EM RAMAL DE DESCARGA OU RAMAL DE ESGOTO SANITÁRIO. AF_12/2014","M",2,29.58,59.16]
["6.26.12","TUBO PVC, SERIE NORMAL, ESGOTO PREDIAL, DN 40 MM, FORNECIDO E INSTALADO EM RAMAL DE DESCARGA OU RAMAL DE ESGOTO SANITÁRIO. AF_12/2014","M",2.2000000000000002,19.260000000000002,{"$f":"ROUND(D321*E321,2)","v":42.37}]
["6.26.13","CAIXA SIFONADA PVC, 150 X 150 X 50 MM, COM GRELHA REDONDA BRANCA","UN    ",2,60.47,{"$f":"ROUND(D322*E322,2)","v":120.94}]
["6.26.14","JOELHO 90 GRAUS, PVC, SERIE NORMAL, ESGOTO PREDIAL, DN 50 MM, JUNTA ELÁSTICA, FORNECIDO E INSTALADO EM PRUMADA DE ESGOTO SANITÁRIO OU VENTILAÇÃO. AF_12/2014","UN",4,9,36]
["6.26.15","TE, PVC, SERIE NORMAL, ESGOTO PREDIAL, DN 50 X 50 MM, JUNTA ELÁSTICA, FORNECIDO E INSTALADO EM PRUMADA DE ESGOTO SANITÁRIO OU VENTILAÇÃO. AF_12/2014","UN",2,19.47,38.94]
["6.26.16","TUBO PVC, SERIE NORMAL, ESGOTO PREDIAL, DN 50 MM, FORNECIDO E INSTALADO EM PRUMADA DE ESGOTO SANITÁRIO OU VENTILAÇÃO. AF_12/2014","M",14,13.42,187.88]
["6.26.17","TERMINAL DE VENTILACAO, 50 MM, SERIE NORMAL, ESGOTO PREDIAL","UN    ",2,9.94,19.88]
[]
["6.27","LOUÇAS E METÁIS",null,null,null,{"$f":"SUBTOTAL(9,F329:F335)","v":3064.88}]
["6.27.1","LAVATÓRIO LOUÇA BRANCA COM COLUNA, 45 X 55CM OU EQUIVALENTE, PADRÃO MÉDIO - FORNECIMENTO E INSTALAÇÃO. AF_01/2020","UN",2,421.42,{"$f":"ROUND(D329*E329,2)","v":842.84}]
["6.27.2","VÁLVULA EM METAL CROMADO 1.1/2\u0094 X 1.1/2\u0094 PARA TANQUE OU LAVATÓRIO, COM OU SEM LADRÃO - FORNECIMENTO E INSTALAÇÃO. AF_01/2020","UN",2,34.36,68.72]
["6.27.3","ENGATE FLEXÍVEL EM PLÁSTICO BRANCO, 1/2\u0094 X 40CM - FORNECIMENTO E INSTALAÇÃO. AF_01/2020","UN",2,12.97,25.94]
["6.27.4","SIFÃO DO TIPO GARRAFA EM METAL CROMADO 1 X 1.1/2\u0094 - FORNECIMENTO E INSTALAÇÃO. AF_01/2020","UN",2,191.93,383.86]
["6.27.5","TORNEIRA DE MESA PRESMATIC ECO CROMADA COD 1173, MARCA DECA, DOCOL OU SIMILAR, FORNECIMENTO E INSTALAÇÃO.","UN",2,215.45,430.9]
["6.27.6","VASO SANITÁRIO SIFONADO COM CAIXA ACOPLADA LOUÇA BRANCA, INCLUSO ENGATE FLEXÍVEL EM PLÁSTICO BRANCO, 1/2  X 40CM - FORNECIMENTO E INSTALAÇÃO. AF_01/2020","UN",2,608.29,1216.58]
["6.27.7","ASSENTO SANITÁRIO CONVENCIONAL - FORNECIMENTO E INSTALACAO. AF_01/2020","UN",2,48.02,96.04]
[]
["6.28","SISTEMA DE TRATAMENTO DE ESGOTO",null,null,null,{"$f":"SUBTOTAL(9,F338)","v":0}]
[]
["6.29","LIMPEZA CONTÍNUA DA OBRA",null,null,null,{"$f":"SUBTOTAL(9,F340)","v":0}]
[]
["6.30","LIMPEZA FINAL PARA ENTREGA",null,null,null,{"$f":"SUBTOTAL(9,F342)","v":1336.63}]
["6.30.1","LIMPEZA FINAL PARA ENTREGA","M2",438.24,3.05,{"$f":"ROUND(D342*E342,2)","v":1336.63}]
[]
["VALOR TOTAL",null,null,null,null,{"$f":"SUBTOTAL(9,F14:F343)","v":460881.80999999988}]

{"sheet":"7_MINI QUADRA","index":8,"n_rows":198,"n_cols":6,"rows_kept":198,"cut":false,"hidden":true,"merged":[[10,0,10,5],[0,0,3,2],[0,3,1,5],[2,3,3,3],[2,4,3,4],[2,5,3,5],[4,0,4,5],[5,0,5,5],[6,0,6,5],[7,0,7,5],[8,0,8,5],[9,0,9,5]]}
["                                 PLANILHA ORÇAMENTARIA   ",null,null,"SPN-FF-003"]
[]
[null,null,null,"Folha:              1 de 1","Revisão:      \n02","Data: \n07/10/19"]
[]
["SESI - SERVIÇO SOCIAL DA INDUSTRIA - DR/MT"]
["OBRA: CONTRATAÇÃO DE EMPRESA ESPECIALIZADA PARA CONTINUIDADE DA EXECUÇÃO DA OBRA DE REFORMA E AMPLIAÇÃO DA UNIDADE DO SESI ESCOLA VÁRZEA GRANDE/MT."]
["UNIDADE OPERACIONAL: SESI ESCOLA VÁRZEA GRANDE"]
["ENDEREÇO: AV. DOM ORLANDO CHAVES, N.º 1.086, PONTE NOVA - CRISTO REI         CIDADE: VÁRZEA GRANDE/MT"]
["CONSTRUTORA:"]
["RESPONSÁVEL TÉCNICO:"]
["BASE SINAPI UTILIZADA: 06/2021"]
["ITEM","DESCRIÇÃO","UNID.","QUANT.","Valor UNIT. (R$)","Valor Total (R$)"]
[]
[7,"MINI QUADRA COBERTA"]
[]
["7.0","DEMOLIÇÕES E RETIRADAS",null,null,null,{"$f":"SUBTOTAL(9,F17:F19)","v":52890.380000000005}]
["7.0.1","DEMOLIÇÃO",null,null,null,{"$f":"SUBTOTAL(9,F18:F19)","v":52890.380000000005}]
["7.0.1.1","DEMOLIÇÃO MANUAL DE PISO EM CONCRETO SIMPLES INCLUSIVE LASTRO DE CONCRETO","M2",1342.09,34.07,{"$f":"ROUND(D18*E18,2)","v":45725.01}]
["7.0.1.2","BOTA FORA DE MATERIAL DESCARTADO, D.M.T. = 10 km - (CARGA, TRANSPORTE E DESCARGA MECÂNICA)","M3",122.13,58.67,7165.37]
[]
["7.1","INSTALAÇÕES DE CANTEIRO",null,null,null,{"$f":"SUBTOTAL(9,F22)","v":836.8}]
["7.1.1","TOPOGRAFO COM ENCARGOS COMPLEMENTARES PARA LOCAÇÃO DO CANTEIRO - CONSIDERADO 08H/DIA X 05 DIAS","H",40,20.92,{"$f":"ROUND(D22*E22,2)","v":836.8}]
[]
["7.2","ADMINISTRAÇÃO",null,null,null,{"$f":"SUBTOTAL(9,F25)","v":0}]
[]
["7.3","TERRAPLENAGEM",null,null,null,{"$f":"SUBTOTAL(9,F27)","v":0}]
[]
["7.4","FUNDAÇÃO",null,null,null,{"$f":"SUBTOTAL(9,F29:F44)","v":113949.56}]
["7.4.1","ESCAVAÇÃO MECANIZADA PARA BLOCO DE COROAMENTO OU SAPATA, SEM PREVISÃO DE FÔRMA, COM RETROESCAVADEIRA. AF_06/2017","M3",19,91.26,{"$f":"ROUND(D29*E29,2)","v":1733.94}]
["7.4.2","BOTA FORA DE MATERIAL DESCARTADO, D.M.T. = 10 km - (CARGA, TRANSPORTE E DESCARGA MECÂNICA)","M3",30.55,58.67,{"$f":"ROUND(D30*E30,2)","v":1792.37}]
["7.4.3","REATERRO MANUAL DE VALAS COM COMPACTAÇÃO MECANIZADA. AF_04/2016","M3",7.6,27.04,205.5]
["7.4.4","ESTACAS - ESTACAS RAIZ DE Ø31cm EM SOLO INCLUSIVE A  INJENÇÃO DE ARGAMASSA FCK>20 MPA, INCLUSIVE LANÇAMENTO DE ARMAÇÃO / CONSUMO MÍNIMO DE CIMENTO - 600 kg/m³.","M",120,474.01,56881.2]
["7.4.5","ESTACAS - ARMAÇÃO DE BLOCO, VIGA BALDRAME OU SAPATA UTILIZANDO AÇO CA-50 DE 6,3 MM - MONTAGEM. (FORNECIDA PELO SESI ESTACA MONTADA)","KG",0,25.13,0]
["7.4.6","ESTACAS - ARMAÇÃO DE BLOCO, VIGA BALDRAME OU SAPATA UTILIZANDO AÇO CA-50 DE 12,5 MM - MONTAGEM. (FORNECIDA PELO SESI ESTACA MONTADA)","KG",0,18.72,{"$f":"ROUND(D34*E34,2)","v":0}]
["7.4.7","BLOCO DE COROAMENTO - LASTRO COM MATERIAL GRANULAR (PEDRA BRITADA N.1 E PEDRA BRITADA N.2), APLICADO EM PISOS OU LAJES SOBRE SOLO, ESPESSURA DE *10 CM*. AF_07/2019","M3",0.6,142.05000000000001,85.23]
["7.4.8","BLOCO DE COROAMENTO - FABRICAÇÃO, MONTAGEM E DESMONTAGEM DE FÔRMA PARA BLOCO DE COROAMENTO, EM MADEIRA SERRADA, E=25 MM, 1 UTILIZAÇÃO. AF_06/2017","M2",30.240000000000002,165.28,4998.07]
["7.4.9","BLOCO DE COROAMENTO - ARMAÇÃO DE BLOCO, VIGA BALDRAME OU SAPATA UTILIZANDO AÇO CA-50 DE 6,3 MM - MONTAGEM. AF_06/2017","KG",99.24,25.13,2493.9]
["7.4.10","BLOCO DE COROAMENTO - ARMAÇÃO DE BLOCO, VIGA BALDRAME OU SAPATA UTILIZANDO AÇO CA-50 DE 10 MM - MONTAGEM. AF_06/2017","KG",50,21.99,1099.5]
["7.4.11","BLOCO DE COROAMENTO - CONCRETAGEM DE BLOCOS DE COROAMENTO E VIGAS BALDRAMES, FCK 30 MPA, COM USO DE BOMBA \u0096 LANÇAMENTO, ADENSAMENTO E ACABAMENTO. AF_06/2017","M3",6.5,693.9,4510.3500000000004]
["7.4.12","VIGA BALDRAME - LASTRO COM MATERIAL GRANULAR (PEDRA BRITADA N.1 E PEDRA BRITADA N.2), APLICADO EM PISOS OU LAJES SOBRE SOLO, ESPESSURA DE *10 CM*. AF_07/2019","M3",0.89249999999999996,142.05000000000001,126.78]
["7.4.13","VIGA BALDRAME - FABRICAÇÃO, MONTAGEM E DESMONTAGEM DE FÔRMA PARA VIGA BALDRAME, EM MADEIRA SERRADA, E=25 MM, 1 UTILIZAÇÃO. AF_06/2017","M2",53.5,148.03,7919.61]
["7.4.14","VIGA BALDRAME E PILARES - ARMAÇÃO DE BLOCO, VIGA BALDRAME OU SAPATA UTILIZANDO AÇO CA-50 DE 6,3 MM - MONTAGEM.","KG",480,25.13,{"$f":"ROUND(D42*E42,2)","v":12062.4}]
["7.4.15","VIGA BALDRAME E PILARES - ARMAÇÃO DE BLOCO, VIGA BALDRAME OU SAPATA UTILIZANDO AÇO CA-50 DE 12,5 MM - MONTAGEM. AF_06/2017","KG",850,18.72,15912]
["7.4.16","VIGA BALDRAME - CONCRETAGEM DE BLOCOS DE COROAMENTO E VIGAS BALDRAMES, FCK 30 MPA, COM USO DE BOMBA \u0096 LANÇAMENTO, ADENSAMENTO E ACABAMENTO. AF_06/2017","M3",5.95,693.9,{"$f":"ROUND(D44*E44,2)","v":4128.71}]
[]
["7.5","IMPERMEABILIZAÇÃO",null,null,null,{"$f":"SUBTOTAL(9,F47)","v":4865.29}]
["7.5.1","IMPERMEABILIZAÇÃO DE SUPERFÍCIE COM EMULSÃO ASFÁLTICA, 2 DEMÃOS AF_06/2018","M2",83.740000000000009,58.1,{"$f":"ROUND(D47*E47,2)","v":4865.29}]
[]
["7.6","ESTRUTURAS DE CONCRETO ARMADO",null,null,null,{"$f":"SUBTOTAL(9,F50:F53)","v":26051.239999999998}]
["7.6.1","PILARES - MONTAGEM E DESMONTAGEM DE FÔRMA DE PILARES RETANGULARES E ESTRUTURAS SIMILARES, PÉ-DIREITO DUPLO, EM CHAPA DE MADEIRA COMPENSADA RESINADA, 2 UTILIZAÇÕES. AF_09/2020","M2",49.5,147.72999999999999,{"$f":"ROUND(D50*E50,2)","v":7312.64}]
["7.6.2","PILARES - CONCRETAGEM DE PILARES, FCK = 25 MPA, COM USO DE BOMBA EM EDIFICAÇÃO COM SEÇÃO MÉDIA DE PILARES MAIOR QUE 0,25 M² - LANÇAMENTO, ADENSAMENTO E ACABAMENTO. AF_12/2015","M3",9.1,656.15,{"$f":"ROUND(D51*E51,2)","v":5970.97}]
["7.6.3","VIGA RESPALDO - MONTAGEM E DESMONTAGEM DE FÔRMA DE VIGA, ESCORAMENTO METÁLICO, PÉ-DIREITO DUPLO, EM CHAPA DE MADEIRA RESINADA, 2 UTILIZAÇÕES. AF_09/2020","M2",28.5,303.12,8638.92]
["7.6.4","VIGA RESPALDO - CONCRETAGEM DE BLOCOS DE COROAMENTO E VIGAS BALDRAMES, FCK 30 MPA, COM USO DE BOMBA \u0096 LANÇAMENTO, ADENSAMENTO E ACABAMENTO. AF_06/2017","M3",5.95,693.9,4128.71]
[]
["7.7","ALVENARIAS E PAINÉIS",null,null,null,{"$f":"SUBTOTAL(9,F56)","v":0}]
[]
["7.8","ESTRUTURA METALICA ",null,null,null,{"$f":"SUBTOTAL(9,F58:F60)","v":103185.89000000001}]
["7.8.1","ESTRUTURA METALICA DA COBERTURA CONFORME PROJETO EM AÇO ESTRUTURAL","KG",4395.3100000000004,18.63,{"$f":"ROUND(D58*E58,2)","v":81884.63}]
["7.8.2","PINTURA COM TINTA ALQUÍDICA DE FUNDO (TIPO ZARCÃO) PULVERIZADA SOBRE SUPERFÍCIES METÁLICAS (EXCETO PERFIL) EXECUTADO EM OBRA (POR DEMÃO). AF_01/2020_P","M2",534,21.31,11379.54]
["7.8.3","PINTURA COM TINTA ACRÍLICA DE ACABAMENTO PULVERIZADA SOBRE SUPERFÍCIES METÁLICAS (EXCETO PERFIL) EXECUTADO EM OBRA (02 DEMÃOS). AF_01/2020_P","M2",534,18.579999999999998,9921.7199999999993]
[]
["7.9","COBERTURA",null,null,null,{"$f":"SUBTOTAL(9,F63:F66)","v":98347.030000000013}]
["7.9.1","TELHAMENTO COM TELHA DE AÇO/ALUMÍNIO E = 0,5 MM, COM ATÉ 2 ÁGUAS, INCLUSO IÇAMENTO. AF_07/2019","M2",530.99,105.32,{"$f":"ROUND(D63*E63,2)","v":55923.87}]
["7.9.2","PLATIBANDA EM CHAPA DE AÇO ESPESSURA 2,00mm, H=870mm, DOBRA CARTOLA: 30X20X970mm, COM METALON DIM. 50X20X0,97mm NA FACE INFERIOR PARA ARREMATE COM O FORRO, FUNDO ANTICORROSIVO EM PRIMER EPÓXI NAS DUAS FACES","M2",41.09,247.56,{"$f":"ROUND(D64*E64,2)","v":10172.24}]
["7.9.3","ALAMBRADO PARA QUADRA POLIESPORTIVA, ESTRUTURADO POR TUBOS DE ACO GALVANIZADO, (MONTANTES COM DIAMETRO 2\", TRAVESSAS E ESCORAS COM DIÂMETRO 1 ¼\u0094), COM TELA DE ARAME GALVANIZADO, FIO 14 BWG E MALHA QUADRADA 5X5CM (EXCETO MURETA), INCLUSO PORTINHOLA DE ACESSO NAS LATERAIS CONFORME PROJETO ARQUITETÔNICO.","M2",130.19999999999999,223.31,29074.959999999999]
["7.9.4","REDE DE PROTEÇÃO ESPORTIVA SOB MEDIDA PARA CAMPO/QUADRA DE FUTSAL, FUTEBOL, SOCIETY FIO 2 MALHA 10CM","M2",294.07,10.8,{"$f":"ROUND(D66*E66,2)","v":3175.96}]
[]
["7.10","ESQUADRIAS",null,null,null,{"$f":"SUBTOTAL(9,F69:F69)","v":11106.57}]
["7.10.1","GRADIL FIXO EM TELA ONDULADA, MEDINDO 5,95M X 2,50M,SUBDIVIDIDOS EM 03 MODULOS, REQUADRO EM TUBO DE 2''.","M2",29.75,373.33,{"$f":"ROUND(D69*E69,2)","v":11106.57}]
[]
["7.11","PISOS",null,null,null,{"$f":"SUBTOTAL(9,F72:F77)","v":153884.94}]
["7.11.1","PISO DE CONCRETO POLIDO INDUSTRIAL FCK 20MPA, ESP. 7CM SOBRE CONTRAPISO, COM FORNECIMENTO DE MATERIAL, ADENSAMENTO, SARRAFEAMENTO, POLIMENTO COM MÁQUINA POLITRIZ INDUSTRIAL, COM CONFECÇÃO DE JUNTAS DE DILATAÇÃO EM PANOS DE NO MÁXIMO 5,00X5,00M, EXECUTADAS CORTE COM MÁQUINA DE CORTE DE PISO INDUSTRIAL COM DISCO DIAMANTADO, INCLUSIVE ADITIVOS PARA O CONCRETO","M2",461.82,75.930000000000007,{"$f":"ROUND(D72*E72,2)","v":35065.99}]
["7.11.2","ARMAÇÃO PARA EXECUÇÃO DE RADIER, COM USO DE TELA Q-92. AF_09/2017 - CONSIDERADO 1,48KG/M² DE ÁREA (CONFORME TABELA DA FABRICANTE PARA A TELA Q-92).","KG",683.49360000000001,34.200000000000003,23375.48]
["7.11.3","LASTRO COM MATERIAL GRANULAR (PEDRA BRITADA N.1 E PEDRA BRITADA N.2), APLICADO EM PISOS OU LAJES SOBRE SOLO, ESPESSURA DE *10 CM*. AF_07/2019","M3",23.091000000000001,142.05000000000001,{"$f":"ROUND(D74*E74,2)","v":3280.08}]
["7.11.4","LONA PLASTICA EXTRA FORTE PRETA, E = 200 MICRA","M2    ",461.82,3.02,1394.7]
["7.11.5","EXECUÇÃO DE PASSEIO (CALÇADA) OU PISO DE CONCRETO COM CONCRETO MOLDADO IN LOCO, USINADO, ACABAMENTO CONVENCIONAL, NÃO ARMADO. AF_07/2016","M3",61.618900000000004,749.98,{"$f":"ROUND(D76*E76,2)","v":46212.94}]
["7.11.6","ARMAÇÃO PARA EXECUÇÃO DE RADIER, COM USO DE TELA Q-92. AF_09/2017 - CONSIDERADO 1,48KG/M² DE ÁREA (CONFORME TABELA DA FABRICANTE PARA A TELA Q-92).","KG",1302.7996000000001,34.200000000000003,44555.75]
[]
["7.12","REVESTIMENTOS",null,null,null,{"$f":"SUBTOTAL(9,F80)","v":0}]
[]
["7.13","GRANITO",null,null,null,{"$f":"SUBTOTAL(9,F82)","v":0}]
[]
["7.14","FORRO",null,null,null,{"$f":"SUBTOTAL(9,F84)","v":0}]
[]
["7.15","PINTURA",null,null,null,{"$f":"SUBTOTAL(9,F86:F89)","v":16823.98}]
["7.15.1","PINTURA DE PISO COM TINTA ACRÍLICA, APLICAÇÃO MANUAL, 2 DEMÃOS, INCLUSO FUNDO PREPARADOR. AF_05/2021","M2",53.66,17.8,{"$f":"ROUND(D86*E86,2)","v":955.15}]
["7.15.2","PINTURA DE PISO COM TINTA EPÓXI, APLICAÇÃO MECÂNICA, 2 DEMÃOS. AF_05/2021","M2",240,44.9,{"$f":"ROUND(D87*E87,2)","v":10776}]
["7.15.3","PINTURA DE DEMARCAÇÃO DE QUADRA POLIESPORTIVA COM TINTA EPÓXI, E = 5 CM, APLICAÇÃO MANUAL. AF_05/2021","M",239,9.58,2289.62]
["7.15.4","PINTURA COM TINTA ALQUÍDICA DE FUNDO E ACABAMENTO (ESMALTE SINTÉTICO GRAFITE) PULVERIZADA SOBRE SUPERFÍCIES METÁLICAS (EXCETO PERFIL) EXECUTADO EM OBRA (POR DEMÃO) - PINTURA DO ALAMBRADO - COR A SER DEFINIDA PELA FISCALIZAÇÃO","M2",130.19999999999999,21.53,{"$f":"ROUND(D89*E89,2)","v":2803.21}]
[]
["7.16","CALÇAMENTO, PÁTIOS E PASSARELAS",null,null,null,{"$f":"SUBTOTAL(9,F92)","v":0}]
[]
["7.17","SERVIÇOS COMPLEMENTARES",null,null,null,{"$f":"SUBTOTAL(9,F94:F97)","v":28140.35}]
["7.17.1","ACESSORIOS QUADRA POLIESPORTIVA",null,null,null,{"$f":"SUBTOTAL(9,F95:F97)","v":28140.35}]
["7.17.1.1","CONJUNTO PARA FUTSAL COM TRAVES OFICIAIS DE 3,00 X 2,00 M EM TUBO DE ACO GALVANIZADO 3\" COM REQUADRO EM TUBO DE 1\", PINTURA EM PRIMER COM TINTA ESMALTE SINTETICO E REDES DE POLIETILENO FIO 4 MM","UN    ",1,7232.9,{"$f":"ROUND(D95*E95,2)","v":7232.9}]
["7.17.1.2","CONJUNTO PARA QUADRA DE  VOLEI COM POSTES EM TUBO DE ACO GALVANIZADO 3\", H = *255* CM, PINTURA EM TINTA ESMALTE SINTETICO, REDE DE NYLON COM 2 MM, MALHA 10 X 10 CM E ANTENAS OFICIAIS EM FIBRA DE VIDRO","UN    ",1,4391,{"$f":"ROUND(D96*E96,2)","v":4391}]
["7.17.1.3","PAR DE TABELAS DE BASQUETE EM COMPENSADO NAVAL DE *1,80 X 1,20* M, COM ARO DE METAL E REDE, INCLUSO SUPORTE EM FERRO GALVANIZADO REMOVÍVEL (ASSENT./ PINTADOS) - 2 UNID.","CJ",1,16516.45,16516.45]
[]
["7.18","INSTALAÇÕES DE SPDA",null,null,null,{"$f":"SUBTOTAL(9,F100:F113)","v":11045.37}]
["7.18.1","ELETRODUTO PVC 40MM (1 ¼ ) PARA SPDA - FORNECIMENTO E INSTALAÇÃO. AF_12/2017","UN",1,53.7,{"$f":"ROUND(D100*E100,2)","v":53.7}]
["7.18.2","FIXAÇÃO DE TUBOS HORIZONTAIS DE PVC, CPVC OU COBRE DIÂMETROS MENORES OU IGUAIS A 40 MM OU ELETROCALHAS ATÉ 150MM DE LARGURA, COM ABRAÇADEIRA METÁLICA RÍGIDA TIPO D 1/2\u0094, FIXADA EM PERFILADO EM LAJE. AF_05/2015","M",2,3.18,{"$f":"ROUND(D101*E101,2)","v":6.36}]
["7.18.3","TERMINAL OU CONECTOR DE PRESSAO - PARA CABO 50MM2 - FORNECIMENTO E INSTALACAO","UN",13,26.83,348.79]
["7.18.4","BUCHA DE NYLON SEM ABA S6, COM PARAFUSO DE 4,20 X 40 MM EM ACO ZINCADO COM ROSCA SOBERBA, CABECA CHATA E FENDA PHILLIPS","UN    ",2,0.41,0.82]
["7.18.5","PARAFUSO ZINCADO, SEXTAVADO, COM ROSCA INTEIRA, DIAMETRO 1/4\", COMPRIMENTO 1/2\"","UN    ",20,0.21,4.2]
["7.18.6","PORCA ZINCADA, SEXTAVADA, DIAMETRO 1/4\"","UN    ",20,0.28999999999999998,5.8]
["7.18.7","CORDOALHA DE COBRE NU 50 MM², ENTERRADA, SEM ISOLADOR - FORNECIMENTO E INSTALAÇÃO. AF_12/2017","M",160,48.59,7774.4]
["7.18.8","HASTE DE ATERRAMENTO 5/8  PARA SPDA - FORNECIMENTO E INSTALAÇÃO. AF_12/2017","UN",10,61.98,619.79999999999995]
["7.18.9","CAIXA DE INSPEÇÃO PARA ATERRAMENTO, CIRCULAR, EM POLIETILENO, DIÂMETRO INTERNO = 0,3 M. AF_12/2020","UN",2,29.87,59.74]
["7.18.10","FORNECIMENTO E INSTALAÇÃO DE CAIXA DE EQUIPOTENCIALIZAÇÃO 20 X 20 X10 CM, P/ 11 TERMINAIS DE PRESSÃO C/ BARRAMENTO","UN",1,229.36,{"$f":"ROUND(D109*E109,2)","v":229.36}]
["7.18.11","ESCAVAÇÃO MECANIZADA DE VALA COM PROF. ATÉ 1,5 M (MÉDIA ENTRE MONTANTE E JUSANTE/UMA COMPOSIÇÃO POR TRECHO), COM RETROESCAVADEIRA (0,26 M3/88 HP), LARG. MENOR QUE 0,8 M, EM SOLO DE 2A CATEGORIA, EM LOCAIS COM ALTO NÍVEL DE INTERFERÊNCIA. AF_02/2021","M3",24,16.850000000000001,404.4]
["7.18.12","REATERRO MECANIZADO DE VALA COM RETROESCAVADEIRA (CAPACIDADE DA CAÇAMBA DA RETRO: 0,26 M³ / POTÊNCIA: 88 HP), LARGURA ATÉ 0,8 M, PROFUNDIDADE ATÉ 1,5 M, COM SOLO (SEM SUBSTITUIÇÃO) DE 1ª CATEGORIA EM LOCAIS COM ALTO NÍVEL DE INTERFERÊNCIA. AF_04/2016","M3",24,21.55,517.20000000000005]
["7.18.13","FORNECIMENTO E INSTALAÇÃO DE SOLDA EXOTÉRMICA CABO-HASTE COM CARTUCHO Nº 90 E MOLDE CABO 35mm²- HASTE 5/8\" ","UN",30,18.34,550.20000000000005]
["7.18.14","FORNECIMENTO E INSTALAÇÃO DE SOLDA EXOTÉRMICA CABO-HASTE COM CARTUCHO Nº115 E MOLDE CABO 50mm²-  HASTE 5/8\" ","UN",20,23.53,{"$f":"ROUND(D113*E113,2)","v":470.6}]
[]
["7.19","INSTALAÇÃO DE COMBATE A INCÊNDIO",null,null,null,{"$f":"SUBTOTAL(9,F116)","v":0}]
[]
["7.20","INSTALAÇÕES ELÉTRICA",null,null,null,{"$f":"SUBTOTAL(9,F118:F175)","v":18067.040000000005}]
["7.20.1","INSTALAÇÕES ELÉTRICA BAIXA TENSÃO",null,null,null,{"$f":"SUBTOTAL(9,F119:F175)","v":18067.040000000005}]
["7.20.1.1","ACESSÓRIOS P/ELETRODUTO E USO GERAL",null,null,null,{"$f":"SUBTOTAL(9,F120:F136)","v":4775.7800000000007}]
["7.20.1.1.1","FORNECIMENTO E INSTALAÇÃO DE ABRAÇADEIRA DE AÇO, TIPO D, 3/4\", COM CUNHA","UN",123,6.59,{"$f":"ROUND(D120*E120,2)","v":810.57}]
["7.20.1.1.2","FORNECIMENTO E INSTALAÇÃO DE ABRAÇADEIRA DE AÇO, TIPO D, 1\", COM CUNHA","UN",6,6.75,40.5]
["7.20.1.1.3","FORNECIMENTO E INSTALAÇÃO DE ABRAÇADEIRA DE AÇO, TIPO D, 1.1/2\", COM CUNHA","UN",12,8.56,102.72]
["7.20.1.1.4","FORNECIMENTO E INSTALAÇÃO DE BUCHA E ARRUELA ALUMÍNIO FUNDIDO PARA ELETRODUTO (ZAMAK) 3/4\"","UN",80,2.0299999999999998,162.4]
["7.20.1.1.5","FORNECIMENTO E INSTALAÇÃO DE BUCHA E ARRUELA ALUMÍNIO FUNDIDO PARA ELETRODUTO (ZAMAK) 1\"","UN",2,2.41,4.82]
["7.20.1.1.6","FORNECIMENTO E INSTALAÇÃO DE BUCHA E ARRUELA ALUMÍNIO FUNDIDO PARA ELETRODUTO (ZAMAK) 1.1/2\"","UN",3,5.36,16.079999999999998]
["7.20.1.1.7","FORNECIMENTO E INSTALAÇÃO DE BOX RETO PARA ELETRODUTO 3/4\"","UN",80,5.68,454.4]
["7.20.1.1.8","FORNECIMENTO E INSTALAÇÃO DE BOX RETO PARA ELETRODUTO 1\"","UN",2,8.0399999999999991,16.079999999999998]
["7.20.1.1.9","FORNECIMENTO E INSTALAÇÃO DE BOX RETO PARA ELETRODUTO 1.1/2\"","UN",3,15.71,47.13]
["7.20.1.1.10","CONDULETE DE ALUMÍNIO, TIPO X, PARA ELETRODUTO DE AÇO GALVANIZADO DN 20 MM (3/4''), APARENTE - FORNECIMENTO E INSTALAÇÃO. AF_11/2016_P","UN",38,38.119999999999997,1448.56]
["7.20.1.1.11","FORNECIMENTO E INSTALAÇÃO DE PLACA CEGA DE ALUMÍNIO  P/ CONDULETE","UN",34,32.700000000000003,1111.8]
["7.20.1.1.12","FORNECIMENTO E INSTALAÇÃO DE PLACA  4X2\" EM ALUMINIO, COM  1 FUNÇÃO RETANGULAR","UN",4,8.01,32.04]
["7.20.1.1.13","FORNECIMENTO E INSTALAÇÃO DE ARAME AÇO GALVANIZADO 18 BWG, 1,24MM (0,009 KG/M)","M",111,0.77,85.47]
["7.20.1.1.14","FORNECIMENTO E INSTALAÇÃO DE ARRUELA LISA GALVANIZADA 1/4\"","UN",283,0.59,166.97]
["7.20.1.1.15","FORNECIMENTO E INSTALAÇÃO DE PARAFUSO ZINCADO, AUTOBROCANTE, FLANGEADO, 4,2 MM X 19 MM","CENTO",3,64.38,193.14]
["7.20.1.1.16","FORNECIMENTO E INSTALAÇÃO DE BUCHA / PARAFUSO S10","UN",10,4.75,47.5]
["7.20.1.1.17","FORNECIMENTO E INSTALAÇÃO DE VERGALHÃO GALVANIZADO ROSCA TOTAL 1/4\"","M",2,17.8,35.6]
[null,""]
["7.20.1.2","ACESSÓRIOS P/ELETRODUTO E USO GERAL",null,null,null,{"$f":"SUBTOTAL(9,F139:F141)","v":236.43}]
["7.20.1.2.1","CAIXA DE PASSAGEM 15X15X10CM (EMBUTIR), FORNECIMENTO E INSTALACAO. AF_11/2019","UN",1,44.78,{"$f":"ROUND(D139*E139,2)","v":44.78}]
["7.20.1.2.2","FORNECIMENTO E INSTALAÇÃO DE CONECTOR RETO DE ALUMÍNIO P/ ELETRODUTO 3/4\"","UN",1,3.38,3.38]
["7.20.1.2.3","CAIXA ENTERRADA ELÉTRICA RETANGULAR, EM ALVENARIA COM TIJOLOS CERÂMICOS MACIÇOS, COM TAMPA, FUNDO COM BRITA, DIMENSÕES INTERNAS: 0,3X0,3X0,3 M. AF_12/2020","UN",1,188.27,188.27]
[null,""]
["7.20.1.3","CABOS",null,null,null,{"$f":"SUBTOTAL(9,F144:F146)","v":6038.95}]
["7.20.1.3.1","FORNECIMENTO E INSTALAÇÃO DE CABO DE COBRE FLEXÍVEL ISOL. TERMOPLASTICO ATOX 750V - 4 MM² (TP SINTENAX PIRELLI OU SIMILAR)","M",700,7.06,{"$f":"ROUND(D144*E144,2)","v":4942}]
["7.20.1.3.2","FORNECIMENTO E INSTALAÇÃO DE  CABO DE COBRE FLEXÍVEL ISOLADO, 10 MM², ANTI-CHAMA 0,6/1,0 KV - ATOX","M",70,12.54,877.8]
["7.20.1.3.3","FORNECIMENTO E INSTALAÇÃO DE CABO DE COBRE PP 3X2,5MM² - ISOL. TERMOPLASTICO ATOX 750V","M",45,4.87,219.15]
[null,""]
["7.20.1.4","DISPOSITIVO ELÉTRICO EMBUTIDO",null,null,null,{"$f":"SUBTOTAL(9,F149)","v":91.32}]
["7.20.1.4.1","FORNECIMENTO E INSTALAÇÃO DE MODULO DE TOMADA ELETRICA 2P+T - 20A","UN",4,22.83,{"$f":"ROUND(D149*E149,2)","v":91.32}]
[null,""]
["7.20.1.5","DISPOSITIVO DE PROTEÇÃO",null,null,null,{"$f":"SUBTOTAL(9,F152:F154)","v":665.54000000000008}]
["7.20.1.5.1","DISJUNTOR MONOPOLAR TIPO DIN, CORRENTE NOMINAL DE 16A - FORNECIMENTO E INSTALAÇÃO. AF_10/2020","UN",4,13.72,{"$f":"ROUND(D152*E152,2)","v":54.88}]
["7.20.1.5.2","DISJUNTOR TRIPOLAR TIPO DIN, CORRENTE NOMINAL DE 40A - FORNECIMENTO E INSTALAÇÃO. AF_10/2020","UN",1,97.7,97.7]
["7.20.1.5.3","FORNECIMENTO E INSTALAÇÃO DE DISPOSITIVO DPS, 1 POLO, 175 V, 45 KA","UN",4,128.24,512.96]
[null,""]
["7.20.1.6","ELETRODUTOS",null,null,null,{"$f":"SUBTOTAL(9,F157:F163)","v":1977.4199999999998}]
["7.20.1.6.1","ELETRODUTO RÍGIDO ROSCÁVEL, PVC, DN 25 MM (3/4\") - FORNECIMENTO E INSTALAÇÃO. ","M",123,8.61,{"$f":"ROUND(D157*E157,2)","v":1059.03}]
["7.20.1.6.2","ELETRODUTO RÍGIDO ROSCÁVEL, PVC, DN 32 MM (1\") - FORNECIMENTO E INSTALAÇÃO. AF_12/2015","M",6,11.95,71.7]
["7.20.1.6.3","ELETRODUTO RÍGIDO ROSCÁVEL, PVC, DN 50 MM (1 1/2\") - FORNECIMENTO E INSTALAÇÃO. AF_12/2015","M",12,15.01,180.12]
["7.20.1.6.4","ELETRODUTO FLEXÍVEL CORRUGADO, PEAD, DN 50 (1 ½\u0094)  - FORNECIMENTO E INSTALAÇÃO. AF_04/2016","M",20,7.73,154.6]
["7.20.1.6.5","FORNECIMENTO E INSTALAÇÃO DE ELETRODUTO METÁLICO FLEXIVEL, COM PROTEÇÃO EM PVC PRETO (SEALTUBO) - 3/4\"","M",4,21.53,86.12]
["7.20.1.6.6","ESCAVAÇÃO MANUAL DE VALA COM PROFUNDIDADE MENOR OU IGUAL A 1,30 M. AF_02/2021","M3",3.5,75.75,{"$f":"ROUND(D162*E162,2)","v":265.13}]
["7.20.1.6.7","REATERRO MANUAL APILOADO COM SOQUETE. AF_10/2017","M3",3.5,45.92,{"$f":"ROUND(D163*E163,2)","v":160.72}]
[null,""]
["7.20.1.7","LUMINÁRIAS E ACESSÓRIOS",null,null,null,{"$f":"SUBTOTAL(9,F166:F166)","v":3663.9}]
["7.20.1.7.1","FORNECIMENTO E INSTALAÇÃO DE REFLETOR HOLOFOTE LED 100W, IP 66, ÂNGULO DE ABERTURA DE 120°, TEMPERATURA DE COR 6000K (REF.: ILUMINIM RSPM-50WBF OU SIMILAR)","UN",30,122.13,{"$f":"ROUND(D166*E166,2)","v":3663.9}]
[null,""]
["7.20.1.8","QUADRO DE DISTRIBUIÇÃO",null,null,null,{"$f":"SUBTOTAL(9,F169:F169)","v":434.34}]
["7.20.1.8.1","FORNECIMENTO E INSTALAÇÃO DE QUADRO DISTRIBUIÇÃO DE EMBUTIR, EM PVC BRANCO, COM BARRAMENTO TRIFÁSICO 100A TIPO PENTE, CAPACIDADE PARA: 24 DISJUNTORES UNIPOLARES TIPO DIN, COM BARRAMENTO NEUTRO E TERRA, CONFORME DIAGRAMA DE PROJETO  (QD.QDA), EXCETO DISJUN","UN",1,434.34,{"$f":"ROUND(D169*E169,2)","v":434.34}]
[null,""]
["7.20.1.9","TERMINAIS",null,null,null,{"$f":"SUBTOTAL(9,F172:F175)","v":183.35999999999999}]
["7.20.1.9.1","FORNECIMENTO E INSTALAÇÃO DE TERMINAL DE COMPRESSÃO 4 - 6MM²","UN",12,7.88,{"$f":"ROUND(D172*E172,2)","v":94.56}]
["7.20.1.9.2","FORNECIMENTO E INSTALAÇÃO DE ABRAÇADEIRA NYLON 3,5X300MM","UN",100,0.33,33]
["7.20.1.9.3","FORNECIMENTO E INSTALAÇÃO DE FITA ISOLANTE DE BORRACHA AUTO-FUSÃO","UN",1,2.04,2.04]
["7.20.1.9.4","FORNECIMENTO E INSTALAÇÃO DE FITA ISOLANTE 19MMX20M","UN",3,17.920000000000002,53.76]
[]
["7.21","LOGICA E TELEFONICA",null,null,null,{"$f":"SUBTOTAL(9,F178)","v":0}]
[]
["7.22","CLIMATIZAÇÃO - AR CONDICIONADO",null,null,null,{"$f":"SUBTOTAL(9,F180)","v":0}]
[]
["7.23","INFRAESTRUTURA PARA INSTALAÇÃO DE AUDIO E VÍDEO",null,null,null,{"$f":"SUBTOTAL(9,F182)","v":0}]
[]
["7.24","INSTALAÇÕES HIDRAULICAS ",null,null,null,{"$f":"SUBTOTAL(9,F184:F184)","v":0}]
[]
["7.25","ÁGUAS PLUVIAIS DE COBERTURA",null,null,null,{"$f":"SUBTOTAL(9,F186:F186)","v":0}]
[]
["7.26","INSTALAÇÕES SANITÁRIAS",null,null,null,{"$f":"SUBTOTAL(9,F188:F188)","v":0}]
[]
["7.27","LOUÇAS E METÁIS",null,null,null,{"$f":"SUBTOTAL(9,F190:F190)","v":0}]
[]
["7.28","SISTEMA DE TRATAMENTO DE ESGOTO",null,null,null,{"$f":"SUBTOTAL(9,F192)","v":0}]
[]
["7.29","LIMPEZA CONTÍNUA DA OBRA",null,null,null,{"$f":"SUBTOTAL(9,F194)","v":0}]
[]
["7.30","LIMPEZA FINAL PARA ENTREGA",null,null,null,{"$f":"SUBTOTAL(9,F196)","v":1244.1300000000001}]
["7.30.1","LIMPEZA FINAL PARA ENTREGA","M2",407.91,3.05,{"$f":"ROUND(D196*E196,2)","v":1244.1300000000001}]
[]
["VALOR TOTAL",null,null,null,null,{"$f":"SUBTOTAL(9,F14:F197)","v":640438.56999999972}]

{"sheet":"8_SALA DE DANÇA","index":9,"n_rows":390,"n_cols":6,"rows_kept":390,"cut":false,"hidden":true,"merged":[[10,0,10,5],[0,0,3,2],[0,3,1,5],[2,3,3,3],[2,4,3,4],[2,5,3,5],[4,0,4,5],[5,0,5,5],[6,0,6,5],[7,0,7,5],[8,0,8,5],[9,0,9,5]]}
["                                 PLANILHA ORÇAMENTARIA   ",null,null,"SPN-FF-003"]
[]
[null,null,null,"Folha:              1 de 1","Revisão:      \n02","Data: \n07/10/19"]
[]
["SESI - SERVIÇO SOCIAL DA INDUSTRIA - DR/MT"]
["OBRA: CONTRATAÇÃO DE EMPRESA ESPECIALIZADA PARA CONTINUIDADE DA EXECUÇÃO DA OBRA DE REFORMA E AMPLIAÇÃO DA UNIDADE DO SESI ESCOLA VÁRZEA GRANDE/MT."]
["UNIDADE OPERACIONAL: SESI ESCOLA VÁRZEA GRANDE"]
["ENDEREÇO: AV. DOM ORLANDO CHAVES, N.º 1.086, PONTE NOVA - CRISTO REI         CIDADE: VÁRZEA GRANDE/MT"]
["CONSTRUTORA:"]
["RESPONSÁVEL TÉCNICO:"]
["BASE SINAPI UTILIZADA: 06/2021"]
["ITEM","DESCRIÇÃO","UNID.","QUANT.","Valor UNIT. (R$)","Valor Total (R$)"]
[]
[8,"SALA DE DANÇA"]
[]
["8.0","DEMOLIÇÕES E RETIRADAS",null,null,null,{"$f":"SUBTOTAL(9,F17:F29)","v":19200.309999999998}]
["8.0.1","DEMOLIÇÃO",null,null,null,{"$f":"SUBTOTAL(9,F18:F29)","v":19200.309999999998}]
["8.0.1.1","DEMOLIÇÃO DE ALVENARIA DE BLOCO FURADO, DE FORMA MANUAL, SEM REAPROVEITAMENTO. AF_12/2017","M3",16.850000000000001,49.97,{"$f":"ROUND(D18*E18,2)","v":841.99}]
["8.0.1.2","REMOÇÃO DE PINTURA LÁTEX OU TEXTURA (RASPAGEM E/OU LIXAMENTO E/OU ESCOVAÇÃO","M2",206.99,7.66,1585.54]
["8.0.1.3","REMOÇÃO DE LOUÇAS, DE FORMA MANUAL, SEM REAPROVEITAMENTO, ARMAZENAMENTO EM LOCAL INDICADO PELA FISCALIZAÇÃO","UN",29,10.86,314.94]
["8.0.1.4","REMOÇÃO DE PORTAS, DE FORMA MANUAL, SEM REAPROVEITAMENTO, ARMAZENAMENTO EM LOCAL INDICADO PELA FISCALIZAÇÃO","M2",26.67,8.14,217.09]
["8.0.1.5","DEMOLIÇÃO DE REVESTIMENTO CERÂMICO, DE FORMA MECANIZADA COM MARTELETE, SEM REAPROVEITAMENTO. AF_12/2017","M2",494.03,10.45,5162.6099999999997]
["8.0.1.6","DEMOLIÇÃO MANUAL DE PISO EM CONCRETO SIMPLES INCLUSIVE LASTRO DE CONCRETO","M2",152.69,34.07,5202.1499999999996]
["8.0.1.7","REMOÇÃO DE TRAMA DE MADEIRA PARA COBERTURA, DE FORMA MANUAL, SEM REAPROVEITAMENTO.","M2",55.44,6.73,373.11]
["8.0.1.8","REMOÇÃO DE TELHAS, DE FIBROCIMENTO, METÁLICA E CERÂMICA, DE FORMA MANUAL, SEM REAPROVEITAMENTO. ","M2",184.8,3.12,576.58000000000004]
["8.0.1.9","LIMPEZA DE CONTRAPISO COM VASSOURA A SECO - LIMPEZA DA LAJE DA COBERTURA","M2",184.8,3.16,583.97]
["8.0.1.10","DEMOLIÇÃO DE PISO, SOLEIRAS, BANCADAS EM REVESTIDO DE GRANITO","M2",2.87,20.84,59.81]
["8.0.1.11","RETIRADA DE CIRCUITOS ELÉTRICOS EM GERAL, INCLUSO: TOMADAS ELÉTRICAS,  LÓGICAS E TELEFONE, CABEAMENTOS, ELETRODUTOS, ETC, INCLUSO TRANSPORTE E DEPOSITO EM LOCAL A SER INDICADO PELA FISCALIZAÇÃO","M2",163.98,6.86,1124.9000000000001]
["8.0.1.12","BOTA FORA DE MATERIAL DESCARTADO, D.M.T. = 10 km - (CARGA, TRANSPORTE E DESCARGA MECÂNICA)","M3",53.82,58.67,3157.62]
[]
["8.1","INSTALAÇÕES DE CANTEIRO",null,null,null,{"$f":"SUBTOTAL(9,F32)","v":0}]
[]
["8.2","ADMINISTRAÇÃO",null,null,null,{"$f":"SUBTOTAL(9,F34)","v":0}]
[]
["8.3","TERRAPLENAGEM",null,null,null,{"$f":"SUBTOTAL(9,F36)","v":0}]
[]
["8.4","FUNDAÇÃO",null,null,null,{"$f":"SUBTOTAL(9,F38:F38)","v":0}]
[]
["8.5","IMPERMEABILIZAÇÃO",null,null,null,{"$f":"SUBTOTAL(9,F40)","v":2499.46}]
["8.5.1","IMPERMEABILIZAÇÃO DE SUPERFÍCIE COM EMULSÃO ASFÁLTICA, 2 DEMÃOS - (DAS CALHAS DE CONCRETO DA LAJE EXISTENTE)","M2",43.02,58.1,{"$f":"ROUND(D40*E40,2)","v":2499.46}]
[]
["8.6","ESTRUTURAS DE CONCRETO ARMADO",null,null,null,{"$f":"SUBTOTAL(9,F43)","v":0}]
[]
["8.7","ALVENARIAS E PAINÉIS",null,null,null,{"$f":"SUBTOTAL(9,F45:F47)","v":4570.5200000000004}]
["8.7.1","ALVENARIA DE VEDAÇÃO DE BLOCOS CERÂMICOS FURADOS NA HORIZONTAL DE 9X19X19CM (ESPESSURA 9CM) DE PAREDES COM ÁREA LÍQUIDA MAIOR OU IGUAL A 6M² COM VÃOS E ARGAMASSA DE ASSENTAMENTO COM PREPARO EM BETONEIRA. AF_06/2014","M2",14.04,89.93,{"$f":"ROUND(D45*E45,2)","v":1262.6199999999999}]
["8.7.2","ALVENARIA DE BLOCOS DE CONCRETO ESTRUTURAL 14X19X39 CM, (ESPESSURA 14 CM), FBK = 4,5 MPA, PARA PAREDES COM ÁREA LÍQUIDA MAIOR OU IGUAL A 6M², SEM VÃOS, UTILIZANDO PALHETA. AF_12/2014","M2",39.360000000000007,78.12,3074.8]
["8.7.3","VERGA MOLDADA IN LOCO EM CONCRETO PARA PORTAS COM MAIS DE 1,5 M DE VÃO. AF_03/2016","M",2.52,92.5,233.1]
[]
["8.8","ESTRUTURA METALICA - REFORÇO EM LAJE",null,null,null,{"$f":"SUBTOTAL(9,F50:F51)","v":8161.68}]
["8.8.1","VIGA METÁLICA EM PERFIL LAMINADO OU SOLDADO EM AÇO ESTRUTURAL, COM CONEXÕES SOLDADAS, INCLUSOS MÃO DE OBRA, TRANSPORTE E IÇAMENTO UTILIZANDO GUINDASTE - FORNECIMENTO E INSTALAÇÃO - REFORÇO EM LAJE COM VIGA METÁLICA 2C200X75X25CH2,65 CHUMBADA EM PILARES EXISTENTES","KG",385.89,21.01,{"$f":"ROUND(D50*E50,2)","v":8107.55}]
["8.8.2","PINTURA COM TINTA ALQUÍDICA DE FUNDO (TIPO ZARCÃO) PULVERIZADA SOBRE SUPERFÍCIES METÁLICAS (EXCETO PERFIL) EXECUTADO EM OBRA (POR DEMÃO). AF_01/2020_P","M2",2.54,21.31,54.13]
[]
["8.9","COBERTURA",null,null,null,{"$f":"SUBTOTAL(9,F54:F57)","v":27975.059999999998}]
["8.9.1","CUMEEIRA METÁLICA AÇO GALVALUME TRAPEZOIDAL 40 40X60CM - FORNECIMENTO E INSTALAÇÃO","M",23.9,84.19,{"$f":"ROUND(D54*E54,2)","v":2012.14}]
["8.9.2","TELHAMENTO COM TELHA DE AÇO/ALUMÍNIO E = 0,5 MM, COM ATÉ 2 ÁGUAS, INCLUSO IÇAMENTO. AF_07/2019","M2",184.8,105.32,19463.14]
["8.9.3","RECOMPOSIÇÃO DE TRAMA DE MADEIRA COMPOSTA POR TERÇAS PARA TELHADOS DE ATÉ 2 ÁGUAS PARA TELHA ONDULADA DE FIBROCIMENTO, METÁLICA, PLÁSTICA OU TERMOACÚSTICA, INCLUSO TRANSPORTE VERTICAL - CONSIDERADO 30% DA COBERTURA.","M2",55.44,15.94,883.71]
["8.9.4","EXECUÇÃO DE TRATAMENTO EM ESTRUTURA DE MADEIRA DE COBERTURA COM APLICAÇÃO DE FUNGICIDA","M2",184.8,30.39,5616.07]
[]
["8.10","ESQUADRIAS",null,null,null,{"$f":"SUBTOTAL(9,F60:F60)","v":10083.450000000001}]
["8.10.1","P1 E P5 - PORTA EM ALUMÍNIO DE ABRIR TIPO VENEZIANA COM GUARNIÇÃO, FIXAÇÃO COM PARAFUSOS - FORNECIMENTO E INSTALAÇÃO","M2",14.85,679.02,{"$f":"ROUND(D60*E60,2)","v":10083.450000000001}]
[]
["8.11","PISOS",null,null,null,{"$f":"SUBTOTAL(9,F63:F66)","v":42165.58}]
["8.11.1","CONTRAPISO DE CONCRETO, ESPESSURA 7CM, PREPARO MECANICO","M2",197.22,42.03,{"$f":"ROUND(D63*E63,2)","v":8289.16}]
["8.11.2","REVESTIMENTO CERÂMICO PARA PISO COM PLACAS TIPO PORCELANATO DE DIMENSÕES 90X90 CM APLICADA EM AMBIENTES INTERNOS - MODELO ELIANE MUNARI BRANCO AC OU SIMILAR","M2",42.400000000000006,115.35,4890.84]
["8.11.3","PISO FLUTUANTE PARA AULAS DE DANÇA EM COMPENSADO NAVAL, 18MM REVESTIDO DE LINÓLEO ","M²",110.29,241.09,26589.82]
["8.11.4","RODAPÉ EM POLIESTIRENO, ALTURA 10 CM, REF. SANTA LUZIA LEV102 OU SIMILAR, NA COR BRANCA","M",44.440000000000005,53.91,{"$f":"ROUND(D66*E66,2)","v":2395.7600000000002}]
[]
["8.12","REVESTIMENTOS",null,null,null,{"$f":"SUBTOTAL(9,F69:F72)","v":22211.73}]
["8.12.1","CHAPISCO APLICADO EM ALVENARIAS E ESTRUTURAS DE CONCRETO INTERNAS, COM ROLO PARA TEXTURA ACRÍLICA.  ARGAMASSA TRAÇO 1:4 E EMULSÃO POLIMÉRICA (ADESIVO) COM PREPARO EM BETONEIRA 400L. AF_06/2014","M2",84.929999999999993,8.59,{"$f":"ROUND(D69*E69,2)","v":729.55}]
["8.12.2","EMBOÇO OU MASSA ÚNICA EM ARGAMASSA TRAÇO 1:2:8, PREPARO MECÂNICO COM BETONEIRA 400 L, APLICADA MANUALMENTE EM PANOS DE FACHADA COM PRESENÇA DE VÃOS, ESPESSURA DE 25 MM. AF_06/2014","M2",84.929999999999993,55.05,4675.3999999999996]
["8.12.3","REVESTIMENTO CERAMICO PORTOBELLO GLACIE WHITE 30X60CM, INCLUSO E REJUNTE - FORNECIMENTO E INSTALAÇÃO (AZULEJO FORNECIDO PELO SESI)","M2",141.97,84.59,12009.24]
["8.12.4","REVESTIMENTO CERÂMICO PARA PAREDES EXTERNAS EM PASTILHAS JATOBÁ DE PORCELANA 5 X 5 CM (PLACAS DE 30 X 30 CM), ALINHADAS A PRUMO, JD. 4102 - PÉROLA OCEANO (JATOBÁ OU SIMILAR)","M2",23.659999999999997,202.77,4797.54]
[]
["8.13","GRANITO",null,null,null,{"$f":"SUBTOTAL(9,F75:F76)","v":1882.82}]
["8.13.1","BANCADA DE GRANITO CINZA ANDORINHA, SOBRE MÃOS-FRANCESAS METÁLICAS, ESP=2cm COM FRONTÃO 20cm, SAIA COM ACAB. DE MEIA ESQUADRIA E REFORÇO INFERIOR DE BORDA E CORTE PARA INST. DE CUBAS DE LOUÇA OVAL DE EMBUTIR LOCAL","M2",2.08,782.35,{"$f":"ROUND(D75*E75,2)","v":1627.29}]
["8.13.2","SOLEIRA EM GRANITO, LARGURA 15 CM, ESPESSURA 2,0 CM. AF_09/2020","M",2.7,94.64,255.53]
[]
["8.14","FORRO",null,null,null,{"$f":"SUBTOTAL(9,F79:F81)","v":8791.1899999999987}]
["8.14.1","FORRO ACÚSTICO DE FIBRA MINERAL 625 MM X 625 MM TEGULAR,  INSTALADOS EM PERFIL \"T\", SUPENSO POR PENDURAIS EM ARRAME GALVANIZADO A CADA 1250X1250MM (PLACAS DE FORRO FORNECIDO PELO SESI)","M2",94.52,38.880000000000003,{"$f":"ROUND(D79*E79,2)","v":3674.94}]
["8.14.2","FORRO EM DRYWALL, PARA AMBIENTES COMERCIAIS, INCLUSIVE ESTRUTURA DE FIXAÇÃO.","M2",58.17,79.42,4619.8599999999997]
["8.14.3","ACABAMENTOS PARA FORRO (SANCA DE GESSO MONTADA NA OBRA).","M2",9.0399999999999991,54.91,{"$f":"ROUND(D81*E81,2)","v":496.39}]
[]
["8.15","PINTURA",null,null,null,{"$f":"SUBTOTAL(9,F84:F88)","v":16296.150000000001}]
["8.15.1","APLICAÇÃO DE FUNDO SELADOR ACRÍLICO EM PAREDES, UMA DEMÃO. AF_06/2014","M2",341.81,2.06,{"$f":"ROUND(D84*E84,2)","v":704.13}]
["8.15.2","APLICAÇÃO E LIXAMENTO DE MASSA LÁTEX EM PAREDES, DUAS DEMÃOS. AF_06/2014","M2",220.26,14.96,3295.09]
["8.15.3","APLICAÇÃO MANUAL DE PINTURA COM TINTA LÁTEX ACRÍLICA EM PAREDES, DUAS DEMÃOS. AF_06/2014","M2",220.26,15,{"$f":"ROUND(D86*E86,2)","v":3303.9}]
["8.15.4","TEXTURA ACRÍLICA, APLICAÇÃO MANUAL EM PAREDE, UMA DEMÃO. AF_09/2016","M2",286.21999999999997,15.6,4465.03]
["8.15.5","APLICAÇÃO MANUAL DE TINTA LÁTEX ACRÍLICA EM PAREDE EXTERNAS, DUAS DEMÃOS.","M2",286.21999999999997,15.82,4528]
[]
["8.16","CALÇAMENTO, PÁTIOS E PASSARELAS",null,null,null,{"$f":"SUBTOTAL(9,F91)","v":0}]
[]
["8.17","SERVIÇOS COMPLEMENTARES",null,null,null,{"$f":"SUBTOTAL(9,F93:F97)","v":53426.69}]
["8.17.1","ESPELHO  CRISTAL E=4MM, FORNECIMENTO E INSTALAÇÃO","M2",37.42,549.79999999999995,{"$f":"ROUND(D93*E93,2)","v":20573.52}]
["8.17.2","FORNECIMENTO E INSTALAÇÃO CORRIMÃO DUPLO, DIÂMETRO EXTERNO = 1 1/2\", EM AÇO GALVANIZADO.","M",11.79,235.34,{"$f":"ROUND(D94*E94,2)","v":2774.66}]
["8.17.3","FORNECIMENTO E INSTALAÇÃO DE CORRIMÃO EM ESCADA EM TUBOS DE AÇO INOX DE 1.1/2\" - CHAPA #16, FIXADO EM PAREDE DE ALVENARIA ATRAVÉS DE VERGALÃO EM AÇO INÓX, INCLUSIVE CANOPLA EM AÇO INÓX DE ACABAMENTO NA BASE DOS VERGALHÕES - INTERNO NA SALA DE DANÇA","M",12.39,126.71,{"$f":"ROUND(D95*E95,2)","v":1569.94}]
["8.17.4","FORNECIMENTO E INSTALAÇÃO DE GUARDA CORPO H=1,30M, COLUNAS DIÂM. 1 1/2\" A CADA 1M, TUBO HORIZONTAL SUPERIOR E INFERIOR DE DIÂM 1 1/2\", TUBO VERTICAIS 3/4\" A CADA 11CM E COM CORRIMÃO DUPLO H=0,92CM/H=0,7CM DE GALVANIZADO - CONFORME PROJETO E MEMORIAL","M",6.59,1147.97,{"$f":"ROUND(D96*E96,2)","v":7565.12}]
["8.17.5","GUARDA-CORPO DE AÇO GALVANIZADO DE 1,30M DE ALTURA, MONTANTES TUBULARES DE 1.1/2\u0094 ESPAÇADOS DE 1,20M, TRAVESSA SUPERIOR E INFERIOR DE 2\"\u0094, GRADIL FORMADO POR BARRAS DE Ø3/4\" A CADA 11CM, FIXADO COM CHUMBADOR MECÂNICO, INCLUSO PINTURA NA COR CINZA.","M",28.869999999999997,725.44,20943.45]
[]
["8.18","INSTALAÇÕES DE SPDA",null,null,null,{"$f":"SUBTOTAL(9,F100)","v":0}]
[]
["8.19","INSTALAÇÃO DE COMBATE A INCÊNDIO",null,null,null,{"$f":"SUBTOTAL(9,F102)","v":0}]
[]
["8.20","INSTALAÇÕES ELÉTRICA",null,null,null,{"$f":"SUBTOTAL(9,F104:F235)","v":40030.319999999978}]
["8.20.1","ELÉTRICA BT / AR CONDICONADO - BLOCO SALA DE DANÇA",null,null,null,{"$f":"SUBTOTAL(9,F105:F180)","v":36165.009999999995}]
["8.20.1.1","ACESSÓRIOS P/ELETRODUTO E USO GERAL",null,null,null,{"$f":"SUBTOTAL(9,F106:F124)","v":5136.9800000000005}]
["8.20.1.1.1","FORNECIMENTO E INSTALAÇÃO DE ABRAÇADEIRA DE AÇO, TIPO D, 3/4\", COM CUNHA","UN",140,6.59,{"$f":"ROUND(D106*E106,2)","v":922.6}]
["8.20.1.1.2","FORNECIMENTO E INSTALAÇÃO DE ABRAÇADEIRA DE AÇO, TIPO D, 1\", COM CUNHA","UN",30,6.75,202.5]
["8.20.1.1.3","FORNECIMENTO E INSTALAÇÃO DE BUCHA E ARRUELA ALUMÍNIO FUNDIDO PARA ELETRODUTO (ZAMAK) 3/4\"","UN",32,2.0299999999999998,64.959999999999994]
["8.20.1.1.4","FORNECIMENTO E INSTALAÇÃO DE BUCHA E ARRUELA ALUMÍNIO FUNDIDO PARA ELETRODUTO (ZAMAK) 1\"","UN",4,2.41,9.64]
["8.20.1.1.5","FORNECIMENTO E INSTALAÇÃO DE BOX RETO PARA ELETRODUTO 3/4\"","UN",32,5.68,181.76]
["8.20.1.1.6","FORNECIMENTO E INSTALAÇÃO DE BOX RETO PARA ELETRODUTO 1\"","UN",4,8.0399999999999991,32.159999999999997]
["8.20.1.1.7","FORNECIMENTO E INSTALAÇÃO DE PRENSA CABO 1/2\"","UN",14,30.33,424.62]
["8.20.1.1.8","CAIXA RETANGULAR 4\" X 2\" PVC - FORNECIMENTO E INSTALAÇÃO. ","UN",34,8.9600000000000009,304.64]
["8.20.1.1.9","FORNECIMENTO E INSTALAÇÃO DE PLACA CEGA PVC 4X2\"","UN",6,4.82,28.92]
["8.20.1.1.10","FORNECIMENTO E INSTALAÇÃO DE SAÍDA LATERAL PERFILADO P/ ELETRODUTO 3/4\"","UN",12,18.510000000000002,222.12]
["8.20.1.1.11","FORNECIMENTO E INSTALAÇÃO DE SAÍDA LATERAL PERFILADO P/ ELETRODUTO 1\"","UN",4,14.87,59.48]
["8.20.1.1.12","FORNECIMENTO E INSTALAÇÃO DE ARAME AÇO GALVANIZADO 18 BWG, 1,24MM (0,009 KG/M)","M",111,0.77,85.47]
["8.20.1.1.13","FORNECIMENTO E INSTALAÇÃO DE ARRUELA LISA GALVANIZADA 1/4\"","UN",102,0.59,60.18]
["8.20.1.1.14","FORNECIMENTO E INSTALAÇÃO DE BUCHA / PARAFUSO S8","UN",212,4.4400000000000004,941.28]
["8.20.1.1.15","FORNECIMENTO E INSTALAÇÃO DE BUCHA / PARAFUSO S10","UN",12,4.75,57]
["8.20.1.1.16","FORNECIMENTO E INSTALAÇÃO DE CHUMBADOR PARABOLT AÇO 1/4\" X 3\"","UN",35,13.59,475.65]
["8.20.1.1.17","FORNECIMENTO E INSTALAÇÃO DE PARAFUSO GALVAN. CABEÇA LOSANGULAR 1/4\"X1\" - AUTO TRAVANTE PERFILADO","UN",32,6.88,220.16]
["8.20.1.1.18","FORNECIMENTO E INSTALAÇÃO DE PORCA SEXTAVADA GALVAN. 1/4\"","UN",102,0.42,42.84]
["8.20.1.1.19","FORNECIMENTO E INSTALAÇÃO DE VERGALHÃO GALVANIZADO ROSCA TOTAL 1/4\"","M",45,17.8,801]
[null,""]
["8.20.1.2","ACESSÓRIOS P/ELETRODUTO E USO GERAL",null,null,null,{"$f":"SUBTOTAL(9,F127:F127)","v":941.35}]
["8.20.1.2.1","CAIXA ENTERRADA ELÉTRICA RETANGULAR, EM ALVENARIA COM TIJOLOS CERÂMICOS MACIÇOS, COM TAMPA, FUNDO COM BRITA, DIMENSÕES INTERNAS: 0,3X0,3X0,3 M. AF_12/2020","UN",5,188.27,{"$f":"ROUND(D127*E127,2)","v":941.35}]
[null,""]
["8.20.1.3","CABOS",null,null,null,{"$f":"SUBTOTAL(9,F130:F133)","v":8914.2999999999993}]
["8.20.1.3.1","FORNECIMENTO E INSTALAÇÃO DE CABO DE COBRE FLEXÍVEL ISOL. TERMOPLASTICO ATOX 750V - 2,5 MM² (TP SINTENAX PIRELLI OU SIMILAR)","M",1050,4.83,{"$f":"ROUND(D130*E130,2)","v":5071.5}]
["8.20.1.3.2","FORNECIMENTO E INSTALAÇÃO DE CABO DE COBRE FLEXÍVEL ISOL. TERMOPLASTICO ATOX 750V - 4 MM² (TP SINTENAX PIRELLI OU SIMILAR)","M",300,7.06,2118]
["8.20.1.3.3","FORNECIMENTO E INSTALAÇÃO DE CABO DE COBRE FLEXÍVEL ISOL. TERMOPLASTICO ATOX 750V - 6 MM² (TP SINTENAX PIRELLI OU SIMILAR)","M",150,10.199999999999999,1530]
["8.20.1.3.4","FORNECIMENTO E INSTALAÇÃO DE CABO DE COBRE PP 3X2,5MM² - ISOL. TERMOPLASTICO ATOX 750V","M",40,4.87,194.8]
[null,""]
["8.20.1.4","DISPOSITIVO ELÉTRICO EMBUTIDO",null,null,null,{"$f":"SUBTOTAL(9,F136:F140)","v":616.57999999999993}]
["8.20.1.4.1","INTERRUPTOR SIMPLES (1 MÓDULO), 10A/250V, INCLUINDO SUPORTE E PLACA - FORNECIMENTO E INSTALAÇÃO. AF_12/2015","UN",5,24.35,{"$f":"ROUND(D136*E136,2)","v":121.75}]
["8.20.1.4.2","INTERRUPTOR SIMPLES (3 MÓDULOS), 10A/250V, INCLUINDO SUPORTE E PLACA - FORNECIMENTO E INSTALAÇÃO. AF_12/2015","UN",1,52.7,52.7]
["8.20.1.4.3","TOMADA DE EMBUTIR (1 MÓDULO), 2P+T 10 A, INCLUINDO SUPORTE E PLACA - FORNECIMENTO E INSTALAÇÃO. AF_12/2015","UN",7,25.73,180.11]
["8.20.1.4.4","TOMADA DE EMBUTIR (1 MÓDULO), 2P+T 20 A, INCLUINDO SUPORTE E PLACA - FORNECIMENTO E INSTALAÇÃO. AF_12/2015","UN",2,27.91,55.82]
["8.20.1.4.5","TOMADA DE EMBUTIR (2 MÓDULOS), 2P+T 10 A, INCLUINDO SUPORTE E PLACA - FORNECIMENTO E INSTALAÇÃO. AF_12/2015","UN",5,41.24,206.2]
[null,""]
["8.20.1.5","DISPOSITIVO DE PROTEÇÃO",null,null,null,{"$f":"SUBTOTAL(9,F143:F151)","v":2756.49}]
["8.20.1.5.1","DISJUNTOR MONOPOLAR TIPO DIN, CORRENTE NOMINAL DE 16A - FORNECIMENTO E INSTALAÇÃO. AF_10/2020","UN",4,13.72,{"$f":"ROUND(D143*E143,2)","v":54.88}]
["8.20.1.5.2","DISJUNTOR BIPOLAR TIPO DIN, CORRENTE NOMINAL DE 16A - FORNECIMENTO E INSTALAÇÃO. AF_10/2020","UN",4,67.28,269.12]
["8.20.1.5.3","DISJUNTOR BIPOLAR TIPO DIN, CORRENTE NOMINAL DE 25A - FORNECIMENTO E INSTALAÇÃO. AF_10/2020","UN",4,69.510000000000005,278.04000000000002]
["8.20.1.5.4","DISJUNTOR BIPOLAR TIPO DIN, CORRENTE NOMINAL DE 32A - FORNECIMENTO E INSTALAÇÃO. AF_10/2020","UN",2,72.19,144.38]
["8.20.1.5.5","FORNECIMENTO E INSTALAÇÃO DE DISJUNTOR TIPO DIN/IEC, TRIPOLAR 100 A  (REF.: MARCA SIEMENS, WEG OU SIMILAR)","UN",1,254.67,254.67]
["8.20.1.5.6","FORNECIMENTO E INSTALAÇÃO DE DISJUNTOR TRIPOLAR TERMOMAGNÉTICO EM CAIXA MOLDADA - 150A  (REF.: MARCA SIEMENS, WEG OU SIMILAR)","UN",1,490.5,490.5]
["8.20.1.5.7","FORNECIMENTO E INSTALAÇÃO DE DISPOSITIVO DR, 2 POLOS, SENSIBILIDADE DE 30 MA, CORRENTE DE 25 A, TIPO AC","UN",2,186.52,373.04]
["8.20.1.5.8","FORNECIMENTO E INSTALAÇÃO DE DISPOSITIVO DR, 2 POLOS, SENSIBILIDADE DE 30 MA, CORRENTE DE 40 A, TIPO AC","UN",2,189.45,378.9]
["8.20.1.5.9","FORNECIMENTO E INSTALAÇÃO DE DISPOSITIVO DPS, 1 POLO, 175 V, 45 KA","UN",4,128.24,512.96]
[null,""]
["8.20.1.6","ELETROCALHAS / PERFILADOS",null,null,null,{"$f":"SUBTOTAL(9,F154:F158)","v":2061.2200000000003}]
["8.20.1.6.1","FORNECIMENTO E INSTALAÇÃO DE EMENDA INTERNA TIPO \"I\" P/ PERFILADO METÁLICO 38X38MM - CHAPA 18","UN",5,20.399999999999999,{"$f":"ROUND(D154*E154,2)","v":102}]
["8.20.1.6.2","FORNECIMENTO E INSTALAÇÃO DE EMENDA INTERNA TIPO \"L\" P/ PERFILADO METÁLICO 38X38MM  - CHAPA 18","UN",3,22.84,68.52]
["8.20.1.6.3","FORNECIMENTO E INSTALAÇÃO DE EMENDA INTERNA TIPO \"T\" P/ PERFILADO METÁLICO 38X38MM  - CHAPA 18","UN",1,37.17,37.17]
["8.20.1.6.4","FORNECIMENTO E INSTALAÇÃO DE PERFILADO PERFURADO METÁLICO 38X38MM, COM TAMPA - CHAPA 18","M",42,30.59,1284.78]
["8.20.1.6.5","FORNECIMENTO E INSTALAÇÃO DE SUPORTE CURTO P/ PERFILADO METÁLICO 38X38MM","UN",35,16.25,568.75]
[null,""]
["8.20.1.7","ELETRODUTOS",null,null,null,{"$f":"SUBTOTAL(9,F161:F165)","v":4030.43}]
["8.20.1.7.1","ELETRODUTO FLEXÍVEL CORRUGADO, PVC, DN 25 MM (3/4\") - FORNECIMENTO E INSTALAÇÃO. ","M",140,6.19,{"$f":"ROUND(D161*E161,2)","v":866.6}]
["8.20.1.7.2","ELETRODUTO FLEXÍVEL CORRUGADO, PVC, DN 32 MM (1\") - FORNECIMENTO E INSTALAÇÃO. ","M",30,8.7200000000000006,261.60000000000002]
["8.20.1.7.3","ELETRODUTO FLEXÍVEL CORRUGADO, PEAD, DN 50 (1 ½\u0094)  - FORNECIMENTO E INSTALAÇÃO. AF_04/2016","M",100,7.73,773]
["8.20.1.7.4","ESCAVAÇÃO MANUAL DE VALA COM PROFUNDIDADE MENOR OU IGUAL A 1,30 M. AF_02/2021","M3",17.5,75.75,{"$f":"ROUND(D164*E164,2)","v":1325.63}]
["8.20.1.7.5","REATERRO MANUAL APILOADO COM SOQUETE. AF_10/2017","M3",17.5,45.92,{"$f":"ROUND(D165*E165,2)","v":803.6}]
[null,""]
["8.20.1.8","LUMINÁRIAS E ACESSÓRIOS",null,null,null,{"$f":"SUBTOTAL(9,F168:F168)","v":9306.6}]
["8.20.1.8.1","FORNECIMENTO E INSTALAÇÃO DE LUMINÁRIA QUADRADA ALETAS REFLEXIVAS DE EMBUTIR, MODULAR 60X60CM, COM 4 LÂMPADAS TUBULARES LED T8 9W, TEMPERATURA DE COR 6.000K, TOTAL DE FLUXO LUMINOSO ENTRE 3.200 A 4.000 LUMENS, COM CORPO EM CHAPA METÁLICA PINTADA ELETROSTA","UN",20,465.33,{"$f":"ROUND(D168*E168,2)","v":9306.6}]
[null,""]
["8.20.1.9","QUADRO DE DISTRIBUIÇÃO",null,null,null,{"$f":"SUBTOTAL(9,F171:F171)","v":1952.18}]
["8.20.1.9.1","FORNECIMENTO E INSTALAÇÃO DE QUADRO DE DISTRIBUIÇÃO DE EMBUTIR, EM CHAPA PINTADA, COM BARRAMENTO TRIFÁSICO DE 150A, CAPACIDADE PARA: 44 DISJUNTORES UNIPOLARES TIPO DIN, INCLUSIVE BARRAMENTO NEUTRO E TERRA, COMPLETO","UN",1,1952.18,{"$f":"ROUND(D171*E171,2)","v":1952.18}]
[null,""]
["8.20.1.10","TERMINAIS",null,null,null,{"$f":"SUBTOTAL(9,F174:F180)","v":448.87999999999994}]
["8.20.1.10.1","FORNECIMENTO E INSTALAÇÃO DE TERMINAL DE COMPRESSÃO 1,5 - 2,5MM²","UN",30,4.49,{"$f":"ROUND(D174*E174,2)","v":134.69999999999999}]
["8.20.1.10.2","FORNECIMENTO E INSTALAÇÃO DE TERMINAL DE COMPRESSÃO 4 - 6MM²","UN",20,7.88,157.6]
["8.20.1.10.3","FORNECIMENTO E INSTALAÇÃO DE TERMINAL DE COMPRESSÃO 35MM²","UN",2,9.59,19.18]
["8.20.1.10.4","FORNECIMENTO E INSTALAÇÃO DE TERMINAL DE COMPRESSÃO 70MM²","UN",5,13.02,65.099999999999994]
["8.20.1.10.5","FORNECIMENTO E INSTALAÇÃO DE ABRAÇADEIRA NYLON 3,5X300MM","UN",50,0.33,16.5]
["8.20.1.10.6","FORNECIMENTO E INSTALAÇÃO DE FITA ISOLANTE DE BORRACHA AUTO-FUSÃO","UN",1,2.04,2.04]
["8.20.1.10.7","FORNECIMENTO E INSTALAÇÃO DE FITA ISOLANTE 19MMX20M","UN",3,17.920000000000002,53.76]
[null,""]
["8.20.2","ELÉTRICA ILUMINAÇÃO EXTERNA - BLOCO SALA DE DANÇA",null,null,null,{"$f":"SUBTOTAL(9,F183:F207)","v":2929.2400000000002}]
["8.20.2.1","ACESSÓRIOS P/ELETRODUTO E USO GERAL",null,null,null,{"$f":"SUBTOTAL(9,F184:F186)","v":228.04000000000002}]
["8.20.2.1.1","FORNECIMENTO E INSTALAÇÃO DE PRENSA CABO 1/2\"","UN",4,30.33,{"$f":"ROUND(D184*E184,2)","v":121.32}]
["8.20.2.1.2","CAIXA RETANGULAR 4\" X 2\" PVC - FORNECIMENTO E INSTALAÇÃO. ","UN",2,8.9600000000000009,17.920000000000002]
["8.20.2.1.3","FORNECIMENTO E INSTALAÇÃO DE BUCHA / PARAFUSO S8","UN",20,4.4400000000000004,88.8]
[null,""]
["8.20.2.2","CABOS",null,null,null,{"$f":"SUBTOTAL(9,F189:F190)","v":1806.1999999999998}]
["8.20.2.2.1","FORNECIMENTO E INSTALAÇÃO DE CABO DE COBRE FLEXÍVEL ISOL. TERMOPLASTICO ATOX 750V - 2,5 MM² (TP SINTENAX PIRELLI OU SIMILAR)","M",180,4.83,{"$f":"ROUND(D189*E189,2)","v":869.4}]
["8.20.2.2.2","FORNECIMENTO E INSTALAÇÃO DE CABO DE COBRE PP 4 X 2,5 MM²","M",40,23.42,936.8]
[null,""]
["8.20.2.3","DISPOSITIVO ELÉTRICO EMBUTIDO",null,null,null,{"$f":"SUBTOTAL(9,F193:F194)","v":494.6}]
["8.20.2.3.1","INTERRUPTOR SIMPLES (2 MÓDULOS), 10A/250V, INCLUINDO SUPORTE E PLACA - FORNECIMENTO E INSTALAÇÃO. AF_12/2015","UN",2,38.520000000000003,{"$f":"ROUND(D193*E193,2)","v":77.040000000000006}]
["8.20.2.3.2","SENSOR DE PRESENÇA PARA ILUMINAÇÃO, 100W, 127V, COM ÂNGULO DE DETECÇÃO DE 180º, FUNÇÃO FOTOCÉLULA AJUSTÁVEL, FUNÇÃO TEMPORIZADOR AJUSTÁVEL, DISTÂNCIA DE DETECÇÃO 12 METROS, SOBREPOR - FORNECIMENTO E INSTALAÇÃO. ","UN",4,104.39,417.56]
[null,""]
["8.20.2.4","DISPOSITIVO DE PROTEÇÃO",null,null,null,{"$f":"SUBTOTAL(9,F197:F197)","v":13.15}]
["8.20.2.4.1","DISJUNTOR MONOPOLAR TIPO DIN, CORRENTE NOMINAL DE 10A - FORNECIMENTO E INSTALAÇÃO. AF_10/2020","UN",1,13.15,{"$f":"ROUND(D197*E197,2)","v":13.15}]
[null,""]
["8.20.2.5","ELETRODUTOS",null,null,null,{"$f":"SUBTOTAL(9,F200:F200)","v":49.52}]
["8.20.2.5.1","ELETRODUTO FLEXÍVEL CORRUGADO, PVC, DN 25 MM (3/4\") - FORNECIMENTO E INSTALAÇÃO. ","M",8,6.19,{"$f":"ROUND(D200*E200,2)","v":49.52}]
[null,""]
["8.20.2.6","LUMINÁRIAS E ACESSÓRIOS",null,null,null,{"$f":"SUBTOTAL(9,F203)","v":297.36}]
["8.20.2.6.1","FORNECIMENTO E INSTALAÇÃO DE REFLETOR HOLOFOTE LED 50W, IP 66, ÂNGULO DE ABERTURA DE 120°, TEMPERATURA DE COR 6000K (REF.: ILUMINIM RSPM-50WBF OU SIMILAR)","UN",4,74.34,{"$f":"ROUND(D203*E203,2)","v":297.36}]
[null,""]
["8.20.2.7","TERMINAIS",null,null,null,{"$f":"SUBTOTAL(9,F206:F207)","v":40.370000000000005}]
["8.20.2.7.1","FORNECIMENTO E INSTALAÇÃO DE TERMINAL DE COMPRESSÃO 1,5 - 2,5MM²","UN",5,4.49,{"$f":"ROUND(D206*E206,2)","v":22.45}]
["8.20.2.7.2","FORNECIMENTO E INSTALAÇÃO DE FITA ISOLANTE 19MMX20M","UN",1,17.920000000000002,17.920000000000002]
[null,""]
["8.20.3","ELÉTRICA ILUMINAÇÃO EMERGÊNCIA - BLOCO SALA DE DANÇA",null,null,null,{"$f":"SUBTOTAL(9,F210:F235)","v":936.07}]
["8.20.3.1","ACESSÓRIOS P/ELETRODUTO E USO GERAL",null,null,null,{"$f":"SUBTOTAL(9,F211:F219)","v":203.78000000000006}]
["8.20.3.1.1","FORNECIMENTO E INSTALAÇÃO DE ABRAÇADEIRA DE AÇO, TIPO D, 3/4\", COM CUNHA","UN",6,6.59,{"$f":"ROUND(D211*E211,2)","v":39.54}]
["8.20.3.1.2","FORNECIMENTO E INSTALAÇÃO DE BUCHA E ARRUELA ALUMÍNIO FUNDIDO PARA ELETRODUTO (ZAMAK) 3/4\"","UN",2,2.0299999999999998,4.0599999999999996]
["8.20.3.1.3","FORNECIMENTO E INSTALAÇÃO DE BOX RETO PARA ELETRODUTO 3/4\"","UN",2,5.68,11.36]
["8.20.3.1.4","CAIXA RETANGULAR 4\" X 2\" PVC - FORNECIMENTO E INSTALAÇÃO. ","UN",4,8.9600000000000009,35.840000000000003]
["8.20.3.1.5","FORNECIMENTO E INSTALAÇÃO DE SAÍDA LATERAL PERFILADO P/ ELETRODUTO 3/4\"","UN",2,18.510000000000002,37.020000000000003]
["8.20.3.1.6","FORNECIMENTO E INSTALAÇÃO DE ARRUELA LISA GALVANIZADA 1/4\"","UN",4,0.59,2.36]
["8.20.3.1.7","FORNECIMENTO E INSTALAÇÃO DE BUCHA / PARAFUSO S8","UN",10,4.4400000000000004,44.4]
["8.20.3.1.8","FORNECIMENTO E INSTALAÇÃO DE PARAFUSO GALVAN. CABEÇA LOSANGULAR 1/4\"X1\" - AUTO TRAVANTE PERFILADO","UN",4,6.88,27.52]
["8.20.3.1.9","FORNECIMENTO E INSTALAÇÃO DE PORCA SEXTAVADA GALVAN. 1/4\"","UN",4,0.42,1.68]
[null,""]
["8.20.3.2","CABOS",null,null,null,{"$f":"SUBTOTAL(9,F222:F222)","v":483}]
["8.20.3.2.1","FORNECIMENTO E INSTALAÇÃO DE CABO DE COBRE FLEXÍVEL ISOL. TERMOPLASTICO ATOX 750V - 2,5 MM² (TP SINTENAX PIRELLI OU SIMILAR)","M",100,4.83,{"$f":"ROUND(D222*E222,2)","v":483}]
[null,""]
["8.20.3.3","DISPOSITIVO ELÉTRICO EMBUTIDO",null,null,null,{"$f":"SUBTOTAL(9,F225:F225)","v":102.92}]
["8.20.3.3.1","TOMADA DE EMBUTIR (1 MÓDULO), 2P+T 10 A, INCLUINDO SUPORTE E PLACA - FORNECIMENTO E INSTALAÇÃO. AF_12/2015","UN",4,25.73,{"$f":"ROUND(D225*E225,2)","v":102.92}]
[null,""]
["8.20.3.4","DISPOSITIVO DE PROTEÇÃO",null,null,null,{"$f":"SUBTOTAL(9,F228:F228)","v":13.15}]
["8.20.3.4.1","DISJUNTOR MONOPOLAR TIPO DIN, CORRENTE NOMINAL DE 10A - FORNECIMENTO E INSTALAÇÃO. AF_10/2020","UN",1,13.15,{"$f":"ROUND(D228*E228,2)","v":13.15}]
[null,""]
["8.20.3.5","ELETRODUTOS",null,null,null,{"$f":"SUBTOTAL(9,F231:F231)","v":92.85}]
["8.20.3.5.1","ELETRODUTO FLEXÍVEL CORRUGADO, PVC, DN 25 MM (3/4\") - FORNECIMENTO E INSTALAÇÃO. ","M",15,6.19,{"$f":"ROUND(D231*E231,2)","v":92.85}]
[null,""]
["8.20.3.6","TERMINAIS",null,null,null,{"$f":"SUBTOTAL(9,F234:F235)","v":40.370000000000005}]
["8.20.3.6.1","FORNECIMENTO E INSTALAÇÃO DE TERMINAL DE COMPRESSÃO 1,5 - 2,5MM²","UN",5,4.49,{"$f":"ROUND(D234*E234,2)","v":22.45}]
["8.20.3.6.2","FORNECIMENTO E INSTALAÇÃO DE FITA ISOLANTE 19MMX20M","UN",1,17.920000000000002,17.920000000000002]
[]
["8.21","LOGICA E TELEFONICA",null,null,null,{"$f":"SUBTOTAL(9,F238:F284)","v":8842.0800000000017}]
["8.21.1","ACESSÓRIOS P/ELETRODUTO E USO GERAL",null,null,null,{"$f":"SUBTOTAL(9,F239:F249)","v":753.03}]
["8.21.1.1","FORNECIMENTO E INSTALAÇÃO DE ABRAÇADEIRA DE AÇO, TIPO D, 3/4\", COM CUNHA","UN",15,6.59,{"$f":"ROUND(D239*E239,2)","v":98.85}]
["8.21.1.2","FORNECIMENTO E INSTALAÇÃO DE ABRAÇADEIRA DE AÇO, TIPO D, 1\", COM CUNHA","UN",15,6.75,101.25]
["8.21.1.3","FORNECIMENTO E INSTALAÇÃO DE BUCHA E ARRUELA ALUMÍNIO FUNDIDO PARA ELETRODUTO (ZAMAK) 3/4\"","UN",5,2.0299999999999998,10.15]
["8.21.1.4","FORNECIMENTO E INSTALAÇÃO DE BUCHA E ARRUELA ALUMÍNIO FUNDIDO PARA ELETRODUTO (ZAMAK) 1\"","UN",3,2.41,7.23]
["8.21.1.5","FORNECIMENTO E INSTALAÇÃO DE BOX RETO PARA ELETRODUTO 3/4\"","UN",5,5.68,28.4]
["8.21.1.6","FORNECIMENTO E INSTALAÇÃO DE BOX RETO PARA ELETRODUTO 1\"","UN",3,8.0399999999999991,24.12]
["8.21.1.7","CAIXA RETANGULAR 4\" X 2\" PVC - FORNECIMENTO E INSTALAÇÃO. ","UN",5,8.9600000000000009,44.8]
["8.21.1.8","FORNECIMENTO E INSTALAÇÃO DE ARAME AÇO GALVANIZADO 18 BWG, 1,24MM (0,009 KG/M)","M",111,0.77,85.47]
["8.21.1.9","FORNECIMENTO E INSTALAÇÃO DE ARRUELA LISA GALVANIZADA 1/4\"","UN",6,0.59,3.54]
["8.21.1.10","FORNECIMENTO E INSTALAÇÃO DE BUCHA / PARAFUSO S8","UN",38,4.4400000000000004,168.72]
["8.21.1.11","FORNECIMENTO E INSTALAÇÃO DE BUCHA / PARAFUSO S10","UN",38,4.75,180.5]
[null,""]
["8.21.2","CABOS",null,null,null,{"$f":"SUBTOTAL(9,F252:F252)","v":387}]
["8.21.2.1","CABO ELETRÔNICO CATEGORIA 6, ATOX LSZH, INSTALADO EM EDIFICAÇÃO INSTITUCIONAL - FORNECIMENTO E INSTALAÇÃO. AF_11/2019","M",150,2.58,{"$f":"ROUND(D252*E252,2)","v":387}]
[null,""]
["8.21.3","DISPOSITIVO CABEAMENTO EMBUTIR",null,null,null,{"$f":"SUBTOTAL(9,F255:F258)","v":306.58}]
["8.21.3.1","FORNECIMENTO E INSTALAÇÃO DE PLACA 4X2\" - BRANCA, 1 MÓDULO P/ RJ45","UN",2,7.93,{"$f":"ROUND(D255*E255,2)","v":15.86}]
["8.21.3.2","FORNECIMENTO E INSTALAÇÃO DE PLACA 4X2\" - BRANCA, 2 MÓDULOS P/ RJ45","UN",2,11.84,23.68]
["8.21.3.3","FORNECIMENTO E INSTALAÇÃO DE MÓDULO P/TOMADA KEYSTONE","UN",8,6.59,52.72]
["8.21.3.4","FORNECIMENTO E INSTALAÇÃO DE TOMADA KEYSTONE RJ45 - CAT.6","UN",8,26.79,214.32]
[null,""]
["8.21.4","ELETRODUTOS",null,null,null,{"$f":"SUBTOTAL(9,F261:F262)","v":316.5}]
["8.21.4.1","ELETRODUTO FLEXÍVEL CORRUGADO, PVC, DN 25 MM (3/4\") - FORNECIMENTO E INSTALAÇÃO. ","M",30,6.19,{"$f":"ROUND(D261*E261,2)","v":185.7}]
["8.21.4.2","ELETRODUTO FLEXÍVEL CORRUGADO, PVC, DN 32 MM (1\") - FORNECIMENTO E INSTALAÇÃO. ","M",15,8.7200000000000006,130.80000000000001]
[null,""]
["8.21.5","RACK E ACESSÓRIOS",null,null,null,{"$f":"SUBTOTAL(9,F265:F276)","v":3956.0399999999995}]
["8.21.5.1","FORNECIMENTO E INSTALAÇÃO DE RACK CAIXA PADRÃO 19\" - PORTA ACRÍLICO FUMÊ 16U X 470 MM","UN",1,1293.03,{"$f":"ROUND(D265*E265,2)","v":1293.03}]
["8.21.5.2","FORNECIMENTO E INSTALAÇÃO DE REGUA PARA 10 TOMADAS 2P+T 20A - 1U","UN",1,150.4,150.4]
["8.21.5.3","FORNECIMENTO E INSTALAÇÃO DE KIT DE VENTILAÇÃO COM 2 COOLERS","UN",1,306.91000000000003,306.91000000000003]
["8.21.5.4","PATCH PANEL 24 PORTAS, CATEGORIA 6 - FORNECIMENTO E INSTALAÇÃO. AF_11/2019","UN",1,698.58,698.58]
["8.21.5.5","FORNECIMENTO E INSTALAÇÃO DE VOICE PANEL 30 PORTAS RJ45","UN",1,652.1,652.1]
["8.21.5.6","FORNECIMENTO E INSTALAÇÃO DE GUIA DE CABOS FECHADO HORIZONTAL - 1U","UN",4,34.69,138.76]
["8.21.5.7","FORNECIMENTO E INSTALAÇÃO DE BANDEJA PARA RACK 19\", FIXA HORIZONTAL 1U.","UN",1,97.67,97.67]
["8.21.5.8","FORNECIMENTO E INSTALAÇÃO DE ANEL ORGANIZADOR DE CABOS TIPO ABRAÇADEIRA VELCRO","UN",6,2.2000000000000002,13.2]
["8.21.5.9","FORNECIMENTO E INSTALAÇÃO DE ANILHA DE IDENTIFICACAO PARA CABOS DE 0 A 9 (KIT 100 PECAS)","UN",1,69.38,69.38]
["8.21.5.10","FORNECIMENTO E INSTALAÇÃO DE FITA ROTULADORA 12MM PRETO SOBRE BRANCO 8M","UN",1,104.85,104.85]
["8.21.5.11","FORNECIMENTO E INSTALAÇÃO DE PATCH CORD CERTIFICADO CAT.6 - CONEXÃO RJ45 X RJ45 - COMP. 1,5M - LSZH","UN",10,8.86,88.6]
["8.21.5.12","FORNECIMENTO DE SERVIÇO DE CERTIFICAÇÃO DE CABO DE REDE CAT-6, COM CERTIFICADO DE AFERIÇÃO DO APARELHO","UN",8,42.82,342.56]
[null,""]
["8.21.6","FIBRA ÓPTICA E ACESSÓRIOS",null,null,null,{"$f":"SUBTOTAL(9,F279:F284)","v":3122.93}]
["8.21.6.1","FORNECIMENTO E INSTALAÇÃO DE DISTRIBUIDOR OPTICO INTERNO PARA 12 FO - 1U PARA RACK.","UN",1,518.47,{"$f":"ROUND(D279*E279,2)","v":518.47}]
["8.21.6.2","FORNECIMENTO E INSTALAÇÃO DE EXTENSÃO PIGTAIL MULTIMODO P/ DIO - CONECTOR SC","UN",12,32.04,384.48]
["8.21.6.3","FORNECIMENTO E INSTALAÇÃO DE CORDÃO ÓPTICO MULTIMODO - 2 FO CONECTOR SC/SC - 2,50 M","UN",2,101.69,203.38]
["8.21.6.4","FORNECIMENTO E INSTALAÇÃO DE CONVERSOR DE MÍDIA PARA FIBRA ÓTICA MM E SM 10/100 2FO RJ45","UN",2,281.52,563.04]
["8.21.6.5","FORNECIMENTO DE SERVIÇO DE CERTIFICACAO DE CABEAMENTO DE FIBRA OPTICA","UN",12,34.26,411.12]
["8.21.6.6","FORNECIMENTO DE SERVIÇO DE FUSÃO FIBRA ÓTICA COM EXTENSÃO PIGTAIL COM CERTIFICAÇÃO DE AFERIÇÃO DO APARELHO","UN",12,86.87,1042.44]
[]
["8.22","CLIMATIZAÇÃO - AR CONDICIONADO",null,null,null,{"$f":"SUBTOTAL(9,F287:F314)","v":75366.040000000008}]
["8.22.1","INSTALAÇÕES HIDRÁULICAS",null,null,null,{"$f":"SUBTOTAL(9,F288:F293)","v":1222.48}]
["8.22.1.1","TUBO, PVC, SOLDÁVEL, DN 32MM, INSTALADO EM DRENO DE AR-CONDICIONADO – FORNECIMENTO E INSTALAÇÃO","M",40,16.309999999999999,{"$f":"ROUND(D288*E288,2)","v":652.4}]
["8.22.1.2","JOELHO 45 GRAUS, PVC, SOLDÁVEL, DN 32MM, INSTALADO EM DRENO DE AR-CONDICIONADO - FORNECIMENTO E INSTALAÇÃO","UND",8,9.36,74.88]
["8.22.1.3","CURVA 90 GRAUS, PVC, SOLDÁVEL, DN 32MM, INSTALADO EM DRENO DE AR-CONDICIONADO - FORNECIMENTO E INSTALAÇÃO","UND",8,12.56,100.48]
["8.22.1.4","TE, PVC, SOLDÁVEL, DN 32MM, INSTALADO EM DRENO DE AR-CONDICIONADO - FORNECIMENTO E INSTALAÇÃO","UND",8,11.97,95.76]
["8.22.1.5","LUVA, PVC, SOLDÁVEL, DN 32MM, INSTALADO EM DRENO DE AR-CONDICIONADO - FORNECIMENTO E INSTALAÇÃO","UND",8,5.32,42.56]
["8.22.1.6","TUBO DE ESPUMA DE POLIETILENO EXPANDIDO FLEXIVEL PARA ISOLAMENTO TERMICO DE TUBULACAO DE AR CONDICIONADO, AGUA QUENTE,  DN 1 1/2\", E= 10 MM","M     ",40,6.41,256.39999999999998]
[]
["8.22.2","INSTALAÇÕES DE CLIMATIZAÇÃO",null,null,null,{"$f":"SUBTOTAL(9,F296:F304)","v":19057.36}]
["8.22.2.1","TUBO EM COBRE FLEXÍVEL, DN 3/8\", COM ISOLAMENTO, INSTALADO EM RAMAL DE ALIMENTAÇÃO DE AR CONDICIONADO COM CONDENSADORA CENTRAL FORNECIMENTO E INSTALAÇÃO. AF_12/2016","M",60,49.37,{"$f":"ROUND(D296*E296,2)","v":2962.2}]
["8.22.2.2","TUBO EM COBRE FLEXÍVEL, DN 5/8\", COM ISOLAMENTO, INSTALADO EM RAMAL DE ALIMENTAÇÃO DE AR CONDICIONADO COM CONDENSADORA CENTRAL FORNECIMENTO E INSTALAÇÃO. AF_12/2018","M",60,83.3,4998]
["8.22.2.3","REVESTIMENTO DE TUBULAÇÃO FRIGORÍGENA EXTERNA COM FITA PVC BRANCA ","M",40,18.14,725.6]
["8.22.2.4","FORNECIMENTO DE GÁS NITROGÊNIO","M3",20,71.94,1438.8]
["8.22.2.5","FORNECIMENTO DE GÁS REFRIGERANTE R-410A","KG",14,79.16,1108.24]
["8.22.2.6","FORNECIMENTO E INSTALAÇÃO DE GRELHA DE VENTILAÇÃO, 225x225mm - REF. TROX AT-AG","UN",4,247.9,991.6]
["8.22.2.7","FORNECIMENTO E INSTALAÇÃO DE VENEZIANA DE CAPTAÇÃO DE AR, 385x330mm - REF. TROX AWG","UN",1,426.04,426.04]
["8.22.2.8","FORNECIMENTO E INSTALAÇÃO DE DUTO EM CHAPA DE AÇO GALVANIZADO - #26 (4,00 KG/M2), INCLUSIVE ELEMENTOS DE FIXAÇÃO E SUPORTES","M2",20,275.33999999999997,5506.8]
["8.22.2.9","FORNECIMENTO E INSTALAÇÃO DE DUTO FLEXÍVEL CIRCULAR,  SEM ISOLAMENTO TÉRMICO, DIÂMETRO DE 06\" COM COLARINHO - REF.: MULTIVAC ALUDEC 60","M",8,112.51,900.08]
[]
["8.22.3","INSTALAÇÕES ELÉTRICAS",null,null,null,{"$f":"SUBTOTAL(9,F307:F310)","v":2370.37}]
["8.22.3.1","ELETRODUTO DE AÇO GALVANIZADO, CLASSE LEVE, DN 20 MM (3/4\u0092\u0092), APARENTE, INSTALADO EM PAREDE - FORNECIMENTO E INSTALAÇÃO. AF_11/2016_P","M",20,28.04,{"$f":"ROUND(D307*E307,2)","v":560.79999999999995}]
["8.22.3.2","FORNECIMENTO E INSTALAÇÃO DE CABO PP FLEXÍVEL 3x1,5mm²","M",20,12.19,{"$f":"ROUND(D308*E308,2)","v":243.8}]
["8.22.3.3","FORNECIMENTO E INSTALAÇÃO DE CABO PP FLEXÍVEL 5x2,5mm²","M",65,19.95,1296.75]
["8.22.3.4","VARIADOR DE VELOCIDADE PARA UNIDADE VENTILADORA, INCLUINDO SUPORTE E PLACA - FORNECIMENTO E INSTALAÇÃO","UN",1,269.02,269.02]
[]
["8.22.4","EQUIPAMENTOS",null,null,null,{"$f":"SUBTOTAL(9,F313:F314)","v":52715.83}]
["8.22.4.1","FORNECIMENTO E INSTALAÇÃO DE EQUIPAMENTO SPLIT INVERTER, CONFIGURAÇÃO DE TETO E CONDENSADORA DE DESCARGA HORIZONTAL, CAPACIDADE DE 30.000 BTU/H - REF. LG AVNW36GM1P0/AVUW36GM1P0","UN",4,12647.75,{"$f":"ROUND(D313*E313,2)","v":50591}]
["8.22.4.2","INSTALAÇÃO DE VENTILADOR TIPO \"IN LINE\", VAZÃO MÁXIMA DE 1200 M3/H, PRESSÃO ESTÁTICA DE 55mmca  E FILTRO G4 - REF. SICFLUX ACI 315","UN",1,2124.83,2124.83]
[]
["8.23","INFRAESTRUTURA PARA INSTALAÇÃO DE AUDIO E VÍDEO",null,null,null,{"$f":"SUBTOTAL(9,F317:F357)","v":18856.440000000002}]
["8.23.1","ACESSÓRIOS P/ELETRODUTO E USO GERAL",null,null,null,{"$f":"SUBTOTAL(9,F318:F335)","v":3761.0599999999995}]
["8.23.1.1","FORNECIMENTO E INSTALAÇÃO DE ABRAÇADEIRA DE AÇO, TIPO D, 3/4\", COM CUNHA","UN",8,6.59,{"$f":"ROUND(D318*E318,2)","v":52.72}]
["8.23.1.2","FORNECIMENTO E INSTALAÇÃO DE ABRAÇADEIRA DE AÇO, TIPO D, 1\", COM CUNHA","UN",12,6.75,81]
["8.23.1.3","FORNECIMENTO E INSTALAÇÃO DE BUCHA E ARRUELA ALUMÍNIO FUNDIDO PARA ELETRODUTO (ZAMAK) 3/4\"","UN",28,2.0299999999999998,56.84]
["8.23.1.4","FORNECIMENTO E INSTALAÇÃO DE BUCHA E ARRUELA ALUMÍNIO FUNDIDO PARA ELETRODUTO (ZAMAK) 1\"","UN",1,2.41,2.41]
["8.23.1.5","FORNECIMENTO E INSTALAÇÃO DE BOX RETO PARA ELETRODUTO 3/4\"","UN",2,5.68,11.36]
["8.23.1.6","FORNECIMENTO E INSTALAÇÃO DE BOX RETO PARA ELETRODUTO 1\"","UN",1,8.0399999999999991,8.0399999999999991]
["8.23.1.7","FORNECIMENTO E INSTALAÇÃO DE CONECTOR RETO DE ALUMÍNIO P/ ELETRODUTO 3/4\"","UN",26,3.38,87.88]
["8.23.1.8","CONDULETE DE ALUMÍNIO, TIPO X, PARA ELETRODUTO DE AÇO GALVANIZADO DN 20 MM (3/4''), APARENTE - FORNECIMENTO E INSTALAÇÃO. AF_11/2016_P","UN",28,38.119999999999997,1067.3599999999999]
["8.23.1.9","CONDULETE DE ALUMÍNIO, TIPO X, PARA ELETRODUTO DE AÇO GALVANIZADO DN 25 MM (1''), APARENTE - FORNECIMENTO E INSTALAÇÃO. AF_11/2016_P","UN",1,42.58,42.58]
["8.23.1.10","CAIXA RETANGULAR 4\" X 2\" PVC - FORNECIMENTO E INSTALAÇÃO. ","UN",2,8.9600000000000009,17.920000000000002]
["8.23.1.11","FORNECIMENTO E INSTALAÇÃO DE PLACA CEGA PVC 4X2\"","UN",1,4.82,4.82]
["8.23.1.12","FORNECIMENTO E INSTALAÇÃO DE ARAME AÇO GALVANIZADO 18 BWG, 1,24MM (0,009 KG/M)","M",111,0.77,85.47]
["8.23.1.13","FORNECIMENTO E INSTALAÇÃO DE ARRUELA LISA GALVANIZADA 1/4\"","UN",180,0.59,106.2]
["8.23.1.14","FORNECIMENTO E INSTALAÇÃO DE BUCHA / PARAFUSO S8","UN",20,4.4400000000000004,88.8]
["8.23.1.15","FORNECIMENTO E INSTALAÇÃO DE CHUMBADOR PARABOLT AÇO 1/4\" X 3\"","UN",60,13.59,815.4]
["8.23.1.16","FORNECIMENTO E INSTALAÇÃO DE PORCA SEXTAVADA GALVAN. 1/4\"","UN",180,0.42,75.599999999999994]
["8.23.1.17","FORNECIMENTO E INSTALAÇÃO DE VERGALHÃO GALVANIZADO ROSCA TOTAL 1/4\"","M",60,17.8,1068]
["8.23.1.18","SUPORTE MÃO FRANCESA EM AÇO, ABAS IGUAIS 30 CM, CAPACIDADE MINIMA 60 KG, BRANCO - FORNECIMENTO E INSTALAÇÃO. AF_01/2020","UN",2,44.33,88.66]
[null,""]
["8.23.2","CABOS",null,null,null,{"$f":"SUBTOTAL(9,F338:F342)","v":1102.4100000000001}]
["8.23.2.1","FORNECIMENTO E INSTALAÇÃO DE CABO POLARIZADO, PARA SONORIZAÇÃO 2X1,5MM² - BICOLOR","M",110,5.98,{"$f":"ROUND(D338*E338,2)","v":657.8}]
["8.23.2.2","FORNECIMENTO E INSTALÇÃO DE CABO HDMI 4K ULTRA HD BLINDADO COM FILTRO 1,5M","UN",1,68.599999999999994,68.599999999999994]
["8.23.2.3","FORNECIMENTO E INSTALÇÃO DE CABO HDMI 4K ULTRA HD BLINDADO COM FILTRO 15M","UN",1,224,224]
["8.23.2.4","FORNECIMENTO E INSTALAÇÃO DE CABO DE ÁUDIO BALANCEADO CONECTORES: P2 MACHO X P2 MACHO - 2 METROS","UN",1,12.21,12.21]
["8.23.2.5","FORNECIMENTO E INSTALAÇÃO DE CABO DE ÁUDIO SUBWOOFER RCA BLINDAGEM DUPLA OFHC 50 OHMS (REF.:AUDIO PRIME OU SIMILAR) - 5 METROS","UN",1,139.80000000000001,139.80000000000001]
[null,""]
["8.23.3","DISPOSITIVO MULTIMIDIA",null,null,null,{"$f":"SUBTOTAL(9,F345:F347)","v":538.29999999999995}]
["8.23.3.1","FORNECIMENTO E INSTALAÇÃO DE RACK METÁLICO 2U, COM TAMPA E CHAVE","UN",1,336.95,{"$f":"ROUND(D345*E345,2)","v":336.95}]
["8.23.3.2","FORNECIMENTO E INSTALAÇÃO DE SUPORTE UNIVERSAL PARA PROJETOR - PROLONGADOR","UN",1,153.18,153.18]
["8.23.3.3","FORNECIMENTO E INSTALAÇÃO DE CONECTOR KEYSTONE HDMI FÊMEA X FÊMEA, EM MÓDULO PVC BRANCO","UN",1,48.17,48.17]
[null,""]
["8.23.4","ELETRODUTOS",null,null,null,{"$f":"SUBTOTAL(9,F350:F352)","v":670.76}]
["8.23.4.1","ELETRODUTO FLEXÍVEL CORRUGADO, PVC, DN 25 MM (3/4\") - FORNECIMENTO E INSTALAÇÃO. ","M",8,6.19,{"$f":"ROUND(D350*E350,2)","v":49.52}]
["8.23.4.2","ELETRODUTO FLEXÍVEL CORRUGADO, PVC, DN 32 MM (1\") - FORNECIMENTO E INSTALAÇÃO. ","M",12,8.7200000000000006,{"$f":"ROUND(D351*E351,2)","v":104.64}]
["8.23.4.3","ELETRODUTO RÍGIDO ROSCÁVEL, PVC, DN 25 MM (3/4\") - FORNECIMENTO E INSTALAÇÃO. ","M",60,8.61,{"$f":"ROUND(D352*E352,2)","v":516.6}]
[null,""]
["8.23.5","EQUIPAMENTOS E ACESSÓRIOS",null,null,null,{"$f":"SUBTOTAL(9,F355:F357)","v":12783.91}]
["8.23.5.1","FORNECIMENTO E INSTALAÇÃO DE MODULO AMPLIFICADOR COM POTÊNCIA DE 480 WRMS (4X120W DE 4OHMS), COM 3 CANAIS DE ENTRADAS, SENDO: CANAL 1(APP, BLUETOOTH, USB, SD CARD E RÁDIO FM, ENTRADA OPTICAL), CANAL 2 (MICROFONE P10 E XLR) E CANAL 3 (AUX 2, ENTRADA ESTÉRE","UN",1,4072.84,{"$f":"ROUND(D355*E355,2)","v":4072.84}]
["8.23.5.2","FORNECIMENTO E INSTALAÇÃO DE CAIXA DE SOM ATIVA SUBGRAVE (SUBWOOFER) DE 300W RMS 12\", COR PRETO, SOBREPOSTA NO PISO, INTERLIGADA AO AMPLIFICADOR DIRETAMENTE COM CABO DE ÁUDIO BLINDADO CONECTORES RCA STÉREO (REF.: FRAHM RD SW 12\" OU SIMILAR)","UN",1,2157.63,{"$f":"ROUND(D356*E356,2)","v":2157.63}]
["8.23.5.3","FORNECIMENTO E INSTALAÇÃO DE SONOFLETOR CIRCULAR 6\" DE EMBUTIR EM FORRO, COM TELA, COR BRANCA, SENSIBILIDADE MÍNIMA DE 89DB, POTÊNCIA DE 30W OU SUPERIOR, RESP. FREQUENCIA 50HZ A 20KHZ (JBL SELENIUM 6CO2R OU SIMILAR)","UN",16,409.59,{"$f":"ROUND(D357*E357,2)","v":6553.44}]
[]
["8.24","INSTALAÇÕES HIDRAULICAS ",null,null,null,{"$f":"SUBTOTAL(9,F360:F360)","v":0}]
[]
["8.25","ÁGUAS PLUVIAIS DE COBERTURA",null,null,null,{"$f":"SUBTOTAL(9,F362:F364)","v":5625.96}]
["8.25.1","JOELHO 90 GRAUS, PVC, SERIE R, ÁGUA PLUVIAL, DN 100 MM, JUNTA ELÁSTICA, FORNECIDO E INSTALADO EM RAMAL DE ENCAMINHAMENTO. AF_12/2014","UN",8,49.03,{"$f":"ROUND(D362*E362,2)","v":392.24}]
["8.25.2","TUBO PVC, SÉRIE R, ÁGUA PLUVIAL, DN 100 MM, FORNECIDO E INSTALADO EM RAMAL DE ENCAMINHAMENTO. AF_12/2014","M",12,71.709999999999994,860.52]
["8.25.3","CAIXA ENTERRADA HIDRÁULICA RETANGULAR, EM CONCRETO PRÉ-MOLDADO, DIMENSÕES INTERNAS: 0,6X0,6X0,5 M - CONSIDERANDO RECOMPOSIÇÃO DE CAIXAS EXISTENTES","UN",8,546.65,4373.2]
[]
["8.26","INSTALAÇÕES SANITÁRIAS",null,null,null,{"$f":"SUBTOTAL(9,F367:F367)","v":0}]
[]
["8.27","LOUÇAS E METÁIS",null,null,null,{"$f":"SUBTOTAL(9,F369:F381)","v":7876.1100000000015}]
["8.27.1","CABIDEIRO 20160 EVIDENCE CROMADO (MARCA DECA, DOCOL OU SIMILAR)- FORNECIMENTO E INSTALAÇÃO","UN",7,33.299999999999997,{"$f":"ROUND(D369*E369,2)","v":233.1}]
["8.27.2","CUBA DE EMBUTIR OVAL EM LOUÇA BRANCA, 35 X 50CM OU EQUIVALENTE - FORNECIMENTO E INSTALAÇÃO. AF_01/2020","UN",4,176.04,{"$f":"ROUND(D370*E370,2)","v":704.16}]
["8.27.3","VÁLVULA EM METAL CROMADO 1.1/2\u0094 X 1.1/2\u0094 PARA TANQUE OU LAVATÓRIO, COM OU SEM LADRÃO - FORNECIMENTO E INSTALAÇÃO. AF_01/2020","UN",4,34.36,137.44]
["8.27.4","ENGATE FLEXÍVEL EM PLÁSTICO BRANCO, 1/2\u0094 X 40CM - FORNECIMENTO E INSTALAÇÃO. AF_01/2020","UN",4,12.97,51.88]
["8.27.5","SIFÃO DO TIPO GARRAFA EM METAL CROMADO 1 X 1.1/2\u0094 - FORNECIMENTO E INSTALAÇÃO. AF_01/2020","UN",4,191.93,767.72]
["8.27.6","TORNEIRA DE MESA PRESMATIC ECO CROMADA COD 1173, MARCA DECA, DOCOL OU SIMILAR, FORNECIMENTO E INSTALAÇÃO.","UN",4,215.45,861.8]
["8.27.7","VASO SANITARIO SIFONADO CONVENCIONAL COM LOUÇA BRANCA, INCLUSO CONJUNTO DE LIGAÇÃO PARA BACIA SANITÁRIA AJUSTÁVEL - FORNECIMENTO E INSTALAÇÃO. AF_10/2016","UN",7,269.99,1889.93]
["8.27.8","VÁLVULA DE DESCARGA METÁLICA, BASE 1 1/2 \", ACABAMENTO METALICO CROMADO REF. DOCOL OU SIMILAR- FORNECIMENTO E INSTALAÇÃO","UN",1,333.54,333.54]
["8.27.9","VÁLVULA DE DESCARGA METÁLICA, BASE 1 1/2 \", ACABAMENTO METALICO CROMADO REF. DOCOL OU SIMILAR- FORNECIMENTO E INSTALAÇÃO (VÁLVULA FORNECIDA PELO SESI)","UN",6,132.33000000000001,{"$f":"ROUND(D377*E377,2)","v":793.98}]
["8.27.10","ASSENTO SANITÁRIO CONVENCIONAL - FORNECIMENTO E INSTALACAO. AF_01/2020","UN",7,48.02,336.14]
["8.27.11","MICTÓRIO DE LOUÇA BRANCA C/ SIFÃO INTEGRADO - CÓD M.715 - DECA OU SIMILAR - FORNECIMENTO E INSTALAÇÃO (REF. 74234/001)","UN",2,606.83000000000004,1213.6600000000001]
["8.27.12","VÁLVULA DE DESCARGA CROMADO PARA MICTÓRIO 1/2\" HORIZONTAL DE FECHAMENTO AUTOMÁTICO DECAMATIC ECO - CÓD 2572.C - DECA OU SIMILAR - FORNECIMENTO E INSTALAÇÃO","UN",2,177.08,354.16]
["8.27.13","CHUVEIRO ELÉTRICO COMUM CORPO PLÁSTICO, TIPO DUCHA \u0096 FORNECIMENTO E INSTALAÇÃO. AF_01/2020","UN",2,99.3,198.6]
[]
["8.28","SISTEMA DE TRATAMENTO DE ESGOTO",null,null,null,{"$f":"SUBTOTAL(9,F384)","v":0}]
[]
["8.29","LIMPEZA CONTÍNUA DA OBRA",null,null,null,{"$f":"SUBTOTAL(9,F386)","v":0}]
[]
["8.30","LIMPEZA FINAL PARA ENTREGA",null,null,null,{"$f":"SUBTOTAL(9,F388)","v":500.14}]
["8.30.1","LIMPEZA FINAL PARA ENTREGA","M2",163.98,3.05,{"$f":"ROUND(D388*E388,2)","v":500.14}]
[]
["VALOR TOTAL",null,null,null,null,{"$f":"SUBTOTAL(9,F14:F389)","v":374361.72999999963}]

{"sheet":"9_ÁREA CONVIVÊNCIA","index":10,"n_rows":314,"n_cols":6,"rows_kept":314,"cut":false,"hidden":true,"merged":[[10,0,10,5],[0,0,3,2],[0,3,1,5],[2,3,3,3],[2,4,3,4],[2,5,3,5],[4,0,4,5],[5,0,5,5],[6,0,6,5],[7,0,7,5],[8,0,8,5],[9,0,9,5]]}
["                                 PLANILHA ORÇAMENTARIA   ",null,null,"SPN-FF-003"]
[]
[null,null,null,"Folha:              1 de 1","Revisão:      \n02","Data: \n07/10/19"]
[]
["SESI - SERVIÇO SOCIAL DA INDUSTRIA - DR/MT"]
["OBRA: CONTRATAÇÃO DE EMPRESA ESPECIALIZADA PARA CONTINUIDADE DA EXECUÇÃO DA OBRA DE REFORMA E AMPLIAÇÃO DA UNIDADE DO SESI ESCOLA VÁRZEA GRANDE/MT."]
["UNIDADE OPERACIONAL: SESI ESCOLA VÁRZEA GRANDE"]
["ENDEREÇO: AV. DOM ORLANDO CHAVES, N.º 1.086, PONTE NOVA - CRISTO REI         CIDADE: VÁRZEA GRANDE/MT"]
["CONSTRUTORA:"]
["RESPONSÁVEL TÉCNICO:"]
["BASE SINAPI UTILIZADA: 06/2021"]
["ITEM","DESCRIÇÃO","UNID.","QUANT.","Valor UNIT. (R$)","Valor Total (R$)"]
[]
[9,"ÁREA DE CONVIVÊNCIA COBERTA"]
[]
["9.0","DEMOLIÇÕES E RETIRADAS",null,null,null,{"$f":"SUBTOTAL(9,F17:F28)","v":8226.0400000000009}]
["9.0.1","DEMOLIÇÃO",null,null,null,{"$f":"SUBTOTAL(9,F18:F28)","v":8226.0400000000009}]
["9.0.1.1","DEMOLIÇÃO DE ALVENARIA DE BLOCO FURADO, DE FORMA MANUAL, SEM REAPROVEITAMENTO. AF_12/2017","M3",0.87,49.97,{"$f":"ROUND(D18*E18,2)","v":43.47}]
["9.0.1.2","REMOÇÃO DE LOUÇAS, DE FORMA MANUAL, SEM REAPROVEITAMENTO, ARMAZENAMENTO EM LOCAL INDICADO PELA FISCALIZAÇÃO","UN",2,10.86,21.72]
["9.0.1.3","REMOÇÃO DE PORTAS, DE FORMA MANUAL, SEM REAPROVEITAMENTO, ARMAZENAMENTO EM LOCAL INDICADO PELA FISCALIZAÇÃO","M2",5,8.14,40.700000000000003]
["9.0.1.4","DEMOLIÇÃO DE REVESTIMENTO CERÂMICO, DE FORMA MECANIZADA COM MARTELETE, SEM REAPROVEITAMENTO. AF_12/2017","M2",83.83,10.45,876.02]
["9.0.1.5","DEMOLIÇÃO MANUAL DE PISO EM CONCRETO SIMPLES INCLUSIVE LASTRO DE CONCRETO","M2",93.19,34.07,3174.98]
["9.0.1.6","REMOÇÃO DE TRAMA DE MADEIRA PARA COBERTURA, DE FORMA MANUAL, SEM REAPROVEITAMENTO.","M2",55.21,6.73,371.56]
["9.0.1.7","REMOÇÃO DE TELHAS, DE FIBROCIMENTO, METÁLICA E CERÂMICA, DE FORMA MANUAL, SEM REAPROVEITAMENTO. ","M2",184.04,3.12,574.20000000000005]
["9.0.1.8","LIMPEZA DE CONTRAPISO COM VASSOURA A SECO - LIMPEZA DA LAJE DA COBERTURA","M2",184.04,3.16,581.57000000000005]
["9.0.1.9","DEMOLIÇÃO DE PISO, SOLEIRAS, BANCADAS EM REVESTIDO DE GRANITO","M2",1,20.84,20.84]
["9.0.1.10","RETIRADA DE CIRCUITOS ELÉTRICOS EM GERAL, INCLUSO: TOMADAS ELÉTRICAS,  LÓGICAS E TELEFONE, CABEAMENTOS, ELETRODUTOS, ETC, INCLUSO TRANSPORTE E DEPOSITO EM LOCAL A SER INDICADO PELA FISCALIZAÇÃO","M2",184.04,6.86,1262.51]
["9.0.1.11","BOTA FORA DE MATERIAL DESCARTADO, D.M.T. = 10 km - (CARGA, TRANSPORTE E DESCARGA MECÂNICA)","M3",21.450000000000003,58.67,1258.47]
[]
["9.1","INSTALAÇÕES DE CANTEIRO",null,null,null,{"$f":"SUBTOTAL(9,F31)","v":0}]
[]
["9.2","ADMINISTRAÇÃO",null,null,null,{"$f":"SUBTOTAL(9,F33)","v":0}]
[]
["9.3","TERRAPLENAGEM",null,null,null,{"$f":"SUBTOTAL(9,F35)","v":0}]
[]
["9.4","FUNDAÇÃO - PARA RECEBER AS ALVENARIAS",null,null,null,{"$f":"SUBTOTAL(9,F37:F41)","v":10277.759999999998}]
["9.4.1","VIGA BALDRAME  - LASTRO COM MATERIAL GRANULAR (PEDRA BRITADA N.1 E PEDRA BRITADA N.2), APLICADO EM PISOS OU LAJES SOBRE SOLO, ESPESSURA DE *10 CM*. AF_07/2019","M3",0.38200000000000006,142.05000000000001,{"$f":"ROUND(D37*E37,2)","v":54.26}]
["9.4.2","VIGA BALDRAME - FABRICAÇÃO, MONTAGEM E DESMONTAGEM DE FÔRMA PARA VIGA BALDRAME, EM MADEIRA SERRADA, E=25 MM, 1 UTILIZAÇÃO - CONSIDERANDO VIGA DE 15X40.","M2",30.560000000000002,148.03,4523.8]
["9.4.3","VIGA BALDRAME - ARMAÇÃO DE BLOCO, VIGA BALDRAME E SAPATA UTILIZANDO AÇO CA-60 DE 5 MM - MONTAGEM. AF_06/2017","KG",63.870400000000011,25.68,1640.19]
["9.4.4","VIGA BALDRAME - ARMAÇÃO DE BLOCO, VIGA BALDRAME OU SAPATA UTILIZANDO AÇO CA-50 DE 10 MM - MONTAGEM. AF_06/2017","KG",105.05000000000001,21.99,2310.0500000000002]
["9.4.5","VIGA BALDRAME - CONCRETAGEM DE BLOCOS DE COROAMENTO E VIGAS BALDRAMES, FCK 30 MPA, COM USO DE BOMBA \u0096 LANÇAMENTO, ADENSAMENTO E ACABAMENTO - CONSIDERANDO VIGA DE 15X40.","M3",2.5212000000000003,693.9,1749.46]
[]
["9.5","IMPERMEABILIZAÇÃO",null,null,null,{"$f":"SUBTOTAL(9,F44)","v":2421.0300000000002}]
["9.5.1","IMPERMEABILIZAÇÃO DE SUPERFÍCIE COM EMULSÃO ASFÁLTICA, 2 DEMÃOS - (DAS CALHAS DE CONCRETO DA LAJE EXISTENTE)","M2",41.67,58.1,{"$f":"ROUND(D44*E44,2)","v":2421.0300000000002}]
[]
["9.6","ESTRUTURAS DE CONCRETO ARMADO",null,null,null,{"$f":"SUBTOTAL(9,F47)","v":0}]
[]
["9.7","ALVENARIAS E PAINÉIS",null,null,null,{"$f":"SUBTOTAL(9,F49:F52)","v":16135.87}]
["9.7.1","ALVENARIA DE VEDAÇÃO DE BLOCOS CERÂMICOS FURADOS NA HORIZONTAL DE 9X19X19CM (ESPESSURA 9CM) DE PAREDES COM ÁREA LÍQUIDA MAIOR OU IGUAL A 6M² COM VÃOS E ARGAMASSA DE ASSENTAMENTO COM PREPARO EM BETONEIRA. AF_06/2014","M2",130.91,89.93,{"$f":"ROUND(D49*E49,2)","v":11772.74}]
["9.7.2","VERGA MOLDADA IN LOCO EM CONCRETO PARA JANELAS COM MAIS DE 1,5 M DE VÃO. AF_03/2016","M",22.4,91.19,2042.66]
["9.7.3","CONTRAVERGA MOLDADA IN LOCO EM CONCRETO PARA VÃOS DE MAIS DE 1,5 M DE COMPRIMENTO. AF_03/2016","M",22.4,82.78,1854.27]
["9.7.4","VERGA MOLDADA IN LOCO EM CONCRETO PARA PORTAS COM MAIS DE 1,5 M DE VÃO. AF_03/2016","M",5.04,92.5,466.2]
[]
["9.8","ESTRUTURA METALICA - REFORÇO EM LAJE",null,null,null,{"$f":"SUBTOTAL(9,F55:F56)","v":8138.5599999999995}]
["9.8.1","VIGA METÁLICA EM PERFIL LAMINADO OU SOLDADO EM AÇO ESTRUTURAL, COM CONEXÕES SOLDADAS, INCLUSOS MÃO DE OBRA, TRANSPORTE E IÇAMENTO UTILIZANDO GUINDASTE - FORNECIMENTO E INSTALAÇÃO - REFORÇO EM LAJE COM VIGA METÁLICA 2C200X75X25CH2,65 CHUMBADA EM PILARES EXISTENTES","KG",384.8,21.01,{"$f":"ROUND(D55*E55,2)","v":8084.65}]
["9.8.2","PINTURA COM TINTA ALQUÍDICA DE FUNDO (TIPO ZARCÃO) PULVERIZADA SOBRE SUPERFÍCIES METÁLICAS (EXCETO PERFIL) EXECUTADO EM OBRA (POR DEMÃO). AF_01/2020_P","M2",2.5299999999999998,21.31,53.91]
[]
["9.9","COBERTURA",null,null,null,{"$f":"SUBTOTAL(9,F59:F62)","v":27805.119999999999}]
["9.9.1","CUMEEIRA METÁLICA AÇO GALVALUME TRAPEZOIDAL 40 40X60CM - FORNECIMENTO E INSTALAÇÃO","M",23.15,84.19,{"$f":"ROUND(D59*E59,2)","v":1949}]
["9.9.2","TELHAMENTO COM TELHA DE AÇO/ALUMÍNIO E = 0,5 MM, COM ATÉ 2 ÁGUAS, INCLUSO IÇAMENTO. AF_07/2019","M2",184.04,105.32,19383.09]
["9.9.3","RECOMPOSIÇÃO DE TRAMA DE MADEIRA COMPOSTA POR TERÇAS PARA TELHADOS DE ATÉ 2 ÁGUAS PARA TELHA ONDULADA DE FIBROCIMENTO, METÁLICA, PLÁSTICA OU TERMOACÚSTICA, INCLUSO TRANSPORTE VERTICAL - CONSIDERADO 30% DA COBERTURA.","M2",55.21,15.94,880.05]
["9.9.4","EXECUÇÃO DE TRATAMENTO EM ESTRUTURA DE MADEIRA DE COBERTURA COM APLICAÇÃO DE FUNGICIDA","M2",184.04,30.39,5592.98]
[]
["9.10","ESQUADRIAS",null,null,null,{"$f":"SUBTOTAL(9,F65:F66)","v":15689.04}]
["9.10.1","P1 E P3 - PORTA EM ALUMÍNIO DE ABRIR TIPO VENEZIANA COM GUARNIÇÃO, FIXAÇÃO COM PARAFUSOS - FORNECIMENTO E INSTALAÇÃO","M2",7.35,679.02,{"$f":"ROUND(D65*E65,2)","v":4990.8}]
["9.10.2","J1 - JANELA MAXIM-AR COM ESTRUTURA DE ALUMÍNIO ANODIZADO NATURAL E VIDRO TEMPERADO FUMÊ 6 mm - DIM. 1,00X0,60M, COMPLETA,  INCLUSIVE FERRAGENS, FECHADURA, PUXADORES E  VEDAÇÕES - BANDEIRAS CONFORME PROJETO","UN",16,668.64,10698.24]
[]
["9.11","PISOS",null,null,null,{"$f":"SUBTOTAL(9,F69:F73)","v":18019.469999999998}]
["9.11.1","CONTRAPISO DE CONCRETO, ESPESSURA 7CM, PREPARO MECANICO","M2",91.73,42.03,{"$f":"ROUND(D69*E69,2)","v":3855.41}]
["9.11.2","REVESTIMENTO CERÂMICO PARA PISO COM PLACAS TIPO PORCELANATO DE DIMENSÕES 90X90 CM APLICADA EM AMBIENTES INTERNOS - MODELO ELIANE MUNARI BRANCO AC OU SIMILAR","M2",91.73,115.35,10581.06]
["9.11.3","RODAPÉ EM PORCELANATO DE 10CM DE ALTURA DE DIMENSÕES 90X90CM. - MODELO ELIANE MUNARI BRANCO AC OU SIMILAR","M2",2.3600000000000003,333.53,{"$f":"ROUND(D71*E71,2)","v":787.13}]
["9.11.4","RODAPÉ EM GRANITO, ALTURA 10 CM. AF_09/2020","M",32.14,66.400000000000006,2134.1]
["9.11.5","ACABAMENTO SUPERFICIAL DE CONCRETO COM LIXAMENTO, POLIMENTO E APLICAÇÃO DE RESINA EM DUAS DEMÃOS","M2",68.72,9.6300000000000008,{"$f":"ROUND(D73*E73,2)","v":661.77}]
[]
["9.12","REVESTIMENTOS",null,null,null,{"$f":"SUBTOTAL(9,F76:F79)","v":20916.640000000003}]
["9.12.1","CHAPISCO APLICADO EM ALVENARIAS E ESTRUTURAS DE CONCRETO INTERNAS, COM ROLO PARA TEXTURA ACRÍLICA.  ARGAMASSA TRAÇO 1:4 E EMULSÃO POLIMÉRICA (ADESIVO) COM PREPARO EM BETONEIRA 400L. AF_06/2014","M2",261.82,8.59,{"$f":"ROUND(D76*E76,2)","v":2249.0300000000002}]
["9.12.2","EMBOÇO OU MASSA ÚNICA EM ARGAMASSA TRAÇO 1:2:8, PREPARO MECÂNICO COM BETONEIRA 400 L, APLICADA MANUALMENTE EM PANOS DE FACHADA COM PRESENÇA DE VÃOS, ESPESSURA DE 25 MM. AF_06/2014","M2",261.82,55.05,14413.19]
["9.12.3","REVESTIMENTO CERAMICO PORTOBELLO GLACIE WHITE 30X60CM, INCLUSO E REJUNTE - FORNECIMENTO E INSTALAÇÃO (AZULEJO FORNECIDO PELO SESI)","M2",35.96,84.59,3041.86]
["9.12.4","REVESTIMENTO CERÂMICO PARA PAREDES EXTERNAS EM PASTILHAS JATOBÁ DE PORCELANA 5 X 5 CM (PLACAS DE 30 X 30 CM), ALINHADAS A PRUMO, JD. 4102 - PÉROLA OCEANO (JATOBÁ OU SIMILAR)","M2",5.98,202.77,1212.56]
[]
["9.13","GRANITO",null,null,null,{"$f":"SUBTOTAL(9,F82:F83)","v":2456.6800000000003}]
["9.13.1","PEITORIL LINEAR EM GRANITO OU MÁRMORE, L = 15CM, COMPRIMENTO DE ATÉ 2M, ASSENTADO COM ARGAMASSA 1:6 COM ADITIVO. AF_11/2020","M",16,132.84,{"$f":"ROUND(D82*E82,2)","v":2125.44}]
["9.13.2","SOLEIRA EM GRANITO, LARGURA 15 CM, ESPESSURA 2,0 CM. AF_09/2020","M",3.5,94.64,331.24]
[]
["9.14","FORRO",null,null,null,{"$f":"SUBTOTAL(9,F86:F86)","v":549.76}]
["9.14.1","FORRO ACÚSTICO DE FIBRA MINERAL 625 MM X 625 MM TEGULAR,  INSTALADOS EM PERFIL \"T\", SUPENSO POR PENDURAIS EM ARRAME GALVANIZADO A CADA 1250X1250MM (PLACAS DE FORRO FORNECIDO PELO SESI)","M2",14.14,38.880000000000003,{"$f":"ROUND(D86*E86,2)","v":549.76}]
[]
["9.15","PINTURA",null,null,null,{"$f":"SUBTOTAL(9,F89:F93)","v":17526.78}]
["9.15.1","APLICAÇÃO DE FUNDO SELADOR ACRÍLICO EM PAREDES, UMA DEMÃO. AF_06/2014","M2",195.97000000000003,2.06,{"$f":"ROUND(D89*E89,2)","v":403.7}]
["9.15.2","APLICAÇÃO E LIXAMENTO DE MASSA LÁTEX EM PAREDES, DUAS DEMÃOS. AF_06/2014","M2",195.97000000000003,14.96,2931.71]
["9.15.3","APLICAÇÃO MANUAL DE PINTURA COM TINTA LÁTEX ACRÍLICA EM PAREDES, DUAS DEMÃOS. AF_06/2014","M2",195.97000000000003,15,{"$f":"ROUND(D91*E91,2)","v":2939.55}]
["9.15.4","TEXTURA ACRÍLICA, APLICAÇÃO MANUAL EM PAREDE, UMA DEMÃO. AF_09/2016","M2",358.11,15.6,5586.52]
["9.15.5","APLICAÇÃO MANUAL DE TINTA LÁTEX ACRÍLICA EM PAREDE EXTERNAS, DUAS DEMÃOS.","M2",358.11,15.82,5665.3]
[]
["9.16","CALÇAMENTO, PÁTIOS E PASSARELAS",null,null,null,{"$f":"SUBTOTAL(9,F96)","v":0}]
[]
["9.17","SERVIÇOS COMPLEMENTARES",null,null,null,{"$f":"SUBTOTAL(9,F98:F98)","v":1253.54}]
["9.17.1","ESPELHO  CRISTAL E=4MM, FORNECIMENTO E INSTALAÇÃO","M2",2.2799999999999998,549.79999999999995,{"$f":"ROUND(D98*E98,2)","v":1253.54}]
[]
["9.18","INSTALAÇÕES DE SPDA",null,null,null,{"$f":"SUBTOTAL(9,F101)","v":0}]
[]
["9.19","INSTALAÇÃO DE COMBATE A INCÊNDIO",null,null,null,{"$f":"SUBTOTAL(9,F103)","v":0}]
[]
["9.20","INSTALAÇÕES ELÉTRICA",null,null,null,{"$f":"SUBTOTAL(9,F105:F236)","v":32741.720000000023}]
["9.20.1","ELÉTRICA BT / AR CONDICONADO - BLOCO DE CONVIVÊNCIA",null,null,null,{"$f":"SUBTOTAL(9,F106:F172)","v":27145.910000000003}]
["9.20.1.1","ACESSÓRIOS P/ELETRODUTO E USO GERAL",null,null,null,{"$f":"SUBTOTAL(9,F107:F127)","v":3096.3500000000004}]
["9.20.1.1.1","FORNECIMENTO E INSTALAÇÃO DE ABRAÇADEIRA DE AÇO, TIPO D, 3/4\", COM CUNHA","UN",45,6.59,{"$f":"ROUND(D107*E107,2)","v":296.55}]
["9.20.1.1.2","FORNECIMENTO E INSTALAÇÃO DE ABRAÇADEIRA DE AÇO, TIPO D, 1\", COM CUNHA","UN",6,6.75,40.5]
["9.20.1.1.3","FORNECIMENTO E INSTALAÇÃO DE BUCHA E ARRUELA ALUMÍNIO FUNDIDO PARA ELETRODUTO (ZAMAK) 3/4\"","UN",25,2.0299999999999998,50.75]
["9.20.1.1.4","FORNECIMENTO E INSTALAÇÃO DE BUCHA E ARRUELA ALUMÍNIO FUNDIDO PARA ELETRODUTO (ZAMAK) 1\"","UN",2,2.41,4.82]
["9.20.1.1.5","FORNECIMENTO E INSTALAÇÃO DE BOX RETO PARA ELETRODUTO 3/4\"","UN",25,5.68,142]
["9.20.1.1.6","FORNECIMENTO E INSTALAÇÃO DE BOX RETO PARA ELETRODUTO 1\"","UN",2,8.0399999999999991,16.079999999999998]
["9.20.1.1.7","FORNECIMENTO E INSTALAÇÃO DE PRENSA CABO 1/2\"","UN",14,30.33,424.62]
["9.20.1.1.8","CAIXA OCTOGONAL 4\" X 4\" PVC - FORNECIMENTO E INSTALAÇÃO. ","UN",2,11.42,22.84]
["9.20.1.1.9","CAIXA RETANGULAR 4\" X 2\" PVC - FORNECIMENTO E INSTALAÇÃO. ","UN",19,8.9600000000000009,170.24]
["9.20.1.1.10","FORNECIMENTO E INSTALAÇÃO DE PLACA CEGA PVC 4X4\"","UN",2,8.23,16.46]
["9.20.1.1.11","FORNECIMENTO E INSTALAÇÃO DE PLACA CEGA PVC 4X2\"","UN",1,4.82,4.82]
["9.20.1.1.12","FORNECIMENTO E INSTALAÇÃO DE SAÍDA LATERAL PERFILADO P/ ELETRODUTO 3/4\"","UN",5,18.510000000000002,92.55]
["9.20.1.1.13","FORNECIMENTO E INSTALAÇÃO DE SAÍDA LATERAL PERFILADO P/ ELETRODUTO 1\"","UN",2,14.87,29.74]
["9.20.1.1.14","FORNECIMENTO E INSTALAÇÃO DE ARAME AÇO GALVANIZADO 18 BWG, 1,24MM (0,009 KG/M)","M",45,0.77,34.65]
["9.20.1.1.15","FORNECIMENTO E INSTALAÇÃO DE ARRUELA LISA GALVANIZADA 1/4\"","UN",84,0.59,49.56]
["9.20.1.1.16","FORNECIMENTO E INSTALAÇÃO DE BUCHA / PARAFUSO S8","UN",93,4.4400000000000004,412.92]
["9.20.1.1.17","FORNECIMENTO E INSTALAÇÃO DE BUCHA / PARAFUSO S10","UN",12,4.75,57]
["9.20.1.1.18","FORNECIMENTO E INSTALAÇÃO DE CHUMBADOR PARABOLT AÇO 1/4\" X 3\"","UN",35,13.59,475.65]
["9.20.1.1.19","FORNECIMENTO E INSTALAÇÃO DE PARAFUSO GALVAN. CABEÇA LOSANGULAR 1/4\"X1\" - AUTO TRAVANTE PERFILADO","UN",14,6.88,96.32]
["9.20.1.1.20","FORNECIMENTO E INSTALAÇÃO DE PORCA SEXTAVADA GALVAN. 1/4\"","UN",84,0.42,35.28]
["9.20.1.1.21","FORNECIMENTO E INSTALAÇÃO DE VERGALHÃO GALVANIZADO ROSCA TOTAL 1/4\"","M",35,17.8,623]
[null,""]
["9.20.1.2","CABOS",null,null,null,{"$f":"SUBTOTAL(9,F130:F132)","v":4024.1}]
["9.20.1.2.1","FORNECIMENTO E INSTALAÇÃO DE CABO DE COBRE FLEXÍVEL ISOL. TERMOPLASTICO ATOX 750V - 2,5 MM² (TP SINTENAX PIRELLI OU SIMILAR)","M",630,4.83,{"$f":"ROUND(D130*E130,2)","v":3042.9}]
["9.20.1.2.2","FORNECIMENTO E INSTALAÇÃO DE CABO DE COBRE FLEXÍVEL ISOL. TERMOPLASTICO ATOX 750V - 4 MM² (TP SINTENAX PIRELLI OU SIMILAR)","M",70,7.06,494.2]
["9.20.1.2.3","FORNECIMENTO E INSTALAÇÃO DE CABO DE COBRE PP 3X2,5MM² - ISOL. TERMOPLASTICO ATOX 750V","M",100,4.87,487]
[null,""]
["9.20.1.3","DISPOSITIVO ELÉTRICO EMBUTIDO",null,null,null,{"$f":"SUBTOTAL(9,F135:F138)","v":505.74}]
["9.20.1.3.1","INTERRUPTOR SIMPLES (1 MÓDULO), 10A/250V, INCLUINDO SUPORTE E PLACA - FORNECIMENTO E INSTALAÇÃO. AF_12/2015","UN",3,24.35,{"$f":"ROUND(D135*E135,2)","v":73.05}]
["9.20.1.3.2","INTERRUPTOR SIMPLES (2 MÓDULOS), 10A/250V, INCLUINDO SUPORTE E PLACA - FORNECIMENTO E INSTALAÇÃO. AF_12/2015","UN",2,38.520000000000003,77.040000000000006]
["9.20.1.3.3","TOMADA DE EMBUTIR (1 MÓDULO), 2P+T 10 A, INCLUINDO SUPORTE E PLACA - FORNECIMENTO E INSTALAÇÃO. AF_12/2015","UN",1,25.73,25.73]
["9.20.1.3.4","TOMADA DE EMBUTIR (2 MÓDULOS), 2P+T 10 A, INCLUINDO SUPORTE E PLACA - FORNECIMENTO E INSTALAÇÃO. AF_12/2015","UN",8,41.24,329.92]
[null,""]
["9.20.1.4","DISPOSITIVO DE PROTEÇÃO",null,null,null,{"$f":"SUBTOTAL(9,F141:F145)","v":1078.54}]
["9.20.1.4.1","DISJUNTOR MONOPOLAR TIPO DIN, CORRENTE NOMINAL DE 16A - FORNECIMENTO E INSTALAÇÃO. AF_10/2020","UN",4,13.72,{"$f":"ROUND(D141*E141,2)","v":54.88}]
["9.20.1.4.2","DISJUNTOR BIPOLAR TIPO DIN, CORRENTE NOMINAL DE 25A - FORNECIMENTO E INSTALAÇÃO. AF_10/2020","UN",1,69.510000000000005,69.510000000000005]
["9.20.1.4.3","FORNECIMENTO E INSTALAÇÃO DE DISJUNTOR TIPO DIN/IEC, TRIPOLAR 100 A  (REF.: MARCA SIEMENS, WEG OU SIMILAR)","UN",1,254.67,254.67]
["9.20.1.4.4","FORNECIMENTO E INSTALAÇÃO DE DISPOSITIVO DR, 2 POLOS, SENSIBILIDADE DE 30 MA, CORRENTE DE 25 A, TIPO AC","UN",1,186.52,186.52]
["9.20.1.4.5","FORNECIMENTO E INSTALAÇÃO DE DISPOSITIVO DPS, 1 POLO, 175 V, 45 KA","UN",4,128.24,512.96]
[null,""]
["9.20.1.5","ELETROCALHAS / PERFILADOS",null,null,null,{"$f":"SUBTOTAL(9,F148:F152)","v":2089.88}]
["9.20.1.5.1","FORNECIMENTO E INSTALAÇÃO DE EMENDA INTERNA TIPO \"I\" P/ PERFILADO METÁLICO 38X38MM - CHAPA 18","UN",5,20.399999999999999,{"$f":"ROUND(D148*E148,2)","v":102}]
["9.20.1.5.2","FORNECIMENTO E INSTALAÇÃO DE EMENDA INTERNA TIPO \"L\" P/ PERFILADO METÁLICO 38X38MM  - CHAPA 18","UN",1,22.84,22.84]
["9.20.1.5.3","FORNECIMENTO E INSTALAÇÃO DE EMENDA INTERNA TIPO \"T\" P/ PERFILADO METÁLICO 38X38MM  - CHAPA 18","UN",3,37.17,111.51]
["9.20.1.5.4","FORNECIMENTO E INSTALAÇÃO DE PERFILADO PERFURADO METÁLICO 38X38MM, COM TAMPA - CHAPA 18","M",42,30.59,1284.78]
["9.20.1.5.5","FORNECIMENTO E INSTALAÇÃO DE SUPORTE CURTO P/ PERFILADO METÁLICO 38X38MM","UN",35,16.25,568.75]
[null,""]
["9.20.1.6","ELETRODUTOS",null,null,null,{"$f":"SUBTOTAL(9,F155:F156)","v":661.74}]
["9.20.1.6.1","ELETRODUTO FLEXÍVEL CORRUGADO, PVC, DN 25 MM (3/4\") - FORNECIMENTO E INSTALAÇÃO. ","M",90,6.19,{"$f":"ROUND(D155*E155,2)","v":557.1}]
["9.20.1.6.2","ELETRODUTO FLEXÍVEL CORRUGADO, PVC, DN 32 MM (1\") - FORNECIMENTO E INSTALAÇÃO. ","M",12,8.7200000000000006,104.64]
[null,""]
["9.20.1.7","LUMINÁRIAS E ACESSÓRIOS",null,null,null,{"$f":"SUBTOTAL(9,F159:F160)","v":13455.99}]
["9.20.1.7.1","FORNECIMENTO E INSTALAÇÃO DE LUMINÁRIA QUADRADA ALETAS REFLEXIVAS DE EMBUTIR, MODULAR 60X60CM, COM 4 LÂMPADAS TUBULARES LED T8 9W, TEMPERATURA DE COR 6.000K, TOTAL DE FLUXO LUMINOSO ENTRE 3.200 A 4.000 LUMENS, COM CORPO EM CHAPA METÁLICA PINTADA ELETROSTA","UN",3,465.33,{"$f":"ROUND(D159*E159,2)","v":1395.99}]
["9.20.1.7.2","FORNECIMENTO E INSTALAÇÃO DE LUMINÁRIA QUADRADA ALETAS REFLEXIVAS DE SOBREPOR, MODULAR 60X60CM, COM 4 LÂMPADAS TUBULARES LED T8 9W, TEMPERATURA DE COR 6.000K, TOTAL DE FLUXO LUMINOSO ENTRE 3.200 A 4.000 LUMENS, COM CORPO EM CHAPA METÁLICA PINTADA ELETROST","UN",24,502.5,12060]
[null,""]
["9.20.1.8","QUADRO DE DISTRIBUIÇÃO",null,null,null,{"$f":"SUBTOTAL(9,F163:F163)","v":1952.18}]
["9.20.1.8.1","FORNECIMENTO E INSTALAÇÃO DE QUADRO DE DISTRIBUIÇÃO DE EMBUTIR, EM CHAPA PINTADA, COM BARRAMENTO TRIFÁSICO DE 150A, CAPACIDADE PARA: 44 DISJUNTORES UNIPOLARES TIPO DIN, INCLUSIVE BARRAMENTO NEUTRO E TERRA, COMPLETO","UN",1,1952.18,{"$f":"ROUND(D163*E163,2)","v":1952.18}]
[null,""]
["9.20.1.9","TERMINAIS",null,null,null,{"$f":"SUBTOTAL(9,F166:F172)","v":281.39}]
["9.20.1.9.1","FORNECIMENTO E INSTALAÇÃO DE TERMINAL DE COMPRESSÃO 1,5 - 2,5MM²","UN",20,4.49,{"$f":"ROUND(D166*E166,2)","v":89.8}]
["9.20.1.9.2","FORNECIMENTO E INSTALAÇÃO DE TERMINAL DE COMPRESSÃO 4 - 6MM²","UN",10,7.88,78.8]
["9.20.1.9.3","FORNECIMENTO E INSTALAÇÃO DE TERMINAL DE COMPRESSÃO 16MM²","UN",2,8.5299999999999994,17.059999999999999]
["9.20.1.9.4","FORNECIMENTO E INSTALAÇÃO DE TERMINAL DE COMPRESSÃO 35MM²","UN",5,9.59,47.95]
["9.20.1.9.5","FORNECIMENTO E INSTALAÇÃO DE ABRAÇADEIRA NYLON 3,5X300MM","UN",30,0.33,9.9]
["9.20.1.9.6","FORNECIMENTO E INSTALAÇÃO DE FITA ISOLANTE DE BORRACHA AUTO-FUSÃO","UN",1,2.04,2.04]
["9.20.1.9.7","FORNECIMENTO E INSTALAÇÃO DE FITA ISOLANTE 19MMX20M","UN",2,17.920000000000002,35.840000000000003]
[null,""]
["9.20.2","ELÉTRICA ILUMINAÇÃO EXTERNA - BLOCO DE CONVIVÊNCIA",null,null,null,{"$f":"SUBTOTAL(9,F175:F208)","v":4862.4399999999987}]
["9.20.2.1","ACESSÓRIOS P/ELETRODUTO E USO GERAL",null,null,null,{"$f":"SUBTOTAL(9,F176:F185)","v":481.59}]
["9.20.2.1.1","FORNECIMENTO E INSTALAÇÃO DE ABRAÇADEIRA DE AÇO, TIPO D, 1\", COM CUNHA","UN",4,6.75,{"$f":"ROUND(D176*E176,2)","v":27}]
["9.20.2.1.2","FORNECIMENTO E INSTALAÇÃO DE BUCHA E ARRUELA ALUMÍNIO FUNDIDO PARA ELETRODUTO (ZAMAK) 1\"","UN",2,2.41,4.82]
["9.20.2.1.3","FORNECIMENTO E INSTALAÇÃO DE BOX RETO PARA ELETRODUTO 1\"","UN",2,8.0399999999999991,16.079999999999998]
["9.20.2.1.4","FORNECIMENTO E INSTALAÇÃO DE PRENSA CABO 1/2\"","UN",7,30.33,212.31]
["9.20.2.1.5","CAIXA RETANGULAR 4\" X 2\" PVC - FORNECIMENTO E INSTALAÇÃO. ","UN",3,8.9600000000000009,26.88]
["9.20.2.1.6","FORNECIMENTO E INSTALAÇÃO DE SAÍDA LATERAL PERFILADO P/ ELETRODUTO 1\"","UN",2,14.87,29.74]
["9.20.2.1.7","FORNECIMENTO E INSTALAÇÃO DE ARRUELA LISA GALVANIZADA 1/4\"","UN",4,0.59,2.36]
["9.20.2.1.8","FORNECIMENTO E INSTALAÇÃO DE BUCHA / PARAFUSO S8","UN",30,4.4400000000000004,133.19999999999999]
["9.20.2.1.9","FORNECIMENTO E INSTALAÇÃO DE PARAFUSO GALVAN. CABEÇA LOSANGULAR 1/4\"X1\" - AUTO TRAVANTE PERFILADO","UN",4,6.88,27.52]
["9.20.2.1.10","FORNECIMENTO E INSTALAÇÃO DE PORCA SEXTAVADA GALVAN. 1/4\"","UN",4,0.42,1.68]
[null,""]
["9.20.2.2","CABOS",null,null,null,{"$f":"SUBTOTAL(9,F188:F189)","v":2846.9}]
["9.20.2.2.1","FORNECIMENTO E INSTALAÇÃO DE CABO DE COBRE FLEXÍVEL ISOL. TERMOPLASTICO ATOX 750V - 2,5 MM² (TP SINTENAX PIRELLI OU SIMILAR)","M",250,4.83,{"$f":"ROUND(D188*E188,2)","v":1207.5}]
["9.20.2.2.2","FORNECIMENTO E INSTALAÇÃO DE CABO DE COBRE PP 4 X 2,5 MM²","M",70,23.42,1639.4]
[null,""]
["9.20.2.3","DISPOSITIVO ELÉTRICO EMBUTIDO",null,null,null,{"$f":"SUBTOTAL(9,F192:F194)","v":860.47}]
["9.20.2.3.1","INTERRUPTOR SIMPLES (2 MÓDULOS), 10A/250V, INCLUINDO SUPORTE E PLACA - FORNECIMENTO E INSTALAÇÃO. AF_12/2015","UN",2,38.520000000000003,{"$f":"ROUND(D192*E192,2)","v":77.040000000000006}]
["9.20.2.3.2","INTERRUPTOR SIMPLES (3 MÓDULOS), 10A/250V, INCLUINDO SUPORTE E PLACA - FORNECIMENTO E INSTALAÇÃO. AF_12/2015","UN",1,52.7,52.7]
["9.20.2.3.3","SENSOR DE PRESENÇA PARA ILUMINAÇÃO, 100W, 127V, COM ÂNGULO DE DETECÇÃO DE 180º, FUNÇÃO FOTOCÉLULA AJUSTÁVEL, FUNÇÃO TEMPORIZADOR AJUSTÁVEL, DISTÂNCIA DE DETECÇÃO 12 METROS, SOBREPOR - FORNECIMENTO E INSTALAÇÃO. ","UN",7,104.39,730.73]
[null,""]
["9.20.2.4","DISPOSITIVO DE PROTEÇÃO",null,null,null,{"$f":"SUBTOTAL(9,F197)","v":13.15}]
["9.20.2.4.1","DISJUNTOR MONOPOLAR TIPO DIN, CORRENTE NOMINAL DE 10A - FORNECIMENTO E INSTALAÇÃO. AF_10/2020","UN",1,13.15,{"$f":"ROUND(D197*E197,2)","v":13.15}]
[null,""]
["9.20.2.5","ELETRODUTOS",null,null,null,{"$f":"SUBTOTAL(9,F200:F201)","v":99.58}]
["9.20.2.5.1","ELETRODUTO FLEXÍVEL CORRUGADO, PVC, DN 25 MM (3/4\") - FORNECIMENTO E INSTALAÇÃO. ","M",2,6.19,{"$f":"ROUND(D200*E200,2)","v":12.38}]
["9.20.2.5.2","ELETRODUTO FLEXÍVEL CORRUGADO, PVC, DN 32 MM (1\") - FORNECIMENTO E INSTALAÇÃO. ","M",10,8.7200000000000006,87.2]
[null,""]
["9.20.2.6","LUMINÁRIAS E ACESSÓRIOS",null,null,null,{"$f":"SUBTOTAL(9,F204)","v":520.38}]
["9.20.2.6.1","FORNECIMENTO E INSTALAÇÃO DE REFLETOR HOLOFOTE LED 50W, IP 66, ÂNGULO DE ABERTURA DE 120°, TEMPERATURA DE COR 6000K (REF.: ILUMINIM RSPM-50WBF OU SIMILAR)","UN",7,74.34,{"$f":"ROUND(D204*E204,2)","v":520.38}]
[null,""]
["9.20.2.7","TERMINAIS",null,null,null,{"$f":"SUBTOTAL(9,F207:F208)","v":40.370000000000005}]
["9.20.2.7.1","FORNECIMENTO E INSTALAÇÃO DE TERMINAL DE COMPRESSÃO 1,5 - 2,5MM²","UN",5,4.49,{"$f":"ROUND(D207*E207,2)","v":22.45}]
["9.20.2.7.2","FORNECIMENTO E INSTALAÇÃO DE FITA ISOLANTE 19MMX20M","UN",1,17.920000000000002,17.920000000000002]
[null,""]
["9.20.3","ELÉTRICA ILUMINAÇÃO EMERGÊNCIA  - BLOCO DE CONVIVÊNCIA",null,null,null,{"$f":"SUBTOTAL(9,F211:F236)","v":733.37}]
["9.20.3.1","ACESSÓRIOS P/ELETRODUTO E USO GERAL",null,null,null,{"$f":"SUBTOTAL(9,F212:F220)","v":204.24}]
["9.20.3.1.1","FORNECIMENTO E INSTALAÇÃO DE ABRAÇADEIRA DE AÇO, TIPO D, 3/4\", COM CUNHA","UN",4,6.59,{"$f":"ROUND(D212*E212,2)","v":26.36}]
["9.20.3.1.2","FORNECIMENTO E INSTALAÇÃO DE BUCHA E ARRUELA ALUMÍNIO FUNDIDO PARA ELETRODUTO (ZAMAK) 3/4\"","UN",2,2.0299999999999998,4.0599999999999996]
["9.20.3.1.3","FORNECIMENTO E INSTALAÇÃO DE BOX RETO PARA ELETRODUTO 3/4\"","UN",2,5.68,11.36]
["9.20.3.1.4","CAIXA RETANGULAR 4\" X 2\" PVC - FORNECIMENTO E INSTALAÇÃO. ","UN",2,8.9600000000000009,17.920000000000002]
["9.20.3.1.5","FORNECIMENTO E INSTALAÇÃO DE SAÍDA LATERAL PERFILADO P/ ELETRODUTO 3/4\"","UN",2,18.510000000000002,37.020000000000003]
["9.20.3.1.6","FORNECIMENTO E INSTALAÇÃO DE ARRUELA LISA GALVANIZADA 1/4\"","UN",8,0.59,4.72]
["9.20.3.1.7","FORNECIMENTO E INSTALAÇÃO DE BUCHA / PARAFUSO S8","UN",10,4.4400000000000004,44.4]
["9.20.3.1.8","FORNECIMENTO E INSTALAÇÃO DE PARAFUSO GALVAN. CABEÇA LOSANGULAR 1/4\"X1\" - AUTO TRAVANTE PERFILADO","UN",8,6.88,55.04]
["9.20.3.1.9","FORNECIMENTO E INSTALAÇÃO DE PORCA SEXTAVADA GALVAN. 1/4\"","UN",8,0.42,3.36]
[null,""]
["9.20.3.2","CABOS",null,null,null,{"$f":"SUBTOTAL(9,F223:F223)","v":362.25}]
["9.20.3.2.1","FORNECIMENTO E INSTALAÇÃO DE CABO DE COBRE FLEXÍVEL ISOL. TERMOPLASTICO ATOX 750V - 2,5 MM² (TP SINTENAX PIRELLI OU SIMILAR)","M",75,4.83,{"$f":"ROUND(D223*E223,2)","v":362.25}]
[null,""]
["9.20.3.3","DISPOSITIVO ELÉTRICO EMBUTIDO",null,null,null,{"$f":"SUBTOTAL(9,F226:F226)","v":51.46}]
["9.20.3.3.1","TOMADA DE EMBUTIR (1 MÓDULO), 2P+T 10 A, INCLUINDO SUPORTE E PLACA - FORNECIMENTO E INSTALAÇÃO. AF_12/2015","UN",2,25.73,{"$f":"ROUND(D226*E226,2)","v":51.46}]
[null,""]
["9.20.3.4","DISPOSITIVO DE PROTEÇÃO",null,null,null,{"$f":"SUBTOTAL(9,F229:F229)","v":13.15}]
["9.20.3.4.1","DISJUNTOR MONOPOLAR TIPO DIN, CORRENTE NOMINAL DE 10A - FORNECIMENTO E INSTALAÇÃO. AF_10/2020","UN",1,13.15,{"$f":"ROUND(D229*E229,2)","v":13.15}]
[null,""]
["9.20.3.5","ELETRODUTOS",null,null,null,{"$f":"SUBTOTAL(9,F232:F232)","v":61.9}]
["9.20.3.5.1","ELETRODUTO FLEXÍVEL CORRUGADO, PVC, DN 25 MM (3/4\") - FORNECIMENTO E INSTALAÇÃO. ","M",10,6.19,{"$f":"ROUND(D232*E232,2)","v":61.9}]
[null,""]
["9.20.3.6","TERMINAIS",null,null,null,{"$f":"SUBTOTAL(9,F235:F236)","v":40.370000000000005}]
["9.20.3.6.1","FORNECIMENTO E INSTALAÇÃO DE TERMINAL DE COMPRESSÃO 1,5 - 2,5MM²","UN",5,4.49,{"$f":"ROUND(D235*E235,2)","v":22.45}]
["9.20.3.6.2","FORNECIMENTO E INSTALAÇÃO DE FITA ISOLANTE 19MMX20M","UN",1,17.920000000000002,17.920000000000002]
[]
["9.21","LOGICA E TELEFONICA",null,null,null,{"$f":"SUBTOTAL(9,F239:F273)","v":2367.3200000000002}]
["9.21.1","ACESSÓRIOS P/ELETRODUTO E USO GERAL",null,null,null,{"$f":"SUBTOTAL(9,F240:F253)","v":805.8}]
["9.21.1.1","FORNECIMENTO E INSTALAÇÃO DE ABRAÇADEIRA DE AÇO, TIPO D, 3/4\", COM CUNHA","UN",4,6.59,{"$f":"ROUND(D240*E240,2)","v":26.36}]
["9.21.1.2","FORNECIMENTO E INSTALAÇÃO DE ABRAÇADEIRA DE AÇO, TIPO D, 1\", COM CUNHA","UN",14,6.75,94.5]
["9.21.1.3","FORNECIMENTO E INSTALAÇÃO DE BUCHA E ARRUELA ALUMÍNIO FUNDIDO PARA ELETRODUTO (ZAMAK) 3/4\"","UN",2,2.0299999999999998,4.0599999999999996]
["9.21.1.4","FORNECIMENTO E INSTALAÇÃO DE BUCHA E ARRUELA ALUMÍNIO FUNDIDO PARA ELETRODUTO (ZAMAK) 1\"","UN",3,2.41,7.23]
["9.21.1.5","FORNECIMENTO E INSTALAÇÃO DE BOX RETO PARA ELETRODUTO 3/4\"","UN",2,5.68,11.36]
["9.21.1.6","FORNECIMENTO E INSTALAÇÃO DE BOX RETO PARA ELETRODUTO 1\"","UN",3,8.0399999999999991,24.12]
["9.21.1.7","CAIXA RETANGULAR 4\" X 2\" PVC - FORNECIMENTO E INSTALAÇÃO. ","UN",2,8.9600000000000009,17.920000000000002]
["9.21.1.8","CONDULETE DE ALUMÍNIO, TIPO X, PARA ELETRODUTO DE AÇO GALVANIZADO DN 25 MM (1''), APARENTE - FORNECIMENTO E INSTALAÇÃO. AF_11/2016_P","UN",3,42.58,127.74]
["9.21.1.9","FORNECIMENTO E INSTALAÇÃO DE PLACA CEGA DE ALUMÍNIO  P/ CONDULETE","UN",3,32.700000000000003,98.1]
["9.21.1.10","FORNECIMENTO E INSTALAÇÃO DE ARAME AÇO GALVANIZADO 18 BWG, 1,24MM (0,009 KG/M)","M",111,0.77,85.47]
["9.21.1.11","FORNECIMENTO E INSTALAÇÃO DE ARRUELA LISA GALVANIZADA 1/4\"","UN",58,0.59,34.22]
["9.21.1.12","FORNECIMENTO E INSTALAÇÃO DE BUCHA / PARAFUSO S8","UN",18,4.4400000000000004,79.92]
["9.21.1.13","FORNECIMENTO E INSTALAÇÃO DE PORCA SEXTAVADA GALVAN. 1/4\"","UN",40,0.42,16.8]
["9.21.1.14","FORNECIMENTO E INSTALAÇÃO DE VERGALHÃO GALVANIZADO ROSCA TOTAL 1/4\"","M",10,17.8,178]
[null,""]
["9.21.2","CAIXAS DE PASSAGEM",null,null,null,{"$f":"SUBTOTAL(9,F256:F256)","v":44.78}]
["9.21.2.1","CAIXA DE PASSAGEM 15X15X10CM (EMBUTIR), FORNECIMENTO E INSTALACAO. AF_11/2019","UN",1,44.78,44.78]
[null,""]
["9.21.3","CABOS",null,null,null,{"$f":"SUBTOTAL(9,F259:F259)","v":786.9}]
["9.21.3.1","CABO ELETRÔNICO CATEGORIA 6, ATOX LSZH, INSTALADO EM EDIFICAÇÃO INSTITUCIONAL - FORNECIMENTO E INSTALAÇÃO. AF_11/2019","M",305,2.58,{"$f":"ROUND(D259*E259,2)","v":786.9}]
[null,""]
["9.21.4","DISPOSITIVO CABEAMENTO EMBUTIR",null,null,null,{"$f":"SUBTOTAL(9,F262:F264)","v":157.19999999999999}]
["9.21.4.1","FORNECIMENTO E INSTALAÇÃO DE PLACA 4X2\" - BRANCA, 2 MÓDULOS P/ RJ45","UN",2,11.84,{"$f":"ROUND(D262*E262,2)","v":23.68}]
["9.21.4.2","FORNECIMENTO E INSTALAÇÃO DE MÓDULO P/TOMADA KEYSTONE","UN",4,6.59,26.36]
["9.21.4.3","FORNECIMENTO E INSTALAÇÃO DE TOMADA KEYSTONE RJ45 - CAT.6","UN",4,26.79,107.16]
[null,""]
["9.21.5","ELETRODUTOS",null,null,null,{"$f":"SUBTOTAL(9,F267:F269)","v":365.92}]
["9.21.5.1","ELETRODUTO FLEXÍVEL CORRUGADO, PVC, DN 25 MM (3/4\") - FORNECIMENTO E INSTALAÇÃO. ","M",12,6.19,{"$f":"ROUND(D267*E267,2)","v":74.28}]
["9.21.5.2","ELETRODUTO FLEXÍVEL CORRUGADO, PVC, DN 32 MM (1\") - FORNECIMENTO E INSTALAÇÃO. ","M",17,8.7200000000000006,148.24]
["9.21.5.3","ELETRODUTO RÍGIDO ROSCÁVEL, PVC, DN 32 MM (1\") - FORNECIMENTO E INSTALAÇÃO. AF_12/2015","M",12,11.95,143.4]
[null,""]
["9.21.6","RACK E ACESSÓRIOS",null,null,null,{"$f":"SUBTOTAL(9,F272:F273)","v":206.72}]
["9.21.6.1","FORNECIMENTO E INSTALAÇÃO DE PATCH CORD CERTIFICADO CAT.6 - CONEXÃO RJ45 X RJ45 - COMP. 1,5M - LSZH","UN",4,8.86,{"$f":"ROUND(D272*E272,2)","v":35.44}]
["9.21.6.2","FORNECIMENTO DE SERVIÇO DE CERTIFICAÇÃO DE CABO DE REDE CAT-6, COM CERTIFICADO DE AFERIÇÃO DO APARELHO","UN",4,42.82,171.28]
[]
["9.22","CLIMATIZAÇÃO - AR CONDICIONADO",null,null,null,{"$f":"SUBTOTAL(9,F276)","v":0}]
[]
["9.23","INFRAESTRUTURA PARA INSTALAÇÃO DE AUDIO E VÍDEO",null,null,null,{"$f":"SUBTOTAL(9,F278)","v":0}]
[]
["9.24","INSTALAÇÕES HIDRAULICAS ",null,null,null,{"$f":"SUBTOTAL(9,F280:F280)","v":0}]
[]
["9.25","ÁGUAS PLUVIAIS DE COBERTURA",null,null,null,{"$f":"SUBTOTAL(9,F282:F284)","v":5625.96}]
["9.25.1","JOELHO 90 GRAUS, PVC, SERIE R, ÁGUA PLUVIAL, DN 100 MM, JUNTA ELÁSTICA, FORNECIDO E INSTALADO EM RAMAL DE ENCAMINHAMENTO. AF_12/2014","UN",8,49.03,{"$f":"ROUND(D282*E282,2)","v":392.24}]
["9.25.2","TUBO PVC, SÉRIE R, ÁGUA PLUVIAL, DN 100 MM, FORNECIDO E INSTALADO EM RAMAL DE ENCAMINHAMENTO. AF_12/2014","M",12,71.709999999999994,860.52]
["9.25.3","CAIXA ENTERRADA HIDRÁULICA RETANGULAR, EM CONCRETO PRÉ-MOLDADO, DIMENSÕES INTERNAS: 0,6X0,6X0,5 M - CONSIDERANDO RECOMPOSIÇÃO DE CAIXAS EXISTENTES","UN",8,546.65,4373.2]
[]
["9.26","INSTALAÇÕES SANITÁRIAS",null,null,null,{"$f":"SUBTOTAL(9,F287:F287)","v":0}]
[]
["9.27","LOUÇAS E METÁIS",null,null,null,{"$f":"SUBTOTAL(9,F289:F305)","v":19694.080000000005}]
["9.27.1","CABIDEIRO 20160 EVIDENCE CROMADO (MARCA DECA, DOCOL OU SIMILAR)- FORNECIMENTO E INSTALAÇÃO","UN",2,33.299999999999997,{"$f":"ROUND(D289*E289,2)","v":66.599999999999994}]
["9.27.2","LAVATÓRIO MASTER DE CANTO COR BRANCO GELO, COD 76, (MARCA DECA OU SIMILAR), INCLUSO SIFÃO TIPO COPO, PARA LAVATÓRIO 1680, CROMADO, 1\" - 1.1/2\", VALVULA DE METAL CROMADO 1\", PARA LAVATÓRIO, SEM LADRÃO. - FORNECIMENTO E INSTALAÇÃO","UN",2,1564.49,{"$f":"ROUND(D290*E290,2)","v":3128.98}]
["9.27.3","VÁLVULA EM METAL CROMADO 1.1/2\u0094 X 1.1/2\u0094 PARA TANQUE OU LAVATÓRIO, COM OU SEM LADRÃO - FORNECIMENTO E INSTALAÇÃO. AF_01/2020","UN",2,34.36,68.72]
["9.27.4","ENGATE FLEXÍVEL EM PLÁSTICO BRANCO, 1/2\u0094 X 40CM - FORNECIMENTO E INSTALAÇÃO. AF_01/2020","UN",2,12.97,25.94]
["9.27.5","SIFÃO DO TIPO GARRAFA EM METAL CROMADO 1 X 1.1/2\u0094 - FORNECIMENTO E INSTALAÇÃO. AF_01/2020","UN",2,191.93,383.86]
["9.27.6","TORNEIRA DE MESA PRESMATIC ECO CROMADA COD 1173 CONFORTO (COM ALAVANCA PARA PCD), MARCA DECA, DOCOL OU SIMILAR, FORNECIMENTO E INSTALAÇÃO.","UN",2,865.81,1731.62]
["9.27.7","VASO SANITARIO SIFONADO CONVENCIONAL PARA PCD SEM FURO FRONTAL COM LOUÇA BRANCA SEM ASSENTO, INCLUSO CONJUNTO DE LIGAÇÃO PARA BACIA SANITÁRIA AJUSTÁVEL - FORNECIMENTO E INSTALAÇÃO. AF_01/2020","UN",2,1069.02,2138.04]
["9.27.8","VÁLVULA DE DESCARGA  1.1/2\" COM ACABAMENTO PARA VÁLVULA BENEFIT CROMADO (ALAVANCA PARA PCD)- DOCOL OU SIMILAR","UN",2,1030.6600000000001,2061.3200000000002]
["9.27.9","ASSENTO SANITÁRIO CONVENCIONAL - FORNECIMENTO E INSTALACAO. AF_01/2020","UN",2,48.02,96.04]
["9.27.10","DUCHA HIGIÊNICA CROMADO REF:  LINK DECA 1984.C.ACT.LNK.CRL, MARCA DECA, DOCOL OU SIMILAR, FORNECIMENTO E INSTALAÇÃO.","UN",2,411.23,822.46]
["9.27.11","CHUVEIRO DE PAREDE CURVO COM DESVIADOR, CROMADO - LINHA DECA OU SIMILAR - FORNECIMENTO E INSTALAÇÃO","M",2,1178.03,{"$f":"ROUND(D299*E299,2)","v":2356.06}]
["9.27.12","BANCO ARTICULADO PARA BANHO, AÇO INOX, 70X45CM, CONFORME NBR 9050","M",2,740.22,{"$f":"ROUND(D300*E300,2)","v":1480.44}]
["9.27.13","BARRA DE APOIO INOX RETA 400mm PARA PORTA DOS BANHEIROS PCD E/OU ACESSÓRIO PARA BANHEIRO PNE  (NORMA 9050/2015). - DESCRIÇÃO DO MATERIAL: • AÇO INOX 304 POLIDO., • DIÂMETRO DE 1” ½ , • ESPESSURA DE 1,2 MILÍMETROS, • SUPORTE COM TRÊS PONTOS DE FIXAÇÃO, • CANOPLA DE ACABAMENTO COM Ø DE 85MM, • BUCHA NYLON S10, • PARAFUSO SEXTAVADO S10 - FORNECIMENTO E INSTALAÇÃO","UN",6,251.8,1510.8]
["9.27.14","BARRA DE APOIO RETA, EM ACO INOX POLIDO, COMPRIMENTO 60CM, FIXADA NA PAREDE - FORNECIMENTO E INSTALAÇÃO. AF_01/2020","UN",2,350.28,{"$f":"ROUND(D302*E302,2)","v":700.56}]
["9.27.15","BARRA DE APOIO RETA, EM ACO INOX POLIDO, COMPRIMENTO 70 CM,  FIXADA NA PAREDE - FORNECIMENTO E INSTALAÇÃO. AF_01/2020","UN",4,377.71,1510.84]
["9.27.16","BARRA DE APOIO RETA, EM ACO INOX POLIDO, COMPRIMENTO 80 CM,  FIXADA NA PAREDE - FORNECIMENTO E INSTALAÇÃO. AF_01/2020","UN",2,395.95,{"$f":"ROUND(D304*E304,2)","v":791.9}]
["9.27.17","BARRA DE APOIO RETA, EM ACO INOX POLIDO, COMPRIMENTO 90 CM,  FIXADA NA PAREDE - FORNECIMENTO E INSTALAÇÃO. AF_01/2020","UN",2,409.95,819.9]
[]
["9.28","SISTEMA DE TRATAMENTO DE ESGOTO",null,null,null,{"$f":"SUBTOTAL(9,F308)","v":0}]
[]
["9.29","LIMPEZA CONTÍNUA DA OBRA",null,null,null,{"$f":"SUBTOTAL(9,F310)","v":0}]
[]
["9.30","LIMPEZA FINAL PARA ENTREGA",null,null,null,{"$f":"SUBTOTAL(9,F312)","v":519.14}]
["9.30.1","LIMPEZA FINAL PARA ENTREGA","M2",170.21,3.05,{"$f":"ROUND(D312*E312,2)","v":519.14}]
[]
["VALOR TOTAL",null,null,null,null,{"$f":"SUBTOTAL(9,F14:F313)","v":210364.50999999992}]

{"sheet":"10_ABRIGO GLP E RESIDUOS","index":11,"n_rows":143,"n_cols":6,"rows_kept":143,"cut":false,"hidden":true,"merged":[[10,0,10,5],[0,0,3,2],[0,3,1,5],[2,3,3,3],[2,4,3,4],[2,5,3,5],[4,0,4,5],[5,0,5,5],[6,0,6,5],[7,0,7,5],[8,0,8,5],[9,0,9,5]]}
["                                 PLANILHA ORÇAMENTARIA   ",null,null,"SPN-FF-003"]
[]
[null,null,null,"Folha:              1 de 1","Revisão:      \n02","Data: \n07/10/19"]
[]
["SESI - SERVIÇO SOCIAL DA INDUSTRIA - DR/MT"]
["OBRA: CONTRATAÇÃO DE EMPRESA ESPECIALIZADA PARA CONTINUIDADE DA EXECUÇÃO DA OBRA DE REFORMA E AMPLIAÇÃO DA UNIDADE DO SESI ESCOLA VÁRZEA GRANDE/MT."]
["UNIDADE OPERACIONAL: SESI ESCOLA VÁRZEA GRANDE"]
["ENDEREÇO: AV. DOM ORLANDO CHAVES, N.º 1.086, PONTE NOVA - CRISTO REI         CIDADE: VÁRZEA GRANDE/MT"]
["CONSTRUTORA:"]
["RESPONSÁVEL TÉCNICO:"]
["BASE SINAPI UTILIZADA: 06/2021"]
["ITEM","DESCRIÇÃO","UNID.","QUANT.","Valor UNIT. (R$)","Valor Total (R$)"]
[]
[10,"ABRIGO GLP E ABRIGO RESIDUOS SÓLIDOS"]
[]
["10.0","DEMOLIÇÕES E RETIRADAS",null,null,null,{"$f":"SUBTOTAL(9,F17:F20)","v":507.65999999999997}]
["10.0.1","DEMOLIÇÃO",null,null,null,{"$f":"SUBTOTAL(9,F18:F20)","v":507.65999999999997}]
["10.0.1.1","DEMOLIÇÃO DE ALVENARIA DE BLOCO FURADO, DE FORMA MANUAL, SEM REAPROVEITAMENTO. AF_12/2017","M3",1.73,49.97,{"$f":"ROUND(D18*E18,2)","v":86.45}]
["10.0.1.2","DEMOLIÇÃO DE PAVIMENTO INTERTRAVADO, DE FORMA MANUAL, COM REAPROVEITAMENTO. AF_12/2017","M2",15,14,210]
["10.0.1.3","BOTA FORA DE MATERIAL DESCARTADO, D.M.T. = 10 km - (CARGA, TRANSPORTE E DESCARGA MECÂNICA)","M3",3.6000000000000005,58.67,211.21]
[]
["10.1","INSTALAÇÕES DE CANTEIRO",null,null,null,{"$f":"SUBTOTAL(9,F23)","v":0}]
[]
["10.2","ADMINISTRAÇÃO",null,null,null,{"$f":"SUBTOTAL(9,F25)","v":0}]
[]
["10.3","TERRAPLENAGEM",null,null,null,{"$f":"SUBTOTAL(9,F27)","v":0}]
[]
["10.4","FUNDAÇÃO",null,null,null,{"$f":"SUBTOTAL(9,F29:F32)","v":5809.39}]
["10.4.1","COMPACTAÇÃO MECÂNICA DE SOLO PARA EXECUÇÃO DE RADIER, COM COMPACTADOR DE SOLOS A PERCUSSÃO.","M2",24.44,3.01,{"$f":"ROUND(D29*E29,2)","v":73.56}]
["10.4.2","LASTRO DE CONCRETO MAGRO, APLICADO EM PISOS, LAJES SOBRE SOLO OU RADIERS, ESPESSURA DE 5 CM. AF_07/2016","M2",24.44,28.79,703.63]
["10.4.3","LONA PLASTICA EXTRA FORTE PRETA, E = 200 MICRA","M2    ",24.44,3.02,73.81]
["10.4.4","PISO DE CONCRETO POLIDO INDUSTRIAL PARA TRÂNSITO DE VEÍCULOS, FCK 25MPA, ESP. 15CM, ARMADO COM TELA SOLDADA GERDAU Q-92 - MALHA 15X15CM D= 4,2MM OU SIMILAR, INCLUSIVE BARRAS DE  TRANSFERÊNCIA BTG 20 - D=20MM, EM AÇO CA-25 LISO, COMPRIMENTO DE 50CM, DISPOSTAS A CADA 30CM, COM FORNECIMENTO DE MATERIAL, ADENSAMENTO, SARRAFEAMENTO, POLIMENTO COM MÁQUINA POLITRIZ INDUSTRIAL, COM CONFECÇÃO DE JUNTAS DE DILATAÇÃO EM PANOS DE NO MÁXIMO 5,00X5,00M, EXECUTADAS CORTE COM MÁQUINA DE CORTE DE PISO INDUSTRIAL COM DISCO DIAMANTADO, PROFUNDIDADE MÍNIMA DE 5CM, INCLUSIVE PREPARO MANUAL DO TERRENO, APILOAMENTO DE BASE, FORNECIMENTO DE LONA PRETA E ADITIVOS PARA O CONCRETO","M2",24.44,202.88,4958.3900000000003]
[]
["10.5","IMPERMEABILIZAÇÃO",null,null,null,{"$f":"SUBTOTAL(9,F35)","v":130.72999999999999}]
["10.5.1","IMPERMEABILIZAÇÃO DE SUPERFÍCIE COM EMULSÃO ASFÁLTICA, 2 DEMÃOS - LAJE DO ABRIGO GLP","M2",2.25,58.1,{"$f":"ROUND(D35*E35,2)","v":130.72999999999999}]
[]
["10.6","ESTRUTURAS DE CONCRETO ARMADO",null,null,null,{"$f":"SUBTOTAL(9,F38:F40)","v":1218.83}]
["10.6.1","LAJE - MONTAGEM E DESMONTAGEM DE FÔRMA DE LAJE MACIÇA, PÉ-DIREITO SIMPLES, EM MADEIRA SERRADA, 2 UTILIZAÇÕES. AF_09/2020","M2",2.25,184.32,{"$f":"ROUND(D38*E38,2)","v":414.72}]
["10.6.2","LAJE - TELA DE ACO SOLDADA NERVURADA, CA-60, Q-283 (4,48 KG/M2), DIAMETRO DO FIO = 6,0 MM, LARGURA = 2,45 X 6,00 M DE COMPRIMENTO, ESPACAMENTO DA MALHA = 10 X 10 CM - CONSIDERADO POSITIVA E DISTRIBUIÇÃO","M2    ",4.5,112.67,507.02]
["10.6.3","LAJE - CONCRETAGEM DE PILARES, FCK = 25 MPA, COM USO DE BOMBA EM EDIFICAÇÃO COM SEÇÃO MÉDIA DE PILARES MENOR OU IGUAL A 0,25 M² - LANÇAMENTO, ADENSAMENTO E ACABAMENTO. AF_12/2015","M3",0.45,660.21,297.08999999999997]
[]
["10.7","ALVENARIAS E PAINÉIS",null,null,null,{"$f":"SUBTOTAL(9,F43:F46)","v":5873.06}]
["10.7.1","ALVENARIA DE BLOCOS DE CONCRETO ESTRUTURAL 14X19X39 CM, (ESPESSURA 14 CM), FBK = 4,5 MPA, PARA PAREDES COM ÁREA LÍQUIDA MAIOR OU IGUAL A 6M², SEM VÃOS, UTILIZANDO PALHETA. AF_12/2014","M2",60.53,78.12,{"$f":"ROUND(D43*E43,2)","v":4728.6000000000004}]
["10.7.2","VERGA MOLDADA IN LOCO EM CONCRETO PARA JANELAS COM MAIS DE 1,5 M DE VÃO. AF_03/2016","M",3.9199999999999995,91.19,357.46]
["10.7.3","CONTRAVERGA MOLDADA IN LOCO EM CONCRETO PARA VÃOS DE MAIS DE 1,5 M DE COMPRIMENTO. AF_03/2016","M",3.9199999999999995,82.78,324.5]
["10.7.4","VERGA MOLDADA IN LOCO EM CONCRETO PARA PORTAS COM MAIS DE 1,5 M DE VÃO. AF_03/2016","M",5,92.5,462.5]
[]
["10.8","ESTRUTURA METALICA",null,null,null,{"$f":"SUBTOTAL(9,F49:F50)","v":693.5}]
["10.8.1","VIGA METÁLICA EM PERFIL LAMINADO OU SOLDADO EM AÇO ESTRUTURAL, COM CONEXÕES SOLDADAS, INCLUSOS MÃO DE OBRA, TRANSPORTE E IÇAMENTO UTILIZANDO GUINDASTE - FORNECIMENTO E INSTALAÇÃO - CONSIDERADO PERFIL METÁLICO C100X50X25CH2,65","KG",31,21.01,{"$f":"ROUND(D49*E49,2)","v":651.30999999999995}]
["10.8.2","PINTURA COM TINTA ALQUÍDICA DE FUNDO (TIPO ZARCÃO) PULVERIZADA SOBRE SUPERFÍCIES METÁLICAS (EXCETO PERFIL) EXECUTADO EM OBRA (POR DEMÃO). AF_01/2020_P","M2",1.98,21.31,42.19]
[]
["10.9","COBERTURA",null,null,null,{"$f":"SUBTOTAL(9,F53:F54)","v":2771.44}]
["10.9.1","TELHAMENTO COM TELHA DE AÇO/ALUMÍNIO E = 0,5 MM, COM ATÉ 2 ÁGUAS, INCLUSO IÇAMENTO. AF_07/2019","M2",14.6,105.32,{"$f":"ROUND(D53*E53,2)","v":1537.67}]
["10.9.2","RUFO C/ PINGADEIRA BLOCO A LADO C/ CALHA - CHAPA EM AÇO GALVANIZADO 0,50MM, CORTE 80 CM PARA FECHAMENTO INTERNO E TOPO DE PLATIBANDA, incluso acessórios para fixação e vedação.","M",10.9,113.19,1233.77]
[]
["10.10","ESQUADRIAS",null,null,null,{"$f":"SUBTOTAL(9,F57:F60)","v":9165.51}]
["10.10.1","P23 - PORTA EM ALUMÍNIO DE ABRIR TIPO VENEZIANA COM GUARNIÇÃO, FIXAÇÃO COM PARAFUSOS - FORNECIMENTO E INSTALAÇÃO","M2",3.15,679.02,{"$f":"ROUND(D57*E57,2)","v":2138.91}]
["10.10.2","P30 - PORTAO DE CORRER METÁLICO DIM. 2,90X2,10M, INCLUSO PINTURA DE ACABAMENTO E FUNDO COM ESMALTE SINTÉTICO NA COR CINZA PLATINA.","UN",1,4111.8500000000004,{"$f":"ROUND(D58*E58,2)","v":4111.8500000000004}]
["10.10.3","P37 - PORTA DE FERRO, DE ABRIR, TIPO GRADE ARTISTICA, COM GUARNIÇÕES. AF_12/2019","M2",3.6,684.33,2463.59]
["10.10.3","ALVENARIA DE VEDAÇÃO COM ELEMENTO VAZADO DE CONCRETO (COBOGÓ) DE 7X50X50CM E ARGAMASSA DE ASSENTAMENTO COM PREPARO EM BETONEIRA. AF_05/2020","M2",2.2399999999999998,201.41,{"$f":"ROUND(D60*E60,2)","v":451.16}]
[]
["10.11","PISOS",null,null,null,{"$f":"SUBTOTAL(9,F63)","v":0}]
[]
["10.12","REVESTIMENTOS",null,null,null,{"$f":"SUBTOTAL(9,F65:F67)","v":9003.56}]
["10.12.1","CHAPISCO APLICADO EM ALVENARIAS E ESTRUTURAS DE CONCRETO INTERNAS, COM ROLO PARA TEXTURA ACRÍLICA.  ARGAMASSA TRAÇO 1:4 E EMULSÃO POLIMÉRICA (ADESIVO) COM PREPARO EM BETONEIRA 400L. AF_06/2014","M2",121.06,8.59,{"$f":"ROUND(D65*E65,2)","v":1039.9100000000001}]
["10.12.2","EMBOÇO OU MASSA ÚNICA EM ARGAMASSA TRAÇO 1:2:8, PREPARO MECÂNICO COM BETONEIRA 400 L, APLICADA MANUALMENTE EM PANOS DE FACHADA COM PRESENÇA DE VÃOS, ESPESSURA DE 25 MM. AF_06/2014","M2",121.06,55.05,6664.35]
["10.12.3","REVESTIMENTO CERAMICO PORTOBELLO GLACIE WHITE 30X60CM, INCLUSO E REJUNTE - FORNECIMENTO E INSTALAÇÃO (AZULEJO FORNECIDO PELO SESI)","M2",15.36,84.59,1299.3]
[]
["10.13","GRANITO",null,null,null,{"$f":"SUBTOTAL(9,F70)","v":0}]
[]
["10.14","FORRO",null,null,null,{"$f":"SUBTOTAL(9,F72)","v":0}]
[]
["10.15","PINTURA",null,null,null,{"$f":"SUBTOTAL(9,F74:F76)","v":4123.78}]
["10.15.1","APLICAÇÃO DE FUNDO SELADOR ACRÍLICO EM PAREDES, UMA DEMÃO. AF_06/2014","M2",121.06,2.06,{"$f":"ROUND(D74*E74,2)","v":249.38}]
["10.15.2","TEXTURA ACRÍLICA, APLICAÇÃO MANUAL EM PAREDE, UMA DEMÃO. AF_09/2016","M2",123.31,15.6,1923.64]
["10.15.3","APLICAÇÃO MANUAL DE TINTA LÁTEX ACRÍLICA EM PAREDE EXTERNAS, DUAS DEMÃOS.","M2",123.31,15.82,1950.76]
[]
["10.16","CALÇAMENTO, PÁTIOS E PASSARELAS",null,null,null,{"$f":"SUBTOTAL(9,F79)","v":0}]
[]
["10.17","SERVIÇOS COMPLEMENTARES",null,null,null,{"$f":"SUBTOTAL(9,F81:F114)","v":21471.89}]
["10.17.1","INSTALAÇÕES DE GÁS GLP",null,null,null,{"$f":"SUBTOTAL(9,F82:F113)","v":21471.89}]
["10.17.1.1","COTOVELO ø20mm","UN",1,66.8,{"$f":"ROUND(D82*E82,2)","v":66.8}]
["10.17.1.2","COTOVELO FÊMEA ø16mm x 1/2\"","UN",7,58.69,410.83]
["10.17.1.3","REDUÇÃO ø20x16mm","UN",3,34.119999999999997,102.36]
["10.17.1.4","TÊ  ø20 mm","UN",3,87.48,262.44]
["10.17.1.5","TÊ REDUÇÃO CENTRAL ø20x16x20mm","UN",3,46.13,138.38999999999999]
["10.17.1.6","TUBO, PEX, MULTICAMADA, DN 16, INSTALADO EM IMPLANTAÇÃO DE INSTALAÇÕES DE GÁS - FORNECIMENTO E INSTALAÇÃO. AF_01/2020","M",27,20.78,561.05999999999995]
["10.17.1.7","TUBO, PEX, MULTICAMADA, DN 20, INSTALADO EM IMPLANTAÇÃO DE INSTALAÇÕES DE GÁS - FORNECIMENTO E INSTALAÇÃO. AF_01/2020","M",80.64,30.94,{"$f":"ROUND(D88*E88,2)","v":2495}]
["10.17.1.8","MANGUEIRA DE GÁS TOMBACK ø1/2\"","UN",7,118.97,832.79]
["10.17.1.9","MANOMETRO ESCALA 0 A 3 Kgf/cm² C/ ROSCA ø1/4 NPT","UN",2,111.18,222.36]
["10.17.1.10","MANOMETRO ESCALA 0 A 30 Kgf/cm² C/ ROSCA ø1/4 NPT","UN",1,111.18,{"$f":"ROUND(D91*E91,2)","v":111.18}]
["10.17.1.11","NIPLE EM LATÃO ø1/2\" NPT x 3/8\" SAE","UN",2,12.64,25.28]
["10.17.1.12","BUCHA REDUTORA 3/4\" x1/2\" NPT","UN",2,9.5399999999999991,{"$f":"ROUND(D93*E93,2)","v":19.079999999999998}]
["10.17.1.13","PIGTAIL P/ P45 - 7/8\" x 7/16\" NPT ","UN",4,38.97,155.88]
["10.17.1.14","REGULADOR DE PRESSÃO 1º ESTÁGIO C/ MANOMETRO ACOPLADO Q=15kg/h, PRESSÃO DE SAÍDA=150kPa (1,5 kgf/cm2)","UN",1,2226.87,2226.87]
["10.17.1.15","REGULADOR DE PRESSÃO 2° ESTÁGIO - VAZÃO 7kg/h E PRESSÃO DE SAÍDA=2,8kPa (0,028 kgf/cm2) REF: CLESSE BP1800BR - 1/2\" M x 1/2\" CB52205 ","UN",7,1192.9100000000001,8350.3700000000008]
["10.17.1.16","VÁLVULA DE RETENÇÃO P45 1/2\" NPT x 7/16\" EM LATÃO","UN",4,70.64,282.56]
["10.17.1.17","VÁLVULA DE ESFERA ANGULAR MACHO-FEMÊA P/ GLP ø1/2\"","UN",1,475.57,475.57]
["10.17.1.18","VÁLVULA ESFERA P/ GLP ø1/2\"","UN",7,300.61,2104.27]
["10.17.1.19","VÁLVULA ESFERA P/ GLP ø3/4\" ALTA PRESSÃO","UN",3,189.75,569.25]
["10.17.1.20","VÁLVULA ESFÉRICA MACHO - FÊMEA  P/ GLP ø1/2\" ALTA PRESSÃO","UN",4,37.380000000000003,149.52000000000001]
["10.17.1.21","BUCHA REDUTORA - 1/2\" NPT  x 1/4\" NPT ","UN",4,24.26,97.04]
["10.17.1.22","CONECTOR COBRE RF ø22mmx3/4\"","UN",5,12.49,62.45]
["10.17.1.23","CONECTOR RM  ø15mm x 1/2\"","UN",16,8.99,143.84]
["10.17.1.24","COTOVELO 90º COBRE RF ø22mmx1/2\"","UN",2,58.06,116.12]
["10.17.1.25","COTOVELO EM COBRE, DN 15 MM, 90 GRAUS, SEM ANEL DE SOLDA, INSTALADO EM RAMAL E SUB-RAMAL \u0096 FORNECIMENTO E INSTALAÇÃO. AF_12/2015","UN",1,15.49,{"$f":"ROUND(D106*E106,2)","v":15.49}]
["10.17.1.26","COTOVELO EM COBRE, DN 22 MM, 90 GRAUS, SEM ANEL DE SOLDA, INSTALADO EM RAMAL E SUB-RAMAL \u0096 FORNECIMENTO E INSTALAÇÃO. AF_12/2015","UN",2,26.4,52.8]
["10.17.1.27","TÊ COBRE RF SOLDÁVEL ø22mmx1/2\"","UN",4,0,0]
["10.17.1.28","TE EM COBRE, DN 22 MM, SOLDAVEL, INSTALADO EM RAMAL E SUB-RAMAL \u0096 FORNECIMENTO E INSTALAÇÃO. AF_12/2015","UN",1,34.85,34.85]
["10.17.1.29","UNIÃO EM COBRE, DN 22 MM, SEM ANEL DE SOLDA, INSTALADO EM RAMAL E SUB-RAMAL \u0096 FORNECIMENTO E INSTALAÇÃO. AF_01/2016","UN",2,17.18,34.36]
["10.17.1.30","UNIÃO EM COBRE, DN 15 MM, SEM ANEL DE SOLDA, INSTALADO EM RAMAL E SUB-RAMAL \u0096 FORNECIMENTO E INSTALAÇÃO. AF_01/2016","UN",2,9.16,18.32]
["10.17.1.31","TUBO EM COBRE RÍGIDO, DN 15 MM, CLASSE I, SEM ISOLAMENTO, INSTALADO EM RAMAL DE DISTRIBUIÇÃO \u0096 FORNECIMENTO E INSTALAÇÃO. AF_12/2015","M",6,79.599999999999994,477.6]
["10.17.1.32","TUBO EM COBRE RÍGIDO, DN 22 MM, CLASSE I, SEM ISOLAMENTO, INSTALADO EM RAMAL E SUB-RAMAL \u0096 FORNECIMENTO E INSTALAÇÃO. AF_12/2015","M",6,142.86000000000001,{"$f":"ROUND(D113*E113,2)","v":857.16}]
[]
["10.18","INSTALAÇÕES DE SPDA",null,null,null,{"$f":"SUBTOTAL(9,F116)","v":0}]
[]
["10.19","INSTALAÇÃO DE COMBATE A INCÊNDIO",null,null,null,{"$f":"SUBTOTAL(9,F118)","v":0}]
[]
["10.20","INSTALAÇÕES ELÉTRICA",null,null,null,{"$f":"SUBTOTAL(9,F120)","v":0}]
[]
["10.21","LOGICA E TELEFONICA",null,null,null,{"$f":"SUBTOTAL(9,F122)","v":0}]
[]
["10.22","CLIMATIZAÇÃO - AR CONDICIONADO",null,null,null,{"$f":"SUBTOTAL(9,F124)","v":0}]
[]
["10.23","INFRAESTRUTURA PARA INSTALAÇÃO DE AUDIO E VÍDEO",null,null,null,{"$f":"SUBTOTAL(9,F126)","v":0}]
[]
["10.24","INSTALAÇÕES HIDRAULICAS ",null,null,null,{"$f":"SUBTOTAL(9,F128:F128)","v":0}]
[]
["10.25","ÁGUAS PLUVIAIS DE COBERTURA",null,null,null,{"$f":"SUBTOTAL(9,F130:F130)","v":0}]
[]
["10.26","INSTALAÇÕES SANITÁRIAS",null,null,null,{"$f":"SUBTOTAL(9,F132:F132)","v":0}]
[]
["10.27","LOUÇAS E METÁIS",null,null,null,{"$f":"SUBTOTAL(9,F134:F134)","v":126.12}]
["10.27.1","TORNEIRA CROMADA TUBO MÓVEL, DE PAREDE, 1/2\u0094 OU 3/4\u0094, PARA PIA DE COZINHA, PADRÃO MÉDIO - FORNECIMENTO E INSTALAÇÃO. AF_01/2020","UN",1,126.12,{"$f":"ROUND(D134*E134,2)","v":126.12}]
[]
["10.28","SISTEMA DE TRATAMENTO DE ESGOTO",null,null,null,{"$f":"SUBTOTAL(9,F137)","v":0}]
[]
["10.29","LIMPEZA CONTÍNUA DA OBRA",null,null,null,{"$f":"SUBTOTAL(9,F139)","v":0}]
[]
["10.30","LIMPEZA FINAL PARA ENTREGA",null,null,null,{"$f":"SUBTOTAL(9,F141)","v":50.2}]
["10.30.1","LIMPEZA FINAL PARA ENTREGA","M2",16.46,3.05,{"$f":"ROUND(D141*E141,2)","v":50.2}]
[]
["VALOR TOTAL",null,null,null,null,{"$f":"SUBTOTAL(9,F14:F142)","v":60945.670000000006}]

{"sheet":"11_CABINA DE FORÇA","index":12,"n_rows":200,"n_cols":6,"rows_kept":200,"cut":false,"hidden":true,"merged":[[10,0,10,5],[0,0,3,2],[0,3,1,5],[2,3,3,3],[2,4,3,4],[2,5,3,5],[4,0,4,5],[5,0,5,5],[6,0,6,5],[7,0,7,5],[8,0,8,5],[9,0,9,5]]}
["                                 PLANILHA ORÇAMENTARIA   ",null,null,"SPN-FF-003"]
[]
[null,null,null,"Folha:              1 de 1","Revisão:      \n02","Data: \n07/10/19"]
[]
["SESI - SERVIÇO SOCIAL DA INDUSTRIA - DR/MT"]
["OBRA: CONTRATAÇÃO DE EMPRESA ESPECIALIZADA PARA CONTINUIDADE DA EXECUÇÃO DA OBRA DE REFORMA E AMPLIAÇÃO DA UNIDADE DO SESI ESCOLA VÁRZEA GRANDE/MT."]
["UNIDADE OPERACIONAL: SESI ESCOLA VÁRZEA GRANDE"]
["ENDEREÇO: AV. DOM ORLANDO CHAVES, N.º 1.086, PONTE NOVA - CRISTO REI         CIDADE: VÁRZEA GRANDE/MT"]
["CONSTRUTORA:"]
["RESPONSÁVEL TÉCNICO:"]
["BASE SINAPI UTILIZADA: 06/2021"]
["ITEM","DESCRIÇÃO","UNID.","QUANT.","Valor UNIT. (R$)","Valor Total (R$)"]
[]
[11,"CABINA DE FORÇA"]
[]
["11.0","DEMOLIÇÕES E RETIRADAS",null,null,null,{"$f":"SUBTOTAL(9,F17:F33)","v":20413.099999999999}]
["11.0.1","DEMOLIÇÃO CABINA EXISTENTE",null,null,null,{"$f":"SUBTOTAL(9,F18:F25)","v":13581.71}]
["11.0.1.1","DEMOLIÇÃO DE LAJES, DE FORMA MECANIZADA COM MARTELETE, SEM REAPROVEITAMENTO. AF_12/2017","M3",15.219999999999999,106.24,{"$f":"ROUND(D18*E18,2)","v":1616.97}]
["11.0.1.2","DEMOLIÇÃO DE CONTRAPISO ARMADO, DE FORMA MECANIZADA COM MARTELETE, SEM REAPROVEITAMENTO. AF_12/2017","M3",15.219999999999999,106.24,1616.97]
["11.0.1.3","DEMOLIÇÃO DE ALVENARIA PARA QUALQUER TIPO DE BLOCO, DE FORMA MECANIZADA, SEM REAPROVEITAMENTO. AF_12/2017","M3",43.199999999999996,50.71,2190.67]
["11.0.1.4","DEMOLIÇÃO DE PILARES E VIGAS EM CONCRETO ARMADO, DE FORMA MECANIZADA COM MARTELETE, SEM REAPROVEITAMENTO. AF_12/2017","M3",3.24,243.62,789.33]
["11.0.1.5","DEMOLIÇÃO DE PILARES E VIGAS EM CONCRETO ARMADO, DE FORMA MECANIZADA COM MARTELETE, SEM REAPROVEITAMENTO. AF_12/2017","M3",2.9699999999999998,243.62,723.55]
["11.0.1.6","BOTA FORA DE MATERIAL DESCARTADO, D.M.T. = 10 km - (CARGA, TRANSPORTE E DESCARGA MECÂNICA)","M3",103.80499999999999,58.67,6090.24]
["11.0.1.7","REMOÇÃO DE PORTAS, DE FORMA MANUAL, SEM REAPROVEITAMENTO. AF_12/2017","M2",20.832000000000001,8.14,169.57]
["11.0.1.8","REMOÇÃO DE JANELAS, DE FORMA MANUAL, SEM REAPROVEITAMENTO. AF_12/2017","M2",12.75,30.15,384.41]
[]
["11.0.2","RETIRADA DAS INSTALAÇÕES ELÉTRICAS EXISTENTES",null,null,null,{"$f":"SUBTOTAL(9,F28:F33)","v":6831.39}]
["11.0.2.1","POSTE CIRCULAR 10 M 150 DAN REMOÇÃO","UND",1,131.09,{"$f":"ROUND(D28*E28,2)","v":131.09}]
["11.0.2.2","CABO ALUMINIO NÚ 2AWG - CAA REMOÇÃO","M",240,0.59,141.6]
["11.0.2.3","ESTRUTURA DE MÉDIA TENSÃO N3 REMOÇÃO","UND",1,65.760000000000005,65.760000000000005]
["11.0.2.4","ESTRUTURA DE MÉDIA TENSÃO N3-2 REMOÇÃO","UND",1,80.209999999999994,80.209999999999994]
["11.0.2.5","ESTRUTURA DE MÉDIA TENSÃO N1 REMOÇÃO","UND",1,134.76,134.76]
["11.0.2.6","CABINE PRIMÁRIA 500KVA TRIFÁSICO 60HZ CLASSE 15KV - ISOLAMENTO A ÓLEO - DESMONTAGEM SEM REAPROVEITAMENTO INCLUSO: TRANSFORMADORES, MISCELÂNEA EM GERAL, FERRAGENS EM GERAL, CABOS, QUADROS E TRANSPORTE ATÉ O DISTRITO INDUSTRIAL EM CUIABÁ","UND",1,6277.97,6277.97]
[]
["11.1","INSTALAÇÕES DE CANTEIRO",null,null,null,{"$f":"SUBTOTAL(9,F36)","v":0}]
[]
["11.2","ADMINISTRAÇÃO",null,null,null,{"$f":"SUBTOTAL(9,F38)","v":0}]
[]
["11.3","TERRAPLENAGEM",null,null,null,{"$f":"SUBTOTAL(9,F40)","v":0}]
[]
["11.4","FUNDAÇÃO",null,null,null,{"$f":"SUBTOTAL(9,F42:F58)","v":80399.599999999991}]
["11.4.1","ESCAVAÇÃO MANUAL PARA BLOCO DE COROAMENTO OU SAPATA, COM PREVISÃO DE FÔRMA. AF_06/2017","M3",25.89228,87.33,{"$f":"ROUND(D42*E42,2)","v":2261.17}]
["11.4.2","BOTA FORA DE MATERIAL DESCARTADO, D.M.T. = 10 km - (CARGA, TRANSPORTE E DESCARGA MECÂNICA)","M3",22.25085108511135,58.67,1305.46]
["11.4.3","REATERRO MANUAL DE VALAS COM COMPACTAÇÃO MECANIZADA. AF_04/2016","M3",16.022009999999998,27.04,433.24]
["11.4.4","ESTACAS RAIZ DE Ø31cm EM SOLO INCLUSIVE A  INJENÇÃO DE ARGAMASSA FCK>20 MPA, EXCLUSIVE FORNECIMENTO E LANÇAMENTO DE ARMAÇÃO","M",96,474.01,45504.959999999999]
["11.4.5","ESTACA - ARMAÇÃO DE ESTRUTURAS DE CONCRETO ARMADO, EXCETO VIGAS, PILARES, LAJES E FUNDAÇÕES, UTILIZANDO AÇO CA-50 DE 6,3 MM - MONTAGEM. AF_12/2015","KG",129.6,24.14,3128.54]
["11.4.6","ESTACA - ARMAÇÃO DE ESTRUTURAS DE CONCRETO ARMADO, EXCETO VIGAS, PILARES, LAJES E FUNDAÇÕES, UTILIZANDO AÇO CA-50 DE 12,5 MM - MONTAGEM. AF_12/2015","KG",385,18.170000000000002,6995.45]
["11.4.7","BLOCO DE COROAMENTO - CONCRETO MAGRO PARA LASTRO, TRAÇO 1:4,5:4,5 (CIMENTO/ AREIA MÉDIA/ BRITA 1)  - PREPARO MECÂNICO COM BETONEIRA 400 L. AF_07/2016","M3",0.56364000000000003,370.19,208.65]
["11.4.8","BLOCO DE COROAMENTO - FABRICAÇÃO, MONTAGEM E DESMONTAGEM DE FÔRMA PARA BLOCO DE COROAMENTO, EM MADEIRA SERRADA, E=25 MM, 2 UTILIZAÇÕES. AF_06/2017","M2",30.959999999999994,106.31,3291.36]
["11.4.9","BLOCO DE COROAMENTO - ARMAÇÃO DE ESTRUTURAS DE CONCRETO ARMADO, EXCETO VIGAS, PILARES, LAJES E FUNDAÇÕES, UTILIZANDO AÇO CA-60 DE 5,0 MM - MONTAGEM. AF_12/2015","KG",99.7,24.35,2427.6999999999998]
["11.4.10","BLOCO DE COROAMENTO - ARMAÇÃO DE ESTRUTURAS DE CONCRETO ARMADO, EXCETO VIGAS, PILARES, LAJES E FUNDAÇÕES, UTILIZANDO AÇO CA-50 DE 8,0 MM - MONTAGEM. AF_12/2015","KG",46,23.47,1079.6199999999999]
["11.4.11","BLOCO DE COROAMENTO - CONCRETAGEM DE PILARES, FCK = 25 MPA, COM USO DE BOMBA EM EDIFICAÇÃO COM SEÇÃO MÉDIA DE PILARES MENOR OU IGUAL A 0,25 M² - LANÇAMENTO, ADENSAMENTO E ACABAMENTO. AF_12/2015","M3",6.7636799999999999,660.21,{"$f":"ROUND(D52*E52,2)","v":4465.45}]
["11.4.12","VIGA BALDRAME - CONCRETO MAGRO PARA LASTRO, TRAÇO 1:4,5:4,5 (CIMENTO/ AREIA MÉDIA/ BRITA 1)  - PREPARO MECÂNICO COM BETONEIRA 400 L. AF_07/2016","M3",0.68489999999999995,370.19,{"$f":"ROUND(D53*E53,2)","v":253.54}]
["11.4.13","VIGA BALDRAME - FABRICAÇÃO DE FÔRMA PARA VIGAS, EM CHAPA DE MADEIRA COMPENSADA RESINADA, E = 17 MM. AF_09/2020","M2",35.872500000000002,109.59,{"$f":"ROUND(D54*E54,2)","v":3931.27}]
["11.4.14","VIGA BALDRAME - ARMAÇÃO DE LAJE DE UMA ESTRUTURA CONVENCIONAL DE CONCRETO ARMADO EM UM EDIFÍCIO DE MÚLTIPLOS PAVIMENTOS UTILIZANDO AÇO CA-60 DE 5,0 MM - MONTAGEM. AF_12/2015","KG",45.3,21.67,{"$f":"ROUND(D55*E55,2)","v":981.65}]
["11.4.15","VIGA BALDRAME - ARMAÇÃO DE LAJE DE UMA ESTRUTURA CONVENCIONAL DE CONCRETO ARMADO EM UM EDIFÍCIO DE MÚLTIPLOS PAVIMENTOS UTILIZANDO AÇO CA-50 DE 8,0 MM - MONTAGEM. AF_12/2015","KG",88.4,21.88,1934.19]
["11.4.16","VIGA BALDRAME - ARMAÇÃO DE LAJE DE UMA ESTRUTURA CONVENCIONAL DE CONCRETO ARMADO EM UM EDIFÍCIO DE MÚLTIPLOS PAVIMENTOS UTILIZANDO AÇO CA-50 DE 10,0 MM - MONTAGEM. AF_12/2015","KG",21.5,20.13,432.8]
["11.4.17","VIGA BALDRAME - CONCRETAGEM DE BLOCOS DE COROAMENTO E VIGAS BALDRAMES, FCK 30 MPA, COM USO DE BOMBA \u0096 LANÇAMENTO, ADENSAMENTO E ACABAMENTO. AF_06/2017","M3",2.5429499999999998,693.9,1764.55]
[]
["11.5","IMPERMEABILIZAÇÃO",null,null,null,{"$f":"SUBTOTAL(9,F61:F62)","v":12069.289999999999}]
["11.5.1","IMPERMEABILIZAÇÃO DE SUPERFÍCIE COM EMULSÃO ASFÁLTICA, 2 DEMÃOS - BLOCOS E BALDRAMES","M2",66.832499999999996,58.1,3882.97]
["11.5.2","IMPERMEABILIZAÇÃO DE SUPERFÍCIE COM MEMBRANA À BASE DE POLIURETANO, 2 DEMÃOS - LAJE IMPERMEABILIZADA","M2",65.239999999999995,125.48,{"$f":"ROUND(D62*E62,2)","v":8186.32}]
[]
["11.6","ESTRUTURAS DE CONCRETO ARMADO",null,null,null,{"$f":"SUBTOTAL(9,F65:F77)","v":51862.899999999994}]
["11.6.1","VIGA DE RESPALDO - MONTAGEM E DESMONTAGEM DE FÔRMA DE VIGA, ESCORAMENTO COM PONTALETE DE MADEIRA, PÉ-DIREITO SIMPLES, EM MADEIRA SERRADA, 2 UTILIZAÇÕES. AF_09/2020","M2",38.494499999999995,167.4,{"$f":"ROUND(D65*E65,2)","v":6443.98}]
["11.6.2","VIGA RESPALDO - ARMAÇÃO DE PILAR OU VIGA DE UMA ESTRUTURA CONVENCIONAL DE CONCRETO ARMADO EM UM EDIFÍCIO DE MÚLTIPLOS PAVIMENTOS UTILIZANDO AÇO CA-60 DE 5,0 MM - MONTAGEM. AF_12/2015","KG",46.2,22.99,1062.1400000000001]
["11.6.3","VIGA RESPALDO - ARMAÇÃO DE PILAR OU VIGA DE UMA ESTRUTURA CONVENCIONAL DE CONCRETO ARMADO EM UM EDIFÍCIO DE MÚLTIPLOS PAVIMENTOS UTILIZANDO AÇO CA-50 DE 8,0 MM - MONTAGEM. AF_12/2015","KG",100.8,22.68,2286.14]
["11.6.4","VIGA RESPALDO - CONCRETAGEM DE PILARES, FCK = 25 MPA, COM USO DE BOMBA EM EDIFICAÇÃO COM SEÇÃO MÉDIA DE PILARES MENOR OU IGUAL A 0,25 M² - LANÇAMENTO, ADENSAMENTO E ACABAMENTO. AF_12/2015","M3",2.8051500000000003,660.21,1851.99]
["11.6.5","PILARES - MONTAGEM E DESMONTAGEM DE FÔRMA DE PILARES RETANGULARES E ESTRUTURAS SIMILARES, PÉ-DIREITO SIMPLES, EM MADEIRA SERRADA, 2 UTILIZAÇÕES. AF_09/2020","M2",44,154.71,6807.24]
["11.6.6","PILARES - ARMAÇÃO DE PILAR OU VIGA DE UMA ESTRUTURA CONVENCIONAL DE CONCRETO ARMADO EM UM EDIFÍCIO DE MÚLTIPLOS PAVIMENTOS UTILIZANDO AÇO CA-60 DE 5,0 MM - MONTAGEM. AF_12/2015","KG",63,22.99,1448.37]
["11.6.7","PILARES - ARMAÇÃO DE PILAR OU VIGA DE UMA ESTRUTURA CONVENCIONAL DE CONCRETO ARMADO EM UM EDIFÍCIO DE MÚLTIPLOS PAVIMENTOS UTILIZANDO AÇO CA-50 DE 10,0 MM - MONTAGEM. AF_12/2015","KG",167.10000000000002,20.76,3469]
["11.6.8","PILARES - CONCRETAGEM DE PILARES, FCK = 25 MPA, COM USO DE BOMBA EM EDIFICAÇÃO COM SEÇÃO MÉDIA DE PILARES MENOR OU IGUAL A 0,25 M² - LANÇAMENTO, ADENSAMENTO E ACABAMENTO. AF_12/2015","M3",3.2000000000000006,660.21,2112.67]
["11.6.9","LAJE - MONTAGEM E DESMONTAGEM DE FÔRMA DE LAJE MACIÇA, PÉ-DIREITO SIMPLES, EM MADEIRA SERRADA, 2 UTILIZAÇÕES. AF_09/2020","M2",62.379374999999996,184.32,11497.77]
["11.6.10","LAJE - ARMAÇÃO DE LAJE DE UMA ESTRUTURA CONVENCIONAL DE CONCRETO ARMADO EM UM EDIFÍCIO DE MÚLTIPLOS PAVIMENTOS UTILIZANDO AÇO CA-60 DE 5,0 MM - MONTAGEM. AF_12/2015","KG",47.9,21.67,1037.99]
["11.6.11","LAJE - ARMAÇÃO DE LAJE DE UMA ESTRUTURA CONVENCIONAL DE CONCRETO ARMADO EM UM EDIFÍCIO DE MÚLTIPLOS PAVIMENTOS UTILIZANDO AÇO CA-50 DE 6,3 MM - MONTAGEM. AF_12/2015","KG",291.10000000000002,22.08,6427.49]
["11.6.12","LAJE - ARMAÇÃO DE LAJE DE UMA ESTRUTURA CONVENCIONAL DE CONCRETO ARMADO EM UM EDIFÍCIO DE MÚLTIPLOS PAVIMENTOS UTILIZANDO AÇO CA-50 DE 8,0 MM - MONTAGEM. AF_12/2015","KG",56.7,21.88,1240.5999999999999]
["11.6.13","LAJE - CONCRETAGEM DE PILARES, FCK = 25 MPA, COM USO DE BOMBA EM EDIFICAÇÃO COM SEÇÃO MÉDIA DE PILARES MENOR OU IGUAL A 0,25 M² - LANÇAMENTO, ADENSAMENTO E ACABAMENTO. AF_12/2015","M3",9.356906249999998,660.21,6177.52]
[]
["11.7","ALVENARIAS E PAINÉIS",null,null,null,{"$f":"SUBTOTAL(9,F80:F82)","v":15090.789999999999}]
["11.7.1","ALVENARIA DE VEDAÇÃO DE BLOCOS CERÂMICOS FURADOS NA VERTICAL DE 19X19X39CM (ESPESSURA 19CM) DE PAREDES COM ÁREA LÍQUIDA MENOR QUE 6M² SEM VÃOS E ARGAMASSA DE ASSENTAMENTO COM PREPARO EM BETONEIRA. AF_06/2014","M2",110.4,110.2,{"$f":"ROUND(D80*E80,2)","v":12166.08}]
["11.7.2","ALVENARIA DE VEDAÇÃO DE BLOCOS CERÂMICOS FURADOS NA HORIZONTAL DE 9X19X19CM (ESPESSURA 9CM) DE PAREDES COM ÁREA LÍQUIDA MENOR QUE 6M² SEM VÃOS E ARGAMASSA DE ASSENTAMENTO COM PREPARO EM BETONEIRA. AF_06/2014","M2",20.999999999999996,96.44,2025.24]
["11.7.3","IMPERMEABILIZAÇÃO DE PAREDES COM ARGAMASSA DE CIMENTO E AREIA, COM ADITIVO IMPERMEABILIZANTE, E = 2CM. AF_06/2018","M2",22.560000000000002,39.869999999999997,899.47]
[]
["11.8","ESTRUTURA METALICA",null,null,null,{"$f":"SUBTOTAL(9,F85)","v":0}]
[]
["11.9","COBERTURA",null,null,null,{"$f":"SUBTOTAL(9,F87)","v":0}]
[]
["11.10","ESQUADRIAS",null,null,null,{"$f":"SUBTOTAL(9,F89:F94)","v":28768.870000000003}]
["11.10.1","P33, P34 E P35 - FORNECIMENTO E INSTALAÇÃO DE GRADES DE PROTEÇÃO, ESTRUTURA DE FERRO CANTONEIRA 1X3/16 COM TELA DE ARAME  N/10  MALHA 13MM PARA VENTILAÇÃO E PROTEÇÃO DOS CUBICULOS DE EQUIPAMENTOS DA CABINA DE FORÇA (VER PROJETO PARA CONFECÇÃO DAS GRADES).","M2",17.551000000000002,684.33,{"$f":"ROUND(D89*E89,2)","v":12010.68}]
["11.10.2","P31 - PORTA VENEZIANA DE ABRIR DUAS FOLHAS EM ALUMÍNIO ANODIZADO NATURAL FOSCO, DIM. 1,60 X 2,10m, INCLUSIVE FERRAGENS DE INSTALAÇÃO PARA PERFEITO USO E FUNCIONAMENTO","UN",2,2281.5,4563]
["11.10.3","J18 - VENEZIANA EM CHAPA METÁLICA PINTADA EM PERFIL DE FERRO, DIM (0,50X0,40)M COM TELA DE PROTEÇÃO EM MALHA ARAMADA DE FERRO 13MM EM PERFIL DE FERRO","M2",4,944.26,3777.04]
["11.10.4","J19 - JANELA VIDRO ARAMADO ESPESSURA=6MM COM REQUADRO DE ALUMINIO NA COR NATURAL C/ TELA DE PROTEÇÃO METÁLICA DIMENSÃO:  1,00X0,50M","UN",5,291.29000000000002,1456.45]
["11.10.5","J20 - JANELA VIDRO ARAMADO ESPESSURA=6MM COM REQUADRO DE ALUMINIO NA COR NATURAL C/ TELA DE PROTEÇÃO METÁLICA DIMENSÃO: 0,50X1,00M","UN",5,899.54,4497.7]
["11.10.6","J21 - JANELA VIDRO ARAMADO ESPESSURA=6MM COM REQUADRO DE ALUMINIO NA COR NATURAL C/ TELA DE PROTEÇÃO METÁLICA DIMENSÃO: 1,50X0,50M","UN",2,1232,2464]
[]
["11.11","PISOS",null,null,null,{"$f":"SUBTOTAL(9,F97)","v":11021.79}]
["11.11.1","EXECUÇÃO DE PASSEIO (CALÇADA) OU PISO DE CONCRETO COM CONCRETO MOLDADO IN LOCO, USINADO, ACABAMENTO CONVENCIONAL, ESPESSURA 6 CM, ARMADO. AF_07/2016","M2",92.14,119.62,{"$f":"ROUND(D97*E97,2)","v":11021.79}]
[]
["11.12","REVESTIMENTOS",null,null,null,{"$f":"SUBTOTAL(9,F100:F101)","v":18351.330000000002}]
["11.12.1","EMBOÇO OU MASSA ÚNICA EM ARGAMASSA TRAÇO 1:2:8, PREPARO MANUAL, APLICADA MANUALMENTE EM PANOS DE FACHADA COM PRESENÇA DE VÃOS, ESPESSURA DE 25 MM. AF_06/2014","M2",262.8,58.92,{"$f":"ROUND(D100*E100,2)","v":15484.18}]
["11.12.2","CHAPISCO APLICADO EM ALVENARIAS E ESTRUTURAS DE CONCRETO INTERNAS, COM ROLO PARA TEXTURA ACRÍLICA.  ARGAMASSA INDUSTRIALIZADA COM PREPARO MANUAL. AF_06/2014","M2",262.8,10.91,2867.15]
[]
["11.13","GRANITO",null,null,null,{"$f":"SUBTOTAL(9,F104:F104)","v":0}]
[]
["11.14","FORRO",null,null,null,{"$f":"SUBTOTAL(9,F106:F106)","v":0}]
[]
["11.15","PINTURA",null,null,null,{"$f":"SUBTOTAL(9,F108:F114)","v":11563.029999999999}]
["11.15.1","APLICAÇÃO MANUAL DE FUNDO SELADOR ACRÍLICO EM PAREDES EXTERNAS DE CASAS. AF_06/2014","M2",308,2.4300000000000002,{"$f":"ROUND(D108*E108,2)","v":748.44}]
["11.15.2","APLICAÇÃO DE FUNDO SELADOR ACRÍLICO EM TETO, UMA DEMÃO. AF_06/2014","M2",71.63,2.46,{"$f":"ROUND(D109*E109,2)","v":176.21}]
["11.15.3","APLICAÇÃO E LIXAMENTO DE MASSA LÁTEX EM PAREDES, UMA DEMÃO. AF_06/2014","M2",194.95000000000002,10.85,2115.21]
["11.15.4","TEXTURA ACRÍLICA, APLICAÇÃO MANUAL EM PAREDE, UMA DEMÃO. AF_09/2016","M2",113.04999999999998,15.6,{"$f":"ROUND(D111*E111,2)","v":1763.58}]
["11.15.5","TEXTURA ACRÍLICA, APLICAÇÃO MANUAL EM TETO, UMA DEMÃO. AF_09/2016","M2",71.63,17.940000000000001,1285.04]
["11.15.6","APLICAÇÃO MANUAL DE PINTURA COM TINTA LÁTEX ACRÍLICA EM PAREDES, DUAS DEMÃOS. AF_06/2014","M2",308,15,4620]
["11.15.7","APLICAÇÃO MECÂNICA DE PINTURA COM TINTA LÁTEX ACRÍLICA EM TETO, DUAS DEMÃOS. AF_06/2014","M2",71.63,11.93,{"$f":"ROUND(D114*E114,2)","v":854.55}]
[]
["11.16","CALÇAMENTO, PÁTIOS E PASSARELAS",null,null,null,{"$f":"SUBTOTAL(9,F117)","v":0}]
[]
["11.17","SERVIÇOS COMPLEMENTARES",null,null,null,{"$f":"SUBTOTAL(9,F119)","v":0}]
[]
["11.18","INSTALAÇÕES DE SPDA",null,null,null,{"$f":"SUBTOTAL(9,F121)","v":0}]
[]
["11.19","INSTALAÇÃO DE COMBATE A INCÊNDIO",null,null,null,{"$f":"SUBTOTAL(9,F123)","v":0}]
[]
["11.20","INSTALAÇÕES ELÉTRICA",null,null,null,{"$f":"SUBTOTAL(9,F125:F177)","v":266357.15999999997}]
["11.20.1","CABINA FORÇA NOVA",null,null,null,{"$f":"SUBTOTAL(9,F126:F177)","v":266357.15999999997}]
["11.20.1.1","POSTE CONCRETO SEÇÃO CIRCULAR COMPRIMENTO=11M CARGA NOMINAL NO TOPO 600KG INCLUSIVE ESCAVACAO EXCLUSIVE TRANSPORTE - FORNECIMENTO E COLOCAÇÃO","UN",1,2354.11,{"$f":"ROUND(D126*E126,2)","v":2354.11}]
["11.20.1.2","ALCA PRE-FORMADA DISTRIBUIÇÃO EM  ACO RECOBERTO COM ALUMINIO PARA CABO 25MM2, ENCAPADO. FORNECIMENTO E INSTALAÇÃO.","UN",8,4.2,33.6]
["11.20.1.3","ISOLADOR PILAR CLASSE 15KV. FORNECIMENTO E INSTALACAO.","UN",8,29.12,232.96]
["11.20.1.4","PINO AUTO TRAVANTE 140MM PARA ISOLADOR PILAR - FORNECIMENTO E INSTALAÇÃO","UN",8,32.619999999999997,260.95999999999998]
["11.20.1.5","CRUZETA DE CONCRETO 2 METROS -  FORNECIMENTO E INSTALAÇÃO","UN",3,183.29,549.87]
["11.20.1.6","MÃO FRANCESA PLANA DE 619MM - FORNECIMENTO E INSTALAÇÃO","UN",6,32.479999999999997,194.88]
["11.20.1.7","PARAFUSO M16 (ROSCA MÁQUINA D=16MM) X 125MM CABEÇA QUADRADA - ZINCAGEM A FOGO - FORNECIMENTO E INSTALAÇÃO","UN",6,10.9,65.400000000000006]
["11.20.1.8","PARAFUSO M16 (ROSCA MÁQUINA D=16MM) X 200MM CABEÇA QUADRADA - ZINCAGEM A FOGO - FORNECIMENTO E INSTALAÇÃO","UN",2,14.47,28.94]
["11.20.1.9","PARAFUSO M16 (ROSCA MÁQUINA D=16MM) X 250MM CABEÇA QUADRADA - ZINCAGEM A FOGO - FORNECIMENTO E INSTALAÇÃO","UN",1,15.97,15.97]
["11.20.1.10","PARAFUSO M16 (ROSCA MÁQUINA D=16MM) X 300MM CABEÇA QUADRADA - ZINCAGEM A FOGO - FORNECIMENTO E INSTALAÇÃO","UN",4,14.12,56.48]
["11.20.1.11","PARAFUSO M16 (ROSCA MÁQUINA D=16MM) X 500MM CABEÇA QUADRADA - ZINCAGEM A FOGO - FORNECIMENTO E INSTALAÇÃO","UN",7,27,189]
["11.20.1.12","PARAFUSO FRANCÊS M16 (D=16MM) X 45MM CABEÇA ABAULADA - ZINCAGEM A FOGO - FORNECIEMNTO E INSTALAÇÃO","UN",4,5.53,22.12]
["11.20.1.13","GRAMPO LINHA VIVA, DE ALUMÍNIO CABO PRINCIPAL (10 - 120MM²) DERIVAÇÃO (10 - 70MM²) - FORNECIMENTO E INSTALAÇÃO","UN",3,51.77,155.31]
["11.20.1.14","CONECTOR DERIVAÇÃO CUNHA TIPO ESTRIBO NORMAL 2/0 - FORNECIMENTO E INSTALAÇÃO","UN",3,31.55,94.65]
["11.20.1.15","CONECTOR DERIVAÇÃO CUNHA TIPO - AMP - TIPO II OU SIMILAR - FORNECIMENTO E INSTALAÇÃO","UN",2,8.86,17.72]
["11.20.1.16","CARTUCHO PARA CONECTOR CUNHA AZUL - FORNECIMENTO E INSTALAÇÃO","UN",3,8.42,25.26]
["11.20.1.17","CABO DE COBRE COBERTO COM XLPE - 16MM² - 15KV - FORNECIMENTO E INSTALAÇÃO","M",20,21.9,438]
["11.20.1.18","HASTE DE ATERRAMENTO 5/8  PARA SPDA - FORNECIMENTO E INSTALAÇÃO.","UN",27,92.64,2501.2800000000002]
["11.20.1.19","CORDOALHA DE COBRE NU 50 MM², ENTERRADA, SEM ISOLADOR - FORNECIMENTO E INSTALAÇÃO","M",190,48.59,9232.1]
["11.20.1.20","ARAME GALVANIZADO 12 BWG - 2,60M - 48,00G/M - FORNECIMENTO E INSTALAÇÃO","KG",1,65.09,65.09]
["11.20.1.21","CABO DE COBRE FLEXÍVEL ISOLADO, 10 MM², ANTI-CHAMA 450/750 V, PARA CIRCUITOS TERMINAIS - FORNECIMENTO E INSTALAÇÃO.","M",3,18.43,55.29]
["11.20.1.22","ARRUELA QUADRADA AÇO GALVANIZADO D=38MM ESPESSURA 3MM D FURO 18MM - FORNECIMENTO E INSTALAÇÃO","UN",28,1.43,40.04]
["11.20.1.23","CHAVE SECCIONADORA UNIPOLAR, 15KV, EQUIPADA COM COMANDO PARA HASTE DE MANOBRA - FORNECIMENTO E INSTALAÇÃO","UN",3,599.61,1798.83]
["11.20.1.24","PARA-RAIO TP VÁLVULA 15KV/5KA - FORNECIMENTO E INSTALAÇÃO","UN",6,381.12,2286.7199999999998]
["11.20.1.25","PROTETOR DE BUCHA DE AT DE TRANSFORMADOR 15KV - FORNECIMENTO E INSTALAÇÃO","UN",6,24.89,149.34]
["11.20.1.26","CABO DE COBRE UNIPOLAR 25MM² BLINDADO, ISOLAÇÃO 12/20KV EPR - COBERTURA EM PVC - FORNECIMENTO E INSTALAÇÃO","M",352,149.94,52778.879999999997]
["11.20.1.27","ELETRODUTO FERRO GALVANIZADO OU ZINCADO ELETROLÍTICO SEMI-PESADO PAREDE 1,52MM - 4\" NBR 13057 - FORNECIMENTO E INSTALAÇÃO","M",83,248.86,20655.38]
["11.20.1.28","MUFLA TERMINAL PRIMÁRIA UNIPOLAR USO EXTERNO PARA CABO 25/70MM² ISOLAÇÃO 3,6/6KV EM EPR - BORRACHA DE SILICONE - FORNECIMENTO E INSTALAÇÃO","UN",4,550.45000000000005,2201.8000000000002]
["11.20.1.29","SUPORTE PARA FIXAÇÃO DE MUFLAS TERMINAIS - FORNECIMENTO E INSTALAÇÃO","UN",1,155.52000000000001,155.52000000000001]
["11.20.1.30","ELETRODUTO DE AÇO GALVANIZADO, CLASSE LEVE, DN 20 MM (3/4), APARENTE , INSTALADO EM TETO - FORNECIMENTO E INSTALAÇÃO. AF_11/2016_P","M",21,21.9,459.9]
["11.20.1.31","CAIXA DE PASSAGEM 30X30X80 COM TAMPA E DRENO BRITA","UN",7,122.14,854.98]
["11.20.1.32","TRANSFORMADOR DISTRIBUIÇÃO TRIFÁSICO, 500 KVA, 13.8 kV - 220/127 V, 60HZ CLASSE 15KV - ISOLAMENTO A ÓLEO - FORNECIMENTO E INSTALAÇÃO","UN",1,67547.95,67547.95]
["11.20.1.33","MUFLA TERMINAL PRIMARIA UNIPOLAR USO INTERNO PARA CABO 25/120MM2, ISOLACAO 15/25KV EM EPR - BORRACHA DE SILICONE. FORNECIMENTO E INSTALACAO.","UN",4,550.45000000000005,{"$f":"ROUND(D158*E158,2)","v":2201.8000000000002}]
["11.20.1.34","ISOLADOR DE PEDESTAL 15KV - FORNECIMENTO E INSTALAÇÃO","UN",18,122.84,2211.12]
["11.20.1.35","SECCIONADOR TRIPOLAR 15KV/400A ACIONAMENTO SIMULTÂNEO PUNHO MANOBRA (COMANDO) - FORNECIMENTO E INSTALAÇÃO","UN",3,3886.74,11660.22]
["11.20.1.36","VERGALHÃO DE COBRE 1/4\" - FORNECIMENTO E INSTALAÇÃO","M",48,110.1,5284.8]
["11.20.1.37","TRANSFORMADOR DE POTENCIAL PARA PROTEÇÃO CLASSE 15KV - RELAÇÃO 120:1 - FORNECIMENTO E INSTALAÇÃO","UN",1,1979.75,1979.75]
["11.20.1.38","TRANSFORMADOR DE CORRENTE PARA PROTEÇÃO CLASSE 15KV - RELAÇÃO 20:5 - FORNECIMENTO E INSTALAÇÃO","UN",3,840.02,2520.06]
["11.20.1.39","SUPORTE METÁLICO PARA FIXAÇÃO DE PARA-RAIOS E MUFLAS INTERNAS - FORNECIMENTO E INSTALAÇÃO","UN",1,218.28,218.28]
["11.20.1.40","FORNECIMENTO E INSTALAÇÃO DE PAINEL DE PROTEÇÃO COM CONJUNTO DE COMANDO RELÉ URPE COMPLETO","UN",1,12983.42,12983.42]
["11.20.1.41","DISJUNTOR TRIFÁSICO 630A/15KV A VÁCUO PARA INSTALAÇÃO ABRIGADA, COM RELÉ PRIMÁRIO, POTÊNCIA NOMINAL CURTO CIRCUITO - 350MVA - FORNECIMENTO E INSTALAÇÃO","UN",1,20460.599999999999,20460.599999999999]
["11.20.1.42","CABO DE COBRE FLEXÍVEL ISOLADO,EPR OU XLPE 0,6/1 kV 90ºC, 240 MM², ANTI-CHAMA 450/750 V, PARA DISTRIBUIÇÃO - FORNECIMENTO E INSTALAÇÃO. ","M",96,316.36,30370.560000000001]
["11.20.1.43","FORNECIMENTO E INSTALAÇÃO DE TERMINAL DE COMPRESSÃO 240MM²","UN",24,37.369999999999997,896.88]
["11.20.1.44","PLACA DE ADVERTÊNCIA \"PERIGO DE MORTE ALTA TENSÃO\" - FORNECIMENTO E INSTALAÇÃO","UN",7,35.86,251.02]
["11.20.1.45","PLACA DE ADVERTÊNCIA \"ESTA CHAVE NÃO DEVE SER MANOBRADA COM CARGA\" - FORNECIMENTO E INSTALAÇÃO","UN",3,35.86,107.58]
["11.20.1.46","LUMINÁRIA ARANDELA TIPO TARTARUGA, COM GRADE, PARA 1 LÂMPADA DE 15 W - FORNECIMENTO E INSTALAÇÃO.","UN",2,117.91,235.82]
["11.20.1.47","INTERRUPTOR SIMPLES (1 MÓDULO), 10A/250V, INCLUINDO SUPORTE E PLACA - FORNECIMENTO E INSTALAÇÃO.","UN",1,24.35,24.35]
["11.20.1.48","CABO DE COBRE FLEXÍVEL ISOLADO, 2,5 MM², ANTI-CHAMA 0,6/1,0 KV, PARA CIRCUITOS TERMINAIS - FORNECIMENTO E INSTALAÇÃO.","M",50,6.56,328]
["11.20.1.49","SUPORTE DE FIXAÇÃO PARA ISOLADOR PEDESTAL - FORNECIMENTO E INSTALAÇÃO","UN",6,91.76,550.55999999999995]
["11.20.1.50","SUPORTE DE FIXAÇÃO PARA TRANSFORMADOR DE POTENCIAL - FORNECIMENTO E INSTALAÇÃO","UN",1,126.52,126.52]
["11.20.1.51","SUPORTE DE FIXAÇÃO PARA TRANSFORMADOR DE CORRENTE - FORNECIMENTO E INSTALAÇÃO","UN",1,126.52,126.52]
["11.20.1.52","TRANSFORMADOR DISTRIBUIÇÃO TRIFÁSICO, 30 KVA, 13.8 kV - 220/127 V, 60HZ CLASSE 15KV - ISOLAMENTO A ÓLEO - FORNECIMENTO E INSTALAÇÃO","UN",1,8300.9699999999993,8300.9699999999993]
[]
["11.21","LOGICA E TELEFONICA",null,null,null,{"$f":"SUBTOTAL(9,F180)","v":0}]
[]
["11.22","CLIMATIZAÇÃO - AR CONDICIONADO",null,null,null,{"$f":"SUBTOTAL(9,F182)","v":0}]
[]
["11.23","INFRAESTRUTURA PARA INSTALAÇÃO DE AUDIO E VÍDEO",null,null,null,{"$f":"SUBTOTAL(9,F184)","v":0}]
[]
["11.24","INSTALAÇÕES HIDRAULICAS ",null,null,null,{"$f":"SUBTOTAL(9,F186:F186)","v":0}]
[]
["11.25","ÁGUAS PLUVIAIS DE COBERTURA",null,null,null,{"$f":"SUBTOTAL(9,F188:F188)","v":0}]
[]
["11.26","INSTALAÇÕES SANITÁRIAS",null,null,null,{"$f":"SUBTOTAL(9,F190:F190)","v":0}]
[]
["11.27","LOUÇAS E METÁIS",null,null,null,{"$f":"SUBTOTAL(9,F192:F192)","v":0}]
[]
["11.28","SISTEMA DE TRATAMENTO DE ESGOTO",null,null,null,{"$f":"SUBTOTAL(9,F194)","v":0}]
[]
["11.29","LIMPEZA CONTÍNUA DA OBRA",null,null,null,{"$f":"SUBTOTAL(9,F196)","v":0}]
[]
["11.30","LIMPEZA FINAL PARA ENTREGA",null,null,null,{"$f":"SUBTOTAL(9,F198)","v":169.09}]
["11.30.1","LIMPEZA FINAL PARA ENTREGA","M2",55.44,3.05,{"$f":"ROUND(D198*E198,2)","v":169.09}]
[]
["VALOR TOTAL",null,null,null,null,{"$f":"SUBTOTAL(9,F16:F199)","v":516066.9499999999}]

{"sheet":"12_ASD","index":13,"n_rows":107,"n_cols":6,"rows_kept":107,"cut":false,"hidden":true,"merged":[[10,0,10,5],[0,0,3,2],[0,3,1,5],[2,3,3,3],[2,4,3,4],[2,5,3,5],[4,0,4,5],[5,0,5,5],[6,0,6,5],[7,0,7,5],[8,0,8,5],[9,0,9,5]]}
["                                 PLANILHA ORÇAMENTARIA   ",null,null,"SPN-FF-003"]
[]
[null,null,null,"Folha:              1 de 1","Revisão:      \n02","Data: \n07/10/19"]
[]
["SESI - SERVIÇO SOCIAL DA INDUSTRIA - DR/MT"]
["OBRA: CONTRATAÇÃO DE EMPRESA ESPECIALIZADA PARA CONTINUIDADE DA EXECUÇÃO DA OBRA DE REFORMA E AMPLIAÇÃO DA UNIDADE DO SESI ESCOLA VÁRZEA GRANDE/MT."]
["UNIDADE OPERACIONAL: SESI ESCOLA VÁRZEA GRANDE"]
["ENDEREÇO: AV. DOM ORLANDO CHAVES, N.º 1.086, PONTE NOVA - CRISTO REI         CIDADE: VÁRZEA GRANDE/MT"]
["CONSTRUTORA:"]
["RESPONSÁVEL TÉCNICO:"]
["BASE SINAPI UTILIZADA: 06/2021"]
["ITEM","DESCRIÇÃO","UNID.","QUANT.","Valor UNIT. (R$)","Valor Total (R$)"]
[]
[12,"ASD"]
[]
["12.0","DEMOLIÇÕES E RETIRADAS",null,null,null,{"$f":"SUBTOTAL(9,F17:F22)","v":2119.7399999999998}]
["12.0.1","DEMOLIÇÃO",null,null,null,{"$f":"SUBTOTAL(9,F18:F22)","v":2119.7399999999998}]
["12.0.1.1","DEMOLIÇÃO DE ALVENARIA DE BLOCO FURADO, DE FORMA MANUAL, SEM REAPROVEITAMENTO. AF_12/2017","M3",7.53,49.97,{"$f":"ROUND(D18*E18,2)","v":376.27}]
["12.0.1.2","DEMOLIÇÃO DE PILARES E VIGAS EM CONCRETO ARMADO, DE FORMA MECANIZADA COM MARTELETE, SEM REAPROVEITAMENTO. AF_12/2017","M3",2.0499999999999998,243.62,{"$f":"ROUND(D19*E19,2)","v":499.42}]
["12.0.1.3","REMOÇÃO DE TRAMA DE MADEIRA PARA COBERTURA, DE FORMA MANUAL, SEM REAPROVEITAMENTO. AF_12/2017","M2",29.45,6.73,198.2]
["12.0.1.4","REMOÇÃO DE TELHAS, DE FIBROCIMENTO, METÁLICA E CERÂMICA, DE FORMA MANUAL, SEM REAPROVEITAMENTO. AF_12/2017","M2",29.45,3.12,91.88]
["12.0.1.5","BOTA FORA DE MATERIAL DESCARTADO, D.M.T. = 10 km - (CARGA, TRANSPORTE E DESCARGA MECÂNICA)","M3",16.259999999999998,58.67,953.97]
[]
["12.1","INSTALAÇÕES DE CANTEIRO",null,null,null,{"$f":"SUBTOTAL(9,F25)","v":0}]
[]
["12.2","ADMINISTRAÇÃO",null,null,null,{"$f":"SUBTOTAL(9,F27)","v":0}]
[]
["12.3","TERRAPLENAGEM",null,null,null,{"$f":"SUBTOTAL(9,F29)","v":0}]
[]
["12.4","FUNDAÇÃO",null,null,null,{"$f":"SUBTOTAL(9,F31:F42)","v":23934.46}]
["12.4.1","ESCAVAÇÃO MECANIZADA PARA BLOCO DE COROAMENTO OU SAPATA, SEM PREVISÃO DE FÔRMA, COM RETROESCAVADEIRA. AF_06/2017","M3",11.4084,91.26,{"$f":"ROUND(D31*E31,2)","v":1041.1300000000001}]
["12.4.2","REATERRO MANUAL DE VALAS COM COMPACTAÇÃO MECANIZADA. AF_04/2016","M3",1.9014,27.04,{"$f":"ROUND(D32*E32,2)","v":51.41}]
["12.4.3","LASTRO COM MATERIAL GRANULAR (PEDRA BRITADA N.1 E PEDRA BRITADA N.2), APLICADO EM PISOS OU LAJES SOBRE SOLO, ESPESSURA DE *10 CM*. AF_07/2019","M3",1.5845000000000002,142.05000000000001,225.08]
["12.4.4","FABRICAÇÃO, MONTAGEM E DESMONTAGEM DE FÔRMA PARA BLOCO DE COROAMENTO, EM CHAPA DE MADEIRA COMPENSADA RESINADA, E=17 MM, 4 UTILIZAÇÕES. AF_06/2017","M2",19.013999999999999,120.17,2284.91]
["12.4.5","FABRICAÇÃO DE FÔRMA PARA VIGAS, COM MADEIRA SERRADA, E = 25 MM. AF_09/2020","M2",12.676000000000002,121.66,1542.16]
["12.4.6","ARMAÇÃO DE BLOCO, VIGA BALDRAME E SAPATA UTILIZANDO AÇO CA-60 DE 5 MM - MONTAGEM. AF_06/2017","KG",73.520799999999994,25.68,1888.01]
["12.4.7","ARMAÇÃO DE BLOCO, VIGA BALDRAME OU SAPATA UTILIZANDO AÇO CA-50 DE 6,3 MM - MONTAGEM. (VERGALHÃO FORNECIDO PELO SESI)","KG",77.319999999999993,5.18,400.52]
["12.4.8","ARMAÇÃO DE BLOCO, VIGA BALDRAME OU SAPATA UTILIZANDO AÇO CA-50 DE 12,5 MM - MONTAGEM. AF_06/2017","KG",136.5839,18.72,2556.85]
["12.4.9","ARMAÇÃO DE BLOCO, VIGA BALDRAME OU SAPATA UTILIZANDO AÇO CA-50 DE 16 MM - MONTAGEM (VERGALHÃO FORNECIDO PELO SESI)","KG",132.46420000000001,2.2400000000000002,296.72000000000003]
["12.4.10","CONCRETAGEM DE BLOCOS DE COROAMENTO E VIGAS BALDRAMES, FCK 30 MPA, COM USO DE BOMBA \u0096 LANÇAMENTO, ADENSAMENTO E ACABAMENTO. AF_06/2017","M3",7.92,693.9,5495.69]
["12.4.11","ALVENARIA DE BLOCOS DE CONCRETO ESTRUTURAL 14X19X39 CM, (ESPESSURA 14 CM), FBK = 4,5 MPA, PARA PAREDES COM ÁREA LÍQUIDA MAIOR OU IGUAL A 6M², SEM VÃOS, UTILIZANDO PALHETA. AF_12/2014","M2",95.070000000000007,78.12,7426.87]
["12.4.12","BOTA FORA DE MATERIAL DESCARTADO, D.M.T. = 10 km - (CARGA, TRANSPORTE E DESCARGA MECÂNICA) - INCLUSO EMPOLAMENTO 30%","M3",12.3591,58.67,725.11]
[]
["12.5","IMPERMEABILIZAÇÃO",null,null,null,{"$f":"SUBTOTAL(9,F45)","v":1104.71}]
["12.5.1","IMPERMEABILIZAÇÃO DE SUPERFÍCIE COM EMULSÃO ASFÁLTICA, 2 DEMÃOS ","M2",19.013999999999999,58.1,{"$f":"ROUND(D45*E45,2)","v":1104.71}]
[]
["12.6","ESTRUTURAS DE CONCRETO ARMADO",null,null,null,{"$f":"SUBTOTAL(9,F48)","v":0}]
[]
["12.7","ALVENARIAS E PAINÉIS",null,null,null,{"$f":"SUBTOTAL(9,F50)","v":0}]
[]
["12.8","ESTRUTURA METALICA",null,null,null,{"$f":"SUBTOTAL(9,F52)","v":0}]
[]
["12.9","COBERTURA",null,null,null,{"$f":"SUBTOTAL(9,F54:F56)","v":4878.38}]
["12.9.1","TELHAMENTO COM TELHA ESTRUTURAL DE FIBROCIMENTO E= 8 MM, COM ATÉ 2 ÁGUAS, INCLUSO IÇAMENTO. AF_07/2019_P","M2",29.45,129.83000000000001,{"$f":"ROUND(D54*E54,2)","v":3823.49}]
["12.9.2","RUFO EM FIBROCIMENTO PARA TELHA ONDULADA E = 6 MM, ABA DE 26 CM, INCLUSO TRANSPORTE VERTICAL, EXCETO CONTRARRUFO. AF_07/2019","M",17.850000000000001,38.21,{"$f":"ROUND(D55*E55,2)","v":682.05}]
["12.9.3","TRAMA DE MADEIRA COMPOSTA POR TERÇAS PARA TELHADOS DE ATÉ 2 ÁGUAS PARA TELHA ESTRUTURAL DE FIBROCIMENTO, INCLUSO TRANSPORTE VERTICAL. AF_07/2019","M2",29.45,12.66,372.84]
[]
["12.10","ESQUADRIAS",null,null,null,{"$f":"SUBTOTAL(9,F59:F59)","v":1724.51}]
["12.10.1","P25 - PORTA DE FERRO, DE ABRIR, TIPO GRADE COM CHAPA, COM GUARNIÇÕES. AF_12/2019","M2",2.52,684.33,{"$f":"ROUND(D59*E59,2)","v":1724.51}]
[]
["12.11","PISOS",null,null,null,{"$f":"SUBTOTAL(9,F62)","v":0}]
[]
["12.12","REVESTIMENTOS",null,null,null,{"$f":"SUBTOTAL(9,F64:F65)","v":11779.77}]
["12.12.1","CHAPISCO APLICADO EM ALVENARIAS E ESTRUTURAS DE CONCRETO INTERNAS, COM ROLO PARA TEXTURA ACRÍLICA.  ARGAMASSA TRAÇO 1:4 E EMULSÃO POLIMÉRICA (ADESIVO) COM PREPARO EM BETONEIRA 400L. AF_06/2014","M2",185.1,8.59,{"$f":"ROUND(D64*E64,2)","v":1590.01}]
["12.12.2","EMBOÇO OU MASSA ÚNICA EM ARGAMASSA TRAÇO 1:2:8, PREPARO MECÂNICO COM BETONEIRA 400 L, APLICADA MANUALMENTE EM PANOS DE FACHADA COM PRESENÇA DE VÃOS, ESPESSURA DE 25 MM. AF_06/2014","M2",185.1,55.05,10189.76]
[]
["12.13","GRANITO",null,null,null,{"$f":"SUBTOTAL(9,F68)","v":0}]
[]
["12.14","FORRO",null,null,null,{"$f":"SUBTOTAL(9,F70)","v":0}]
[]
["12.15","PINTURA",null,null,null,{"$f":"SUBTOTAL(9,F72:F74)","v":6954.1399999999994}]
["12.15.1","APLICAÇÃO DE FUNDO SELADOR ACRÍLICO EM PAREDES, UMA DEMÃO. AF_06/2014","M2",185.1,2.06,{"$f":"ROUND(D72*E72,2)","v":381.31}]
["12.15.2","TEXTURA ACRÍLICA, APLICAÇÃO MANUAL EM PAREDE, UMA DEMÃO. AF_09/2016","M2",185.1,15.6,2887.56]
["12.15.3","APLICAÇÃO MANUAL DE TINTA LÁTEX ACRÍLICA EM PAREDE EXTERNAS, DUAS DEMÃOS.","M2",232.95,15.82,3685.27]
[]
["12.16","CALÇAMENTO, PÁTIOS E PASSARELAS",null,null,null,{"$f":"SUBTOTAL(9,F77)","v":0}]
[]
["12.17","SERVIÇOS COMPLEMENTARES",null,null,null,{"$f":"SUBTOTAL(9,F79)","v":0}]
[]
["12.18","INSTALAÇÕES DE SPDA",null,null,null,{"$f":"SUBTOTAL(9,F81)","v":0}]
[]
["12.19","INSTALAÇÃO DE COMBATE A INCÊNDIO",null,null,null,{"$f":"SUBTOTAL(9,F83)","v":0}]
[]
["12.20","INSTALAÇÕES ELÉTRICA",null,null,null,{"$f":"SUBTOTAL(9,F85)","v":0}]
[]
["12.21","LOGICA E TELEFONICA",null,null,null,{"$f":"SUBTOTAL(9,F87)","v":0}]
[]
["12.22","CLIMATIZAÇÃO - AR CONDICIONADO",null,null,null,{"$f":"SUBTOTAL(9,F89)","v":0}]
[]
["12.23","INFRAESTRUTURA PARA INSTALAÇÃO DE AUDIO E VÍDEO",null,null,null,{"$f":"SUBTOTAL(9,F91)","v":0}]
[]
["12.24","INSTALAÇÕES HIDRAULICAS ",null,null,null,{"$f":"SUBTOTAL(9,F93:F93)","v":0}]
[]
["12.25","ÁGUAS PLUVIAIS DE COBERTURA",null,null,null,{"$f":"SUBTOTAL(9,F95:F95)","v":0}]
[]
["12.26","INSTALAÇÕES SANITÁRIAS",null,null,null,{"$f":"SUBTOTAL(9,F97:F97)","v":0}]
[]
["12.27","LOUÇAS E METÁIS",null,null,null,{"$f":"SUBTOTAL(9,F99:F99)","v":0}]
[]
["12.28","SISTEMA DE TRATAMENTO DE ESGOTO",null,null,null,{"$f":"SUBTOTAL(9,F101)","v":0}]
[]
["12.29","LIMPEZA CONTÍNUA DA OBRA",null,null,null,{"$f":"SUBTOTAL(9,F103)","v":0}]
[]
["12.30","LIMPEZA FINAL PARA ENTREGA",null,null,null,{"$f":"SUBTOTAL(9,F105)","v":379.48}]
["12.30.1","LIMPEZA FINAL PARA ENTREGA","M2",124.42,3.05,{"$f":"ROUND(D105*E105,2)","v":379.48}]
[]
["VALOR TOTAL",null,null,null,null,{"$f":"SUBTOTAL(9,F14:F106)","v":52875.189999999995}]

{"sheet":"COMPOSIÇÃO DO BDI","index":14,"n_rows":29,"n_cols":3,"rows_kept":29,"cut":false,"hidden":true,"merged":[[28,0,42,2],[1,0,4,2],[5,0,5,1],[6,0,6,1],[10,0,10,1],[18,0,18,1],[27,0,27,1]]}
[]
["COMPOSIÇÃO DO BDI OBRAS DE ENGENHARIA        "]
[]
[]
[]
["DESCRIÇÃO",null,"%"]
["GRUPO A"]
["A1","(AC) ADMINISTRAÇÃO CENTRAL - VARIA CONFORME O PORTE DE NÚMERO DE OBRAS EM ANDAMENTO, VOLUME FINANCEIRO DAS OBRAS A INICIAREM, ETC,  EM CADA   EM CADA EMPRESA - (ACORDAO 2622/2013 - 3,0% A 5,5%)",4.2500000000000003E-2]
[null,"TOTAL DO GRUPO A  =",{"$f":"SUM(C8)","v":4.2500000000000003E-2}]
[]
["GRUPO B"]
["B1","(DF) DESPESAS FINANCEIRAS - (ACORDAO 2622/2013 - 0,59% A 1,39%)",{"$f":"ROUND(AVERAGE(0.59%,1.39%),4)","v":9.9000000000000008E-3}]
["B2","(S)   SEGUROS - (ACORDAO 2622/2013 SEGURO + GARANTIA - 0,8% A 1,0%)",{"$f":"ROUND(AVERAGE(0.4%,0.5%),4)","v":4.4999999999999997E-3}]
["B2","(G)   GARANTIAS - (ACORDAO 2622/2013 SEGURO + GARANTIA - 0,8% A 1,0%)",{"$f":"ROUND(AVERAGE(0.4%,0.5%),4)","v":4.4999999999999997E-3}]
["B3","(R)   TAXA DE RISCO E IMPREVISTOS - (ACORDAO 2622/2013 0,97% A 1,27%)",{"$f":"ROUND(AVERAGE(0.97%,1.27%),4)","v":1.12E-2}]
["B4","(L)    LUCRO (ACORDAO 2622/2013 6,16% A 8,96%)",{"$f":"ROUND(AVERAGE(6.16%,8.96%),4)","v":7.5600000000000001E-2}]
[null,"TOTAL DO GRUPO B  =",{"$f":"SUM(C12:C16)","v":0.1057}]
[]
["GRUPO C"]
["C1","ISS - (ISS% SOBRE 40% DE MÃO DE OBRA)"]
["C2","%MÃO DE OBRA",0.4]
["C3","ISS DO MUNICÍPIO",0.05]
["C4","SUBTOTAL ISS (C2 X C3) =",{"$f":"C22*C21","v":2.0000000000000004E-2}]
["C5","PIS",6.4999999999999997E-3]
["C6","COFINS",0.03]
[null,"TOTAL DO GRUPO C  =",{"$f":"SUM(C23:C25)","v":5.6500000000000002E-2}]
[]
["TOTAL BDI (FORMULA ACORDAO 2369/2011)",null,{"$f":"ROUND((1+C8+C13+C15+C14)*(1+C12)*(1+C16)/(1-C26)-1,4)","v":0.2235}]
[" BDI = (1+AC+S+R+G)x(1+DF)X(1+L))  -1\n                                  1-I\nOnde: \nAC = taxa representativa das despesas de rateio da Administração Central;\nS = taxa representativa de Seguros;\nR = taxa representativa de Riscos;\nG = taxa representativa de Garantias;\nDF = taxa representativa das Despesas Financeiras;\nL = taxa representativa do Lucro;\nI = taxa representativa da incidência de Impostos. \n\n  Observação:\n  i)   Composição do BDI, intervalos admissíveis e Fórmula de cálculo nos termos do Acórdão 2622/2013 do TCU."]

{"sheet":"COMPOSIÇÃO DO BDI EQUIPAMENTO","index":15,"n_rows":29,"n_cols":3,"rows_kept":29,"cut":false,"hidden":true,"merged":[[28,0,42,2],[1,0,4,2],[5,0,5,1],[6,0,6,1],[10,0,10,1],[18,0,18,1],[27,0,27,1]]}
[]
["COMPOSIÇÃO DO BDI REDUZIDO                       "]
[]
[]
[]
["DESCRIÇÃO",null,"%"]
["GRUPO A"]
["A1","(AC) ADMINISTRAÇÃO CENTRAL - VARIA CONFORME O PORTE DA NÚMERO DE OBRAS EM ANDAMENTO, VOLUME FINANCEIRO DAS OBRAS A INICIAREM, ETC,  EM CADA   EM CADA EMPRESA - (ACORDAO 2622/2013 - 1,5% A 4,49%)",{"$f":"ROUND(AVERAGE(1.5%,4.49%),4)","v":0.03}]
[null,"TOTAL DO GRUPO A  =",{"$f":"SUM(C8)","v":0.03}]
[]
["GRUPO B"]
["B1","(DF) DESPESAS FINANCEIRAS - (ACORDAO 2622/2013 - 0,85% A 1,11%)",{"$f":"ROUND(AVERAGE(0.85%,1.11%),4)","v":9.7999999999999997E-3}]
["B2","(S)   SEGUROS - (ACORDAO 2622/2013 SEGURO + GARANTIA - 0,3% A 0,82%)",{"$f":"ROUND(AVERAGE(0.3%/2,0.82%/2),4)","v":2.8E-3}]
["B2","(G)   GARANTIAS - (ACORDAO 2622/2013 SEGURO + GARANTIA - 0,3% A 0,82%)",{"$f":"ROUND(AVERAGE(0.3%/2,0.82%/2),4)","v":2.8E-3}]
["B3","(R)   TAXA DE RISCO E IMPREVISTOS - (ACORDAO 2622/2013 0,56% A 0,89%)",{"$f":"ROUND(AVERAGE(0.56%,0.89%),4)","v":7.3000000000000001E-3}]
["B4","(L)    LUCRO (ACORDAO 2622/2013 3,50% A 6,22%)",{"$f":"ROUND(AVERAGE(3.5%,6.22%),4)","v":4.8599999999999997E-2}]
[null,"TOTAL DO GRUPO B  =",{"$f":"SUM(C12:C16)","v":7.1300000000000002E-2}]
[]
["GRUPO C"]
["C1","ISS - (ISS% SOBRE 40% DE MÃO DE OBRA)"]
["C2","%MÃO DE OBRA",0]
["C3","ISS DO MUNICÍPIO",0.05]
["C4","SUBTOTAL ISS (C2 X C3) =",{"$f":"C22*C21","v":0}]
["C5","PIS",6.4999999999999997E-3]
["C6","COFINS",0.03]
[null,"TOTAL DO GRUPO C  =",{"$f":"SUM(C23:C25)","v":3.6499999999999998E-2}]
[]
["TOTAL BDI (ACORDAO 2369/2011)",null,{"$f":"ROUND((1+C8+C13+C15+C14)*(1+C12)*(1+C16)/(1-C26)-1,4)","v":0.14610000000000001}]
[" BDI = (1+AC+S+R+G)x(1+DF)X(1+L))  -1\n                                  1-I\nOnde: \nAC = taxa representativa das despesas de rateio da Administração Central;\nS = taxa representativa de Seguros;\nR = taxa representativa de Riscos;\nG = taxa representativa de Garantias;\nDF = taxa representativa das Despesas Financeiras;\nL = taxa representativa do Lucro;\nI = taxa representativa da incidência de Impostos. \n\n  Observação:\n  i)   Composição do BDI, intervalos admissíveis e Fórmula de cálculo nos termos do Acórdão 2622/2013 do TCU."]